{"text_format":"1","workbook":"xlsx","n_sheets":64,"sheets":["START","Instructions","Template names","Lookup and lists","Org structure","Contacts","A1-Sum","A2-FinPerf SC","A2A","A3-FinPerf V","A3A","A4-FinPerf RE","A5-Capex","A5A","A6-FinPos","A7-CFlow","A8-ResRecon","A9-Asset","A10-SerDel","SA1","SA2","SA3","SA4","SA5","SA6","SA7","SA8","SA9","SA10","SA11","SA12a","SA12b","SA13a","SA13b","SA14","SA15","SA16","SA17","SA18","SA19","SA20","SA21","SA22","SA23","SA24","SA25","SA26","SA27","SA28","SA29","SA30","SA31","SA32","SA33","SA34a","SA34b","SA34c","SA34d","SA34e","SA35","SA36","SA37","SA38","LGDB_EXPORT"],"not_rendered":{"charts":0,"images":17,"macros":1,"external_links":3,"defined_names":1926,"comments":1,"pivot_tables":0},"unopened":[],"bounds":{"document_bytes":16777216,"sheet_cells":100000,"rows_first":2000,"rows_last":500,"rows_between":2000,"halvings":0,"cell_chars":16384,"cell_head_chars":4096},"cells_cut":0,"cells_raw":0,"read":"whole","date_system":"1900"}

{"sheet":"START","index":0,"n_rows":0,"n_cols":0,"rows_kept":0,"cut":false,"hidden":false,"merged":[]}

{"sheet":"Instructions","index":1,"n_rows":36,"n_cols":26,"rows_kept":36,"cut":false,"hidden":false,"merged":[]}
[]
[null,null,null,2020]
[null,null,null,null,null,null,null,null,null,null,null,null,null,null,null,null,null,null,null,null,null,null,null,null,null," "]
[null,null,null,null,null,null,null,null,null,null,null,null,null,null,null,null,null,null,null,null,null,null,null,"Yes"]
[null,null,null,null,null,null,null,null,null,null,null,null,null,null,null,null,null,null,null,null,null,null,null,"No"]
[]
[null,null,null,null,null,null,null,null,null,null,null,null,null,null,null,null,null,null,null,null,null,null,"Type of Entities Range:"]
[null,null,null,null,null,null,null,null,null,null,null,null,null,null,null,null,null,null,null,null,null,null,null,"Parent Municipality"]
[null,null,null,null,null,null,null,null,null,null,null,null,null,null,null,null,null,null,null,null,null,null,null,"Consolidated Information"]
[]
[]
[]
[]
[]
[]
[]
[null,null,null,null,null,null,null,null,null,null,null,null,null,null,null,null,null,null,null,null,null,null,"MTREF Range:",2008]
[null,null,null,null,null,null,null,null,null,null,null,null,null,null,null,null,null,null,null,null,null,null,null,2009]
[null,null,null,null,null,null,null,null,null,null,null,null,null,null,null,null,null,null,null,null,null,null,null,2010]
[null,null,null,null,null,null,null,null,null,null,null,null,null,null,null,null,null,null,null,null,null,null,null,2011]
[null,null,null,null,null,null,null,null,null,null,null,null,null,null,null,null,null,null,null,null,null,null,null,2012]
[null,null,null,null,null,null,null,null,null,null,null,null,null,null,null,null,null,null,null,null,null,null,null,2013]
[null,null,null,null,null,null,null,null,null,null,null,null,null,null,null,null,null,null,null,null,null,null,null,2014]
[null,null,null,null,null,null,null,null,null,null,null,null,null,null,null,null,null,null,null,null,null,null,null,2015]
[null,null,null,null,null,null,null,null,null,null,null,null,null,null,null,null,null,null,null,null,null,null,null,2016]
[null,null,null,null,null,null,null,null,null,null,null,null,null,null,null,null,null,null,null,null,null,null,null,2017]
[null,null,null,null,null,null,null,null,null,null,null,null,null,null,null,null,null,null,null,null,null,null,null,2018]
[null,null,null,null,null,null,null,null,null,null,null,null,null,null,null,null,null,null,null,null,null,null,null,2019]
[null,null,null,null,null,null,null,null,null,null,null,null,null,null,null,null,null,null,null,null,null,null,null,2020]
[null,null,null,null,null,null,null,null,null,null,null,null,null,null,null,null,null,null,null,null,null,null,null,2021]
[null,null,null,null,null,null,null,null,null,null,null,null,null,null,null,null,null,null,null,null,null,null,null,2022]
[]
[null,null,null,null,null,null,null,null,null,null,null,null,null,null,null,null,null,null,null,null,null,null,"MTREF Linked:",11]
[null,null,null,null,null,null,null,null,null,null,null,null,null,null,null,null,null,null,null,null,null,null,"MTREF:",{"$f":"INDEX(X17:X31,X33,1)","v":2018}]
[]
[null,null,null,null,null,null,null,null,null,null,null,null,null,null,null,null,null,null,null,null,null,null,"Fin Year:",{"$f":"MTREF&\"/\"&RIGHT(MTREF,2)+1","v":"2018/19"}]

{"sheet":"Template names","index":2,"n_rows":179,"n_cols":6,"rows_kept":179,"cut":false,"hidden":true,"merged":[[0,0,0,3],[86,0,86,1],[109,0,109,1],[98,0,98,1],[91,0,91,3]]}
["Common sheet headings"]
["Head1",{"$f":"HLOOKUP(MTREF,Headings,2)","v":"2016/17"},"Prior year -1"]
["Head1A",{"$f":"HLOOKUP(MTREF,Headings,3)","v":"2015/16"},"Prior year -2"]
["Head1B",{"$f":"HLOOKUP(MTREF,Headings,4)","v":"2014/15"},"Prior year -3"]
["Head2",{"$f":"HLOOKUP(MTREF,Headings,5)","v":"Current Year 2017/18"},"Year in which budget is being prepared"]
["Head2A",{"$f":"HLOOKUP(MTREF,Headings,6)","v":"2017/18"},"Year in which budget is being prepared"]
["Head3",{"$f":"HLOOKUP(MTREF,Headings,7)","v":"2018/19 Medium Term Revenue & Expenditure Framework"},"MTREF name"]
["Head4","LTFS","Long term financial strategy"]
["Head5","Audited Outcome"]
["Head5A","Outcome"]
["Head5B","Pre-audit outcome"]
["Head6","Original Budget"]
["Head7","Adjusted Budget"]
["Head8","Full Year Forecast"]
["Head9",{"$f":"HLOOKUP(MTREF,Headings,8)","v":"Budget Year 2018/19"},"1st year of MTREF","Year1"]
["Head10",{"$f":"HLOOKUP(MTREF,Headings,9)","v":"Budget Year +1 2019/20"},"2nd year of MTREF","Year2"]
["Head11",{"$f":"HLOOKUP(MTREF,Headings,10)","v":"Budget Year +2 2020/21"},"3rd year of MTREF","Year3"]
["Head12",{"$f":"HLOOKUP(MTREF,Headings,11)","v":"Forecast 2021/22"},"1st yr of long term forecast","Year4"]
["Head13",{"$f":"HLOOKUP(MTREF,Headings,12)","v":"Forecast 2022/23"},"Next yr of long term forecast","Year5"]
["Head14",{"$f":"HLOOKUP(MTREF,Headings,13)","v":"Forecast 2023/24"},"Next yr of long term forecast","Year6"]
["Head15",{"$f":"HLOOKUP(MTREF,Headings,14)","v":"Forecast 2024/25"},"Next yr of long term forecast","Year7"]
["Head16",{"$f":"HLOOKUP(MTREF,Headings,15)","v":"Forecast 2025/26"},"Next yr of long term forecast","Year8"]
["Head17",{"$f":"HLOOKUP(MTREF,Headings,16)","v":"Forecast 2026/27"},"Next yr of long term forecast","Year9"]
["Head18",{"$f":"HLOOKUP(MTREF,Headings,17)","v":"Forecast 2027/28"},"Next yr of long term forecast","Year10"]
["Head19",{"$f":"HLOOKUP(MTREF,Headings,18)","v":"Forecast 2028/29"},"Next yr of long term forecast","Year11"]
["Head20",{"$f":"HLOOKUP(MTREF,Headings,19)","v":"Forecast 2029/30"},"Next yr of long term forecast","Year12"]
["Head21",{"$f":"HLOOKUP(MTREF,Headings,20)","v":"Forecast 2030/31"},"Next yr of long term forecast","Year13"]
["Head22",{"$f":"HLOOKUP(MTREF,Headings,21)","v":"Forecast 2031/32"},"Next yr of long term forecast","Year14"]
["Head23",{"$f":"HLOOKUP(MTREF,Headings,22)","v":"Forecast 2032/33"},"Next yr of long term forecast","Year15"]
["Head24","Description"]
["Head25"]
["Head26","Vote Description"]
["Head27","Ref"]
["Head27a","References"]
["Head28","Surplus/(Deficit) for the year",null,"Result"]
["Head29",{"$f":"HLOOKUP(MTREF,Headings,23)","v":"Annual target 2018/19"}]
["Head30",{"$f":"HLOOKUP(MTREF,Headings,24)","v":"Revised target 2018/19"}]
["Head31","Quarter ended 30 September"]
["Head32","Quarter ended 31 December"]
["Head33","Quarter ended 31 March"]
["Head34","Quarter ended 30 June"]
["Head35","Variance explanation"]
["Head36","YTD  Actual 31 Dec"]
["Head37","YTD  Budget 31 Dec"]
["Head38","Monthly actual"]
["Head39","YTD actual"]
["Head40","YTD budget"]
["Head41","YTD variance"]
["Head42","Surplus/ (Deficit) for the yr/period"]
["Head43",{"$f":"Head3&\" Summary\"","v":"2018/19 Medium Term Revenue & Expenditure Framework Summary"}]
["Head44","2001 Census"]
["Head45","2011 Census"]
["Head46"," - Adjustments Budget - January 2007"]
["Head47","Previous target year to complete"]
["Head48","Present value"]
["Head49"]
["Head50","Other Adjusts."]
["Head51","Accum. Funds"]
["Head52","Multi-year capital"]
["Head53","Unfore. Unavoid."]
["Head54","Prior Adjusted"]
["Head55","Nat. or Prov. Govt"]
["Head56","Total Adjusts."]
["SFPerf1","Budgeted Financial Performance"]
["SFPerf2","Forecast Financial Performance"]
["SFPos1","Budgeted Financial Position"]
["SFPos2","Forecast Financial Position"]
["Cash1","Budget Cash Flow"]
["Cash2","Forecast Cash Flow"]
["RandM","Expenditure includes repairs & maintenance of R'000"]
["Depart1","Department 1 - ",null,"DEP1"]
["Depart2","Department 2 - ",null,"DEP2"]
["Depart3","Department 3 - ",null,"DEP3"]
["Depart4","Department 4 - ",null,"DEP4"]
["Depart5","Department 5 - ",null,"DEP5"]
["Depart6","Department 6 - ",null,"DEP6"]
["Depart7","Department 7 - ",null,"DEP7"]
["Depart8","Department 8 - ",null,"DEP8"]
["Depart9","Department 9 - ",null,"DEP9"]
["Depart10","Department 10 - ",null,"DEP10"]
["Depart11","Department 11 - ",null,"DEP11"]
["Depart12","Department 12 - ",null,"DEP12"]
["Depart13","Department 13 - ",null,"DEP13"]
["Depart14","Department 14 - ",null,"DEP14"]
[]
[]
["Base year of forecast column selection names"]
["Choose","ACT"]
[null,"APP"]
[null,"ADJ"]
[]
["Standard nomenclature"]
["Muni",{"$f":"'Lookup and lists'!B28","v":"FS193 Nketoana"}]
["Municipal Entities",2,"Type of report:",1]
[{"$f":"IF((MuniEntities=1)*(MuniType=2),\"YES\",\"NO\")","v":"NO"},"Does this municipality have entities (consolidated budget and entity budgets required)? YES/NO"]
["Entity 1","(Pty) Ltd Example 1 - Municipal entity - ",null,"Ent1"]
["Entity 2","(Pty) Ltd Example 2 - Municipal entity - ",null,"Ent2"]
["Entity 3","Municipal Entity Example 3",null,"Ent3"]
["Budget approval tables",null,"Chart x-ref","Sch/Tab/Ch","Alternative for municipalities without entities","Alternative for municipalities without entities"]
[null,{"$f":"IF(Consolques=\"YES\",E100,F100)","v":"Table A1 Budget Summary"},null,"Table A1 ",{"$f":"D100&\"Consolidated Budget Summary\"","v":"Table A1 Consolidated Budget Summary"},{"$f":"D100&\"Budget Summary\"","v":"Table A1 Budget Summary"}]
[null,"Table A2 Budgeted Financial Performance (revenue and expenditure by functional classification)","Charts 5, 6","Table A2 ",{"$f":"D101&\"Consolidated Budgeted Financial Performance (revenue and expenditure by functional classification)\"","v":"Table A2 Consolidated Budgeted Financial Performance (revenue and expenditure by functional classification)"},{"$f":"D101&\"Budgeted Financial Performance (revenue and expenditure by functional classification)\"","v":"Table A2 Budgeted Financial Performance (revenue and expenditure by functional classification)"}]
[null,"Table A3 Budgeted Financial Performance (revenue and expenditure by municipal vote)",null,"Table A3 ",{"$f":"D102&\"Consolidated Budgeted Financial Performance (revenue and expenditure by municipal vote)\"","v":"Table A3 Consolidated Budgeted Financial Performance (revenue and expenditure by municipal vote)"},{"$f":"D102&\"Budgeted Financial Performance (revenue and expenditure by municipal vote)\"","v":"Table A3 Budgeted Financial Performance (revenue and expenditure by municipal vote)"}]
[null,"Table A4 Budgeted Financial Performance (revenue and expenditure)","Charts 1, 2, 3, 4","Table A4 ",{"$f":"D103&\"Consolidated Budgeted Financial Performance (revenue and expenditure)\"","v":"Table A4 Consolidated Budgeted Financial Performance (revenue and expenditure)"},{"$f":"D103&\"Budgeted Financial Performance (revenue and expenditure)\"","v":"Table A4 Budgeted Financial Performance (revenue and expenditure)"}]
[null,"Table A5 Budgeted Capital Expenditure by vote, functional classification and funding","Charts 7, 8, 9, 10, 20","Table A5 ",{"$f":"D104&\"Consolidated Budgeted Capital Expenditure by vote, functional classification and funding\"","v":"Table A5 Consolidated Budgeted Capital Expenditure by vote, functional classification and funding"},{"$f":"D104&\"Budgeted Capital Expenditure by vote, functional classification and funding\"","v":"Table A5 Budgeted Capital Expenditure by vote, functional classification and funding"}]
[null,"Table A6 Budgeted Financial Position",null,"Table A6 ",{"$f":"D105&\"Consolidated Budgeted Financial Position\"","v":"Table A6 Consolidated Budgeted Financial Position"},{"$f":"D105&\"Budgeted Financial Position\"","v":"Table A6 Budgeted Financial Position"}]
[null,"Table A7 Budgeted Cash Flows",null,"Table A7 ",{"$f":"D106&\"Consolidated Budgeted Cash Flows\"","v":"Table A7 Consolidated Budgeted Cash Flows"},{"$f":"D106&\"Budgeted Cash Flows\"","v":"Table A7 Budgeted Cash Flows"}]
[null,"Table A8 Cash backed reserves/accumulated surplus reconciliation",null,"Table A8 ",{"$f":"D107&\"Consolidated Cash backed reserves/accumulated surplus reconciliation\"","v":"Table A8 Consolidated Cash backed reserves/accumulated surplus reconciliation"},{"$f":"D107&\"Cash backed reserves/accumulated surplus reconciliation\"","v":"Table A8 Cash backed reserves/accumulated surplus reconciliation"}]
[null,"Table A9 Asset Management",null,"Table A9 ",{"$f":"D108&\"Consolidated Asset Management\"","v":"Table A9 Consolidated Asset Management"},{"$f":"D108&\"Asset Management\"","v":"Table A9 Asset Management"}]
[null,"Table A10 Basic service delivery measurement",null,"Table A10 ",{"$f":"D109&\"Consolidated basic service delivery measurement\"","v":"Table A10 Consolidated basic service delivery measurement"},{"$f":"D109&\"Basic service delivery measurement\"","v":"Table A10 Basic service delivery measurement"}]
["Supportinging Tables to the Budget Approval Tables",null,{"$f":"$C$99","v":"Chart x-ref"},{"$f":"$D$99","v":"Sch/Tab/Ch"}]
["Supporting Table SA1",{"$f":"A111&\" Supportinging detail to 'Budgeted Financial Performance'\"","v":"Supporting Table SA1 Supportinging detail to 'Budgeted Financial Performance'"}]
["Supporting Table SA2 ",{"$f":"IF(Consolques=\"YES\",E112,F112)","v":"Supporting Table SA2 Matrix Financial Performance Budget (revenue source/expenditure type and dept.)"},null,null,{"$f":"A112&\"Consolidated Matrix Financial Performance Budget (revenue source/expenditure type & dept.)\"","v":"Supporting Table SA2 Consolidated Matrix Financial Performance Budget (revenue source/expenditure type & dept.)"},{"$f":"A112&\"Matrix Financial Performance Budget (revenue source/expenditure type and dept.)\"","v":"Supporting Table SA2 Matrix Financial Performance Budget (revenue source/expenditure type and dept.)"}]
["Supporting Table SA3 ",{"$f":"A113&\"Supportinging detail to 'Budgeted Financial Position'\"","v":"Supporting Table SA3 Supportinging detail to 'Budgeted Financial Position'"}]
["Supporting Table SA4 ",{"$f":"A114&\"Reconciliation of IDP strategic objectives and budget (revenue)\"","v":"Supporting Table SA4 Reconciliation of IDP strategic objectives and budget (revenue)"},"Chart 11"]
["Supporting Table SA5 ",{"$f":"A115&\"Reconciliation of IDP strategic objectives and budget (operating expenditure)\"","v":"Supporting Table SA5 Reconciliation of IDP strategic objectives and budget (operating expenditure)"},"Chart 12"]
["Supporting Table SA6 ",{"$f":"A116&\"Reconciliation of IDP strategic objectives and budget (capital expenditure)\"","v":"Supporting Table SA6 Reconciliation of IDP strategic objectives and budget (capital expenditure)"},"Chart 13"]
["Supporting Table SA7",{"$f":"A117&\" Measureable performance objectives\"","v":"Supporting Table SA7 Measureable performance objectives"}]
["Supporting Table SA8",{"$f":"A118&\" Performance indicators and benchmarks\"","v":"Supporting Table SA8 Performance indicators and benchmarks"},"Chts 15-19"]
["Supporting Table SA9",{"$f":"A119&\" Social, economic and demographic statistics and assumptions\"","v":"Supporting Table SA9 Social, economic and demographic statistics and assumptions"}]
["Supporting Table SA10",{"$f":"A120&\" Funding measurement\"","v":"Supporting Table SA10 Funding measurement"},"Chart 14"]
["Supporting Table SA11",{"$f":"A121&\" Property rates summary\"","v":"Supporting Table SA11 Property rates summary"}]
["Supporting Table SA12a",{"$f":"A122&\" Property rates by category (current year)\"","v":"Supporting Table SA12a Property rates by category (current year)"}]
["Supporting Table SA12b",{"$f":"A123&\" Property rates by category (budget year)\"","v":"Supporting Table SA12b Property rates by category (budget year)"}]
["Supporting Table SA13a",{"$f":"A124&\" Service Tariffs by category\"","v":"Supporting Table SA13a Service Tariffs by category"}]
["Supporting Table SA13b",{"$f":"A125&\" Service Tariffs by category - explanatory\"","v":"Supporting Table SA13b Service Tariffs by category - explanatory"}]
["Supporting Table SA14",{"$f":"A126&\" Household bills\"","v":"Supporting Table SA14 Household bills"}]
["Supporting Table SA15",{"$f":"A127&\" Investment particulars by type\"","v":"Supporting Table SA15 Investment particulars by type"}]
["Supporting Table SA16",{"$f":"A128&\" Investment particulars by maturity\"","v":"Supporting Table SA16 Investment particulars by maturity"}]
["Supporting Table SA17",{"$f":"A129&\" Borrowing\"","v":"Supporting Table SA17 Borrowing"}]
["Supporting Table SA18",{"$f":"A130&\" Transfers and grant receipts\"","v":"Supporting Table SA18 Transfers and grant receipts"}]
["Supporting Table SA19",{"$f":"A131&\" Expenditure on transfers and grant programme\"","v":"Supporting Table SA19 Expenditure on transfers and grant programme"}]
["Supporting Table SA20",{"$f":"A132&\" Reconciliation of transfers, grant receipts and unspent funds\"","v":"Supporting Table SA20 Reconciliation of transfers, grant receipts and unspent funds"}]
["Supporting Table SA21",{"$f":"A133&\" Transfers and grants made by the municipality\"","v":"Supporting Table SA21 Transfers and grants made by the municipality"}]
["Supporting Table SA22",{"$f":"A134&\" Summary councillor and staff benefits\"","v":"Supporting Table SA22 Summary councillor and staff benefits"}]
["Supporting Table SA23",{"$f":"A135&\" Salaries, allowances & benefits (political office bearers/councillors/senior managers)\"","v":"Supporting Table SA23 Salaries, allowances & benefits (political office bearers/councillors/senior managers)"}]
["Supporting Table SA24",{"$f":"A136&\" Summary of personnel numbers\"","v":"Supporting Table SA24 Summary of personnel numbers"}]
["Supporting Table SA25",{"$f":"IF(Consolques=\"YES\",E137,F137)","v":"Supporting Table SA25 Budgeted monthly revenue and expenditure"},null,null,{"$f":"A137&\" Consolidated budgeted monthly revenue and expenditure\"","v":"Supporting Table SA25 Consolidated budgeted monthly revenue and expenditure"},{"$f":"A137&\" Budgeted monthly revenue and expenditure\"","v":"Supporting Table SA25 Budgeted monthly revenue and expenditure"}]
["Supporting Table SA26","Supporting Table SA26 Budgeted monthly revenue and expenditure (municipal vote)",null,null,{"$f":"A138&\" Consolidated budgeted monthly revenue and expenditure (municipal vote)\"","v":"Supporting Table SA26 Consolidated budgeted monthly revenue and expenditure (municipal vote)"},{"$f":"A138&\" Budgeted monthly revenue and expenditure (municipal vote)\"","v":"Supporting Table SA26 Budgeted monthly revenue and expenditure (municipal vote)"}]
["Supporting Table SA27","Supporting Table SA27 Budgeted monthly revenue and expenditure (functional classification)",null,null,{"$f":"A139&\" Consolidated budgeted monthly revenue and expenditure (functional classification)\"","v":"Supporting Table SA27 Consolidated budgeted monthly revenue and expenditure (functional classification)"},{"$f":"A139&\" Budgeted monthly revenue and expenditure (functional classification)\"","v":"Supporting Table SA27 Budgeted monthly revenue and expenditure (functional classification)"}]
["Supporting Table SA28","Supporting Table SA28 Budgeted monthly capital expenditure (municipal vote)",null,null,{"$f":"A140&\" Consolidated budgeted monthly capital expenditure (municipal vote)\"","v":"Supporting Table SA28 Consolidated budgeted monthly capital expenditure (municipal vote)"},{"$f":"A140&\" Budgeted monthly capital expenditure (municipal vote)\"","v":"Supporting Table SA28 Budgeted monthly capital expenditure (municipal vote)"}]
["Supporting Table SA29","Supporting Table SA29 Budgeted monthly capital expenditure (functional classification)",null,null,{"$f":"A141&\" Consolidated budgeted monthly capital expenditure (functional classification)\"","v":"Supporting Table SA29 Consolidated budgeted monthly capital expenditure (functional classification)"},{"$f":"A141&\" Budgeted monthly capital expenditure (functional classification)\"","v":"Supporting Table SA29 Budgeted monthly capital expenditure (functional classification)"}]
["Supporting Table SA30","Supporting Table SA30 Budgeted monthly cash flow",null,null,{"$f":"A142&\" Consolidated budgeted monthly cash flow\"","v":"Supporting Table SA30 Consolidated budgeted monthly cash flow"},{"$f":"A142&\" Budgeted monthly cash flow\"","v":"Supporting Table SA30 Budgeted monthly cash flow"}]
["Supporting Table SA31","NOT REQUIRED - municipality does not have entities",null,null,{"$f":"A143&\" Aggregated entity budget\"","v":"Supporting Table SA31 Aggregated entity budget"},"NOT REQUIRED - municipality does not have entities"]
["Supporting Table SA32",{"$f":"A144&\" List of external mechanisms\"","v":"Supporting Table SA32 List of external mechanisms"}]
["Supporting Table SA33",{"$f":"A145&\" Contracts having future budgetary implications\"","v":"Supporting Table SA33 Contracts having future budgetary implications"}]
["Supporting Table SA34a",{"$f":"IF(Consolques=\"YES\",E146,F146)","v":"Supporting Table SA34a Capital expenditure on new assets by asset class"},null,null,{"$f":"A146&\" Consolidated capital expenditure on new assets by asset class\"","v":"Supporting Table SA34a Consolidated capital expenditure on new assets by asset class"},{"$f":"A146&\" Capital expenditure on new assets by asset class\"","v":"Supporting Table SA34a Capital expenditure on new assets by asset class"}]
["Supporting Table SA34b","Supporting Table SA34b Capital expenditure on the renewal of existing assets by asset class",null,null,{"$f":"A147&\" Consolidated capital expenditure on the renewal of existing assets by asset class\"","v":"Supporting Table SA34b Consolidated capital expenditure on the renewal of existing assets by asset class"},{"$f":"A147&\" Capital expenditure on the renewal of existing assets by asset class\"","v":"Supporting Table SA34b Capital expenditure on the renewal of existing assets by asset class"}]
["Supporting Table SA34c","Supporting Table SA34c Repairs and maintenance expenditure by asset class",null,null,{"$f":"A148&\" Consolidated repairs and maintenance by asset class\"","v":"Supporting Table SA34c Consolidated repairs and maintenance by asset class"},{"$f":"A148&\" Repairs and maintenance expenditure by asset class\"","v":"Supporting Table SA34c Repairs and maintenance expenditure by asset class"}]
["Supporting Table SA34d",{"$f":"IF(Consolques=\"YES\",E149,F149)","v":"Supporting Table SA34d Depreciation by asset class"},null,null,{"$f":"A149&\" Consolidated Depreciation by asset class\"","v":"Supporting Table SA34d Consolidated Depreciation by asset class"},{"$f":"A149&\" Depreciation by asset class\"","v":"Supporting Table SA34d Depreciation by asset class"}]
["Supporting Table SA34e",{"$f":"IF(Consolques=\"YES\",E150,F150)","v":"Supporting Table SA34e Capital expenditure on the upgrading of existing assets by asset class"},null,null,{"$f":"A150&\" Consolidated capital expenditure on the upgrading of existing assets by asset class\"","v":"Supporting Table SA34e Consolidated capital expenditure on the upgrading of existing assets by asset class"},{"$f":"A150&\" Capital expenditure on the upgrading of existing assets by asset class\"","v":"Supporting Table SA34e Capital expenditure on the upgrading of existing assets by asset class"}]
["Supporting Table SA35","Supporting Table SA35 Future financial implications of the capital budget",null,null,{"$f":"A151&\" Consolidated future financial implications of the capital budget\"","v":"Supporting Table SA35 Consolidated future financial implications of the capital budget"},{"$f":"A151& \" Future financial implications of the capital budget\"","v":"Supporting Table SA35 Future financial implications of the capital budget"}]
["Supporting Table SA36","Supporting Table SA36 Detailed capital budget",null,null,{"$f":"A152&\" Consolidated detailed capital budget\"","v":"Supporting Table SA36 Consolidated detailed capital budget"},{"$f":"A152& \" Detailed capital budget\"","v":"Supporting Table SA36 Detailed capital budget"}]
["Supporting Table SA37","Supporting Table SA37 Projects delayed from previous financial year/s",null,null,{"$f":"A153&\" Consolidated projects delayed from previous financial year/s\"","v":"Supporting Table SA37 Consolidated projects delayed from previous financial year/s"},{"$f":"A153& \" Projects delayed from previous financial year/s\"","v":"Supporting Table SA37 Projects delayed from previous financial year/s"}]
["Supporting Table SA38",{"$f":"IF(Consolques=\"YES\",E154,F154)","v":"Supporting Table SA38 Detailed operational projects"},null,null,{"$f":"A154&\" Consolidated detailed operational projects\"","v":"Supporting Table SA38 Consolidated detailed operational projects"},{"$f":"A154& \" Detailed operational projects\"","v":"Supporting Table SA38 Detailed operational projects"}]
[]
["Budget Charts","Charts","Cross reference"]
["Chart A1 ",{"$f":"A157&\"Revenue by Municipal Vote\"","v":"Chart A1 Revenue by Municipal Vote"}]
["Chart A2 ",{"$f":"A158&\"Expenditure by Municipal Vote\"","v":"Chart A2 Expenditure by Municipal Vote"}]
["Chart A3 ",{"$f":"A159&\"Revenue by Standard Classification\"","v":"Chart A3 Revenue by Standard Classification"},"A2"]
["Chart A4 ",{"$f":"A160&\"Expenditure by Standard Classification\"","v":"Chart A4 Expenditure by Standard Classification"},"A2"]
["Chart A5 ",{"$f":"A161&\"Revenue by Major Source (refer 'Minor' source for 'Other Revenue' allocation\"","v":"Chart A5 Revenue by Major Source (refer 'Minor' source for 'Other Revenue' allocation"},"A3"]
["Chart A6 ",{"$f":"A162&\"Revenue by Minor Source (Other)\"","v":"Chart A6 Revenue by Minor Source (Other)"},"A3"]
["Chart A7 ",{"$f":"A163&\"Expenditure by Major Type\"","v":"Chart A7 Expenditure by Major Type"},"A3"]
["Chart A8 ",{"$f":"A164&\"Expenditure by Minor Type (Other)\"","v":"Chart A8 Expenditure by Minor Type (Other)"},"A3"]
["Chart A9 ",{"$f":"A165&\"Capital Expenditure by Municipal Vote/Appropriation (Major)\"","v":"Chart A9 Capital Expenditure by Municipal Vote/Appropriation (Major)"},"A5"]
["Chart A10 ",{"$f":"A166&\"Capital Expenditure by Municipal Vote/Appropriation (Minor)\"","v":"Chart A10 Capital Expenditure by Municipal Vote/Appropriation (Minor)"},"A5"]
["Chart A11 ",{"$f":"A166&\"Capital Expenditure by Standard Classification\"","v":"Chart A10 Capital Expenditure by Standard Classification"},"A5"]
["Chart A12 ",{"$f":"A168&\"Capital expenditure performance trend\"","v":"Chart A12 Capital expenditure performance trend"},"A5"]
["Chart A13 ",{"$f":"A169&\"Capital funding by Source\"","v":"Chart A13 Capital funding by Source"},"A5"]
["Chart A14 ",{"$f":"A170&\"Cash flow trend\"","v":"Chart A14 Cash flow trend"},"A7"]
["Chart A15 ",{"$f":"A171&\"IDP Strategic Objective - Revenue\"","v":"Chart A15 IDP Strategic Objective - Revenue"},"Table A4"]
["Chart A16 ",{"$f":"A172&\"IDP Strategic Objective - Expenditure\"","v":"Chart A16 IDP Strategic Objective - Expenditure"},"Table A5"]
["Chart A17 ",{"$f":"A173&\"IDP Strategic Objective - Capital Expenditure\"","v":"Chart A17 IDP Strategic Objective - Capital Expenditure"},"Table A6"]
["Chart A18 ",{"$f":"A174&\"Debt (borrowing to Total Revenue)\"","v":"Chart A18 Debt (borrowing to Total Revenue)"},"Table A8"]
["Chart A19 ",{"$f":"A175&\"Debtors' trend analysis\"","v":"Chart A19 Debtors' trend analysis"},"Table A8"]
["Chart A20 ",{"$f":"A176&\"Distribution losses\"","v":"Chart A20 Distribution losses"},"Table A8"]
["Chart A21 ",{"$f":"A177&\"Borrowed funding of capital expenditure\"","v":"Chart A21 Borrowed funding of capital expenditure"},"Table A8"]
["Chart A22 ",{"$f":"A178&\"Expenditure analysis (% of Revenue)\"","v":"Chart A22 Expenditure analysis (% of Revenue)"},"Table A8"]
["Chart A23 ",{"$f":"A179&\"Increases in service charges\"","v":"Chart A23 Increases in service charges"},"Table A10"]

{"sheet":"Lookup and lists","index":3,"n_rows":308,"n_cols":29,"rows_kept":308,"cut":false,"hidden":true,"merged":[]}
["Description",2007,2008,2009,2010,2011,2012,2013,2014,2015,2016,2017,2018,2019,2020,null,"Lists",null,null,null,null,null,null,null,"Grants:","National - opex","Provincial - opex","National - capex","Provincial - capex"]
[{"$f":"'Template names'!C2","v":"Prior year -1"},"2005/06","2006/07","2007/08",{"$f":"E1-2&\"/\"&RIGHT(E1,2)-1","v":"2008/9"},"2009/10","2010/11","2011/12","2012/13","2013/14","2014/15","2015/16","2016/17","2017/18","2018/19",null,"Yes","<1","<4","Market","Land & impr.","Yes","Uniform","Yrs",null,"Local Government Equitable Share","Health subsidy"," Municipal Infrastructure Grant (MIG)","Agriculture"]
[{"$f":"'Template names'!C3","v":"Prior year -2"},"2004/05","2005/06","2006/07",{"$f":"E1-3&\"/\"&RIGHT(E1,2)-2","v":"2007/8"},"2008/9","2009/10","2010/11","2011/12","2012/13","2013/14","2014/15","2015/16","2016/17","2017/18",null,"No",1,4,"Dep.Replace","Land only","No","Variable","Mths",null,"RSC Levy Replacement ","Ambulance subsidy"," Public Transport and Systems","Education"]
[{"$f":"'Template names'!C4","v":"Prior year -3"},"2003/04","2004/05","2005/06",{"$f":"E1-4&\"/\"&RIGHT(E1,2)-3","v":"2006/7"},"2007/8","2008/9","2009/10","2010/11","2011/12","2012/13","2013/14","2014/15","2015/16","2016/17",null,null,2,5,"Other","Other",null,null,null,null,"Finance Management ","Housing","Rural Transport Services and Infrastructure","Health"]
[{"$f":"'Template names'!C5","v":"Year in which budget is being prepared"},"Current Year 2006/07","Current Year 2007/08","Current Year 2008/09",{"$f":"\"Current Year \"& E1-1&\"/\"&RIGHT(E1,2)","v":"Current Year 2009/10"},"Current Year 2010/11","Current Year 2011/12","Current Year 2012/13","Current Year 2013/14","Current Year 2014/15","Current Year 2015/16","Current Year 2016/17","Current Year 2017/18","Current Year 2018/19","Current Year 2019/20",null,null,3,6,null,null,null,null,null,null,"Municipal Systems Improvement","Sport and Recreation","Regional Bulk Infrastructure","Housing and Local Government "]
[{"$f":"'Template names'!C6","v":"Year in which budget is being prepared"},"2006/07","2007/08","2008/09",{"$f":"E1-1&\"/\"&RIGHT(E1,2)","v":"2009/10"},"2010/11","2011/12","2012/13","2013/14","2014/15","2015/16","2016/17","2017/18","2018/19","2019/20",null,null,4,"6-10",null,null,null,null,null,null,"Water Services Operating Subsidy ",null,"Rural Households Infrastructure ","Other Departments"]
[{"$f":"'Template names'!C7","v":"MTREF name"},"2007/08 Medium Term Revenue & Expenditure Framework","2008/09 Medium Term Revenue & Expenditure Framework","2009/10 Medium Term Revenue & Expenditure Framework",{"$f":"E1&\"/\"&RIGHT(E1,2)+1&\" Medium Term Revenue & Expenditure Framework\"","v":"2010/11 Medium Term Revenue & Expenditure Framework"},"2011/12 Medium Term Revenue & Expenditure Framework","2012/13 Medium Term Revenue & Expenditure Framework","2013/14 Medium Term Revenue & Expenditure Framework","2014/15 Medium Term Revenue & Expenditure Framework","2015/16 Medium Term Revenue & Expenditure Framework","2016/17 Medium Term Revenue & Expenditure Framework","2017/18 Medium Term Revenue & Expenditure Framework","2018/19 Medium Term Revenue & Expenditure Framework","2019/20 Medium Term Revenue & Expenditure Framework","2020/21 Medium Term Revenue & Expenditure Framework",null,null,5,">10",null,null,null,null,null,null,"Energy Efficiency  and Demand Management",null,"Neighbourhood Development Partnership","Public Works, Roads, Transport "]
[{"$f":"'Template names'!C15","v":"1st year of MTREF"},"Budget Year 2007/08","Budget Year 2008/09","Budget Year 2009/10",{"$f":"\"Budget Year \"&E1&\"/\"&RIGHT(E1,2)+1","v":"Budget Year 2010/11"},"Budget Year 2011/12","Budget Year 2012/13","Budget Year 2013/14","Budget Year 2014/15","Budget Year 2015/16","Budget Year 2016/17","Budget Year 2017/18","Budget Year 2018/19","Budget Year 2019/20","Budget Year 2020/21",null,null,">5",null,null,null,null,null,null,null,"Integrated National Electrification Programme",null,"2010 FIFA World Cup Stadiums Development","Sport and Recreation"]
[{"$f":"'Template names'!C16","v":"2nd year of MTREF"},"Budget Year +1 2008/09","Budget Year +1 2009/10","Budget Year +1 2010/11",{"$f":"\"Budget Year +1 \"&E1+1&\"/\"&RIGHT(E1,2)+2","v":"Budget Year +1 2011/12"},"Budget Year +1 2012/13","Budget Year +1 2013/14","Budget Year +1 2014/15","Budget Year +1 2015/16","Budget Year +1 2016/17","Budget Year +1 2017/18","Budget Year +1 2018/19","Budget Year +1 2019/20","Budget Year +1 2020/21","Budget Year +1 2021/22",null,null,null,null,null,null,null,null,null,null,"Municipal Drought Relief "]
[{"$f":"'Template names'!C17","v":"3rd year of MTREF"},"Budget Year +2 2009/10","Budget Year +2 2010/11","Budget Year +2 2011/12",{"$f":"\"Budget Year +2 \"&E1+2&\"/\"&RIGHT(E1,2)+3","v":"Budget Year +2 2012/13"},"Budget Year +2 2013/14","Budget Year +2 2014/15","Budget Year +2 2015/16","Budget Year +2 2016/17","Budget Year +2 2017/18","Budget Year +2 2018/19","Budget Year +2 2019/20","Budget Year +2 2020/21","Budget Year +2 2021/22","Budget Year +2 2022/23",null,null,null,null,null,null,null,null,null,null,"2010 FIFA World Cup Operating"]
[{"$f":"'Template names'!C18","v":"1st yr of long term forecast"},"Forecast 2010/11","Forecast 2011/12","Forecast 2012/13",{"$f":"\"Forecast \"&E1+3&\"/\"&RIGHT(E1,2)+4","v":"Forecast 2013/14"},"Forecast 2014/15","Forecast 2015/16","Forecast 2016/17","Forecast 2017/18","Forecast 2018/19","Forecast 2019/20","Forecast 2020/21","Forecast 2021/22","Forecast 2022/23","Forecast 2023/24",null,null,null,null,null,null,null,null,null,null,"Electricity Demand Side Management"]
[{"$f":"'Template names'!C19","v":"Next yr of long term forecast"},"Forecast 2011/12","Forecast 2012/13","Forecast 2013/14",{"$f":"\"Forecast \"&E1+4&\"/\"&RIGHT(E1,2)+5","v":"Forecast 2014/15"},"Forecast 2015/16","Forecast 2016/17","Forecast 2017/18","Forecast 2018/19","Forecast 2019/20","Forecast 2020/21","Forecast 2021/22","Forecast 2022/23","Forecast 2023/24","Forecast 2024/25",null,null,null,null,null,null,null,null,null,null,"EPWP Incentive"]
[{"$f":"'Template names'!C20","v":"Next yr of long term forecast"},"Forecast 2012/13","Forecast 2013/14","Forecast 2014/15",{"$f":"\"Forecast \"&E1+5&\"/\"&RIGHT(E1,2)+6","v":"Forecast 2015/16"},"Forecast 2016/17","Forecast 2017/18","Forecast 2018/19","Forecast 2019/20","Forecast 2020/21","Forecast 2021/22","Forecast 2022/23","Forecast 2023/24","Forecast 2024/25","Forecast 2025/26"]
[{"$f":"'Template names'!C21","v":"Next yr of long term forecast"},"Forecast 2013/14","Forecast 2014/15","Forecast 2015/16",{"$f":"\"Forecast \"&E1+6&\"/\"&RIGHT(E1,2)+7","v":"Forecast 2016/17"},"Forecast 2017/18","Forecast 2018/19","Forecast 2019/20","Forecast 2020/21","Forecast 2021/22","Forecast 2022/23","Forecast 2023/24","Forecast 2024/25","Forecast 2025/26","Forecast 2026/27",null,null,null,null,null,null,null,null,null,null,"Asset Class","Asset sub-class old","Asset sub-class"]
[{"$f":"'Template names'!C22","v":"Next yr of long term forecast"},"Forecast 2014/15","Forecast 2015/16","Forecast 2016/17",{"$f":"\"Forecast \"&E1+7&\"/\"&RIGHT(E1,2)+8","v":"Forecast 2017/18"},"Forecast 2018/19","Forecast 2019/20","Forecast 2020/21","Forecast 2021/22","Forecast 2022/23","Forecast 2023/24","Forecast 2024/25","Forecast 2025/26","Forecast 2026/27","Forecast 2027/28"]
[{"$f":"'Template names'!C23","v":"Next yr of long term forecast"},"Forecast 2015/16","Forecast 2016/17","Forecast 2017/18",{"$f":"\"Forecast \"&E1+8&\"/\"&RIGHT(E1,2)+9","v":"Forecast 2018/19"},"Forecast 2019/20","Forecast 2020/21","Forecast 2021/22","Forecast 2022/23","Forecast 2023/24","Forecast 2024/25","Forecast 2025/26","Forecast 2026/27","Forecast 2027/28","Forecast 2028/29",null,null,null,null,null,null,null,null,null,null,"Roads Infrastructure","Roads, Pavements & Bridges","Roads"]
[{"$f":"'Template names'!C24","v":"Next yr of long term forecast"},"Forecast 2016/17","Forecast 2017/18","Forecast 2018/19",{"$f":"\"Forecast \"&E1+9&\"/\"&RIGHT(E1,2)+10","v":"Forecast 2019/20"},"Forecast 2020/21","Forecast 2021/22","Forecast 2022/23","Forecast 2023/24","Forecast 2024/25","Forecast 2025/26","Forecast 2026/27","Forecast 2027/28","Forecast 2028/29","Forecast 2029/30",null,null,null,null,null,null,null,null,null,null,"Storm water Infrastructure","Storm water","Road Structures"]
[{"$f":"'Template names'!C25","v":"Next yr of long term forecast"},"Forecast 2017/18","Forecast 2018/19","Forecast 2019/20",{"$f":"\"Forecast \"&E1+10&\"/\"&RIGHT(E1,2)+11","v":"Forecast 2020/21"},"Forecast 2021/22","Forecast 2022/23","Forecast 2023/24","Forecast 2024/25","Forecast 2025/26","Forecast 2026/27","Forecast 2027/28","Forecast 2028/29","Forecast 2029/30","Forecast 2030/31",null,null,null,null,null,null,null,null,null,null,"Electrical Infrastructure","Generation","Road Furniture"]
[{"$f":"'Template names'!C26","v":"Next yr of long term forecast"},"Forecast 2018/19","Forecast 2019/20","Forecast 2020/21",{"$f":"\"Forecast \"&E1+11&\"/\"&RIGHT(E1,2)+12","v":"Forecast 2021/22"},"Forecast 2022/23","Forecast 2023/24","Forecast 2024/25","Forecast 2025/26","Forecast 2026/27","Forecast 2027/28","Forecast 2028/29","Forecast 2029/30","Forecast 2030/31","Forecast 2031/32",null,null,null,null,null,null,null,null,null,null,"Water Supply Infrastructure","Transmission & Reticulation","Capital Spares"]
[{"$f":"'Template names'!C27","v":"Next yr of long term forecast"},"Forecast 2019/20","Forecast 2020/21","Forecast 2021/22",{"$f":"\"Forecast \"&E1+12&\"/\"&RIGHT(E1,2)+13","v":"Forecast 2022/23"},"Forecast 2023/24","Forecast 2024/25","Forecast 2025/26","Forecast 2026/27","Forecast 2027/28","Forecast 2028/29","Forecast 2029/30","Forecast 2030/31","Forecast 2031/32","Forecast 2032/33",null,null,null,null,null,null,null,null,null,null,"Sanitation Infrastructure","Street Lighting","Drainage Collection"]
[{"$f":"'Template names'!C28","v":"Next yr of long term forecast"},"Forecast 2020/21","Forecast 2021/22","Forecast 2022/23",{"$f":"\"Forecast \"&E1+13&\"/\"&RIGHT(E1,2)+14","v":"Forecast 2023/24"},"Forecast 2024/25","Forecast 2025/26","Forecast 2026/27","Forecast 2027/28","Forecast 2028/29","Forecast 2029/30","Forecast 2030/31","Forecast 2031/32","Forecast 2032/33","Forecast 2033/34",null,null,null,null,null,null,null,null,null,null,"Solid Waste Infrastructure","Dams & Reservoirs","Storm water Conveyance"]
[{"$f":"'Template names'!C29","v":"Next yr of long term forecast"},"Forecast 2021/22","Forecast 2022/23","Forecast 2023/24",{"$f":"\"Forecast \"&E1+14&\"/\"&RIGHT(E1,2)+15","v":"Forecast 2024/25"},"Forecast 2025/26","Forecast 2026/27","Forecast 2027/28","Forecast 2028/29","Forecast 2029/30","Forecast 2030/31","Forecast 2031/32","Forecast 2032/33","Forecast 2033/34","Forecast 2034/35",null,null,null,null,null,null,null,null,null,null,"Rail Infrastructure","Water purification","Attenuation"]
["Adjustments Budget","Annual target 2007/08","Annual target 2008/09","Annual target 2009/10",{"$f":"\"Annual target \" & E1&\"/\"&RIGHT(E1,2)+1","v":"Annual target 2010/11"},"Annual target 2011/12","Annual target 2012/13","Annual target 2013/14","Annual target 2014/15","Annual target 2015/16","Annual target 2016/17","Annual target 2017/18","Annual target 2018/19","Annual target 2019/20","Annual target 2020/21",null,null,null,null,null,null,null,null,null,null,"Coastal Infrastructure","Reticulation","Power Plants"]
[{"$f":"A23","v":"Adjustments Budget"},"Revised target 2007/08","Revised target 2008/09","Revised target 2009/10",{"$f":"\"Revised target \"& E1&\"/\"&RIGHT(E1,2)+1","v":"Revised target 2010/11"},"Revised target 2011/12","Revised target 2012/13","Revised target 2013/14","Revised target 2014/15","Revised target 2015/16","Revised target 2016/17","Revised target 2017/18","Revised target 2018/19","Revised target 2019/20","Revised target 2020/21",null,null,null,null,null,null,null,null,null,null,"Information and Communication Infrastructure","Sewerage purification","HV Substations"]
["NOTE: This sheet should not be directly amended - select headings from sheet 'S'",null,null,null,null,null,null,null,null,null,null,null,null,null,null,null,null,null,null,null,null,null,null,null,null,"Community Facilities","Waste Management","HV Switching Station"]
[null,null,null,null,null,null,null,null,null,null,null,null,null,null,null,null,null,null,null,null,null,null,null,null,null,"Sport and Recreation Facilities","Transportation","HV Transmission Conductors"]
["Name link",54,null,null,null,null,null,null,null,null,null,null,null,null,null,null,null,null,null,null,null,null,null,null,null,"Heritage assets","Gas","MV Substations"]
["Name of Muni",{"$f":"INDEX(B29:B307,B27,1)","v":"FS193 Nketoana"},null,null,null,null,null,null,null,null,null,null,null,null,null,null,null,null,null,null,null,null,null,null,null,"Revenue Generating","Parks & gardens","MV Switching Stations"]
[null,"Choose name from list","Set name on 'Instructions' sheet",null,null,null,null,null,null,null,null,null,null,null,null,null,null,null,null,null,null,null,null,null,null,"Non-revenue Generating","Sportsfields & stadia","MV Networks"]
[null,"BUF Buffalo City","EC EASTERN CAPE",null,null,null,null,null,null,null,null,null,null,null,null,null,null,null,null,null,null,null,null,null,null,"Operational Buildings","Swimming pools","LV Networks"]
[null,"NMA Nelson Mandela Bay","EC EASTERN CAPE",null,null,null,null,null,null,null,null,null,null,null,null,null,null,null,null,null,null,null,null,null,null,"Housing","Community halls","Capital Spares"]
[null,"EC101 Dr. Beyers Naude","EC EASTERN CAPE",null,null,null,null,null,null,null,null,null,null,null,null,null,null,null,null,null,null,null,null,null,null,"Biological or Cultivated Assets","Libraries","Dams and Weirs"]
[null,"EC102 Blue Crane Route","EC EASTERN CAPE",null,null,null,null,null,null,null,null,null,null,null,null,null,null,null,null,null,null,null,null,null,null,"Servitudes","Recreational facilities","Boreholes"]
[null,"EC104 Makana","EC EASTERN CAPE",null,null,null,null,null,null,null,null,null,null,null,null,null,null,null,null,null,null,null,null,null,null,"Licences and Rights","Fire, safety & emergency","Reservoirs"]
[null,"EC105 Ndlambe","EC EASTERN CAPE",null,null,null,null,null,null,null,null,null,null,null,null,null,null,null,null,null,null,null,null,null,null,"Computer Equipment","Security and policing","Pump Stations"]
[null,"EC106 Sundays River Valley","EC EASTERN CAPE",null,null,null,null,null,null,null,null,null,null,null,null,null,null,null,null,null,null,null,null,null,null,"Furniture and Office Equipment","Buses","Water Treatment Works"]
[null,"EC108 Kouga","EC EASTERN CAPE",null,null,null,null,null,null,null,null,null,null,null,null,null,null,null,null,null,null,null,null,null,null,"Machinery and Equipment","Clinics","Bulk Mains"]
[null,"EC109 Kou-Kamma","EC EASTERN CAPE",null,null,null,null,null,null,null,null,null,null,null,null,null,null,null,null,null,null,null,null,null,null,"Transport Assets","Museums & Art Galleries","Distribution"]
[null,"DC10 Sarah Baartman","EC EASTERN CAPE",null,null,null,null,null,null,null,null,null,null,null,null,null,null,null,null,null,null,null,null,null,null,"Libraries","Cemeteries","Distribution Points"]
[null,"EC121 Mbhashe","EC EASTERN CAPE",null,null,null,null,null,null,null,null,null,null,null,null,null,null,null,null,null,null,null,null,null,null,"Zoo's, Marine and Non-biological Animals","Social rental housing","PRV Stations"]
[null,"EC122 Mnquma","EC EASTERN CAPE",null,null,null,null,null,null,null,null,null,null,null,null,null,null,null,null,null,null,null,null,null,null,null,"Buildings","Capital Spares"]
[null,"EC123 Great Kei","EC EASTERN CAPE",null,null,null,null,null,null,null,null,null,null,null,null,null,null,null,null,null,null,null,null,null,null,null,"Housing development","Pump Station"]
[null,"EC124 Amahlathi","EC EASTERN CAPE",null,null,null,null,null,null,null,null,null,null,null,null,null,null,null,null,null,null,null,null,null,null,null,"General vehicles","Reticulation"]
[null,"EC126 Ngqushwa","EC EASTERN CAPE",null,null,null,null,null,null,null,null,null,null,null,null,null,null,null,null,null,null,null,null,null,null,null,"Specialised vehicles - Refuse","Waste Water Treatment Works"]
[null,"EC129 Raymond Mhlaba","EC EASTERN CAPE",null,null,null,null,null,null,null,null,null,null,null,null,null,null,null,null,null,null,null,null,null,null,null,"Specialised vehicles - Fire","Outfall Sewers"]
[null,"DC12 Amathole","EC EASTERN CAPE",null,null,null,null,null,null,null,null,null,null,null,null,null,null,null,null,null,null,null,null,null,null,null,"Specialised vehicles - Conservancy","Toilet Facilities"]
[null,"EC131 Inxuba Yethemba","EC EASTERN CAPE",null,null,null,null,null,null,null,null,null,null,null,null,null,null,null,null,null,null,null,null,null,null,null,"Specialised vehicles - Ambulances","Capital Spares"]
[null,"EC135 Intsika Yethu","EC EASTERN CAPE",null,null,null,null,null,null,null,null,null,null,null,null,null,null,null,null,null,null,null,null,null,null,null,"Plant & equipment","Landfill Sites"]
[null,"EC136 Emalahleni (Ec)","EC EASTERN CAPE",null,null,null,null,null,null,null,null,null,null,null,null,null,null,null,null,null,null,null,null,null,null,null,"Computers - hardware/equipment","Waste Transfer Stations"]
[null,"EC137 Engcobo","EC EASTERN CAPE",null,null,null,null,null,null,null,null,null,null,null,null,null,null,null,null,null,null,null,null,null,null,null,"Furniture and other office equipment","Waste Processing Facilities"]
[null,"EC138 Sakhisizwe","EC EASTERN CAPE",null,null,null,null,null,null,null,null,null,null,null,null,null,null,null,null,null,null,null,null,null,null,null,"Abattoirs","Waste Drop-off Points"]
[null,"EC139 Enoch Mgijima","EC EASTERN CAPE",null,null,null,null,null,null,null,null,null,null,null,null,null,null,null,null,null,null,null,null,null,null,null,"Markets","Waste Separation Facilities"]
[null,"DC13 Chris Hani","EC EASTERN CAPE",null,null,null,null,null,null,null,null,null,null,null,null,null,null,null,null,null,null,null,null,null,null,null,"Civic Land and Buildings","Electricity Generation Facilities"]
[null,"EC141 Elundini","EC EASTERN CAPE",null,null,null,null,null,null,null,null,null,null,null,null,null,null,null,null,null,null,null,null,null,null,null,"Other Buildings","Capital Spares"]
[null,"EC142 Senqu","EC EASTERN CAPE",null,null,null,null,null,null,null,null,null,null,null,null,null,null,null,null,null,null,null,null,null,null,null,"Other Land","Rail Lines"]
[null,"EC145 Walter Sisulu","EC EASTERN CAPE",null,null,null,null,null,null,null,null,null,null,null,null,null,null,null,null,null,null,null,null,null,null,null,"Surplus Assets - (Investment or Inventory)","Rail Structures"]
[null,"DC14 Joe Gqabi","EC EASTERN CAPE",null,null,null,null,null,null,null,null,null,null,null,null,null,null,null,null,null,null,null,null,null,null,null,"Computers - software & programming","Rail Furniture"]
[null,"EC153 Ngquza Hills","EC EASTERN CAPE",null,null,null,null,null,null,null,null,null,null,null,null,null,null,null,null,null,null,null,null,null,null,null,"Other","Drainage Collection"]
[null,"EC154 Port St Johns","EC EASTERN CAPE",null,null,null,null,null,null,null,null,null,null,null,null,null,null,null,null,null,null,null,null,null,null,null,null,"Storm water Conveyance"]
[null,"EC155 Nyandeni","EC EASTERN CAPE",null,null,null,null,null,null,null,null,null,null,null,null,null,null,null,null,null,null,null,null,null,null,"SA16 - Investments",null,"Attenuation"]
[null,"EC156 Mhlontlo","EC EASTERN CAPE",null,null,null,null,null,null,null,null,null,null,null,null,null,null,null,null,null,null,null,null,null,null,"Security","Interest rate","MV Substations"]
[null,"EC157 King Sabata Dalindyebo","EC EASTERN CAPE",null,null,null,null,null,null,null,null,null,null,null,null,null,null,null,null,null,null,null,null,null,null,"Yes","Fixed","LV Networks"]
[null,"DC15 O .R. Tambo","EC EASTERN CAPE",null,null,null,null,null,null,null,null,null,null,null,null,null,null,null,null,null,null,null,null,null,null,"No","Variable","Capital Spares"]
[null,"EC441 Matatiele","EC EASTERN CAPE",null,null,null,null,null,null,null,null,null,null,null,null,null,null,null,null,null,null,null,null,null,null,null,null,"Sand Pumps"]
[null,"EC442 Umzimvubu","EC EASTERN CAPE",null,null,null,null,null,null,null,null,null,null,null,null,null,null,null,null,null,null,null,null,null,null,null,null,"Piers"]
[null,"EC443 Mbizana","EC EASTERN CAPE",null,null,null,null,null,null,null,null,null,null,null,null,null,null,null,null,null,null,null,null,null,null,"SA36, SA37 - Capital projects",null,"Revetments"]
[null,"EC444 Ntabankulu","EC EASTERN CAPE",null,null,null,null,null,null,null,null,null,null,null,null,null,null,null,null,null,null,null,null,null,null,"Yes",null,"Promenades"]
[null,"DC44 Alfred Nzo","EC EASTERN CAPE",null,null,null,null,null,null,null,null,null,null,null,null,null,null,null,null,null,null,null,null,null,null,"No",null,"Capital Spares"]
[null,"MAN Mangaung","FS FREE STATE",null,null,null,null,null,null,null,null,null,null,null,null,null,null,null,null,null,null,null,null,null,null,null,null,"Data Centres"]
[null,"FS161 Letsemeng","FS FREE STATE",null,null,null,null,null,null,null,null,null,null,null,null,null,null,null,null,null,null,null,null,null,null,null,null,"Core Layers"]
[null,"FS162 Kopanong","FS FREE STATE",null,null,null,null,null,null,null,null,null,null,null,null,null,null,null,null,null,null,null,null,null,null,null,null,"Distribution Layers"]
[null,"FS163 Mohokare","FS FREE STATE",null,null,null,null,null,null,null,null,null,null,null,null,null,null,null,null,null,null,null,null,null,null,null,null,"Capital Spares"]
[null,"DC16 Xhariep","FS FREE STATE",null,null,null,null,null,null,null,null,null,null,null,null,null,null,null,null,null,null,null,null,null,null,null,null,"Halls"]
[null,"FS181 Masilonyana","FS FREE STATE",null,null,null,null,null,null,null,null,null,null,null,null,null,null,null,null,null,null,null,null,null,null,null,null,"Centres"]
[null,"FS182 Tokologo","FS FREE STATE",null,null,null,null,null,null,null,null,null,null,null,null,null,null,null,null,null,null,null,null,null,null,null,null,"Crèches"]
[null,"FS183 Tswelopele","FS FREE STATE",null,null,null,null,null,null,null,null,null,null,null,null,null,null,null,null,null,null,null,null,null,null,null,null,"Clinics/Care Centres"]
[null,"FS184 Matjhabeng","FS FREE STATE",null,null,null,null,null,null,null,null,null,null,null,null,null,null,null,null,null,null,null,null,null,null,null,null,"Fire/Ambulance Stations"]
[null,"FS185 Nala","FS FREE STATE",null,null,null,null,null,null,null,null,null,null,null,null,null,null,null,null,null,null,null,null,null,null,null,null,"Testing Stations"]
[null,"DC18 Lejweleputswa","FS FREE STATE",null,null,null,null,null,null,null,null,null,null,null,null,null,null,null,null,null,null,null,null,null,null,null,null,"Museums"]
[null,"FS191 Setsoto","FS FREE STATE",null,null,null,null,null,null,null,null,null,null,null,null,null,null,null,null,null,null,null,null,null,null,null,null,"Galleries"]
[null,"FS192 Dihlabeng","FS FREE STATE",null,null,null,null,null,null,null,null,null,null,null,null,null,null,null,null,null,null,null,null,null,null,null,null,"Theatres"]
[null,"FS193 Nketoana","FS FREE STATE",null,null,null,null,null,null,null,null,null,null,null,null,null,null,null,null,null,null,null,null,null,null,null,null,"Libraries"]
[null,"FS194 Maluti-a-Phofung","FS FREE STATE",null,null,null,null,null,null,null,null,null,null,null,null,null,null,null,null,null,null,null,null,null,null,null,null,"Cemeteries/Crematoria"]
[null,"FS195 Phumelela","FS FREE STATE",null,null,null,null,null,null,null,null,null,null,null,null,null,null,null,null,null,null,null,null,null,null,null,null,"Police"]
[null,"FS196 Mantsopa","FS FREE STATE",null,null,null,null,null,null,null,null,null,null,null,null,null,null,null,null,null,null,null,null,null,null,null,null,"Purls"]
[null,"DC19 Thabo Mofutsanyana","FS FREE STATE",null,null,null,null,null,null,null,null,null,null,null,null,null,null,null,null,null,null,null,null,null,null,null,null,"Public Open Space"]
[null,"FS201 Moqhaka","FS FREE STATE",null,null,null,null,null,null,null,null,null,null,null,null,null,null,null,null,null,null,null,null,null,null,null,null,"Nature Reserves"]
[null,"FS203 Ngwathe","FS FREE STATE",null,null,null,null,null,null,null,null,null,null,null,null,null,null,null,null,null,null,null,null,null,null,null,null,"Public Ablution Facilities"]
[null,"FS204 Metsimaholo","FS FREE STATE",null,null,null,null,null,null,null,null,null,null,null,null,null,null,null,null,null,null,null,null,null,null,null,null,"Markets"]
[null,"FS205 Mafube","FS FREE STATE",null,null,null,null,null,null,null,null,null,null,null,null,null,null,null,null,null,null,null,null,null,null,null,null,"Stalls"]
[null,"DC20 Fezile Dabi","FS FREE STATE",null,null,null,null,null,null,null,null,null,null,null,null,null,null,null,null,null,null,null,null,null,null,null,null,"Abattoirs"]
[null,"EKU Ekurhuleni Metro","GT GAUTENG",null,null,null,null,null,null,null,null,null,null,null,null,null,null,null,null,null,null,null,null,null,null,null,null,"Airports"]
[null,"JHB City Of Johannesburg","GT GAUTENG",null,null,null,null,null,null,null,null,null,null,null,null,null,null,null,null,null,null,null,null,null,null,null,null,"Taxi Ranks/Bus Terminals"]
[null,"TSH City Of Tshwane","GT GAUTENG",null,null,null,null,null,null,null,null,null,null,null,null,null,null,null,null,null,null,null,null,null,null,null,null,"Capital Spares"]
[null,"GT421 Emfuleni","GT GAUTENG",null,null,null,null,null,null,null,null,null,null,null,null,null,null,null,null,null,null,null,null,null,null,null,null,"Indoor Facilities"]
[null,"GT422 Midvaal","GT GAUTENG",null,null,null,null,null,null,null,null,null,null,null,null,null,null,null,null,null,null,null,null,null,null,null,null,"Outdoor Facilities"]
[null,"GT423 Lesedi","GT GAUTENG",null,null,null,null,null,null,null,null,null,null,null,null,null,null,null,null,null,null,null,null,null,null,null,null,"Capital Spares"]
[null,"DC42 Sedibeng","GT GAUTENG",null,null,null,null,null,null,null,null,null,null,null,null,null,null,null,null,null,null,null,null,null,null,null,null,"Monuments"]
[null,"GT481 Mogale City","GT GAUTENG",null,null,null,null,null,null,null,null,null,null,null,null,null,null,null,null,null,null,null,null,null,null,null,null,"Historic Buildings"]
[null,"GT484 Merafong City","GT GAUTENG",null,null,null,null,null,null,null,null,null,null,null,null,null,null,null,null,null,null,null,null,null,null,null,null,"Works of Art"]
[null,"GT485 Rand West City","GT GAUTENG",null,null,null,null,null,null,null,null,null,null,null,null,null,null,null,null,null,null,null,null,null,null,null,null,"Conservation Areas"]
[null,"DC48 West Rand","GT GAUTENG",null,null,null,null,null,null,null,null,null,null,null,null,null,null,null,null,null,null,null,null,null,null,null,null,"Other Heritage"]
[null,"ETH eThekwini","KZN KWAZULU-NATAL",null,null,null,null,null,null,null,null,null,null,null,null,null,null,null,null,null,null,null,null,null,null,null,null,"Improved Property"]
[null,"KZN212 Umdoni","KZN KWAZULU-NATAL",null,null,null,null,null,null,null,null,null,null,null,null,null,null,null,null,null,null,null,null,null,null,null,null,"Unimproved Property"]
[null,"KZN213 Umzumbe","KZN KWAZULU-NATAL",null,null,null,null,null,null,null,null,null,null,null,null,null,null,null,null,null,null,null,null,null,null,null,null,"Municipal Offices"]
[null,"KZN214 uMuziwabantu","KZN KWAZULU-NATAL",null,null,null,null,null,null,null,null,null,null,null,null,null,null,null,null,null,null,null,null,null,null,null,null,"Pay/Enquiry Points"]
[null,"KZN216 Ray Nkonyeni","KZN KWAZULU-NATAL",null,null,null,null,null,null,null,null,null,null,null,null,null,null,null,null,null,null,null,null,null,null,null,null,"Building Plan Offices"]
[null,"DC21 Ugu","KZN KWAZULU-NATAL",null,null,null,null,null,null,null,null,null,null,null,null,null,null,null,null,null,null,null,null,null,null,null,null,"Workshops"]
[null,"KZN221 uMshwathi","KZN KWAZULU-NATAL",null,null,null,null,null,null,null,null,null,null,null,null,null,null,null,null,null,null,null,null,null,null,null,null,"Yards"]
[null,"KZN222 uMngeni","KZN KWAZULU-NATAL",null,null,null,null,null,null,null,null,null,null,null,null,null,null,null,null,null,null,null,null,null,null,null,null,"Stores"]
[null,"KZN223 Mpofana","KZN KWAZULU-NATAL",null,null,null,null,null,null,null,null,null,null,null,null,null,null,null,null,null,null,null,null,null,null,null,null,"Laboratories"]
[null,"KZN224 Impendle","KZN KWAZULU-NATAL",null,null,null,null,null,null,null,null,null,null,null,null,null,null,null,null,null,null,null,null,null,null,null,null,"Training Centres"]
[null,"KZN225 Msunduzi","KZN KWAZULU-NATAL",null,null,null,null,null,null,null,null,null,null,null,null,null,null,null,null,null,null,null,null,null,null,null,null,"Manufacturing Plant"]
[null,"KZN226 Mkhambathini","KZN KWAZULU-NATAL",null,null,null,null,null,null,null,null,null,null,null,null,null,null,null,null,null,null,null,null,null,null,null,null,"Depots"]
[null,"KZN227 Richmond","KZN KWAZULU-NATAL",null,null,null,null,null,null,null,null,null,null,null,null,null,null,null,null,null,null,null,null,null,null,null,null,"Capital Spares"]
[null,"DC22 uMgungundlovu","KZN KWAZULU-NATAL",null,null,null,null,null,null,null,null,null,null,null,null,null,null,null,null,null,null,null,null,null,null,null,null,"Staff Housing"]
[null,"KZN235 Okhahlamba","KZN KWAZULU-NATAL",null,null,null,null,null,null,null,null,null,null,null,null,null,null,null,null,null,null,null,null,null,null,null,null,"Social Housing"]
[null,"KZN237 Inkosi Langalibalele","KZN KWAZULU-NATAL",null,null,null,null,null,null,null,null,null,null,null,null,null,null,null,null,null,null,null,null,null,null,null,null,"Capital Spares"]
[null,"KZN238 Alfred Duma","KZN KWAZULU-NATAL",null,null,null,null,null,null,null,null,null,null,null,null,null,null,null,null,null,null,null,null,null,null,null,null,"Water Rights"]
[null,"DC23 Uthukela","KZN KWAZULU-NATAL",null,null,null,null,null,null,null,null,null,null,null,null,null,null,null,null,null,null,null,null,null,null,null,null,"Effluent Licenses"]
[null,"KZN241 Endumeni","KZN KWAZULU-NATAL",null,null,null,null,null,null,null,null,null,null,null,null,null,null,null,null,null,null,null,null,null,null,null,null,"Solid Waste Licenses"]
[null,"KZN242 Nquthu","KZN KWAZULU-NATAL",null,null,null,null,null,null,null,null,null,null,null,null,null,null,null,null,null,null,null,null,null,null,null,null,"Computer Software and Applications"]
[null,"KZN244 Msinga","KZN KWAZULU-NATAL",null,null,null,null,null,null,null,null,null,null,null,null,null,null,null,null,null,null,null,null,null,null,null,null,"Load Settlement Software Applications"]
[null,"KZN245 Umvoti","KZN KWAZULU-NATAL",null,null,null,null,null,null,null,null,null,null,null,null,null,null,null,null,null,null,null,null,null,null,null,null,"Unspecified"]
[null,"DC24 Umzinyathi","KZN KWAZULU-NATAL"]
[null,"KZN252 Newcastle","KZN KWAZULU-NATAL"]
[null,"KZN253 eMadlangeni","KZN KWAZULU-NATAL"]
[null,"KZN254 Dannhauser","KZN KWAZULU-NATAL"]
[null,"DC25 Amajuba","KZN KWAZULU-NATAL"]
[null,"KZN261 eDumbe","KZN KWAZULU-NATAL"]
[null,"KZN262 uPhongolo","KZN KWAZULU-NATAL"]
[null,"KZN263 Abaqulusi","KZN KWAZULU-NATAL"]
[null,"KZN265 Nongoma","KZN KWAZULU-NATAL"]
[null,"KZN266 Ulundi","KZN KWAZULU-NATAL"]
[null,"DC26 Zululand","KZN KWAZULU-NATAL"]
[null,"KZN271 Umhlabuyalingana","KZN KWAZULU-NATAL"]
[null,"KZN272 Jozini","KZN KWAZULU-NATAL"]
[null,"KZN275 Mtubatuba","KZN KWAZULU-NATAL"]
[null,"KZN276 The New Big 5 False Bay","KZN KWAZULU-NATAL"]
[null,"DC27 Umkhanyakude","KZN KWAZULU-NATAL"]
[null,"KZN281 Mfolozi","KZN KWAZULU-NATAL"]
[null,"KZN282 uMhlathuze","KZN KWAZULU-NATAL"]
[null,"KZN284 uMlalazi","KZN KWAZULU-NATAL"]
[null,"KZN285 Mthonjaneni","KZN KWAZULU-NATAL"]
[null,"KZN286 Nkandla","KZN KWAZULU-NATAL"]
[null,"DC28 King Cetshwayo","KZN KWAZULU-NATAL"]
[null,"KZN291 Mandeni","KZN KWAZULU-NATAL"]
[null,"KZN292 KwaDukuza","KZN KWAZULU-NATAL"]
[null,"KZN293 Ndwedwe","KZN KWAZULU-NATAL"]
[null,"KZN294 Maphumulo","KZN KWAZULU-NATAL"]
[null,"DC29 iLembe","KZN KWAZULU-NATAL"]
[null,"KZN433 Greater Kokstad","KZN KWAZULU-NATAL"]
[null,"KZN434 Ubuhlebezwe","KZN KWAZULU-NATAL"]
[null,"KZN435 Umzimkhulu","KZN KWAZULU-NATAL"]
[null,"KZN436 Dr Nkosazana Dlamini Zuma","KZN KWAZULU-NATAL"]
[null,"DC43 Harry Gwala","KZN KWAZULU-NATAL"]
[null,"LIM331 Greater Giyani","LIM LIMPOPO"]
[null,"LIM332 Greater Letaba","LIM LIMPOPO"]
[null,"LIM333 Greater Tzaneen","LIM LIMPOPO"]
[null,"LIM334 Ba-Phalaborwa","LIM LIMPOPO"]
[null,"LIM335 Maruleng","LIM LIMPOPO"]
[null,"DC33 Mopani","LIM LIMPOPO"]
[null,"LIM341 Musina","LIM LIMPOPO"]
[null,"LIM343 Thulamela","LIM LIMPOPO"]
[null,"LIM344 Makhado","LIM LIMPOPO"]
[null,"LIM345 Makhado-Thulamela","LIM LIMPOPO"]
[null,"DC34 Vhembe","LIM LIMPOPO"]
[null,"LIM351 Blouberg","LIM LIMPOPO"]
[null,"LIM353 Molemole","LIM LIMPOPO"]
[null,"LIM354 Polokwane","LIM LIMPOPO"]
[null,"LIM355 Lepelle-Nkumpi","LIM LIMPOPO"]
[null,"DC35 Capricorn","LIM LIMPOPO"]
[null,"LIM361 Thabazimbi","LIM LIMPOPO"]
[null,"LIM362 Lephalale","LIM LIMPOPO"]
[null,"LIM366 Bela Bela","LIM LIMPOPO"]
[null,"LIM367 Mogalakwena","LIM LIMPOPO"]
[null,"LIM368 Modimolle-Mookgopong","LIM LIMPOPO"]
[null,"DC36 Waterberg","LIM LIMPOPO"]
[null,"LIM471 Ephraim Mogale","LIM LIMPOPO"]
[null,"LIM472 Elias Motsoaledi","LIM LIMPOPO"]
[null,"LIM473 Makhuduthamaga","LIM LIMPOPO"]
[null,"LIM476 Fetakgomo-Tubatse","LIM LIMPOPO"]
[null,"DC47 Sekhukhune","LIM LIMPOPO"]
[null,"MP301 Albert Luthuli","MP MPUMALANGA"]
[null,"MP302 Msukaligwa","MP MPUMALANGA"]
[null,"MP303 Mkhondo","MP MPUMALANGA"]
[null,"MP304 Pixley Ka Seme (MP)","MP MPUMALANGA"]
[null,"MP305 Lekwa","MP MPUMALANGA"]
[null,"MP306 Dipaleseng","MP MPUMALANGA"]
[null,"MP307 Govan Mbeki","MP MPUMALANGA"]
[null,"DC30 Gert Sibande","MP MPUMALANGA"]
[null,"MP311 Victor Khanye","MP MPUMALANGA"]
[null,"MP312 Emalahleni (Mp)","MP MPUMALANGA"]
[null,"MP313 Steve Tshwete","MP MPUMALANGA"]
[null,"MP314 Emakhazeni","MP MPUMALANGA"]
[null,"MP315 Thembisile Hani","MP MPUMALANGA"]
[null,"MP316 Dr J.S. Moroka","MP MPUMALANGA"]
[null,"DC31 Nkangala","MP MPUMALANGA"]
[null,"MP321 Thaba Chweu","MP MPUMALANGA"]
[null,"MP324 Nkomazi","MP MPUMALANGA"]
[null,"MP325 Bushbuckridge","MP MPUMALANGA"]
[null,"MP326 City of Mbombela","MP MPUMALANGA"]
[null,"DC32 Ehlanzeni","MP MPUMALANGA"]
[null,"NC451 Joe Morolong","NC NORTHERN CAPE"]
[null,"NC452 Ga-Segonyana","NC NORTHERN CAPE"]
[null,"NC453 Gamagara","NC NORTHERN CAPE"]
[null,"DC45 John Taolo Gaetsewe","NC NORTHERN CAPE"]
[null,"NC061 Richtersveld","NC NORTHERN CAPE"]
[null,"NC062 Nama Khoi","NC NORTHERN CAPE"]
[null,"NC064 Kamiesberg","NC NORTHERN CAPE"]
[null,"NC065 Hantam","NC NORTHERN CAPE"]
[null,"NC066 Karoo Hoogland","NC NORTHERN CAPE"]
[null,"NC067 Khai-Ma","NC NORTHERN CAPE"]
[null,"DC6 Namakwa","NC NORTHERN CAPE"]
[null,"NC071 Ubuntu","NC NORTHERN CAPE"]
[null,"NC072 Umsobomvu","NC NORTHERN CAPE"]
[null,"NC073 Emthanjeni","NC NORTHERN CAPE"]
[null,"NC074 Kareeberg","NC NORTHERN CAPE"]
[null,"NC075 Renosterberg","NC NORTHERN CAPE"]
[null,"NC076 Thembelihle","NC NORTHERN CAPE"]
[null,"NC077 Siyathemba","NC NORTHERN CAPE"]
[null,"NC078 Siyancuma","NC NORTHERN CAPE"]
[null,"DC7 Pixley Ka Seme (Nc)","NC NORTHERN CAPE"]
[null,"NC082 !Kai! Garib","NC NORTHERN CAPE"]
[null,"NC084 !Kheis","NC NORTHERN CAPE"]
[null,"NC085 Tsantsabane","NC NORTHERN CAPE"]
[null,"NC086 Kgatelopele","NC NORTHERN CAPE"]
[null,"NC087 Dawid Kruiper","NC NORTHERN CAPE"]
[null,"DC8 Z F Mgcawu","NC NORTHERN CAPE"]
[null,"NC091 Sol Plaatje","NC NORTHERN CAPE"]
[null,"NC092 Dikgatlong","NC NORTHERN CAPE"]
[null,"NC093 Magareng","NC NORTHERN CAPE"]
[null,"NC094 Phokwane","NC NORTHERN CAPE"]
[null,"DC9 Frances Baard","NC NORTHERN CAPE"]
[null,"NW371 Moretele","NW NORTH WEST"]
[null,"NW372 Madibeng","NW NORTH WEST"]
[null,"NW373 Rustenburg","NW NORTH WEST"]
[null,"NW374 Kgetlengrivier","NW NORTH WEST"]
[null,"NW375 Moses Kotane","NW NORTH WEST"]
[null,"DC37 Bojanala Platinum","NW NORTH WEST"]
[null,"NW381 Ratlou","NW NORTH WEST"]
[null,"NW382 Tswaing","NW NORTH WEST"]
[null,"NW383 Mafikeng","NW NORTH WEST"]
[null,"NW384 Ditsobotla","NW NORTH WEST"]
[null,"NW385 Ramotshere Moiloa","NW NORTH WEST"]
[null,"DC38 Ngaka Modiri Molema","NW NORTH WEST"]
[null,"NW392 Naledi (Nw)","NW NORTH WEST"]
[null,"NW393 Mamusa","NW NORTH WEST"]
[null,"NW394 Greater Taung","NW NORTH WEST"]
[null,"NW396 Lekwa-Teemane","NW NORTH WEST"]
[null,"NW397 Kagisano-Molopo","NW NORTH WEST"]
[null,"DC39 Dr Ruth Segomotsi Mompati","NW NORTH WEST"]
[null,"NW403 City Of Matlosana","NW NORTH WEST"]
[null,"NW404 Maquassi Hills","NW NORTH WEST"]
[null,"NW405 Tlokwe-Ventersdorp","NW NORTH WEST"]
[null,"DC40 Dr Kenneth Kaunda","NW NORTH WEST"]
[null,"CPT Cape Town","WC WESTERN CAPE"]
[null,"WC011 Matzikama","WC WESTERN CAPE"]
[null,"WC012 Cederberg","WC WESTERN CAPE"]
[null,"WC013 Bergrivier","WC WESTERN CAPE"]
[null,"WC014 Saldanha Bay","WC WESTERN CAPE"]
[null,"WC015 Swartland","WC WESTERN CAPE"]
[null,"DC1 West Coast","WC WESTERN CAPE"]
[null,"WC022 Witzenberg","WC WESTERN CAPE"]
[null,"WC023 Drakenstein","WC WESTERN CAPE"]
[null,"WC024 Stellenbosch","WC WESTERN CAPE"]
[null,"WC025 Breede Valley","WC WESTERN CAPE"]
[null,"WC026 Langeberg","WC WESTERN CAPE"]
[null,"DC2 Cape Winelands DM","WC WESTERN CAPE"]
[null,"WC031 Theewaterskloof","WC WESTERN CAPE"]
[null,"WC032 Overstrand","WC WESTERN CAPE"]
[null,"WC033 Cape Agulhas","WC WESTERN CAPE"]
[null,"WC034 Swellendam","WC WESTERN CAPE"]
[null,"DC3 Overberg","WC WESTERN CAPE"]
[null,"WC041 Kannaland","WC WESTERN CAPE"]
[null,"WC042 Hessequa","WC WESTERN CAPE"]
[null,"WC043 Mossel Bay","WC WESTERN CAPE"]
[null,"WC044 George","WC WESTERN CAPE"]
[null,"WC045 Oudtshoorn","WC WESTERN CAPE"]
[null,"WC047 Bitou","WC WESTERN CAPE"]
[null,"WC048 Knysna","WC WESTERN CAPE"]
[null,"DC4 Eden","WC WESTERN CAPE"]
[null,"WC051 Laingsburg","WC WESTERN CAPE"]
[null,"WC052 Prince Albert","WC WESTERN CAPE"]
[null,"WC053 Beaufort West","WC WESTERN CAPE"]
[null,"DC5 Central Karoo","WC WESTERN CAPE"]
[]
[]
[]
[]
[]
[]
[]
[]
[]
[]
[]
[]
[]
[]
[]
[]
[]
[]
[]
[]
[]
[null,{"$f":"COUNTA(B30:B307)","v":257}]

{"sheet":"Org structure","index":4,"n_rows":166,"n_cols":5,"rows_kept":166,"cut":false,"hidden":false,"merged":[]}
["Organisational Structure Votes",null,"Organisational Structure Sub-Votes",null,"Display Sub-Votes"]
["Vote 1 - EXECUTIVE AND COUNCIL","Vote 1","EXECUTIVE AND COUNCIL"]
["Vote 2 - FINANCE AND ADMINISTRATION",1.1000000000000001,"Mayor's Office",{"$f":"CONCATENATE(B3, \" - \", C3)","v":"1.1 - Mayor's Office"},"1.1 - Mayor's Office"]
["Vote 3 - COMMUNITY SERVICES",1.2,"Speaker's Office","1.2 - Speaker's Office","1.2 - Speaker's Office"]
["Vote 4 - WASTE MANAGEMENT",1.3,"Municipal Manager's Office","1.3 - Municipal Manager's Office","1.3 - Municipal Manager's Office"]
["Vote 5 - LOCAL ECONOMIC DEVELOPMENT",1.4,"Municipal Manager's Office","1.4 - Municipal Manager's Office","1.4 - IDP and PMS"]
["Vote 6 - ROADS TRANSPORT",1.5,"Internal Audit","1.5 - Internal Audit","1.5 - Internal Audit"]
["Vote 7 - WATER",1.6,"Special Programmes","1.6 - Special Programmes","1.6 - Special Programmes"]
["Vote 8 - ELECTRICITY",1.7,"[Name of sub-vote]","1.7 - [Name of sub-vote]"]
["Vote 9 - WASTE WATER",1.8,"[Name of sub-vote]","1.8 - [Name of sub-vote]"]
["Vote 10 - HOUSING",1.9,"[Name of sub-vote]","1.9 - [Name of sub-vote]"]
[{"$f":"B112&\" - \"&C112","v":"Vote 11 - [NAME OF VOTE 11]"},"1.10","[Name of sub-vote]","1.10 - [Name of sub-vote]"]
[{"$f":"B123&\" - \"&C123","v":"Vote 12 - [NAME OF VOTE 12]"},"Vote 2","FINANCE AND ADMINISTRATION"]
[{"$f":"B134&\" - \"&C134","v":"Vote 13 - [NAME OF VOTE 13]"},2.1,"Human Resource",{"$f":"CONCATENATE(B14, \" - \", C14)","v":"2.1 - Human Resource"},"2.1 - Human Resource"]
[{"$f":"B145&\" - \"&C145","v":"Vote 14 - [NAME OF VOTE 14]"},2.2000000000000002,"Records Management","2.2 - Records Management","2.2 - Records Management"]
[{"$f":"B156&\" - \"&C156","v":"Vote 15 - [NAME OF VOTE 15]"},2.2999999999999998,"Legal Services","2.3 - Legal Services","2.3 - Legal Services"]
[null,2.4,"Administration","2.4 - Administration","2.4 - Administration"]
[null,2.5,"Revenue Management","2.5 - Revenue Management","2.5 - Revenue Management"]
[null,2.6,"Supply Chain Management","2.6 - Supply Chain Management","2.6 - Supply Chain Management"]
[null,2.7,"CFO","2.7 - CFO","2.7 - CFO"]
[null,2.8,"Director Corporate Services","2.8 - Director Corporate Services","2.8 - Director Corporate Services"]
[null,2.9,"Budget and Treasury","2.9 - Budget and Treasury","2.9 - Budget and Treasury"]
[null,"2.10","Expenditure","2.10 - Expenditure","2.10 - Expenditure"]
[null,"Vote 3","COMMUNITY SERVICES"]
[null,3.1,"Cementry",{"$f":"CONCATENATE(B25, \" - \", C25)","v":"3.1 - Cementry"},"3.1 - Cementry"]
[null,3.2,"Parks","3.2 - Parks","3.2 - Parks"]
[null,3.3,"Director Community Services","3.3 - Director Community Services","3.3 - Director Community Services"]
[null,3.4,"Traffic Services","3.4 - Traffic Services","3.4 - Traffic Services"]
[null,3.5,"Fire Services","3.5 - Fire Services","3.5 - Fire Services"]
[null,3.6,"Sports and Recreation","3.6 - Sports and Recreation","3.6 - Sports and Recreation"]
[null,"3.7","Libraries","3.7 - Libraries","3.7 - Libraries"]
[null,3.8,"[Name of sub-vote]","3.8 - [Name of sub-vote]"]
[null,3.9,"[Name of sub-vote]","3.9 - [Name of sub-vote]"]
[null,"3.10","[Name of sub-vote]","3.10 - [Name of sub-vote]"]
[null,"Vote 4","WASTE MANAGEMENT"]
[null,4.0999999999999996,"Waste Collection",{"$f":"CONCATENATE(B36, \" - \", C36)","v":"4.1 - Waste Collection"},"4.1 - Waste Collection"]
[null,4.2,"Solid Waste Disposal","4.2 - Solid Waste Disposal","4.2 - Solid Waste Disposal"]
[null,4.3,"Solid Waste Management","4.3 - Solid Waste Management","4.3 - Solid Waste Management"]
[null,4.4000000000000004,"[Name of sub-vote]","4.4 - [Name of sub-vote]"]
[null,4.5,"[Name of sub-vote]","4.5 - [Name of sub-vote]"]
[null,4.5999999999999996,"[Name of sub-vote]","4.6 - [Name of sub-vote]"]
[null,4.7,"[Name of sub-vote]","4.7 - [Name of sub-vote]"]
[null,4.8,"[Name of sub-vote]","4.8 - [Name of sub-vote]"]
[null,4.9000000000000004,"[Name of sub-vote]","4.9 - [Name of sub-vote]"]
[null,"4.10","[Name of sub-vote]","4.10 - [Name of sub-vote]"]
[null,"Vote 5","LOCAL ECONOMIC DEVELOPMENT"]
[null,5.0999999999999996,"SMME Hub",{"$f":"CONCATENATE(B47, \" - \", C47)","v":"5.1 - SMME Hub"},"5.1 - SMME Hub"]
[null,5.2,"Tourism","5.2 - Tourism","5.2 - Tourism"]
[null,5.3,"Economic Development","5.3 - Economic Development","5.3 - Economic Development"]
[null,5.4,"[Name of sub-vote]","5.4 - [Name of sub-vote]"]
[null,5.5,"[Name of sub-vote]","5.5 - [Name of sub-vote]"]
[null,5.6,"[Name of sub-vote]","5.6 - [Name of sub-vote]"]
[null,5.7,"[Name of sub-vote]","5.7 - [Name of sub-vote]"]
[null,5.8,"[Name of sub-vote]","5.8 - [Name of sub-vote]"]
[null,5.9,"[Name of sub-vote]","5.9 - [Name of sub-vote]"]
[null,"5.10","[Name of sub-vote]","5.10 - [Name of sub-vote]"]
[null,"Vote 6","ROADS TRANSPORT"]
[null,6.1,"Roads",{"$f":"CONCATENATE(B58, \" - \", C58)","v":"6.1 - Roads"},"6.1 - Roads"]
[null,6.2,"Storm Water","6.2 - Storm Water","6.2 - Storm Water"]
[null,6.3,"Director Technical","6.3 - Director Technical","6.3 - Director Technical"]
[null,6.4,"[Name of sub-vote]","6.4 - [Name of sub-vote]"]
[null,6.5,"[Name of sub-vote]","6.5 - [Name of sub-vote]"]
[null,6.6,"[Name of sub-vote]","6.6 - [Name of sub-vote]"]
[null,6.7,"[Name of sub-vote]","6.7 - [Name of sub-vote]"]
[null,6.8,"[Name of sub-vote]","6.8 - [Name of sub-vote]"]
[null,6.9,"[Name of sub-vote]","6.9 - [Name of sub-vote]"]
[null,"6.10","[Name of sub-vote]","6.10 - [Name of sub-vote]"]
[null,"Vote 7","WATER"]
[null,7.1,"WTW Reitz",{"$f":"CONCATENATE(B69, \" - \", C69)","v":"7.1 - WTW Reitz"},"7.1 - WTW Reitz"]
[null,7.2,"WTW Mamafubedu","7.2 - WTW Mamafubedu","7.2 - WTW Mamafubedu"]
[null,7.3,"WTW Lindley","7.3 - WTW Lindley","7.3 - WTW Lindley"]
[null,7.4,"WTW Arlington","7.4 - WTW Arlington","7.4 - WTW Arlington"]
[null,7.5,"Water Network Reitz","7.5 - Water Network Reitz","7.5 - Water Network Reitz"]
[null,7.6,"Water Network Mamafubedu","7.6 - Water Network Mamafubedu","7.6 - Water Network Mamafubedu"]
[null,7.7,"Water Network Lindley","7.7 - Water Network Lindley","7.7 - Water Network Lindley"]
[null,7.8,"Water Network Arlington","7.8 - Water Network Arlington","7.8 - Water Network Arlington"]
[null,7.9,"General Water Works","7.9 - General Water Works","7.9 - General Water Works"]
[null,"7.10","[Name of sub-vote]","7.10 - [Name of sub-vote]"]
[null,"Vote 8","ELECTRICITY"]
[null,8.1,"Reitz Electricity",{"$f":"CONCATENATE(B80, \" - \", C80)","v":"8.1 - Reitz Electricity"},"8.1 - Reitz Electricity"]
[null,8.1999999999999993,"Mamafubedu Electricity","8.2 - Mamafubedu Electricity","8.2 - Mamafubedu Electricity"]
[null,8.3000000000000007,"Lindley Electricity","8.3 - Lindley Electricity","8.3 - Lindley Electricity"]
[null,8.4,"General Electricity Works","8.4 - General Electricity Works","8.4 - General Electricity Works"]
[null,8.5,"[Name of sub-vote]","8.5 - [Name of sub-vote]"]
[null,8.6,"[Name of sub-vote]","8.6 - [Name of sub-vote]"]
[null,8.6999999999999993,"[Name of sub-vote]","8.7 - [Name of sub-vote]"]
[null,8.8000000000000007,"[Name of sub-vote]","8.8 - [Name of sub-vote]"]
[null,8.9,"[Name of sub-vote]","8.9 - [Name of sub-vote]"]
[null,"8.10","[Name of sub-vote]","8.10 - [Name of sub-vote]"]
[null,"Vote 9","WASTE WATER"]
[null,9.1,"WWTW Reitz",{"$f":"CONCATENATE(B91, \" - \", C91)","v":"9.1 - WWTW Reitz"},"9.1 - WWTW Reitz"]
[null,9.1999999999999993,"Network Reitz","9.2 - Network Reitz","9.2 - Network Reitz"]
[null,9.3000000000000007,"Network Mamafubedu","9.3 - Network Mamafubedu","9.3 - Network Mamafubedu"]
[null,9.4,"WWTW Mamafubedu","9.4 - WWTW Mamafubedu","9.4 - WWTW Mamafubedu"]
[null,9.5,"WWTW Lindley","9.5 - WWTW Lindley","9.5 - WWTW Lindley"]
[null,9.6,"Network Lindley","9.6 - Network Lindley","9.6 - Network Lindley"]
[null,9.6999999999999993,"WWTW Arlington","9.7 - WWTW Arlington","9.7 - WWTW Arlington"]
[null,9.8000000000000007,"Network Arlington","9.8 - Network Arlington","9.8 - Network Arlington"]
[null,9.9,"[Name of sub-vote]","9.9 - [Name of sub-vote]"]
[null,"9.10","[Name of sub-vote]","9.10 - [Name of sub-vote]"]
[null,"Vote 10","HOUSING"]
[null,10.1,"Urban Planning",{"$f":"CONCATENATE(B102, \" - \", C102)","v":"10.1 - Urban Planning"},"10.1 - Urban Planning"]
[null,10.199999999999999,"Housing","10.2 - Housing","10.2 - Housing"]
[null,10.3,"[Name of sub-vote]","10.3 - [Name of sub-vote]"]
[null,10.4,"[Name of sub-vote]","10.4 - [Name of sub-vote]"]
[null,10.5,"[Name of sub-vote]","10.5 - [Name of sub-vote]"]
[null,10.6,"[Name of sub-vote]","10.6 - [Name of sub-vote]"]
[null,10.7,"[Name of sub-vote]","10.7 - [Name of sub-vote]"]
[null,10.8,"[Name of sub-vote]","10.8 - [Name of sub-vote]"]
[null,10.9,"[Name of sub-vote]","10.9 - [Name of sub-vote]"]
[null,"10.10","[Name of sub-vote]","10.10 - [Name of sub-vote]"]
[null,"Vote 11","[NAME OF VOTE 11]"]
[null,11.1,"[Name of sub-vote]",{"$f":"CONCATENATE(B113, \" - \", C113)","v":"11.1 - [Name of sub-vote]"},"11.1 - [Name of sub-vote]"]
[null,11.2,"[Name of sub-vote]","11.2 - [Name of sub-vote]"]
[null,11.3,"[Name of sub-vote]","11.3 - [Name of sub-vote]"]
[null,11.4,"[Name of sub-vote]","11.4 - [Name of sub-vote]"]
[null,11.5,"[Name of sub-vote]","11.5 - [Name of sub-vote]"]
[null,11.6,"[Name of sub-vote]","11.6 - [Name of sub-vote]"]
[null,11.7,"[Name of sub-vote]","11.7 - [Name of sub-vote]"]
[null,11.8,"[Name of sub-vote]","11.8 - [Name of sub-vote]"]
[null,11.9,"[Name of sub-vote]","11.9 - [Name of sub-vote]"]
[null,"11.10","[Name of sub-vote]","11.10 - [Name of sub-vote]"]
[null,"Vote 12","[NAME OF VOTE 12]"]
[null,12.1,"[Name of sub-vote]",{"$f":"CONCATENATE(B124, \" - \", C124)","v":"12.1 - [Name of sub-vote]"},"12.1 - [Name of sub-vote]"]
[null,12.2,"[Name of sub-vote]","12.2 - [Name of sub-vote]"]
[null,12.3,"[Name of sub-vote]","12.3 - [Name of sub-vote]"]
[null,12.4,"[Name of sub-vote]","12.4 - [Name of sub-vote]"]
[null,12.5,"[Name of sub-vote]","12.5 - [Name of sub-vote]"]
[null,12.6,"[Name of sub-vote]","12.6 - [Name of sub-vote]"]
[null,12.7,"[Name of sub-vote]","12.7 - [Name of sub-vote]"]
[null,12.8,"[Name of sub-vote]","12.8 - [Name of sub-vote]"]
[null,12.9,"[Name of sub-vote]","12.9 - [Name of sub-vote]"]
[null,"12.10","[Name of sub-vote]","12.10 - [Name of sub-vote]"]
[null,"Vote 13","[NAME OF VOTE 13]"]
[null,13.1,"[Name of sub-vote]",{"$f":"CONCATENATE(B135, \" - \", C135)","v":"13.1 - [Name of sub-vote]"},"13.1 - [Name of sub-vote]"]
[null,13.2,"[Name of sub-vote]","13.2 - [Name of sub-vote]"]
[null,13.3,"[Name of sub-vote]","13.3 - [Name of sub-vote]"]
[null,13.4,"[Name of sub-vote]","13.4 - [Name of sub-vote]"]
[null,13.5,"[Name of sub-vote]","13.5 - [Name of sub-vote]"]
[null,13.6,"[Name of sub-vote]","13.6 - [Name of sub-vote]"]
[null,13.7,"[Name of sub-vote]","13.7 - [Name of sub-vote]"]
[null,13.8,"[Name of sub-vote]","13.8 - [Name of sub-vote]"]
[null,13.9,"[Name of sub-vote]","13.9 - [Name of sub-vote]"]
[null,"13.10","[Name of sub-vote]","13.10 - [Name of sub-vote]"]
[null,"Vote 14","[NAME OF VOTE 14]"]
[null,14.1,"[Name of sub-vote]",{"$f":"CONCATENATE(B146, \" - \", C146)","v":"14.1 - [Name of sub-vote]"},"14.1 - [Name of sub-vote]"]
[null,14.2,"[Name of sub-vote]","14.2 - [Name of sub-vote]"]
[null,14.3,"[Name of sub-vote]","14.3 - [Name of sub-vote]"]
[null,14.4,"[Name of sub-vote]","14.4 - [Name of sub-vote]"]
[null,14.5,"[Name of sub-vote]","14.5 - [Name of sub-vote]"]
[null,14.6,"[Name of sub-vote]","14.6 - [Name of sub-vote]"]
[null,14.7,"[Name of sub-vote]","14.7 - [Name of sub-vote]"]
[null,14.8,"[Name of sub-vote]","14.8 - [Name of sub-vote]"]
[null,14.9,"[Name of sub-vote]","14.9 - [Name of sub-vote]"]
[null,"14.10","[Name of sub-vote]","14.10 - [Name of sub-vote]"]
[null,"Vote 15","[NAME OF VOTE 15]"]
[null,15.1,"[Name of sub-vote]",{"$f":"CONCATENATE(B157, \" - \", C157)","v":"15.1 - [Name of sub-vote]"},"15.1 - [Name of sub-vote]"]
[null,15.2,"[Name of sub-vote]","15.2 - [Name of sub-vote]"]
[null,15.3,"[Name of sub-vote]","15.3 - [Name of sub-vote]"]
[null,15.4,"[Name of sub-vote]","15.4 - [Name of sub-vote]"]
[null,15.5,"[Name of sub-vote]","15.5 - [Name of sub-vote]"]
[null,15.6,"[Name of sub-vote]","15.6 - [Name of sub-vote]"]
[null,15.7,"[Name of sub-vote]","15.7 - [Name of sub-vote]"]
[null,15.8,"[Name of sub-vote]","15.8 - [Name of sub-vote]"]
[null,15.9,"[Name of sub-vote]","15.9 - [Name of sub-vote]"]
[null,"15.10","[Name of sub-vote]","15.10 - [Name of sub-vote]"]

{"sheet":"Contacts","index":5,"n_rows":140,"n_cols":4,"rows_kept":140,"cut":false,"hidden":false,"merged":[[7,2,7,3],[13,0,13,1],[29,0,29,1],[10,2,10,3],[12,2,12,3],[84,2,84,3],[30,2,30,3],[29,2,29,3],[48,0,48,1],[100,2,100,3],[39,2,39,3],[48,2,48,3],[57,2,57,3],[92,0,92,1],[39,0,39,1],[132,0,132,1],[132,2,132,3],[76,0,76,1],[57,0,57,1],[76,2,76,3],[92,2,92,3],[67,2,67,3],[124,0,124,1],[124,2,124,3],[116,0,116,1],[116,2,116,3],[108,0,108,1],[108,2,108,3],[100,0,100,1],[58,2,58,3],[84,0,84,1]]}
[{"$f":"muni&\" - \"&\" Contact Information\"","v":"FS193 Nketoana -  Contact Information"}]
[]
["A. GENERAL INFORMATION"]
["Municipality",{"$f":"muni","v":"FS193 Nketoana"},{"$f":"IF(B4=\"Choose name from List\",\"Set name on 'Instructions' sheet\", \"\")","v":""}]
[]
["Grade","Grade 3","1 Grade in terms of the Remuneration of Public Office Bearers Act."]
[]
["Province",{"$f":"IF(B4>\" \",VLOOKUP(B4,'Lookup and lists'!B29:C307,2, FALSE),\" \")","v":"FS FREE STATE"}]
[]
["Web Address","www.nketoanafs.gov.za"]
[]
["e-mail Address","www@info.co.za"]
[]
["B. CONTACT INFORMATION"]
["Postal address:"]
["P.O. Box",26]
["City / Town","Reitz"]
["Postal Code",9810]
[]
["Street address"]
["Building","Municipal Building"]
["Street No. & Name","Corner Church and Voortrekker Street"]
["City / Town","Reitz"]
["Postal Code",9810]
[]
["General Contacts"]
["Telephone number","058 863 2811"]
["Fax number","058 863 2523"]
[]
["C. POLITICAL LEADERSHIP"]
["Speaker:",null,"Secretary/PA to the Speaker:"]
["ID Number","751206 5634 088","ID Number","870507 6283 080"]
["Title","Mr","Title","Mr"]
["Name","Kgaketla Abram Mokoena","Name","Sekwatle Motloung"]
["Telephone number","058 863 2811 Ext 239","Telephone number","058 863 2811 Ext 148"]
["Cell number","072 815 9227","Cell number","073 9790 765"]
["Fax number","058 863 2523","Fax number","058 863 2523"]
["E-mail address","kamokoena@webmail.co.za","E-mail address","msekwatle@yahoo.com"]
[]
["Mayor/Executive Mayor:",null,"Secretary/PA to the Mayor/Executive Mayor:"]
["ID Number","810629 0624 086","ID Number","851125 1178 081"]
["Title","Mrs","Title","Mrs"]
["Name","Maditswako Teresia Mokoena","Name","Dieketseng Thobeha"]
["Telephone number","058 863 2811","Telephone number","058 863 2811 Ext 238"]
["Cell number","078 259 7954","Cell number","078 707 7782"]
["Fax number","058 863 1129","Fax number","058 863 2523"]
["E-mail address","tswaku.nakedi@webmail.co.za","E-mail address","baby.dee3362@yahoo.com"]
[]
["Deputy Mayor/Executive Mayor:",null,"Secretary/PA to the Deputy Mayor/Executive Mayor:"]
["ID Number",null,"ID Number"]
["Title",null,"Title"]
["Name",null,"Name"]
["Telephone number",null,"Telephone number"]
["Cell number",null,"Cell number"]
["Fax number",null,"Fax number"]
["E-mail address",null,"E-mail address"]
[]
["D. MANAGEMENT LEADERSHIP"]
["Municipal Manager:",null,"Secretary/PA to the Municipal Manager:"]
["ID Number","670302 5360 087","ID Number","85052 70596 083"]
["Title","Mr","Title","Miss"]
["Name","Mzwandile Penwell Manzi","Name","Mamonaheng Mokoena"]
["Telephone number","058 863 2811 EXT 236","Telephone number","058 863 2811 EXT 246"]
["Cell number","072 333 9115","Cell number","082 307 2640"]
["Fax number","058 863 2523","Fax number","058 863 2523"]
["E-mail address","mmanzi@nketoanafs.co.za","E-mail address","mamnaheng.mokoena@nketoanafs.co.za"]
[]
["Chief Financial Officer",null,"Secretary/PA to the Chief Financial Officer"]
["ID Number","871028 5769 085","ID Number","810326 0555 085"]
["Title","Mr","Title","Miss"]
["Name","XOLANI MALINDI","Name","Thobile Ndaba"]
["Telephone number","058 863 2811","Telephone number","058 863 2811 EXT 283"]
["Cell number","078 287 7306","Cell number","079 033 7171"]
["Fax number","058 863 2523","Fax number","058 863 2523"]
["E-mail address","xolani.malindi@nketoana.co.za","E-mail address","thobile@nketoanafs.co.za"]
[]
["Official responsible for submitting financial information",null,"Official responsible for submitting financial information"]
["ID Number","871222 6247 080","ID Number","901101 0304 085"]
["Title","Mr","Title","Miss"]
["Name","Tumelo Moloi","Name","Bontle Mpotu"]
["Telephone number","058 863 2811 EXT 265","Telephone number","058 863 2811 EXT 249"]
["Cell number","073 219 8775","Cell number","073 065 9198"]
["Fax number","058 863 2523","Fax number","058 863 2523"]
["E-mail address","Tumelo.Moloi@nketoanafs.co.za","E-mail address","Bontle.Mpotu@nketoanafs.co.za"]
["Official responsible for submitting financial information",null,"Official responsible for submitting financial information"]
["ID Number","900305 0692 081","ID Number","560724 0112 083"]
["Title","Miss","Title","Mrs"]
["Name","Duduzile Mbele","Name","Stephani Venter"]
["Telephone number","058 863 2811 EXT 255","Telephone number","058 863 2811 ext 220"]
["Cell number","073 655 0497","Cell number","079 047 0473"]
["Fax number","058 863 2523","Fax number","086 402 9244"]
["E-mail address","duduzile@nketoanafs.co.za","E-mail address","stephani.venter@nketoanafs.co.za"]
["Official responsible for submitting financial information",null,"Official responsible for submitting financial information"]
["ID Number",null,"ID Number"]
["Title",null,"Title"]
["Name",null,"Name"]
["Telephone number",null,"Telephone number"]
["Cell number",null,"Cell number"]
["Fax number",null,"Fax number"]
["E-mail address",null,"E-mail address"]
["Official responsible for submitting financial information",null,"Official responsible for submitting financial information"]
["ID Number",null,"ID Number"]
["Title",null,"Title"]
["Name",null,"Name"]
["Telephone number",null,"Telephone number"]
["Cell number",null,"Cell number"]
["Fax number",null,"Fax number"]
["E-mail address",null,"E-mail address"]
["Official responsible for submitting financial information",null,"Official responsible for submitting financial information"]
["ID Number",null,"ID Number"]
["Title",null,"Title"]
["Name",null,"Name"]
["Telephone number",null,"Telephone number"]
["Cell number",null,"Cell number"]
["Fax number",null,"Fax number"]
["E-mail address",null,"E-mail address"]
["Official responsible for submitting financial information",null,"Official responsible for submitting financial information"]
["ID Number",null,"ID Number"]
["Title",null,"Title"]
["Name",null,"Name"]
["Telephone number",null,"Telephone number"]
["Cell number",null,"Cell number"]
["Fax number",null,"Fax number"]
["E-mail address",null,"E-mail address"]
["Official responsible for submitting financial information",null,"Official responsible for submitting financial information"]
["ID Number",null,"ID Number"]
["Title",null,"Title"]
["Name",null,"Name"]
["Telephone number",null,"Telephone number"]
["Cell number",null,"Cell number"]
["Fax number",null,"Fax number"]
["E-mail address",null,"E-mail address"]
["Official responsible for submitting financial information"]
["ID Number"]
["Title"]
["Name"]
["Telephone number"]
["Cell number"]
["Fax number"]
["E-mail address"]

{"sheet":"A1-Sum","index":6,"n_rows":65,"n_cols":11,"rows_kept":65,"cut":false,"hidden":false,"merged":[[1,8,1,10],[1,4,1,7],[0,0,0,2]]}
[{"$f":"muni&\" - \"&Approve1","v":"FS193 Nketoana - Table A1 Budget Summary"}]
[{"$f":"desc","v":"Description"},{"$f":"head1b","v":"2014/15"},{"$f":"head1A","v":"2015/16"},{"$f":"Head1","v":"2016/17"},{"$f":"Head2","v":"Current Year 2017/18"},null,null,null,{"$f":"Head3","v":"2018/19 Medium Term Revenue & Expenditure Framework"}]
["R thousands",{"$f":"Head5","v":"Audited Outcome"},{"$f":"Head5","v":"Audited Outcome"},{"$f":"Head5","v":"Audited Outcome"},{"$f":"Head6","v":"Original Budget"},{"$f":"Head7","v":"Adjusted Budget"},{"$f":"Head8","v":"Full Year Forecast"},{"$f":"Head5b","v":"Pre-audit outcome"},{"$f":"Head9","v":"Budget Year 2018/19"},{"$f":"Head10","v":"Budget Year +1 2019/20"},{"$f":"Head11","v":"Budget Year +2 2020/21"}]
["Financial Performance"]
["Property rates",{"$f":"'A4-FinPerf RE'!C5","v":15835059},{"$f":"'A4-FinPerf RE'!D5","v":16612976},{"$f":"'A4-FinPerf RE'!E5","v":19537745.909999993},{"$f":"'A4-FinPerf RE'!F5","v":20340678.0886629},{"$f":"'A4-FinPerf RE'!G5","v":19875809.385805752},{"$f":"'A4-FinPerf RE'!H5","v":19875809.385805752},{"$f":"'A4-FinPerf RE'!I5","v":19875809.385805752},{"$f":"'A4-FinPerf RE'!J5","v":21272654.854526442},{"$f":"'A4-FinPerf RE'!K5","v":22549014.145798028},{"$f":"'A4-FinPerf RE'!L5","v":23901954.994545911}]
["Service charges",{"$f":"SUM('A4-FinPerf RE'!C6:C10)","v":111255685},{"$f":"SUM('A4-FinPerf RE'!D6:D10)","v":128350839},{"$f":"SUM('A4-FinPerf RE'!E6:E10)","v":136770287.30000001},{"$f":"SUM('A4-FinPerf RE'!F6:F10)","v":142569046.69946751},{"$f":"SUM('A4-FinPerf RE'!G6:G10)","v":144465472.92610279},{"$f":"SUM('A4-FinPerf RE'!H6:H10)","v":144465472.92610279},{"$f":"SUM('A4-FinPerf RE'!I6:I10)","v":144465472.92610279},{"$f":"SUM('A4-FinPerf RE'!J6:J10)","v":155103974.05645716},{"$f":"SUM('A4-FinPerf RE'!K6:K10)","v":164410212.49984461},{"$f":"SUM('A4-FinPerf RE'!L6:L10)","v":174274825.24983528}]
["Investment revenue",{"$f":"'A4-FinPerf RE'!C12","v":583166},{"$f":"'A4-FinPerf RE'!D12","v":1101572},{"$f":"'A4-FinPerf RE'!E12","v":1202536.78},{"$f":"'A4-FinPerf RE'!F12","v":1303833.3567428601},{"$f":"'A4-FinPerf RE'!G12","v":1303833.3567428601},{"$f":"'A4-FinPerf RE'!H12","v":1303833.3567428601},{"$f":"'A4-FinPerf RE'!I12","v":1303833.3567428601},{"$f":"'A4-FinPerf RE'!J12","v":1395101.69171486},{"$f":"'A4-FinPerf RE'!K12","v":1478807.7932177517},{"$f":"'A4-FinPerf RE'!L12","v":1567536.2608108169}]
["Transfers recognised - operational",{"$f":"'A4-FinPerf RE'!C18","v":82878721},{"$f":"'A4-FinPerf RE'!D18","v":85568721},{"$f":"'A4-FinPerf RE'!E18","v":81702000},{"$f":"'A4-FinPerf RE'!F18","v":82580000.0044},{"$f":"'A4-FinPerf RE'!G18","v":82580000.0044},{"$f":"'A4-FinPerf RE'!H18","v":82580000.0044},{"$f":"'A4-FinPerf RE'!I18","v":82580000.0044},{"$f":"'A4-FinPerf RE'!J18","v":90366999.997428596},{"$f":"'A4-FinPerf RE'!K18","v":95789019.997274309},{"$f":"'A4-FinPerf RE'!L18","v":101536361.19711077}]
["Other own revenue",{"$f":"'A4-FinPerf RE'!C11+'A4-FinPerf RE'!C13+'A4-FinPerf RE'!C14+'A4-FinPerf RE'!C15+'A4-FinPerf RE'!C16+'A4-FinPerf RE'!C17+'A4-FinPerf RE'!C19+'A4-FinPerf RE'!C20","v":26136950},{"$f":"'A4-FinPerf RE'!D11+'A4-FinPerf RE'!D13+'A4-FinPerf RE'!D14+'A4-FinPerf RE'!D15+'A4-FinPerf RE'!D16+'A4-FinPerf RE'!D17+'A4-FinPerf RE'!D19+'A4-FinPerf RE'!D20","v":35358561},{"$f":"'A4-FinPerf RE'!E11+'A4-FinPerf RE'!E13+'A4-FinPerf RE'!E14+'A4-FinPerf RE'!E15+'A4-FinPerf RE'!E16+'A4-FinPerf RE'!E17+'A4-FinPerf RE'!E19+'A4-FinPerf RE'!E20","v":53875132.523542896},{"$f":"'A4-FinPerf RE'!F11+'A4-FinPerf RE'!F13+'A4-FinPerf RE'!F14+'A4-FinPerf RE'!F15+'A4-FinPerf RE'!F16+'A4-FinPerf RE'!F17+'A4-FinPerf RE'!F19+'A4-FinPerf RE'!F20","v":56918116.57084085},{"$f":"'A4-FinPerf RE'!G11+'A4-FinPerf RE'!G13+'A4-FinPerf RE'!G14+'A4-FinPerf RE'!G15+'A4-FinPerf RE'!G16+'A4-FinPerf RE'!G17+'A4-FinPerf RE'!G19+'A4-FinPerf RE'!G20","v":60450322.317609131},{"$f":"'A4-FinPerf RE'!H11+'A4-FinPerf RE'!H13+'A4-FinPerf RE'!H14+'A4-FinPerf RE'!H15+'A4-FinPerf RE'!H16+'A4-FinPerf RE'!H17+'A4-FinPerf RE'!H19+'A4-FinPerf RE'!H20","v":60450322.317609131},{"$f":"'A4-FinPerf RE'!I11+'A4-FinPerf RE'!I13+'A4-FinPerf RE'!I14+'A4-FinPerf RE'!I15+'A4-FinPerf RE'!I16+'A4-FinPerf RE'!I17+'A4-FinPerf RE'!I19+'A4-FinPerf RE'!I20","v":60450322.317609131},{"$f":"'A4-FinPerf RE'!J11+'A4-FinPerf RE'!J13+'A4-FinPerf RE'!J14+'A4-FinPerf RE'!J15+'A4-FinPerf RE'!J16+'A4-FinPerf RE'!J17+'A4-FinPerf RE'!J19+'A4-FinPerf RE'!J20","v":63957150.41015169},{"$f":"'A4-FinPerf RE'!K11+'A4-FinPerf RE'!K13+'A4-FinPerf RE'!K14+'A4-FinPerf RE'!K15+'A4-FinPerf RE'!K16+'A4-FinPerf RE'!K17+'A4-FinPerf RE'!K19+'A4-FinPerf RE'!K20","v":67794579.434760794},{"$f":"'A4-FinPerf RE'!L11+'A4-FinPerf RE'!L13+'A4-FinPerf RE'!L14+'A4-FinPerf RE'!L15+'A4-FinPerf RE'!L16+'A4-FinPerf RE'!L17+'A4-FinPerf RE'!L19+'A4-FinPerf RE'!L20","v":71862254.200846449}]
[{"$f":"'A4-FinPerf RE'!A21","v":"Total Revenue (excluding capital transfers and contributions)"},{"$f":"SUM(B5:B9)","v":236689581},266992669,293087702.51354289,303711674.72011411,308675437.99066055,308675437.99066055,308675437.99066055,332095881.0102787,352021633.8708955,373142931.90314925]
["Employee costs",{"$f":"'A4-FinPerf RE'!C24","v":74798709},{"$f":"'A4-FinPerf RE'!D24","v":80810390},{"$f":"'A4-FinPerf RE'!E24","v":86156238.959999993},{"$f":"'A4-FinPerf RE'!F24","v":93590545.786523402},{"$f":"'A4-FinPerf RE'!G24","v":97962608.540980563},{"$f":"'A4-FinPerf RE'!H24","v":97962608.540980563},{"$f":"'A4-FinPerf RE'!I24","v":97962608.540980563},{"$f":"'A4-FinPerf RE'!J24","v":105019841.40257849},{"$f":"'A4-FinPerf RE'!K24","v":110270833.47270742},{"$f":"'A4-FinPerf RE'!L24","v":114681666.81161571}]
["Remuneration of councillors",{"$f":"'A4-FinPerf RE'!C25","v":6676993},{"$f":"'A4-FinPerf RE'!D25","v":6891541},{"$f":"'A4-FinPerf RE'!E25","v":8749575.6799999978},{"$f":"'A4-FinPerf RE'!F25","v":9083084.9921554271},{"$f":"'A4-FinPerf RE'!G25","v":9501709.2168411426},{"$f":"'A4-FinPerf RE'!H25","v":9501709.2168411426},{"$f":"'A4-FinPerf RE'!I25","v":9501709.2168411426},{"$f":"'A4-FinPerf RE'!J25","v":10166194.691837352},{"$f":"'A4-FinPerf RE'!K25","v":10674504.42642922},{"$f":"'A4-FinPerf RE'!L25","v":11101484.603486389}]
["Depreciation & asset impairment",{"$f":"'A4-FinPerf RE'!C27","v":57015081},{"$f":"'A4-FinPerf RE'!D27","v":58502541},{"$f":"'A4-FinPerf RE'!E27","v":58502541},{"$f":"'A4-FinPerf RE'!F27","v":59672591.820000008},{"$f":"'A4-FinPerf RE'!G27","v":58872591.820000008},{"$f":"'A4-FinPerf RE'!H27","v":58872591.820000008},{"$f":"'A4-FinPerf RE'!I27","v":58872591.820000008},{"$f":"'A4-FinPerf RE'!J27","v":58872591.820000008},{"$f":"'A4-FinPerf RE'!K27","v":61816221.411000013},{"$f":"'A4-FinPerf RE'!L27","v":64288870.267440014}]
["Finance charges",{"$f":"'A4-FinPerf RE'!C28","v":8338647},{"$f":"'A4-FinPerf RE'!D28","v":10202243},{"$f":"'A4-FinPerf RE'!E28","v":17575034.34},{"$f":"'A4-FinPerf RE'!F28","v":17835802.793925434},{"$f":"'A4-FinPerf RE'!G28","v":17835802.793925434},{"$f":"'A4-FinPerf RE'!H28","v":17835802.793925434},{"$f":"'A4-FinPerf RE'!I28","v":17835802.793925434},{"$f":"'A4-FinPerf RE'!J28","v":17845133.115040358},{"$f":"'A4-FinPerf RE'!K28","v":18737389.770792376},{"$f":"'A4-FinPerf RE'!L28","v":19486885.361624073}]
["Materials and bulk purchases",{"$f":"'A4-FinPerf RE'!C29+'A4-FinPerf RE'!C30","v":54339271},{"$f":"'A4-FinPerf RE'!D29+'A4-FinPerf RE'!D30","v":62245242},{"$f":"'A4-FinPerf RE'!E29+'A4-FinPerf RE'!E30","v":64947102.431428567},{"$f":"'A4-FinPerf RE'!F29+'A4-FinPerf RE'!F30","v":60643387.467767999},{"$f":"'A4-FinPerf RE'!G29+'A4-FinPerf RE'!G30","v":59210272.907767996},{"$f":"'A4-FinPerf RE'!H29+'A4-FinPerf RE'!H30","v":59210272.907767996},{"$f":"'A4-FinPerf RE'!I29+'A4-FinPerf RE'!I30","v":59210272.907767996},{"$f":"'A4-FinPerf RE'!J29+'A4-FinPerf RE'!J30","v":62871421.334211878},{"$f":"'A4-FinPerf RE'!K29+'A4-FinPerf RE'!K30","v":66014992.400922477},{"$f":"'A4-FinPerf RE'!L29+'A4-FinPerf RE'!L30","v":68655592.096959382}]
["Transfers and grants",{"$f":"'A4-FinPerf RE'!C32","v":0},{"$f":"'A4-FinPerf RE'!D32","v":0},{"$f":"'A4-FinPerf RE'!E32","v":0},{"$f":"'A4-FinPerf RE'!F32","v":0},{"$f":"'A4-FinPerf RE'!G32","v":0},{"$f":"'A4-FinPerf RE'!H32","v":0},{"$f":"'A4-FinPerf RE'!I32","v":0},{"$f":"'A4-FinPerf RE'!J32","v":0},{"$f":"'A4-FinPerf RE'!K32","v":0},{"$f":"'A4-FinPerf RE'!L32","v":0}]
["Other expenditure",{"$f":"'A4-FinPerf RE'!C26+'A4-FinPerf RE'!C31+'A4-FinPerf RE'!C33+'A4-FinPerf RE'!C34","v":161742226},{"$f":"'A4-FinPerf RE'!D26+'A4-FinPerf RE'!D31+'A4-FinPerf RE'!D33+'A4-FinPerf RE'!D34","v":149505151},{"$f":"'A4-FinPerf RE'!E26+'A4-FinPerf RE'!E31+'A4-FinPerf RE'!E33+'A4-FinPerf RE'!E34","v":100193446.67285714},{"$f":"'A4-FinPerf RE'!F26+'A4-FinPerf RE'!F31+'A4-FinPerf RE'!F33+'A4-FinPerf RE'!F34","v":96093075.614657283},{"$f":"'A4-FinPerf RE'!G26+'A4-FinPerf RE'!G31+'A4-FinPerf RE'!G33+'A4-FinPerf RE'!G34","v":102824584.86853062},{"$f":"'A4-FinPerf RE'!H26+'A4-FinPerf RE'!H31+'A4-FinPerf RE'!H33+'A4-FinPerf RE'!H34","v":102824584.86853062},{"$f":"'A4-FinPerf RE'!I26+'A4-FinPerf RE'!I31+'A4-FinPerf RE'!I33+'A4-FinPerf RE'!I34","v":102824584.86853062},{"$f":"'A4-FinPerf RE'!J26+'A4-FinPerf RE'!J31+'A4-FinPerf RE'!J33+'A4-FinPerf RE'!J34","v":102215068.78537142},{"$f":"'A4-FinPerf RE'!K26+'A4-FinPerf RE'!K31+'A4-FinPerf RE'!K33+'A4-FinPerf RE'!K34","v":107325822.22464001},{"$f":"'A4-FinPerf RE'!L26+'A4-FinPerf RE'!L31+'A4-FinPerf RE'!L33+'A4-FinPerf RE'!L34","v":111618855.11362562}]
[{"$f":"'A4-FinPerf RE'!A35","v":"Total Expenditure"},{"$f":"SUM(B11:B17)","v":362910927},{"$f":"SUM(C11:C17)","v":368157108},336123939.08428574,336918488.47502953,346207570.14804578,346207570.14804578,346207570.14804578,356990251.14903951,374839763.70649147,389833354.25475121]
[{"$f":"'A4-FinPerf RE'!A37","v":"Surplus/(Deficit)"},{"$f":"B10-B18","v":-126221346},-101164439,-43036236.570742846,-33206813.754915416,-37532132.15738523,-37532132.15738523,-37532132.15738523,-24894370.138760805,-22818129.835595965,-16690422.351601958]
[{"$f":"'A4-FinPerf RE'!A38","v":"Transfers and subsidies - capital (monetary allocations) (National / Provincial and District)"},{"$f":"'A4-FinPerf RE'!C38","v":62156934},{"$f":"'A4-FinPerf RE'!D38","v":59864687},{"$f":"'A4-FinPerf RE'!E38","v":64218000},{"$f":"'A4-FinPerf RE'!F38","v":98761000},{"$f":"'A4-FinPerf RE'!G38","v":98761000},{"$f":"'A4-FinPerf RE'!H38","v":98761000},{"$f":"'A4-FinPerf RE'!I38","v":98761000},{"$f":"'A4-FinPerf RE'!J38","v":64927000},{"$f":"'A4-FinPerf RE'!K38","v":68822620},{"$f":"'A4-FinPerf RE'!L38","v":72951977.200000003}]
["Contributions recognised - capital & contributed assets",{"$f":"'A4-FinPerf RE'!C39+'A4-FinPerf RE'!C40","v":0},{"$f":"'A4-FinPerf RE'!D39+'A4-FinPerf RE'!D40","v":0},{"$f":"'A4-FinPerf RE'!E39+'A4-FinPerf RE'!E40","v":0},{"$f":"'A4-FinPerf RE'!F39+'A4-FinPerf RE'!F40","v":0},{"$f":"'A4-FinPerf RE'!G39+'A4-FinPerf RE'!G40","v":0},{"$f":"'A4-FinPerf RE'!H39+'A4-FinPerf RE'!H40","v":0},{"$f":"'A4-FinPerf RE'!I39+'A4-FinPerf RE'!I40","v":0},{"$f":"'A4-FinPerf RE'!J39+'A4-FinPerf RE'!J40","v":0},{"$f":"'A4-FinPerf RE'!K39+'A4-FinPerf RE'!K40","v":0},{"$f":"'A4-FinPerf RE'!L39+'A4-FinPerf RE'!L40","v":0}]
[{"$f":"'A4-FinPerf RE'!A41","v":"Surplus/(Deficit) after capital transfers & contributions"},{"$f":"B19+SUM(B20:B21)","v":-64064412},{"$f":"C19+SUM(C20:C21)","v":-41299752},21181763.429257154,65554186.245084584,61228867.84261477,61228867.84261477,61228867.84261477,40032629.861239195,46004490.164404035,56261554.848398045]
[{"$f":"'A4-FinPerf RE'!A46","v":"Share of surplus/ (deficit) of associate"},{"$f":"'A4-FinPerf RE'!C46","v":0},{"$f":"'A4-FinPerf RE'!D46","v":0},{"$f":"'A4-FinPerf RE'!E46","v":0},{"$f":"'A4-FinPerf RE'!F46","v":0},{"$f":"'A4-FinPerf RE'!G46","v":0},{"$f":"'A4-FinPerf RE'!H46","v":0},{"$f":"'A4-FinPerf RE'!I46","v":0},{"$f":"'A4-FinPerf RE'!J46","v":0},{"$f":"'A4-FinPerf RE'!K46","v":0},{"$f":"'A4-FinPerf RE'!L46","v":0}]
[{"$f":"'A4-FinPerf RE'!A47","v":"Surplus/(Deficit) for the year"},{"$f":"B22+B23","v":-64064412},{"$f":"C22+C23","v":-41299752},21181763.429257154,65554186.245084584,61228867.84261477,61228867.84261477,61228867.84261477,40032629.861239195,46004490.164404035,56261554.848398045]
[]
["Capital expenditure & funds sources"]
["Capital expenditure",{"$f":"'A5-Capex'!C63","v":45597961},{"$f":"'A5-Capex'!D63","v":59576592},{"$f":"'A5-Capex'!E63","v":64218000},{"$f":"'A5-Capex'!F63","v":98761000},{"$f":"'A5-Capex'!G63","v":98761000.00999999},{"$f":"'A5-Capex'!H63","v":98761000.00999999},{"$f":"'A5-Capex'!I63","v":98761000.00999999},{"$f":"'A5-Capex'!J63","v":64927000},{"$f":"'A5-Capex'!K63","v":68822620},{"$f":"'A5-Capex'!L63","v":72951977.200000003}]
["Transfers recognised - capital",{"$f":"'A5-Capex'!C70","v":44175660},{"$f":"'A5-Capex'!D70","v":58035212},{"$f":"'A5-Capex'!E70","v":64218000},{"$f":"'A5-Capex'!F70","v":98761000},{"$f":"'A5-Capex'!G70","v":98761000.00999999},{"$f":"'A5-Capex'!H70","v":98761000.00999999},{"$f":"'A5-Capex'!I70","v":98761000.00999999},{"$f":"'A5-Capex'!J70","v":64927000},{"$f":"'A5-Capex'!K70","v":68822620},{"$f":"'A5-Capex'!L70","v":72951977.200000003}]
[{"$f":"'A5-Capex'!A71","v":"Public contributions & donations"},{"$f":"'A5-Capex'!C71","v":0},{"$f":"'A5-Capex'!D71","v":0},{"$f":"'A5-Capex'!E71","v":0},{"$f":"'A5-Capex'!F71","v":0},{"$f":"'A5-Capex'!G71","v":0},{"$f":"'A5-Capex'!H71","v":0},{"$f":"'A5-Capex'!I71","v":0},{"$f":"'A5-Capex'!J71","v":0},{"$f":"'A5-Capex'!K71","v":0},{"$f":"'A5-Capex'!L71","v":0}]
[{"$f":"'A5-Capex'!A72","v":"Borrowing"},{"$f":"'A5-Capex'!C72","v":0},{"$f":"'A5-Capex'!D72","v":0},{"$f":"'A5-Capex'!E72","v":0},{"$f":"'A5-Capex'!F72","v":0},{"$f":"'A5-Capex'!G72","v":0},{"$f":"'A5-Capex'!H72","v":0},{"$f":"'A5-Capex'!I72","v":0},{"$f":"'A5-Capex'!J72","v":0},{"$f":"'A5-Capex'!K72","v":0},{"$f":"'A5-Capex'!L72","v":0}]
[{"$f":"'A5-Capex'!A73","v":"Internally generated funds"},{"$f":"'A5-Capex'!C73","v":1422301},{"$f":"'A5-Capex'!D73","v":1541380},{"$f":"'A5-Capex'!E73","v":0},{"$f":"'A5-Capex'!F73","v":0},{"$f":"'A5-Capex'!G73","v":0},{"$f":"'A5-Capex'!H73","v":0},{"$f":"'A5-Capex'!I73","v":0},{"$f":"'A5-Capex'!J73","v":0},{"$f":"'A5-Capex'!K73","v":0},{"$f":"'A5-Capex'!L73","v":0}]
["Total sources of capital funds",{"$f":"SUM(B28:B31)","v":45597961},59576592,64218000,98761000,98761000.00999999,98761000.00999999,98761000.00999999,64927000,68822620,72951977.200000003]
[]
["Financial position"]
[{"$f":"'A6-FinPos'!A12","v":"Total current assets"},{"$f":"'A6-FinPos'!C12","v":23035348},{"$f":"'A6-FinPos'!D12","v":25304023},{"$f":"'A6-FinPos'!E12","v":362149435.03000003},{"$f":"'A6-FinPos'!F12","v":369814253.15080005},{"$f":"'A6-FinPos'!G12","v":369814253.15080005},{"$f":"'A6-FinPos'!H12","v":369814253.15080005},{"$f":"'A6-FinPos'!I12","v":369814253.15080005},{"$f":"'A6-FinPos'!J12","v":317261834.44999999},{"$f":"'A6-FinPos'!K12","v":336297544.51699996},{"$f":"'A6-FinPos'!L12","v":356475397.18801999}]
[{"$f":"'A6-FinPos'!A24","v":"Total non current assets"},{"$f":"'A6-FinPos'!C24","v":1025331110},{"$f":"'A6-FinPos'!D24","v":1026074097},{"$f":"'A6-FinPos'!E24","v":1021372742.7299999},{"$f":"'A6-FinPos'!F24","v":1047427369.7486},{"$f":"'A6-FinPos'!G24","v":1047427369.7486},{"$f":"'A6-FinPos'!H24","v":1047427369.7486},{"$f":"'A6-FinPos'!I24","v":1047427369.7486},{"$f":"'A6-FinPos'!J24","v":1008063861},{"$f":"'A6-FinPos'!K24","v":1068426582.6600001},{"$f":"'A6-FinPos'!L24","v":1132411067.6196001}]
[{"$f":"'A6-FinPos'!A34","v":"Total current liabilities"},{"$f":"'A6-FinPos'!C34","v":137876139},{"$f":"'A6-FinPos'!D34","v":181295443},{"$f":"'A6-FinPos'!E34","v":166484173.47999999},{"$f":"'A6-FinPos'!F34","v":173147449.74000001},{"$f":"'A6-FinPos'!G34","v":173147449.74000001},{"$f":"'A6-FinPos'!H34","v":173147449.74000001},{"$f":"'A6-FinPos'!I34","v":173147449.74000001},{"$f":"'A6-FinPos'!J34","v":218328350},{"$f":"'A6-FinPos'!K34","v":230296732.00000003},{"$f":"'A6-FinPos'!L34","v":243883216.92000005}]
[{"$f":"'A6-FinPos'!A39","v":"Total non current liabilities"},{"$f":"'A6-FinPos'!C39","v":26558659},{"$f":"'A6-FinPos'!D39","v":27415767},{"$f":"'A6-FinPos'!E39","v":309250281},{"$f":"'A6-FinPos'!F39","v":315435286.62},{"$f":"'A6-FinPos'!G39","v":315435286.62},{"$f":"'A6-FinPos'!H39","v":315435286.62},{"$f":"'A6-FinPos'!I39","v":315435286.62},{"$f":"'A6-FinPos'!J39","v":25563995},{"$f":"'A6-FinPos'!K39","v":26079648.560000002},{"$f":"'A6-FinPos'!L39","v":26266518.433600001}]
["Community wealth/Equity",{"$f":"'A6-FinPos'!C48","v":883931660},{"$f":"'A6-FinPos'!D48","v":842666910},{"$f":"'A6-FinPos'!E48","v":907787723.27999997},{"$f":"'A6-FinPos'!F48","v":928658886.53939998},{"$f":"'A6-FinPos'!G48","v":928658886.53939998},{"$f":"'A6-FinPos'!H48","v":928658886.53939998},{"$f":"'A6-FinPos'!I48","v":928658886.53939998},{"$f":"'A6-FinPos'!J48","v":1081433350.45},{"$f":"'A6-FinPos'!K48","v":1148347746.6170001},{"$f":"'A6-FinPos'!L48","v":1218736729.45402}]
[]
["Cash flows"]
["Net cash from (used) operating",{"$f":"'A7-CFlow'!C17","v":49195456},{"$f":"'A7-CFlow'!D17","v":60900965},{"$f":"'A7-CFlow'!E17","v":12867316},{"$f":"'A7-CFlow'!F17","v":102988103.44360676},{"$f":"'A7-CFlow'!G17","v":91247334.742997944},{"$f":"'A7-CFlow'!H17","v":91247334.742997944},{"$f":"'A7-CFlow'!I17","v":91247334.742997944},{"$f":"'A7-CFlow'!J17","v":82263928.679426193},{"$f":"'A7-CFlow'!K17","v":87199764.400191724},{"$f":"'A7-CFlow'!L17","v":92431750.264203191}]
["Net cash from (used) investing",{"$f":"'A7-CFlow'!C27","v":-45254812},{"$f":"'A7-CFlow'!D27","v":-59271489},{"$f":"'A7-CFlow'!E27","v":0},{"$f":"'A7-CFlow'!F27","v":-98761000},{"$f":"'A7-CFlow'!G27","v":-98761000},{"$f":"'A7-CFlow'!H27","v":-98761000},{"$f":"'A7-CFlow'!I27","v":-98761000},{"$f":"'A7-CFlow'!J27","v":-64927000},{"$f":"'A7-CFlow'!K27","v":-68822620},{"$f":"'A7-CFlow'!L27","v":-72951977.200000003}]
["Net cash from (used) financing",{"$f":"'A7-CFlow'!C36","v":-1348909},{"$f":"'A7-CFlow'!D36","v":-812885},{"$f":"'A7-CFlow'!E36","v":-8504369.284},{"$f":"'A7-CFlow'!F36","v":-341109.66000000003},{"$f":"'A7-CFlow'!G36","v":-3855109.66},{"$f":"'A7-CFlow'!H36","v":-3855109.66},{"$f":"'A7-CFlow'!I36","v":-3855109.66},{"$f":"'A7-CFlow'!J36","v":-2235000},{"$f":"'A7-CFlow'!K36","v":-2369100},{"$f":"'A7-CFlow'!L36","v":-2511246}]
[{"$f":"LEFT('A7-CFlow'!A40,37)","v":"Cash/cash equivalents at the year end"},{"$f":"'A7-CFlow'!C40","v":1710429},{"$f":"'A7-CFlow'!D40","v":2527021},{"$f":"'A7-CFlow'!E40","v":11632231.716},{"$f":"'A7-CFlow'!F40","v":6413014.7836067639},{"$f":"'A7-CFlow'!G40","v":1012576.0829979442},{"$f":"'A7-CFlow'!H40","v":1012576.0829979442},{"$f":"'A7-CFlow'!I40","v":1012576.0829979442},{"$f":"'A7-CFlow'!J40","v":12621688.679426193},{"$f":"'A7-CFlow'!K40","v":28629733.079617918},{"$f":"'A7-CFlow'!L40","v":45598260.143821105}]
[]
["Cash backing/surplus reconciliation"]
[{"$f":"'A8-ResRecon'!A4","v":"Cash and investments available"},{"$f":"'A8-ResRecon'!C8","v":2908446},{"$f":"'A8-ResRecon'!D8","v":3104182},{"$f":"'A8-ResRecon'!E8","v":21755989},{"$f":"'A8-ResRecon'!F8","v":16167241.27},{"$f":"'A8-ResRecon'!G8","v":16167241.27},{"$f":"'A8-ResRecon'!H8","v":16167241.27},{"$f":"'A8-ResRecon'!I8","v":16167241.27},{"$f":"'A8-ResRecon'!J8","v":16215532.27},{"$f":"'A8-ResRecon'!K8","v":17188464.2062},{"$f":"'A8-ResRecon'!L8","v":18219772.058571998}]
[{"$f":"'A8-ResRecon'!A10","v":"Application of cash and investments"},{"$f":"'A8-ResRecon'!C18","v":107057716},{"$f":"'A8-ResRecon'!D18","v":153913261},{"$f":"'A8-ResRecon'!E18","v":83978240.480000004},{"$f":"'A8-ResRecon'!F18","v":-48269261.919999987},{"$f":"'A8-ResRecon'!G18","v":-23028261.919999987},{"$f":"'A8-ResRecon'!H18","v":-23028261.919999987},{"$f":"'A8-ResRecon'!I18","v":-23028261.919999987},{"$f":"'A8-ResRecon'!J18","v":10888383},{"$f":"'A8-ResRecon'!K18","v":11618565.980000019},{"$f":"'A8-ResRecon'!L18","v":12392859.938800037}]
["Balance - surplus (shortfall)",{"$f":"B48-B49","v":-104149270},{"$f":"C48-C49","v":-150809079},-62222251.480000004,64436503.189999983,39195503.189999983,39195503.189999983,39195503.189999983,5327149.2699999996,5569898.2261999808,5826912.1197719611]
[]
["Asset management"]
["Asset register summary (WDV)",{"$f":"'A9-Asset'!C165","v":1022835849},{"$f":"'A9-Asset'!D165","v":1023525798},{"$f":"'A9-Asset'!E165","v":605196560},{"$f":"'A9-Asset'!F165","v":1040469396.5646},{"$f":"'A9-Asset'!G165","v":1040469396.5646},{"$f":"'A9-Asset'!H165","v":1040469396.5646},1040469396.5646,{"$f":"'A9-Asset'!I165","v":1061278784.4958919},{"$f":"'A9-Asset'!J165","v":1124955511.5656455},{"$f":"'A9-Asset'!K165","v":1192452842.2595844}]
[{"$f":"'A9-Asset'!A168","v":"Depreciation"},{"$f":"'A9-Asset'!C168","v":57015081},{"$f":"'A9-Asset'!D168","v":58502541},{"$f":"'A9-Asset'!E168","v":58502541},{"$f":"'A9-Asset'!F168","v":59672591.820000008},{"$f":"'A9-Asset'!G168","v":58872591.820000008},{"$f":"'A9-Asset'!H168","v":58872591.820000008},58872591.820000008,{"$f":"'A9-Asset'!I168","v":58872591.820000008},{"$f":"'A9-Asset'!J168","v":62404947.329200014},{"$f":"'A9-Asset'!K168","v":66149244.168952018}]
["Renewal of Existing Assets",{"$f":"'A9-Asset'!C37","v":0},{"$f":"'A9-Asset'!D37","v":0},{"$f":"'A9-Asset'!E37","v":7827409.29},{"$f":"'A9-Asset'!F37","v":46675138.240000002},{"$f":"'A9-Asset'!G37","v":53978923.239999987},{"$f":"'A9-Asset'!H37","v":53978923.239999987},53978923.239999987,{"$f":"'A9-Asset'!I37","v":40991448.380000003},{"$f":"'A9-Asset'!J37","v":43450935.282799996},{"$f":"'A9-Asset'!K37","v":46057991.399768002}]
["Repairs and Maintenance",{"$f":"'A9-Asset'!C169","v":15404523},{"$f":"'A9-Asset'!D169","v":18427321},{"$f":"'A9-Asset'!E169","v":9564144.5700000003},{"$f":"'A9-Asset'!F169","v":10187870},{"$f":"'A9-Asset'!G169","v":8754755.4385714289},{"$f":"'A9-Asset'!H169","v":8754755.4385714289},8754755.4385714289,{"$f":"'A9-Asset'!I169","v":9010000},{"$f":"'A9-Asset'!J169","v":9550600},{"$f":"'A9-Asset'!K169","v":10123636}]
[]
["Free services"]
["Cost of Free Basic Services provided",{"$f":"'A10-SerDel'!C60","v":26529439.68},{"$f":"'A10-SerDel'!D60","v":20102918.100000001},{"$f":"'A10-SerDel'!E60","v":43280135.359999999},{"$f":"'A10-SerDel'!F60","v":48219681.696706295},{"$f":"'A10-SerDel'!G60","v":51672441.76532571},{"$f":"'A10-SerDel'!H60","v":51672441.76532571},{"$f":"'A10-SerDel'!I60","v":54763594.663371429},{"$f":"'A10-SerDel'!I60","v":54763594.663371429},{"$f":"'A10-SerDel'!J60","v":58049410.343173712},{"$f":"'A10-SerDel'!K60","v":61532374.963764146}]
["Revenue cost of free services provided",{"$f":"'A10-SerDel'!C79","v":1452148},{"$f":"'A10-SerDel'!D79","v":1881561},{"$f":"'A10-SerDel'!E79","v":22358745.940000001},{"$f":"'A10-SerDel'!F79","v":23435024.159999996},{"$f":"'A10-SerDel'!G79","v":23899892.862857144},{"$f":"'A10-SerDel'!H79","v":23899892.862857144},{"$f":"'A10-SerDel'!I79","v":25559078.55154286},{"$f":"'A10-SerDel'!I79","v":25559078.55154286},{"$f":"'A10-SerDel'!J79","v":27092623.264635433},{"$f":"'A10-SerDel'!K79","v":28718180.660513557}]
["Households below minimum service level"]
[{"$f":"'A10-SerDel'!A5","v":"Water:"},{"$f":"'A10-SerDel'!C14","v":7873},{"$f":"'A10-SerDel'!D14","v":7873},{"$f":"'A10-SerDel'!E14","v":7005},{"$f":"'A10-SerDel'!F14","v":7145.1},{"$f":"'A10-SerDel'!G14","v":7145.1},{"$f":"'A10-SerDel'!H14","v":7145.1},{"$f":"'A10-SerDel'!I14","v":7573.8060000000005},{"$f":"'A10-SerDel'!I14","v":7573.8060000000005},{"$f":"'A10-SerDel'!J14","v":8028.2343600000013},{"$f":"'A10-SerDel'!K14","v":8509.9284216000015}]
[{"$f":"'A10-SerDel'!A16","v":"Sanitation/sewerage:"},{"$f":"'A10-SerDel'!C26","v":4191},{"$f":"'A10-SerDel'!D26","v":4191},{"$f":"'A10-SerDel'!E26","v":4191},{"$f":"'A10-SerDel'!F26","v":4274.82},{"$f":"'A10-SerDel'!G26","v":4274.82},{"$f":"'A10-SerDel'!H26","v":4274.82},{"$f":"'A10-SerDel'!I26","v":4531.3091999999997},{"$f":"'A10-SerDel'!I26","v":4531.3091999999997},{"$f":"'A10-SerDel'!J26","v":4803.1877519999998},{"$f":"'A10-SerDel'!K26","v":5091.3790171199998}]
[{"$f":"'A10-SerDel'!A28","v":"Energy:"},{"$f":"'A10-SerDel'!C35","v":13804},{"$f":"'A10-SerDel'!D35","v":13804},{"$f":"'A10-SerDel'!E35","v":12835},{"$f":"'A10-SerDel'!F35","v":13091.7},{"$f":"'A10-SerDel'!G35","v":13091.7},{"$f":"'A10-SerDel'!H35","v":13091.7},{"$f":"'A10-SerDel'!I35","v":13877.202000000001},{"$f":"'A10-SerDel'!I35","v":13877.202000000001},{"$f":"'A10-SerDel'!J35","v":14709.834120000001},{"$f":"'A10-SerDel'!K35","v":15592.424167200003}]
[{"$f":"'A10-SerDel'!A37","v":"Refuse:"},{"$f":"'A10-SerDel'!C45","v":4813},{"$f":"'A10-SerDel'!D45","v":4813},{"$f":"'A10-SerDel'!E45","v":4701},{"$f":"'A10-SerDel'!F45","v":4795.0200000000004},{"$f":"'A10-SerDel'!G45","v":4795.0200000000004},{"$f":"'A10-SerDel'!H45","v":4795.0200000000004},{"$f":"'A10-SerDel'!I45","v":5082.7212000000009},{"$f":"'A10-SerDel'!I45","v":5082.7212000000009},{"$f":"'A10-SerDel'!J45","v":5387.6844720000008},{"$f":"'A10-SerDel'!K45","v":5710.9455403200009}]

{"sheet":"A2-FinPerf SC","index":7,"n_rows":58,"n_cols":11,"rows_kept":58,"cut":false,"hidden":false,"merged":[[53,0,53,10],[1,5,1,7],[1,8,1,10]]}
[{"$f":"muni&\" - \"&Approve3","v":"FS193 Nketoana - Table A2 Budgeted Financial Performance (revenue and expenditure by functional classification)"}]
[{"$f":"\"Functional Classification \"&desc","v":"Functional Classification Description"},{"$f":"head27","v":"Ref"},{"$f":"head1b","v":"2014/15"},{"$f":"head1A","v":"2015/16"},{"$f":"Head1","v":"2016/17"},{"$f":"Head2","v":"Current Year 2017/18"},null,null,{"$f":"Head3","v":"2018/19 Medium Term Revenue & Expenditure Framework"}]
["R thousand",1,{"$f":"Head5","v":"Audited Outcome"},{"$f":"Head5","v":"Audited Outcome"},{"$f":"Head5","v":"Audited Outcome"},{"$f":"Head6","v":"Original Budget"},{"$f":"Head7","v":"Adjusted Budget"},{"$f":"Head8","v":"Full Year Forecast"},{"$f":"Head9","v":"Budget Year 2018/19"},{"$f":"Head10","v":"Budget Year +1 2019/20"},{"$f":"Head11","v":"Budget Year +2 2020/21"}]
["Revenue - Functional"]
["Governance and administration",null,{"$f":"SUM(C6:C8)","v":120053686},{"$f":"SUM(D6:D8)","v":132741099},94445503.457028583,87219210.306266308,88948028.846406847,88948028.846406847,92863957.629747823,98435795.087532699,104341942.79278468]
["Executive and council",null,{"$f":"A2A!C6","v":0},{"$f":"A2A!D6","v":0},{"$f":"A2A!E6","v":19521342.640000001},{"$f":"A2A!F6","v":8546342.6400000006},{"$f":"A2A!G6","v":8546342.6400000006},{"$f":"A2A!H6","v":8546342.6400000006},{"$f":"A2A!I6","v":8616342.9399999995},{"$f":"A2A!J6","v":9133323.5164000019},{"$f":"A2A!K6","v":9681322.9273840003}]
["Finance and administration",null,{"$f":"A2A!C9","v":120053686},{"$f":"A2A!D9","v":132741099},{"$f":"A2A!E9","v":74924160.817028582},{"$f":"A2A!F9","v":78672867.666266307},{"$f":"A2A!G9","v":80401686.206406847},{"$f":"A2A!H9","v":80401686.206406847},{"$f":"A2A!I9","v":84247614.689747825},{"$f":"A2A!J9","v":89302471.571132705},{"$f":"A2A!K9","v":94660619.865400672}]
["Internal audit",null,{"$f":"A2A!C24","v":0},{"$f":"A2A!D24","v":0},{"$f":"A2A!E24","v":0},{"$f":"A2A!F24","v":0},{"$f":"A2A!G24","v":0},{"$f":"A2A!H24","v":0},{"$f":"A2A!I24","v":0},{"$f":"A2A!J24","v":0},{"$f":"A2A!K24","v":0}]
["Community and public safety",null,{"$f":"SUM(C10:C14)","v":7114995},{"$f":"SUM(D10:D14)","v":4336413},36274860.520000003,15252626.002235431,17093757.332235433,17093757.332235433,12798569.551169548,13566483.724239722,14380472.747694109]
["Community and social services",null,{"$f":"A2A!C27","v":0},{"$f":"A2A!D27","v":0},{"$f":"A2A!E27","v":27768991.68},{"$f":"A2A!F27","v":9209765.7322354317},{"$f":"A2A!G27","v":9345312.4322354309},{"$f":"A2A!H27","v":9345312.4322354309},{"$f":"A2A!I27","v":8534912.5311695486},{"$f":"A2A!J27","v":9047007.2830397226},{"$f":"A2A!K27","v":9589827.7200221084}]
["Sport and recreation",null,{"$f":"A2A!C49","v":6909591},{"$f":"A2A!D49","v":4120103},{"$f":"A2A!E49","v":8269168.8400000008},{"$f":"A2A!F49","v":5612860.2699999996},{"$f":"A2A!G49","v":7368444.9000000004},{"$f":"A2A!H49","v":7368444.9000000004},{"$f":"A2A!I49","v":3563657.0199999996},{"$f":"A2A!J49","v":3777476.4411999998},{"$f":"A2A!K49","v":4004125.0276719998}]
["Public safety",null,{"$f":"A2A!C55","v":205404},{"$f":"A2A!D55","v":216310},{"$f":"A2A!E55","v":236700},{"$f":"A2A!F55","v":430000},{"$f":"A2A!G55","v":380000},{"$f":"A2A!H55","v":380000},{"$f":"A2A!I55","v":700000},{"$f":"A2A!J55","v":742000},{"$f":"A2A!K55","v":786520}]
["Housing",null,{"$f":"A2A!C62","v":0},{"$f":"A2A!D62","v":0},{"$f":"A2A!E62","v":0},{"$f":"A2A!F62","v":0},{"$f":"A2A!G62","v":0},{"$f":"A2A!H62","v":0},{"$f":"A2A!I62","v":0},{"$f":"A2A!J62","v":0},{"$f":"A2A!K62","v":0}]
["Health",null,{"$f":"A2A!C65","v":0},{"$f":"A2A!D65","v":0},{"$f":"A2A!E65","v":0},{"$f":"A2A!F65","v":0},{"$f":"A2A!G65","v":0},{"$f":"A2A!H65","v":0},{"$f":"A2A!I65","v":0},{"$f":"A2A!J65","v":0},{"$f":"A2A!K65","v":0}]
["Economic and environmental services",null,{"$f":"SUM(C16:C18)","v":12311264},{"$f":"SUM(D16:D18)","v":15780460},22563962.475714289,25455738.129999999,28822098.13857143,28822098.13857143,21225383.457485709,22498906.464934856,23848840.852830946]
["Planning and development",null,{"$f":"A2A!C74","v":2000},{"$f":"A2A!D74","v":0},{"$f":"A2A!E74","v":6635595.7457142901},{"$f":"A2A!F74","v":4620581.46},{"$f":"A2A!G74","v":4661865.6085714297},{"$f":"A2A!H74","v":4661865.6085714297},{"$f":"A2A!I74","v":4664342.6574857095},{"$f":"A2A!J74","v":4944203.2169348523},{"$f":"A2A!K74","v":5240855.4099509437}]
["Road transport",null,{"$f":"A2A!C85","v":12309264},{"$f":"A2A!D85","v":15780460},{"$f":"A2A!E85","v":15928366.73},{"$f":"A2A!F85","v":20835156.669999998},{"$f":"A2A!G85","v":24160232.530000001},{"$f":"A2A!H85","v":24160232.530000001},{"$f":"A2A!I85","v":16561040.800000001},{"$f":"A2A!J85","v":17554703.248000003},{"$f":"A2A!K85","v":18607985.442880005}]
["Environmental protection",null,{"$f":"A2A!C92","v":0},{"$f":"A2A!D92","v":0},{"$f":"A2A!E92","v":0},{"$f":"A2A!F92","v":0},{"$f":"A2A!G92","v":0},{"$f":"A2A!H92","v":0},{"$f":"A2A!I92","v":0},{"$f":"A2A!J92","v":0},{"$f":"A2A!K92","v":0}]
["Trading services",null,{"$f":"SUM(C20:C23)","v":153751609},{"$f":"SUM(D20:D23)","v":172430958},202319454.18605667,272843177.99000001,270870631.40020108,270870631.40020108,266352847.29700163,{"$f":"SUM(J20:J23)","v":282334018.13482171},299274059.222911]
["Energy sources",null,{"$f":"A2A!C100","v":45435565},{"$f":"A2A!D100","v":49324095},{"$f":"A2A!E100","v":53737275.017828599},{"$f":"A2A!F100","v":57572098.600000001},{"$f":"A2A!G100","v":58333258.140228599},{"$f":"A2A!H100","v":58333258.140228599},{"$f":"A2A!I100","v":58620604.3059429},{"$f":"A2A!J100","v":62137840.564299479},{"$f":"A2A!K100","v":65866110.998157449}]
["Water management",null,{"$f":"A2A!C104","v":62543611},{"$f":"A2A!D104","v":69818760},{"$f":"A2A!E104","v":80958321.848570988},{"$f":"A2A!F104","v":130279857.59},{"$f":"A2A!G104","v":131014105.393657},{"$f":"A2A!H104","v":131014105.393657},{"$f":"A2A!I104","v":115284010.872629},{"$f":"A2A!J104","v":122201051.52498674},{"$f":"A2A!K104","v":129533114.61648595}]
["Waste water management",null,{"$f":"A2A!C108","v":30862203},{"$f":"A2A!D108","v":32469467},{"$f":"A2A!E108","v":38874189.261085697},{"$f":"A2A!F108","v":48227020.75},{"$f":"A2A!G108","v":50516358.403858304},{"$f":"A2A!H108","v":50516358.403858304},{"$f":"A2A!I108","v":58816705.102029696},{"$f":"A2A!J108","v":62345707.408151478},{"$f":"A2A!K108","v":66086449.852640569}]
["Waste management",null,{"$f":"A2A!C113","v":14910230},{"$f":"A2A!D113","v":20818636},{"$f":"A2A!E113","v":28749668.058571398},{"$f":"A2A!F113","v":36764201.049999997},{"$f":"A2A!G113","v":31006909.462457206},{"$f":"A2A!H113","v":31006909.462457206},{"$f":"A2A!I113","v":33631527.016400002},{"$f":"A2A!J113","v":35649418.637384005},{"$f":"A2A!K113","v":37788383.755627044}]
["Other",4,{"$f":"A2A!C118","v":0},{"$f":"A2A!D118","v":0},{"$f":"A2A!E118","v":1701922.28},{"$f":"A2A!F118","v":1701922.28},{"$f":"A2A!G118","v":1701922.28},{"$f":"A2A!H118","v":1701922.28},{"$f":"A2A!I118","v":1701922.28},{"$f":"A2A!J118","v":1804037.6168000002},{"$f":"A2A!K118","v":1912279.8738080002}]
[{"$f":"\"Total \"&A4","v":"Total Revenue - Functional"},2,{"$f":"C5+C9+C15+C19+C24","v":293231554},{"$f":"D5+D9+D15+D19+D24","v":325288930},{"$f":"E5+E9+E15+E19+E24","v":357305702.91879952},402472674.7085017,407436437.99741477,407436437.99741477,{"$f":"I5+I9+I15+I19+I24","v":394942680.21540469},418639241.02832901,443757595.49002874]
[]
["Expenditure - Functional"]
["Governance and administration",null,{"$f":"SUM(C29:C31)","v":89894160},{"$f":"SUM(D29:D31)","v":123126062},110299822.49980503,82707545.512710929,93732965.582335383,93732965.582335383,92700989.734502524,97631175.592471153,102162111.72320622]
["Executive and council",null,{"$f":"A2A!C129","v":20653305},{"$f":"A2A!D129","v":23465912},{"$f":"A2A!E129","v":26474858.829999998},{"$f":"A2A!F129","v":24701627.692825101},{"$f":"A2A!G129","v":27289615.379213713},{"$f":"A2A!H129","v":27289615.379213713},{"$f":"A2A!I129","v":29513637.1243499},{"$f":"A2A!J129","v":31284455.351810895},{"$f":"A2A!K129","v":33161522.672919549}]
["Finance and administration",null,{"$f":"A2A!C132","v":69240855},{"$f":"A2A!D132","v":99660150},{"$f":"A2A!E132","v":83824963.669805035},{"$f":"A2A!F132","v":58005917.81988582},{"$f":"A2A!G132","v":66443350.203121662},{"$f":"A2A!H132","v":66443350.203121662},{"$f":"A2A!I132","v":63187352.610152617},{"$f":"A2A!J132","v":66346720.24066025},{"$f":"A2A!K132","v":69000589.050286666}]
["Internal audit",null,{"$f":"A2A!C147","v":0},{"$f":"A2A!D147","v":0},{"$f":"A2A!E147","v":0},{"$f":"A2A!F147","v":0},{"$f":"A2A!G147","v":0},{"$f":"A2A!H147","v":0},{"$f":"A2A!I147","v":0},{"$f":"A2A!J147","v":0},{"$f":"A2A!K147","v":0}]
["Community and public safety",null,{"$f":"SUM(C33:C37)","v":7363149},{"$f":"SUM(D33:D37)","v":5869888},22170020.340000004,24183076.998614859,28340768.544941716,28340768.544941716,29739720.1664,31226706.174720004,32475774.421708804]
["Community and social services",null,{"$f":"A2A!C150","v":0},{"$f":"A2A!D150","v":0},{"$f":"A2A!E150","v":17228201.200000003},{"$f":"A2A!F150","v":18202333.637238856},{"$f":"A2A!G150","v":21880200.214285716},{"$f":"A2A!H150","v":21880200.214285716},{"$f":"A2A!I150","v":22127596.3248},{"$f":"A2A!J150","v":23233976.141040001},{"$f":"A2A!K150","v":24163335.186681602}]
["Sport and recreation",null,{"$f":"A2A!C172","v":337573},{"$f":"A2A!D172","v":503988},{"$f":"A2A!E172","v":474992.36000000004},{"$f":"A2A!F172","v":595122.53446857142},{"$f":"A2A!G172","v":418374.86779885722},{"$f":"A2A!H172","v":418374.86779885722},{"$f":"A2A!I172","v":561623.71622857137},{"$f":"A2A!J172","v":589704.90203999996},{"$f":"A2A!K172","v":613293.09812159999}]
["Public safety",null,{"$f":"A2A!C178","v":7025576},{"$f":"A2A!D178","v":5365900},{"$f":"A2A!E178","v":4466826.7800000012},{"$f":"A2A!F178","v":5385620.8269074298},{"$f":"A2A!G178","v":6042193.4628571421},{"$f":"A2A!H178","v":6042193.4628571421},{"$f":"A2A!I178","v":7050500.1253714301},{"$f":"A2A!J178","v":7403025.1316400021},{"$f":"A2A!K178","v":7699146.1369056022}]
["Housing",null,{"$f":"A2A!C185","v":0},{"$f":"A2A!D185","v":0},{"$f":"A2A!E185","v":0},{"$f":"A2A!F185","v":0},{"$f":"A2A!G185","v":0},{"$f":"A2A!H185","v":0},{"$f":"A2A!I185","v":0},{"$f":"A2A!J185","v":0},{"$f":"A2A!K185","v":0}]
["Health",null,{"$f":"A2A!C188","v":0},{"$f":"A2A!D188","v":0},{"$f":"A2A!E188","v":0},{"$f":"A2A!F188","v":0},{"$f":"A2A!G188","v":0},{"$f":"A2A!H188","v":0},{"$f":"A2A!I188","v":0},{"$f":"A2A!J188","v":0},{"$f":"A2A!K188","v":0}]
["Economic and environmental services",null,{"$f":"SUM(C39:C41)","v":47023353},{"$f":"SUM(D39:D41)","v":56393049},46761272.660000004,51386087.107863858,48887964.382081397,48887964.382081397,51248312.855893604,53810728.498688288,55963157.638635822]
["Planning and development",null,{"$f":"A2A!C197","v":2058354},{"$f":"A2A!D197","v":8105303},{"$f":"A2A!E197","v":3310877.9799999995},{"$f":"A2A!F197","v":3269809.3430308551},{"$f":"A2A!G197","v":3488578.3199999994},{"$f":"A2A!H197","v":3488578.3199999994},{"$f":"A2A!I197","v":4007528.2310857149},{"$f":"A2A!J197","v":4207904.6426400011},{"$f":"A2A!K197","v":4376220.8283456014}]
["Road transport",null,{"$f":"A2A!C208","v":44964999},{"$f":"A2A!D208","v":48287746},{"$f":"A2A!E208","v":43450394.680000007},{"$f":"A2A!F208","v":48116277.764833003},{"$f":"A2A!G208","v":45399386.062081397},{"$f":"A2A!H208","v":45399386.062081397},{"$f":"A2A!I208","v":47240784.624807887},{"$f":"A2A!J208","v":49602823.856048286},{"$f":"A2A!K208","v":51586936.810290217}]
["Environmental protection",null,{"$f":"A2A!C215","v":0},{"$f":"A2A!D215","v":0},{"$f":"A2A!E215","v":0},{"$f":"A2A!F215","v":0},{"$f":"A2A!G215","v":0},{"$f":"A2A!H215","v":0},{"$f":"A2A!I215","v":0},{"$f":"A2A!J215","v":0},{"$f":"A2A!K215","v":0}]
["Trading services",null,{"$f":"SUM(C43:C46)","v":203500022},{"$f":"SUM(D43:D46)","v":173311982},155825138.80000001,{"$f":"SUM(F43:F46)","v":177518057.08783099},174149662.1338312,174149662.1338312,181580338.38892019,190659355.30836621,{"$f":"SUM(K43:K46)","v":198285729.52070084}]
["Energy sources",null,{"$f":"A2A!C223","v":73308773},{"$f":"A2A!D223","v":69949988},{"$f":"A2A!E223","v":67523586.519999996},{"$f":"A2A!F223","v":71959366.674856201},{"$f":"A2A!G223","v":72665455.418625399},{"$f":"A2A!H223","v":72665455.418625399},{"$f":"A2A!I223","v":75740631.338961393},{"$f":"A2A!J223","v":79527662.905909464},{"$f":"A2A!K223","v":82708769.422145844}]
["Water management",null,{"$f":"A2A!C227","v":58910306},{"$f":"A2A!D227","v":58956916},{"$f":"A2A!E227","v":45176037.289999992},{"$f":"A2A!F227","v":56073206.114968196},{"$f":"A2A!G227","v":51586266.555245504},{"$f":"A2A!H227","v":51586266.555245504},{"$f":"A2A!I227","v":54198276.710601293},{"$f":"A2A!J227","v":56908190.546131358},{"$f":"A2A!K227","v":59184518.16797661}]
["Waste water management",null,{"$f":"A2A!C231","v":40696948},{"$f":"A2A!D231","v":22440550},{"$f":"A2A!E231","v":22604956.5},{"$f":"A2A!F231","v":25743626.762772299},{"$f":"A2A!G231","v":25950940.9071032},{"$f":"A2A!H231","v":25950940.9071032},{"$f":"A2A!I231","v":26910064.952100396},{"$f":"A2A!J231","v":28255568.199705418},{"$f":"A2A!K231","v":29385790.927693635}]
["Waste management",null,{"$f":"A2A!C236","v":30583995},{"$f":"A2A!D236","v":21964528},{"$f":"A2A!E236","v":20520558.489999998},{"$f":"A2A!F236","v":23741857.535234302},{"$f":"A2A!G236","v":23946999.2528571},{"$f":"A2A!H236","v":23946999.2528571},{"$f":"A2A!I236","v":24731365.387257099},{"$f":"A2A!J236","v":25967933.656619955},{"$f":"A2A!K236","v":27006651.002884753}]
["Other",4,{"$f":"A2A!C241","v":833342},{"$f":"A2A!D241","v":604704},{"$f":"A2A!E241","v":1067684.7999999998},{"$f":"A2A!F241","v":1123721.7631451399},{"$f":"A2A!G241","v":1096209.5085714299},{"$f":"A2A!H241","v":1096209.5085714299},{"$f":"A2A!I241","v":1272390.0065714289},{"$f":"A2A!J241","v":1040873.1369000004},{"$f":"A2A!K241","v":456818.95237600047}]
[{"$f":"\"Total \"&A27","v":"Total Expenditure - Functional"},3,{"$f":"C28+C32+C38+C42+C47","v":348614026},{"$f":"D28+D32+D38+D42+D47","v":359305685},{"$f":"E28+E32+E38+E42+E47","v":336123939.09980506},{"$f":"F28+F32+F38+F42+F47","v":336918488.47016579},346207570.15176111,346207570.15176111,356541751.15228772,374368838.7111457,389343592.25662768]
[{"$f":"result","v":"Surplus/(Deficit) for the year"},null,{"$f":"C25-C48","v":-55382472},{"$f":"D25-D48","v":-34016755},21181763.818994462,65554186.238335907,61228867.845653653,61228867.845653653,38400929.063116968,44270402.317183316,54414003.23340106]
[{"$f":"head27a","v":"References"}]
["1. Government Finance Statistics Functions and Sub-functions are standardised to assist the compilation of national and international accounts for comparison purposes"]
["2. Total Revenue by functional classification must reconcile to Total Operating Revenue shown in Budgeted Financial Performance (revenue and expenditure)"]
["3. Total Expenditure by Functional Classification must reconcile to Total Operating Expenditure shown in Budgeted Financial Performance (revenue and expenditure)"]
["4. All amounts must be classified under a functional classification . The GFS function 'Other' is only for Abbatoirs, Air Transport,  Forestry, Licensing and Regulation, Markets and Tourism - and if used must be supported by footnotes. Nothing else may be placed under 'Other'. Assign associate share to relevant classification."]
[]
[]
["check oprev balance",null,{"$f":"C25-'A4-FinPerf RE'!C59","v":-5614961},{"$f":"D25-'A4-FinPerf RE'!D59","v":-1568426},{"$f":"E25-'A4-FinPerf RE'!E59","v":0.40525662899017334},{"$f":"F25-'A4-FinPerf RE'!F59","v":-1.1612474918365479E-2},{"$f":"G25-'A4-FinPerf RE'!G59","v":6.7541599273681641E-3},{"$f":"H25-'A4-FinPerf RE'!H59","v":6.7541599273681641E-3},{"$f":"I25-'A4-FinPerf RE'!J59","v":-2080200.7948740125},{"$f":"J25-'A4-FinPerf RE'!K59","v":-2205012.8425664902},{"$f":"K25-'A4-FinPerf RE'!L59","v":-2337313.6131204963}]
["check opexp balance",null,{"$f":"C48-'A4-FinPerf RE'!C35","v":-14296901},{"$f":"D48-'A4-FinPerf RE'!D35","v":-8851423},{"$f":"E48-'A4-FinPerf RE'!E35","v":1.5519320964813232E-2},{"$f":"F48-'A4-FinPerf RE'!F35","v":-4.863739013671875E-3},{"$f":"G48-'A4-FinPerf RE'!G35","v":3.7153959274291992E-3},{"$f":"H48-'A4-FinPerf RE'!H35","v":3.7153959274291992E-3},{"$f":"I48-'A4-FinPerf RE'!J35","v":-448499.99675178528},{"$f":"J48-'A4-FinPerf RE'!K35","v":-470924.99534577131},{"$f":"K48-'A4-FinPerf RE'!L35","v":-489761.99812346697}]

{"sheet":"A2A","index":8,"n_rows":258,"n_cols":11,"rows_kept":258,"cut":false,"hidden":false,"merged":[[1,5,1,7],[1,8,1,10],[253,0,253,10]]}
[{"$f":"muni&\" - \"&Approve3","v":"FS193 Nketoana - Table A2 Budgeted Financial Performance (revenue and expenditure by functional classification)"}]
[{"$f":"\"Functional Classification \"&desc","v":"Functional Classification Description"},{"$f":"head27","v":"Ref"},{"$f":"head1b","v":"2014/15"},{"$f":"head1A","v":"2015/16"},{"$f":"Head1","v":"2016/17"},{"$f":"Head2","v":"Current Year 2017/18"},null,null,{"$f":"Head3","v":"2018/19 Medium Term Revenue & Expenditure Framework"}]
["R thousand",1,{"$f":"Head5","v":"Audited Outcome"},{"$f":"Head5","v":"Audited Outcome"},{"$f":"Head5","v":"Audited Outcome"},{"$f":"Head6","v":"Original Budget"},{"$f":"Head7","v":"Adjusted Budget"},{"$f":"Head8","v":"Full Year Forecast"},{"$f":"Head9","v":"Budget Year 2018/19"},{"$f":"Head10","v":"Budget Year +1 2019/20"},{"$f":"Head11","v":"Budget Year +2 2020/21"}]
["Revenue - Functional"]
["Municipal governance and administration",null,{"$f":"C6+C9+C24","v":120053686},{"$f":"D6+D9+D24","v":132741099},94445503.457028583,87219210.306266308,88948028.846406847,88948028.846406847,92863957.629747823,98435795.087532699,104341942.79278468]
["Executive and council",null,{"$f":"SUM(C7:C8)","v":0},{"$f":"SUM(D7:D8)","v":0},19521342.640000001,8546342.6400000006,8546342.6400000006,8546342.6400000006,8616342.9399999995,9133323.5164000019,9681322.9273840003]
["Mayor and Council",null,null,null,10432366.359999999,4432366.3600000003,4432366.3600000003,4432366.3600000003,4432366.66,{"$f":"I7*1.06","v":4698308.6596000008},{"$f":"J7*1.06","v":4980207.1791760009}]
["Municipal Manager, Town Secretary and Chief Executive",null,null,null,9088976.2799999993,4113976.28,4113976.28,4113976.28,4183976.28,{"$f":"I8*1.06","v":4435014.8568000002},{"$f":"J8*1.06","v":4701115.7482080003}]
["Finance and administration",null,{"$f":"SUM(C10:C23)","v":120053686},132741099,74924160.817028582,78672867.666266307,80401686.206406847,80401686.206406847,84247614.689747825,89302471.571132705,94660619.865400672]
["Administrative and Corporate Support"]
["Asset Management"]
["Budget and Treasury Office",null,119598106,129513572,74587793.175600007,{"$f":"78873091.1898663-564348.08","v":78308743.109866306},{"$f":"80390885.9317737-553881.17","v":79837004.761773705},{"$f":"80390885.9317737-553881.17","v":79837004.761773705},{"$f":"84220592.8128367-587114.04","v":83633478.7728367},{"$f":"I12*1.06","v":88651487.499206901},{"$f":"J12*1.06","v":93970576.749159321}]
["Finance"]
["Fleet Management"]
["Human Resources",null,455580,3227527,336367.64142857137,364124.5564,564681.44463314302,564681.44463314302,614135.91691113205,{"$f":"I15*1.06","v":650984.07192580006},{"$f":"J15*1.06","v":690043.11624134809}]
["Information Technology"]
["Legal Services"]
["Marketing, Customer Relations, Publicity and Media Co-ordination"]
["Property Services"]
["Risk Management"]
["Security Services"]
["Supply Chain Management "]
["Valuation Service"]
["Internal audit",null,{"$f":"SUM(C25:C25)","v":0},0,0,0,0,0,0,0,0]
["Governance Function"]
["Community and public safety",null,{"$f":"C27+C49+C55+C62+C65","v":7114995},{"$f":"D27+D49+D55+D62+D65","v":4336413},36274860.520000003,15252626.002235431,17093757.332235433,17093757.332235433,12798569.551169548,13566483.724239722,14380472.747694109]
["Community and social services",null,{"$f":"SUM(C28:C48)","v":0},{"$f":"SUM(D28:D48)","v":0},27768991.68,9209765.7322354317,9345312.4322354309,9345312.4322354309,8534912.5311695486,9047007.2830397226,9589827.7200221084]
["Aged Care"]
["Agricultural"]
["Animal Care and Diseases"]
["Cemeteries, Funeral Parlours and Crematoriums",null,null,null,21888768.140000001,5330343.3100000005,{"$f":"4611322.4+854567.61","v":5465890.0100000007},{"$f":"4611322.4+854567.61","v":5465890.0100000007},4654994.0791999996,{"$f":"I31*1.06","v":4934293.723952},{"$f":"J31*1.06","v":5230351.3473891206}]
["Child Care Facilities"]
["Community Halls and Facilities",null,null,null,5880223.54,3879422.4222354302,3879422.4222354302,3879422.4222354302,3879918.45196955,{"$f":"I33*1.06","v":4112713.559087723},{"$f":"J33*1.06","v":4359476.3726329869}]
["Consumer Protection"]
["Cultural Matters"]
["Disaster Management"]
["Education"]
["Indigenous and Customary Law"]
["Industrial Promotion"]
["Language Policy"]
["Libraries and Archives"]
["Literacy Programmes"]
["Media Services"]
["Museums and Art Galleries"]
["Population Development"]
["Provincial Cultural Matters"]
["Theatres"]
["Zoo's"]
["Sport and recreation",null,{"$f":"SUM(C50:C54)","v":6909591},{"$f":"SUM(D50:D54)","v":4120103},8269168.8400000008,5612860.2699999996,7368444.9000000004,7368444.9000000004,3563657.0199999996,3777476.4411999998,4004125.0276719998]
["Beaches and Jetties "]
["Casinos, Racing, Gambling, Wagering"]
["Community Parks (including Nurseries)"]
["Recreational Facilities"]
["Sports Grounds and Stadiums",null,6909591,4120103,8269168.8400000008,5612860.2699999996,{"$f":"2358237.28+5010207.62","v":7368444.9000000004},{"$f":"2358237.28+5010207.62","v":7368444.9000000004},{"$f":"2358237.28+1205419.74","v":3563657.0199999996},{"$f":"I54*1.06","v":3777476.4411999998},{"$f":"J54*1.06","v":4004125.0276719998}]
["Public safety",null,{"$f":"SUM(C56:C61)","v":205404},{"$f":"SUM(D56:D61)","v":216310},236700,430000,380000,380000,700000,742000,786520]
["Civil Defence"]
["Cleansing"]
["Control of Public Nuisances"]
["Fencing and Fences "]
["Fire Fighting and Protection",null,205404,216310,236700,430000,380000,380000,700000,{"$f":"I60*1.06","v":742000},{"$f":"J60*1.06","v":786520}]
["Licensing and Control of Animals"]
["Housing",null,{"$f":"SUM(C63:C64)","v":0},{"$f":"SUM(D63:D64)","v":0},0,0,0,0,0,0,0]
["Housing"]
["Informal Settlements"]
["Health",null,{"$f":"SUM(C66:C72)","v":0},{"$f":"SUM(D66:D72)","v":0},0,0,0,0,0,0,0]
["Ambulance"]
["Health Services"]
["Laboratory Services"]
["Food Control"]
["Health Surveillance and Prevention of Communicable Diseases including immunizations"]
["Vector Control"]
["Chemical Safety"]
["Economic and environmental services",null,{"$f":"C74+C85+C92","v":12311264},{"$f":"D74+D85+D92","v":15780460},22563962.475714289,25455738.129999999,28822098.13857143,28822098.13857143,21225383.457485709,22498906.464934856,23848840.852830946]
["Planning and development",null,{"$f":"SUM(C75:C84)","v":2000},{"$f":"SUM(D75:D84)","v":0},6635595.7457142901,4620581.46,4661865.6085714297,4661865.6085714297,4664342.6574857095,4944203.2169348523,5240855.4099509437]
["Billboards"]
["Corporate Wide Strategic Planning (IDPs, LEDs)"]
["Central City Improvement District"]
["Development Facilitation"]
["Economic Development/Planning",null,null,null,2758237.28,2758237.28,2799521.42857143,2799521.42857143,2801998.4774857098,{"$f":"I79*1.06","v":2970118.3861348527},{"$f":"J79*1.06","v":3148325.4893029439}]
["Regional Planning and Development"]
["Town Planning, Building Regulations and Enforcement, and City Engineer",null,2000,null,3877358.4657142898,1862344.18,1862344.18,1862344.18,1862344.18,{"$f":"I81*1.06","v":1974084.8308000001},{"$f":"J81*1.06","v":2092529.9206480002}]
["Project Management Unit"]
["Provincial Planning"]
["Support to Local Municipalities"]
["Road transport",null,{"$f":"SUM(C86:C91)","v":12309264},{"$f":"SUM(D86:D91)","v":15780460},15928366.73,20835156.669999998,24160232.530000001,24160232.530000001,16561040.800000001,17554703.248000003,18607985.442880005]
["Police Forces, Traffic and Street Parking Control"]
["Pounds"]
["Public Transport"]
["Road and Traffic Regulation"]
["Roads",null,12309264,15780460,15928366.73,20835156.669999998,{"$f":"7002091.05+17158141.48","v":24160232.530000001},{"$f":"7002091.05+17158141.48","v":24160232.530000001},{"$f":"7992967.42+8568073.38","v":16561040.800000001},{"$f":"I90*1.06","v":17554703.248000003},{"$f":"J90*1.06","v":18607985.442880005}]
["Taxi Ranks"]
["Environmental protection",null,{"$f":"SUM(C93:C98)","v":0},{"$f":"SUM(D93:D98)","v":0},0,0,0,0,0,0,0]
["Biodiversity and Landscape"]
["Coastal Protection"]
["Indigenous Forests"]
["Nature Conservation"]
["Pollution Control"]
["Soil Conservation"]
["Trading services",null,{"$f":"C100+C104+C108+C113","v":153751609},{"$f":"D100+D104+D108+D113","v":172430958},202319454.18605667,272843177.99000001,270870631.40020108,270870631.40020108,266352847.29700163,282334018.13482171,{"$f":"K100+K104+K108+K113","v":299274059.222911}]
["Energy sources",null,{"$f":"SUM(C101:C103)","v":45435565},{"$f":"SUM(D101:D103)","v":49324095},53737275.017828599,57572098.600000001,58333258.140228599,58333258.140228599,58620604.3059429,62137840.564299479,65866110.998157449]
["Electricity ",null,45435565,49324095,53737275.017828599,57572098.600000001,{"$f":"55662401.5602286-2329143.42+5000000","v":58333258.140228599},{"$f":"55662401.5602286-2329143.42+5000000","v":58333258.140228599},{"$f":"59940508.8359429-2866961.18+1547056.65","v":58620604.3059429},{"$f":"I101*1.06","v":62137840.564299479},{"$f":"J101*1.06","v":65866110.998157449}]
["Street Lighting and Signal Systems"]
["Nonelectric Energy"]
["Water management",null,{"$f":"SUM(C105:C107)","v":62543611},{"$f":"SUM(D105:D107)","v":69818760},80958321.848570988,130279857.59,131014105.393657,131014105.393657,115284010.872629,122201051.52498674,129533114.61648595]
["Water Treatment",null,62543611,69818760,80958321.848570988,130279857.59,{"$f":"116503056.923657-33338437.27+47849485.74","v":131014105.393657},{"$f":"116503056.923657-33338437.27+47849485.74","v":131014105.393657},{"$f":"125597985.082629-35005359.13+24691384.92","v":115284010.872629},{"$f":"I105*1.06","v":122201051.52498674},{"$f":"J105*1.06","v":129533114.61648595}]
["Water Distribution"]
["Water Storage"]
["Waste water management",null,{"$f":"SUM(C109:C112)","v":30862203},{"$f":"SUM(D109:D112)","v":32469467},38874189.261085697,48227020.75,50516358.403858304,50516358.403858304,58816705.102029696,62345707.408151478,66086449.852640569]
["Public Toilets"]
["Sewerage",null,30862203,32469467,38874189.261085697,48227020.75,{"$f":"35401969.3938583-7387838.54+22502227.55","v":50516358.403858304},{"$f":"35401969.3938583-7387838.54+22502227.55","v":50516358.403858304},{"$f":"38083415.2520297-7757230.46+28490520.31","v":58816705.102029696},{"$f":"I110*1.06","v":62345707.408151478},{"$f":"J110*1.06","v":66086449.852640569}]
["Storm Water Management"]
["Waste Water Treatment"]
["Waste management",null,{"$f":"SUM(C114:C117)","v":14910230},{"$f":"SUM(D114:D117)","v":20818636},28749668.058571398,36764201.049999997,31006909.462457206,31006909.462457206,33631527.016400002,35649418.637384005,37788383.755627044]
["Recycling"]
["Solid Waste Disposal (Landfill Sites)",null,14910230,20818636,28749668.058571398,36764201.049999997,{"$f":"39237561.9924572-8617022.54+386370.01","v":31006909.462457206},{"$f":"39237561.9924572-8617022.54+386370.01","v":31006909.462457206},{"$f":"42341025.9064-9134043.89+424545","v":33631527.016400002},{"$f":"I115*1.06","v":35649418.637384005},{"$f":"J115*1.06","v":37788383.755627044}]
["Solid Waste Removal"]
["Street Cleaning"]
["Other",null,{"$f":"SUM(C119:C124)","v":0},{"$f":"SUM(D119:D124)","v":0},1701922.28,1701922.28,1701922.28,1701922.28,1701922.28,1804037.6168000002,1912279.8738080002]
["Abattoirs"]
["Air Transport"]
["Forestry "]
["Licensing and Regulation"]
["Markets"]
["Tourism",null,null,null,1701922.28,1701922.28,1701922.28,1701922.28,1701922.28,{"$f":"I124*1.06","v":1804037.6168000002},{"$f":"J124*1.06","v":1912279.8738080002}]
[{"$f":"\"Total \"&A4","v":"Total Revenue - Functional"},2,{"$f":"C5+C26+C73+C99+C118","v":293231554},325288930,357305702.91879952,402472674.7085017,407436437.99741477,407436437.99741477,394942680.21540469,418639241.02832901,443757595.49002874]
[]
["Expenditure - Functional"]
[{"$f":"A5","v":"Municipal governance and administration"},null,{"$f":"C129+C132+C147","v":89894160},123126062,110299822.49980503,82707545.512710929,93732965.582335383,93732965.582335383,92700989.734502524,97631175.592471153,102162111.72320622]
["Executive and council",null,{"$f":"SUM(C130:C131)","v":20653305},23465912,26474858.829999998,24701627.692825101,27289615.379213713,27289615.379213713,29513637.1243499,31284455.351810895,33161522.672919549]
["Mayor and Council",null,6676993,6891541,14442737.68,14048812.01,13993134.154427428,13993134.154427428,15710571.710000001,{"$f":"I130*1.06","v":16653206.012600001},{"$f":"J130*1.06","v":17652398.373356003}]
["Municipal Manager, Town Secretary and Chief Executive",null,13976312,16574371,12032121.149999999,10652815.6828251,13296481.224786285,13296481.224786285,13803065.414349899,{"$f":"I131*1.06","v":14631249.339210894},{"$f":"J131*1.06","v":15509124.299563548}]
["Finance and administration",null,{"$f":"SUM(C133:C146)","v":69240855},{"$f":"SUM(D133:D146)","v":99660150},83824963.669805035,58005917.81988582,66443350.203121662,66443350.203121662,63187352.610152617,66346720.24066025,69000589.050286666]
["Administrative and Corporate Support"]
["Asset Management"]
["Budget and Treasury Office",null,43188649,37358895,42779404.259999998,30795580.536596,{"$f":"40642877.6890583-553881.17","v":40088996.519058295},{"$f":"40642877.6890583-553881.17","v":40088996.519058295},{"$f":"37925327.0875446-587114.04","v":37338213.047544599},{"$f":"I135*1.05","v":39205123.699921831},{"$f":"J135*1.04","v":40773328.647918709}]
["Finance"]
["Fleet Management"]
["Human Resources",null,26052206,62301255,41045559.409805037,27210337.28328982,26354353.684063371,26354353.684063371,25849139.562608019,{"$f":"I138*1.05","v":27141596.540738422},{"$f":"J138*1.04","v":28227260.402367961}]
["Information Technology"]
["Legal Services"]
["Marketing, Customer Relations, Publicity and Media Co-ordination"]
["Property Services"]
["Risk Management"]
["Security Services"]
["Supply Chain Management "]
["Valuation Service"]
["Internal audit",null,{"$f":"SUM(C148:C148)","v":0},0,0,0,0,0,0,0,0]
["Governance Function"]
["Community and public safety",null,{"$f":"C150+C172+C178+C185+C188","v":7363149},5869888,22170020.340000004,24183076.998614859,28340768.544941716,28340768.544941716,29739720.1664,31226706.174720004,32475774.421708804]
["Community and social services",null,{"$f":"SUM(C151:C171)","v":0},{"$f":"SUM(D151:D171)","v":0},17228201.200000003,18202333.637238856,21880200.214285716,21880200.214285716,22127596.3248,23233976.141040001,24163335.186681602]
["Aged Care"]
[{"$f":"A29","v":"Agricultural"}]
["Animal Care and Diseases"]
["Cemeteries, Funeral Parlours and Crematoriums",null,null,null,14342181.600000003,15316716.132032,18056355.274285719,18056355.274285719,18592011.162228569,{"$f":"I154*1.05","v":19521611.720339999},{"$f":"J154*1.04","v":20302476.1891536}]
["Child Care Facilities"]
["Community Halls and Facilities",null,null,null,2886019.5999999996,2885617.5052068573,3823844.9399999995,3823844.9399999995,3535585.1625714293,{"$f":"I156*1.05","v":3712364.4207000011},{"$f":"J156*1.04","v":3860858.9975280012}]
["Consumer Protection"]
["Cultural Matters"]
["Disaster Management"]
["Education"]
["Indigenous and Customary Law"]
["Industrial Promotion"]
["Language Policy"]
["Libraries and Archives"]
["Literacy Programmes"]
["Media Services"]
["Museums and Art Galleries"]
["Population Development"]
["Provincial Cultural Matters"]
["Theatres"]
["Zoo's"]
[{"$f":"A49","v":"Sport and recreation"},null,{"$f":"SUM(C173:C177)","v":337573},503988,474992.36000000004,595122.53446857142,418374.86779885722,418374.86779885722,561623.71622857137,589704.90203999996,613293.09812159999]
["Beaches and Jetties "]
["Casinos, Racing, Gambling, Wagering"]
["Community Parks (including Nurseries)"]
["Recreational Facilities"]
["Sports Grounds and Stadiums",null,337573,503988,474992.36000000004,595122.53446857142,418374.86779885722,418374.86779885722,561623.71622857137,{"$f":"I177*1.05","v":589704.90203999996},{"$f":"J177*1.04","v":613293.09812159999}]
["Public safety",null,{"$f":"SUM(C179:C184)","v":7025576},5365900,4466826.7800000012,5385620.8269074298,6042193.4628571421,6042193.4628571421,7050500.1253714301,7403025.1316400021,7699146.1369056022]
["Civil Defence"]
["Cleansing"]
["Control of Public Nuisances"]
[{"$f":"A59","v":"Fencing and Fences "}]
["Fire Fighting and Protection",null,7025576,5365900,4466826.7800000012,5385620.8269074298,6042193.4628571421,6042193.4628571421,7050500.1253714301,{"$f":"I183*1.05","v":7403025.1316400021},{"$f":"J183*1.04","v":7699146.1369056022}]
["Licensing and Control of Animals"]
["Housing",null,{"$f":"SUM(C186:C187)","v":0},0,0,0,0,0,0,0,0]
["Housing"]
["Informal Settlements"]
["Health",null,{"$f":"SUM(C189:C195)","v":0},{"$f":"SUM(D189:D195)","v":0},0,0,0,0,0,0,0]
["Ambulance"]
["Health Services"]
["Laboratory Services"]
["Food Control"]
["Health Surveillance and Prevention of Communicable Diseases including immunizations"]
["Vector Control"]
["Chemical Safety"]
["Economic and environmental services",null,{"$f":"C197+C208+C215","v":47023353},56393049,46761272.660000004,51386087.107863858,48887964.382081397,48887964.382081397,51248312.855893604,53810728.498688288,55963157.638635822]
["Planning and development",null,{"$f":"SUM(C198:C207)","v":2058354},{"$f":"SUM(D198:D207)","v":8105303},3310877.9799999995,3269809.3430308551,3488578.3199999994,3488578.3199999994,4007528.2310857149,4207904.6426400011,4376220.8283456014]
["Billboards"]
["Corporate Wide Strategic Planning (IDPs, LEDs)"]
["Central City Improvement District"]
["Development Facilitation"]
["Economic Development/Planning",null,null,null,1280129.58,1212493.7548205699,1164226.4885714287,1164226.4885714287,1324791.1630285715,{"$f":"I202*1.05","v":1391030.7211800001},{"$f":"J202*1.04","v":1446671.9500272002}]
["Regional Planning and Development"]
["Town Planning, Building Regulations and Enforcement, and City Engineer",null,2058354,8105303,2030748.3999999992,2057315.5882102854,2324351.8314285707,2324351.8314285707,2682737.0680571436,{"$f":"I204*1.05","v":2816873.9214600008},{"$f":"J204*1.04","v":2929548.8783184011}]
["Project Management Unit"]
["Provincial Planning"]
["Support to Local Municipalities"]
["Road transport",null,{"$f":"SUM(C209:C214)","v":44964999},48287746,43450394.680000007,48116277.764833003,45399386.062081397,45399386.062081397,47240784.624807887,49602823.856048286,51586936.810290217]
["Police Forces, Traffic and Street Parking Control"]
["Pounds"]
["Public Transport"]
[{"$f":"A90","v":"Roads"},null,44964999,48287746,43450394.680000007,48116277.764833003,45399386.062081397,45399386.062081397,47240784.624807887,{"$f":"I212*1.05","v":49602823.856048286},{"$f":"J212*1.04","v":51586936.810290217}]
[{"$f":"A91","v":"Taxi Ranks"}]
[{"$f":"A92","v":"Environmental protection"}]
[{"$f":"A92","v":"Environmental protection"},null,{"$f":"SUM(C216:C221)","v":0},{"$f":"SUM(D216:D221)","v":0},0,0,0,0,0,0,0]
["Biodiversity and Landscape"]
["Coastal Protection"]
["Indigenous Forests"]
["Nature Conservation"]
["Pollution Control"]
["Soil Conservation"]
["Trading services",null,{"$f":"C223+C227+C231+C236","v":203500022},{"$f":"D223+D227+D231+D236","v":173311982},155825138.80000001,177518057.08783099,174149662.1338312,174149662.1338312,181580338.38892019,190659355.30836621,198285729.52070084]
["Energy sources",null,{"$f":"SUM(C224:C226)","v":73308773},{"$f":"SUM(D224:D226)","v":69949988},67523586.519999996,71959366.674856201,72665455.418625399,72665455.418625399,75740631.338961393,79527662.905909464,82708769.422145844]
["Electricity ",null,73308773,69949988,67523586.519999996,{"$f":"80288510.0948562-2329143.42-6000000","v":71959366.674856201},{"$f":"74994598.8386254-2329143.42","v":72665455.418625399},{"$f":"74994598.8386254-2329143.42","v":72665455.418625399},{"$f":"78607592.5189614-2866961.18","v":75740631.338961393},{"$f":"I224*1.05","v":79527662.905909464},{"$f":"J224*1.04","v":82708769.422145844}]
["Street Lighting and Signal Systems"]
["Nonelectric Energy"]
["Water management",null,{"$f":"SUM(C228:C230)","v":58910306},{"$f":"SUM(D228:D230)","v":58956916},45176037.289999992,56073206.114968196,51586266.555245504,51586266.555245504,54198276.710601293,56908190.546131358,59184518.16797661]
["Water Treatment",null,58910306,58956916,45176037.289999992,56073206.114968196,{"$f":"84924703.8252455-33338437.27","v":51586266.555245504},{"$f":"84924703.8252455-33338437.27","v":51586266.555245504},{"$f":"89203635.8406013-35005359.13","v":54198276.710601293},{"$f":"I228*1.05","v":56908190.546131358},{"$f":"J228*1.04","v":59184518.16797661}]
["Water Distribution"]
["Water Storage"]
["Waste water management",null,{"$f":"SUM(C232:C235)","v":40696948},{"$f":"SUM(D232:D235)","v":22440550},22604956.5,25743626.762772299,25950940.9071032,25950940.9071032,26910064.952100396,28255568.199705418,29385790.927693635]
["Public Toilets"]
["Sewerage",null,40696948,22440550,22604956.5,25743626.762772299,{"$f":"33338779.4471032-7387838.54","v":25950940.9071032},{"$f":"33338779.4471032-7387838.54","v":25950940.9071032},{"$f":"34667295.4121004-7757230.46","v":26910064.952100396},{"$f":"I233*1.05","v":28255568.199705418},{"$f":"J233*1.04","v":29385790.927693635}]
["Storm Water Management"]
["Waste Water Treatment"]
["Waste management",null,{"$f":"SUM(C237:C240)","v":30583995},{"$f":"SUM(D237:D240)","v":21964528},20520558.489999998,23741857.535234302,23946999.2528571,23946999.2528571,24731365.387257099,25967933.656619955,27006651.002884753]
["Recycling"]
["Solid Waste Disposal (Landfill Sites)",null,30583995,21964528,20520558.489999998,23741857.535234302,{"$f":"32564021.7928571-8617022.54","v":23946999.2528571},{"$f":"32564021.7928571-8617022.54","v":23946999.2528571},{"$f":"33865409.2772571-9134043.89","v":24731365.387257099},{"$f":"I238*1.05","v":25967933.656619955},{"$f":"J238*1.04","v":27006651.002884753}]
["Solid Waste Removal"]
["Street Cleaning"]
["Other",null,{"$f":"SUM(C242:C247)","v":833342},{"$f":"SUM(D242:D247)","v":604704},1067684.7999999998,1123721.7631451399,1096209.5085714299,1096209.5085714299,1272390.0065714289,1040873.1369000004,456818.95237600047]
["Abattoirs"]
["Air Transport"]
["Forestry "]
["Licensing and Regulation"]
["Markets"]
["Tourism",null,833342,604704,1067684.7999999998,1123721.7631451399,{"$f":"1095616.82857143+592.68","v":1096209.5085714299},{"$f":"1095616.82857143+592.68","v":1096209.5085714299},1272390.0065714289,{"$f":"I247*1.05-295136.37","v":1040873.1369000004},{"$f":"J247*1.04-625689.11","v":456818.95237600047}]
[{"$f":"\"Total \"&A127","v":"Total Expenditure - Functional"},3,{"$f":"C128+C149+C196+C222+C241","v":348614026},359305685,336123939.09980506,336918488.47016579,346207570.15176111,346207570.15176111,356541751.15228772,374368838.7111457,389343592.25662768]
[{"$f":"result","v":"Surplus/(Deficit) for the year"},null,{"$f":"C125-C248","v":-55382472},-34016755,21181763.818994462,65554186.238335907,61228867.845653653,61228867.845653653,38400929.063116968,44270402.317183316,54414003.23340106]
[{"$f":"head27a","v":"References"}]
["1. Government Finance Statistics Functions and Sub-functions are standardised to assist national and international accounts and comparison"]
["2. Total Revenue by Functional Classification must reconcile to total operating revenue shown in Financial Performance (revenue and expenditure)"]
["3. Total Expenditure by Functional Classification must reconcile to total operating expenditure shown in Financial Performance (revenue and expenditure)"]
["4. All amounts must be classified under a Functional classification. The GFS function 'Other' is only for Abbatoirs, Air Transport,  Forestry, Licensing and Regulation, Markets and Tourism - and if used must be supported by footnotes. Nothing else may be placed under 'Other'. Assign associate share to relevant classification"]
[]
[]
["check oprev balance",null,{"$f":"C125-'A4-FinPerf RE'!C59","v":-5614961},{"$f":"D125-'A4-FinPerf RE'!D59","v":-1568426},{"$f":"E125-'A4-FinPerf RE'!E59","v":0.40525662899017334},{"$f":"F125-'A4-FinPerf RE'!F59","v":-1.1612474918365479E-2},{"$f":"G125-'A4-FinPerf RE'!G59","v":6.7541599273681641E-3},{"$f":"H125-'A4-FinPerf RE'!H59","v":6.7541599273681641E-3},{"$f":"I125-'A4-FinPerf RE'!J59","v":-2080200.7948740125},{"$f":"J125-'A4-FinPerf RE'!K59","v":-2205012.8425664902},{"$f":"K125-'A4-FinPerf RE'!L59","v":-2337313.6131204963}]
["check opexp balance",null,{"$f":"C248-'A4-FinPerf RE'!C35","v":-14296901},{"$f":"D248-'A4-FinPerf RE'!D35","v":-8851423},{"$f":"E248-'A4-FinPerf RE'!E35","v":1.5519320964813232E-2},{"$f":"F248-'A4-FinPerf RE'!F35","v":-4.863739013671875E-3},{"$f":"G248-'A4-FinPerf RE'!G35","v":3.7153959274291992E-3},{"$f":"H248-'A4-FinPerf RE'!H35","v":3.7153959274291992E-3},{"$f":"I248-'A4-FinPerf RE'!J35","v":-448499.99675178528},{"$f":"J248-'A4-FinPerf RE'!K35","v":-470924.99534577131},{"$f":"K248-'A4-FinPerf RE'!L35","v":-489761.99812346697}]

{"sheet":"A3-FinPerf V","index":9,"n_rows":45,"n_cols":23,"rows_kept":45,"cut":false,"hidden":false,"merged":[[1,5,1,7],[1,8,1,10],[1,11,1,22]]}
[{"$f":"muni&\" - \"&Approve2","v":"FS193 Nketoana - Table A3 Budgeted Financial Performance (revenue and expenditure by municipal vote)"}]
[{"$f":"Vdesc","v":"Vote Description"},{"$f":"head27","v":"Ref"},{"$f":"head1b","v":"2014/15"},{"$f":"head1A","v":"2015/16"},{"$f":"Head1","v":"2016/17"},{"$f":"Head2","v":"Current Year 2017/18"},null,null,{"$f":"Head3","v":"2018/19 Medium Term Revenue & Expenditure Framework"},null,null,{"$f":"Head4","v":"LTFS"}]
["R thousand",null,{"$f":"Head5","v":"Audited Outcome"},{"$f":"Head5","v":"Audited Outcome"},{"$f":"Head5","v":"Audited Outcome"},{"$f":"Head6","v":"Original Budget"},{"$f":"Head7","v":"Adjusted Budget"},{"$f":"Head8","v":"Full Year Forecast"},{"$f":"Head9","v":"Budget Year 2018/19"},{"$f":"Head10","v":"Budget Year +1 2019/20"},{"$f":"Head11","v":"Budget Year +2 2020/21"},{"$f":"Head12","v":"Forecast 2021/22"},{"$f":"Head13","v":"Forecast 2022/23"},{"$f":"Head14","v":"Forecast 2023/24"},{"$f":"Head15","v":"Forecast 2024/25"},{"$f":"Head16","v":"Forecast 2025/26"},{"$f":"Head17","v":"Forecast 2026/27"},{"$f":"Head18","v":"Forecast 2027/28"},{"$f":"Head19","v":"Forecast 2028/29"},{"$f":"Head20","v":"Forecast 2029/30"},{"$f":"Head21","v":"Forecast 2030/31"},{"$f":"Head22","v":"Forecast 2031/32"},{"$f":"Head23","v":"Forecast 2032/33"}]
["Revenue by Vote",1]
[{"$f":"A3A!A5","v":"Vote 1 - EXECUTIVE AND COUNCIL"},null,{"$f":"A3A!C5","v":0},{"$f":"A3A!D5","v":0},{"$f":"A3A!E5","v":19521342.640000001},{"$f":"A3A!F5","v":8546342.6399999987},{"$f":"A3A!G5","v":8546342.6399999987},{"$f":"A3A!H5","v":8546342.6399999987},{"$f":"A3A!I5","v":8616342.6399999987},{"$f":"A3A!J5","v":9133323.1984000001},{"$f":"A3A!K5","v":9681322.5903040003}]
[{"$f":"A3A!A16","v":"Vote 2 - FINANCE AND ADMINISTRATION"},null,{"$f":"A3A!C16","v":120053686},{"$f":"A3A!D16","v":132741099},{"$f":"A3A!E16","v":74924160.817028582},{"$f":"A3A!F16","v":78672867.6664},{"$f":"A3A!G16","v":80401686.20654054},{"$f":"A3A!H16","v":80401686.20654054},{"$f":"A3A!I16","v":84247614.689747825},{"$f":"A3A!J16","v":89302471.571132705},{"$f":"A3A!K16","v":94660619.865400672}]
[{"$f":"A3A!A27","v":"Vote 3 - COMMUNITY SERVICES"},null,{"$f":"A3A!C27","v":12729956},{"$f":"A3A!D27","v":5904839},{"$f":"A3A!E27","v":36274860.520000003},{"$f":"A3A!F27","v":15252626.002235431},{"$f":"A3A!G27","v":17093757.332235433},{"$f":"A3A!H27","v":17093757.332235433},{"$f":"A3A!I27","v":12798569.551169548},{"$f":"A3A!J27","v":13566483.724239722},{"$f":"A3A!K27","v":14380472.747694109}]
[{"$f":"A3A!A38","v":"Vote 4 - WASTE MANAGEMENT"},null,{"$f":"A3A!C38","v":14910230},{"$f":"A3A!D38","v":20818636},{"$f":"A3A!E38","v":28749668.018571399},{"$f":"A3A!F38","v":36764201.049999997},{"$f":"A3A!G38","v":31006909.462457202},{"$f":"A3A!H38","v":31006909.462457202},{"$f":"A3A!I38","v":33631527.016400002},{"$f":"A3A!J38","v":35649418.637384005},{"$f":"A3A!K38","v":37788383.755627044}]
[{"$f":"A3A!A49","v":"Vote 5 - LOCAL ECONOMIC DEVELOPMENT"},null,{"$f":"A3A!C49","v":2000},{"$f":"A3A!D49","v":0},{"$f":"A3A!E49","v":4460159.5599999996},{"$f":"A3A!F49","v":4460159.5599999996},{"$f":"A3A!G49","v":4501443.7085714303},{"$f":"A3A!H49","v":4501443.7085714303},{"$f":"A3A!I49","v":4503920.7574857101},{"$f":"A3A!J49","v":4774156.0029348526},{"$f":"A3A!K49","v":5060605.3631109446}]
[{"$f":"A3A!A60","v":"Vote 6 - ROADS TRANSPORT"},null,{"$f":"A3A!C60","v":12309264},{"$f":"A3A!D60","v":15780460},{"$f":"A3A!E60","v":15928366.73},{"$f":"A3A!F60","v":20835156.669999998},{"$f":"A3A!G60","v":24160232.530000001},{"$f":"A3A!H60","v":24160232.529999997},{"$f":"A3A!I60","v":16561040.800000001},{"$f":"A3A!J60","v":17554703.248000003},{"$f":"A3A!K60","v":18607985.442880005}]
[{"$f":"A3A!A71","v":"Vote 7 - WATER"},null,{"$f":"A3A!C71","v":62543611},{"$f":"A3A!D71","v":69818760},{"$f":"A3A!E71","v":80958321.849999994},{"$f":"A3A!F71","v":130279857.58999999},{"$f":"A3A!G71","v":105666937.20365702},{"$f":"A3A!H71","v":105666937.20365702},{"$f":"A3A!I71","v":115284010.87262899},{"$f":"A3A!J71","v":122201051.52498673},{"$f":"A3A!K71","v":129533114.61648594}]
[{"$f":"A3A!A82","v":"Vote 8 - ELECTRICITY"},null,{"$f":"A3A!C82","v":45435565},{"$f":"A3A!D82","v":49324095},{"$f":"A3A!E82","v":53737275.017828599},{"$f":"A3A!F82","v":57572098.600000001},{"$f":"A3A!G82","v":58333258.140228599},{"$f":"A3A!H82","v":58333258.140228599},{"$f":"A3A!I82","v":58620604.3059429},{"$f":"A3A!J82","v":62137840.564299479},{"$f":"A3A!K82","v":65866110.998157449}]
[{"$f":"A3A!A93","v":"Vote 9 - WASTE WATER"},null,{"$f":"A3A!C93","v":30862203},{"$f":"A3A!D93","v":32469467},{"$f":"A3A!E93","v":38874189.257142894},{"$f":"A3A!F93","v":48227020.75},{"$f":"A3A!G93","v":75863616.593858287},{"$f":"A3A!H93","v":75863616.593858287},{"$f":"A3A!I93","v":58816705.562029704},{"$f":"A3A!J93","v":62345707.895751491},{"$f":"A3A!K93","v":66086450.369496584}]
[{"$f":"A3A!A104","v":"Vote 10 - HOUSING"},null,{"$f":"A3A!C104","v":0},{"$f":"A3A!D104","v":0},{"$f":"A3A!E104","v":3877358.4657142898},{"$f":"A3A!F104","v":1862344.18},{"$f":"A3A!G104","v":1862254.17},{"$f":"A3A!H104","v":1862254.17},{"$f":"A3A!I104","v":1862344.18},{"$f":"A3A!J104","v":1974084.8308000001},{"$f":"A3A!K104","v":2092529.9206480002}]
[{"$f":"A3A!A115","v":"Vote 11 - [NAME OF VOTE 11]"},null,{"$f":"A3A!C115","v":0},{"$f":"A3A!D115","v":0},{"$f":"A3A!E115","v":0},{"$f":"A3A!F115","v":0},{"$f":"A3A!G115","v":0},{"$f":"A3A!H115","v":0},{"$f":"A3A!I115","v":0},{"$f":"A3A!J115","v":0},{"$f":"A3A!K115","v":0},{"$f":"A5A!L115","v":0}]
[{"$f":"A3A!A126","v":"Vote 12 - [NAME OF VOTE 12]"},null,{"$f":"A3A!C126","v":0},{"$f":"A3A!D126","v":0},{"$f":"A3A!E126","v":0},{"$f":"A3A!F126","v":0},{"$f":"A3A!G126","v":0},{"$f":"A3A!H126","v":0},{"$f":"A3A!I126","v":0},{"$f":"A3A!J126","v":0},{"$f":"A3A!K126","v":0},{"$f":"A5A!L126","v":0}]
[{"$f":"A3A!A137","v":"Vote 13 - [NAME OF VOTE 13]"},null,{"$f":"A3A!C137","v":0},{"$f":"A3A!D137","v":0},{"$f":"A3A!E137","v":0},{"$f":"A3A!F137","v":0},{"$f":"A3A!G137","v":0},{"$f":"A3A!H137","v":0},{"$f":"A3A!I137","v":0},{"$f":"A3A!J137","v":0},{"$f":"A3A!K137","v":0},{"$f":"A5A!L137","v":0}]
[{"$f":"A3A!A148","v":"Vote 14 - [NAME OF VOTE 14]"},null,{"$f":"A3A!C148","v":0},{"$f":"A3A!D148","v":0},{"$f":"A3A!E148","v":0},{"$f":"A3A!F148","v":0},{"$f":"A3A!G148","v":0},{"$f":"A3A!H148","v":0},{"$f":"A3A!I148","v":0},{"$f":"A3A!J148","v":0},{"$f":"A3A!K148","v":0},{"$f":"A5A!L148","v":0}]
[{"$f":"A3A!A159","v":"Vote 15 - [NAME OF VOTE 15]"},null,{"$f":"A3A!C159","v":0},{"$f":"A3A!D159","v":0},{"$f":"A3A!E159","v":0},{"$f":"A3A!F159","v":0},{"$f":"A3A!G159","v":0},{"$f":"A3A!H159","v":0},{"$f":"A3A!I159","v":0},{"$f":"A3A!J159","v":0},{"$f":"A3A!K159","v":0},{"$f":"A5A!L159","v":0}]
["Total Revenue by Vote",2,{"$f":"SUM(C5:C19)","v":298846515},{"$f":"SUM(D5:D19)","v":326857356},357305702.87628573,402472674.70863545,407436437.98754859,407436437.98754859,394942680.37540472,418639241.19792897,443757595.66980469]
[]
["Expenditure by Vote to be appropriated",1]
[{"$f":"A3A!A173","v":"Vote 1 - EXECUTIVE AND COUNCIL"},null,{"$f":"A3A!C173","v":20653305},{"$f":"A3A!D173","v":23465912},{"$f":"A3A!E173","v":26474858.829999994},{"$f":"A3A!F173","v":24701627.694980573},{"$f":"A3A!G173","v":27289615.379213713},{"$f":"A3A!H173","v":27289615.379213713},{"$f":"A3A!I173","v":29513637.12618725},{"$f":"A3A!J173","v":30989318.982496612},{"$f":"A3A!K173","v":32228891.741796479}]
[{"$f":"A3A!A184","v":"Vote 2 - FINANCE AND ADMINISTRATION"},null,{"$f":"A3A!C184","v":69240855},{"$f":"A3A!D184","v":99660150},{"$f":"A3A!E184","v":83824963.649805039},{"$f":"A3A!F184","v":58005917.823289827},{"$f":"A3A!G184","v":66443350.203121662},{"$f":"A3A!H184","v":66443350.203121662},{"$f":"A3A!I184","v":63187352.610152617},{"$f":"A3A!J184","v":66346720.24066025},{"$f":"A3A!K184","v":69000589.050286666}]
[{"$f":"A3A!A195","v":"Vote 3 - COMMUNITY SERVICES"},null,{"$f":"A3A!C195","v":21660050},{"$f":"A3A!D195","v":14721311},{"$f":"A3A!E195","v":22170020.340000004},{"$f":"A3A!F195","v":24183076.998614859},{"$f":"A3A!G195","v":28340768.544941716},{"$f":"A3A!H195","v":28340768.544941716},{"$f":"A3A!I195","v":29739720.1664},{"$f":"A3A!J195","v":31226706.174720004},{"$f":"A3A!K195","v":32475774.421708804}]
[{"$f":"A3A!A206","v":"Vote 4 - WASTE MANAGEMENT"},null,{"$f":"A3A!C206","v":30583995},{"$f":"A3A!D206","v":21964528},{"$f":"A3A!E206","v":20520558.489999998},{"$f":"A3A!F206","v":23741857.539999999},{"$f":"A3A!G206","v":23946999.257622801},{"$f":"A3A!H206","v":23946999.257622801},{"$f":"A3A!I206","v":24731365.387257099},{"$f":"A3A!J206","v":25967933.656619955},{"$f":"A3A!K206","v":27006651.002884753}]
[{"$f":"A3A!A217","v":"Vote 5 - LOCAL ECONOMIC DEVELOPMENT"},null,{"$f":"A3A!C217","v":2058354},{"$f":"A3A!D217","v":8105303},{"$f":"A3A!E217","v":2347814.38},{"$f":"A3A!F217","v":2336215.5179657144},{"$f":"A3A!G217","v":2259843.3171428605},{"$f":"A3A!H217","v":2259843.3171428605},{"$f":"A3A!I217","v":2597181.1696000006},{"$f":"A3A!J217","v":2727040.2280800007},{"$f":"A3A!K217","v":2836121.8372032009}]
[{"$f":"A3A!A228","v":"Vote 6 - ROADS TRANSPORT"},null,{"$f":"A3A!C228","v":44964999},{"$f":"A3A!D228","v":48287746},{"$f":"A3A!E228","v":43450394.680000007},{"$f":"A3A!F228","v":48116277.764833033},{"$f":"A3A!G228","v":45399386.062081464},{"$f":"A3A!H228","v":45399386.062081464},{"$f":"A3A!I228","v":47240784.624807887},{"$f":"A3A!J228","v":49602823.856048286},{"$f":"A3A!K228","v":51586936.810290217}]
[{"$f":"A3A!A239","v":"Vote 7 - WATER"},null,{"$f":"A3A!C239","v":58910306},{"$f":"A3A!D239","v":58956916},{"$f":"A3A!E239","v":45176037.289999992},{"$f":"A3A!F239","v":56073206.109999999},{"$f":"A3A!G239","v":51586266.550277308},{"$f":"A3A!H239","v":51586266.550277308},{"$f":"A3A!I239","v":54198276.710601293},{"$f":"A3A!J239","v":56908190.546131358},{"$f":"A3A!K239","v":59184518.16797661}]
[{"$f":"A3A!A250","v":"Vote 8 - ELECTRICITY"},null,{"$f":"A3A!C250","v":73308773},{"$f":"A3A!D250","v":69949988},{"$f":"A3A!E250","v":67523586.519999996},{"$f":"A3A!F250","v":71959366.670000002},{"$f":"A3A!G250","v":72665455.4137692},{"$f":"A3A!H250","v":72665455.4137692},{"$f":"A3A!I250","v":75740631.338961393},{"$f":"A3A!J250","v":79527662.905909464},{"$f":"A3A!K250","v":82708769.422145844}]
[{"$f":"A3A!A261","v":"Vote 9 - WASTE WATER"},null,{"$f":"A3A!C261","v":40696948},{"$f":"A3A!D261","v":22440550},{"$f":"A3A!E261","v":22604956.5},{"$f":"A3A!F261","v":25743626.759999998},{"$f":"A3A!G261","v":25950940.904330902},{"$f":"A3A!H261","v":25950940.904330902},{"$f":"A3A!I261","v":26910064.952100396},{"$f":"A3A!J261","v":28255568.199705418},{"$f":"A3A!K261","v":29385790.927693635}]
[{"$f":"A3A!A272","v":"Vote 10 - HOUSING"},null,{"$f":"A3A!C272","v":833342},{"$f":"A3A!D272","v":604704},{"$f":"A3A!E272","v":2030748.4017540093},{"$f":"A3A!F272","v":2057315.5882102854},{"$f":"A3A!G272","v":2324944.5114285704},{"$f":"A3A!H272","v":2324944.5114285704},{"$f":"A3A!I272","v":2682737.0680571436},{"$f":"A3A!J272","v":2816873.9214600008},{"$f":"A3A!K272","v":2929548.8783184011}]
[{"$f":"A3A!A283","v":"Vote 11 - [NAME OF VOTE 11]"},null,{"$f":"A3A!C283","v":0},{"$f":"A3A!D283","v":0},{"$f":"A3A!E283","v":0},{"$f":"A3A!F283","v":0},{"$f":"A3A!G283","v":0},{"$f":"A3A!H283","v":0},{"$f":"A3A!I283","v":0},{"$f":"A3A!J283","v":0},{"$f":"A3A!K283","v":0},{"$f":"A3A!L284","v":0}]
[{"$f":"A3A!A294","v":"Vote 12 - [NAME OF VOTE 12]"},null,{"$f":"A3A!C294","v":0},{"$f":"A3A!D294","v":0},{"$f":"A3A!E294","v":0},{"$f":"A3A!F294","v":0},{"$f":"A3A!G294","v":0},{"$f":"A3A!H294","v":0},{"$f":"A3A!I294","v":0},{"$f":"A3A!J294","v":0},{"$f":"A3A!K294","v":0},{"$f":"A3A!L295","v":0}]
[{"$f":"A3A!A305","v":"Vote 13 - [NAME OF VOTE 13]"},null,{"$f":"A3A!C305","v":0},{"$f":"A3A!D305","v":0},{"$f":"A3A!E305","v":0},{"$f":"A3A!F305","v":0},{"$f":"A3A!G305","v":0},{"$f":"A3A!H305","v":0},{"$f":"A3A!I305","v":0},{"$f":"A3A!J305","v":0},{"$f":"A3A!K305","v":0},{"$f":"A3A!L306","v":0}]
[{"$f":"A3A!A316","v":"Vote 14 - [NAME OF VOTE 14]"},null,{"$f":"A3A!C316","v":0},{"$f":"A3A!D316","v":0},{"$f":"A3A!E316","v":0},{"$f":"A3A!F316","v":0},{"$f":"A3A!G316","v":0},{"$f":"A3A!H316","v":0},{"$f":"A3A!I316","v":0},{"$f":"A3A!J316","v":0},{"$f":"A3A!K316","v":0},{"$f":"A3A!L317","v":0}]
[{"$f":"A3A!A327","v":"Vote 15 - [NAME OF VOTE 15]"},null,{"$f":"A3A!C327","v":0},{"$f":"A3A!D327","v":0},{"$f":"A3A!E327","v":0},{"$f":"A3A!F327","v":0},{"$f":"A3A!G327","v":0},{"$f":"A3A!H327","v":0},{"$f":"A3A!I327","v":0},{"$f":"A3A!J327","v":0},{"$f":"A3A!K327","v":0},{"$f":"A3A!L328","v":0}]
["Total Expenditure by Vote",2,{"$f":"SUM(C23:C37)","v":362910927},{"$f":"SUM(D23:D37)","v":368157108},336123939.08155906,336918488.46789432,346207570.14393026,346207570.14393026,356541751.15412509,374368838.71183133,389343592.26030469,{"$f":"SUM(L23:L29)","v":0},0,0,0,0,0,0,0,0,0,0,0]
[{"$f":"result","v":"Surplus/(Deficit) for the year"},2,{"$f":"C20-C38","v":-64064412},-41299752,21181763.79472667,65554186.240741134,61228867.843618333,61228867.843618333,38400929.221279621,44270402.486097634,54414003.409500003,0,0,0,0,0,0,0,0,0,0,0,0]
[{"$f":"head27a","v":"References"}]
["1. Insert 'Vote'; e.g. department, if different to functional classification structure"]
["2. Must reconcile to Budgeted Financial Performance (revenue and expenditure)"]
["3. Assign share in 'associate' to relevant Vote"]
[]
[{"$f":"\"check \"&A39","v":"check Surplus/(Deficit) for the year"},null,{"$f":"C39-A3A!C340","v":0},{"$f":"D39-A3A!D340","v":0},{"$f":"E39-A3A!E340","v":0},{"$f":"F39-A3A!F340","v":0},{"$f":"G39-A3A!G340","v":0},{"$f":"H39-A3A!H340","v":0},{"$f":"I39-A3A!I340","v":0},{"$f":"J39-A3A!J340","v":0},{"$f":"K39-A3A!K340","v":0}]

{"sheet":"A3A","index":10,"n_rows":347,"n_cols":23,"rows_kept":347,"cut":false,"hidden":false,"merged":[[1,11,1,22],[1,5,1,7],[1,8,1,10]]}
[{"$f":"muni&\" - \"&Approve2&\"A\"","v":"FS193 Nketoana - Table A3 Budgeted Financial Performance (revenue and expenditure by municipal vote)A"}]
[{"$f":"Vdesc","v":"Vote Description"},{"$f":"head27","v":"Ref"},{"$f":"head1b","v":"2014/15"},{"$f":"head1A","v":"2015/16"},{"$f":"Head1","v":"2016/17"},{"$f":"Head2","v":"Current Year 2017/18"},null,null,{"$f":"Head3","v":"2018/19 Medium Term Revenue & Expenditure Framework"},null,null,{"$f":"Head4","v":"LTFS"}]
["R thousand",null,{"$f":"Head5","v":"Audited Outcome"},{"$f":"Head5","v":"Audited Outcome"},{"$f":"Head5","v":"Audited Outcome"},{"$f":"Head6","v":"Original Budget"},{"$f":"Head7","v":"Adjusted Budget"},{"$f":"Head8","v":"Full Year Forecast"},{"$f":"Head9","v":"Budget Year 2018/19"},{"$f":"Head10","v":"Budget Year +1 2019/20"},{"$f":"Head11","v":"Budget Year +2 2020/21"},{"$f":"Head12","v":"Forecast 2021/22"},{"$f":"Head13","v":"Forecast 2022/23"},{"$f":"Head14","v":"Forecast 2023/24"},{"$f":"Head15","v":"Forecast 2024/25"},{"$f":"Head16","v":"Forecast 2025/26"},{"$f":"Head17","v":"Forecast 2026/27"},{"$f":"Head18","v":"Forecast 2027/28"},{"$f":"Head19","v":"Forecast 2028/29"},{"$f":"Head20","v":"Forecast 2029/30"},{"$f":"Head21","v":"Forecast 2030/31"},{"$f":"Head22","v":"Forecast 2031/32"},{"$f":"Head23","v":"Forecast 2032/33"}]
["Revenue by Vote",1]
[{"$f":"'Org structure'!A2","v":"Vote 1 - EXECUTIVE AND COUNCIL"},null,{"$f":"SUM(C6:C15)","v":0},{"$f":"SUM(D6:D15)","v":0},19521342.640000001,8546342.6399999987,8546342.6399999987,8546342.6399999987,8616342.6399999987,9133323.1984000001,9681322.5903040003]
[{"$f":"'Org structure'!E3","v":"1.1 - Mayor's Office"},null,null,null,2217237.29,2217237.29,2217237.29,2217237.29,2217237.29,{"$f":"I6*1.06","v":2350271.5274},{"$f":"J6*1.06","v":2491287.819044}]
[{"$f":"'Org structure'!E4","v":"1.2 - Speaker's Office"},null,null,null,8215129.0700000003,2215129.0699999998,2215129.0699999998,2215129.0699999998,2215129.0699999998,{"$f":"I7*1.06","v":2348036.8141999999},2488919.023052]
[{"$f":"'Org structure'!E5","v":"1.3 - Municipal Manager's Office"},null,null,null,9088976.2799999993,4113976.28,4113976.28,4113976.28,4183976.28,{"$f":"I8*1.06","v":4435014.8568000002},4701115.7482080003]
[{"$f":"'Org structure'!E6","v":"1.4 - IDP and PMS"}]
[{"$f":"'Org structure'!E7","v":"1.5 - Internal Audit"}]
[{"$f":"'Org structure'!E8","v":"1.6 - Special Programmes"}]
[{"$f":"'Org structure'!E9","v":0}]
[{"$f":"'Org structure'!E10","v":0}]
[{"$f":"'Org structure'!E11","v":0}]
[{"$f":"'Org structure'!E12","v":0}]
[{"$f":"'Org structure'!A3","v":"Vote 2 - FINANCE AND ADMINISTRATION"},null,{"$f":"SUM(C17:C26)","v":120053686},{"$f":"SUM(D17:D26)","v":132741099},74924160.817028582,78672867.6664,80401686.20654054,80401686.20654054,84247614.689747825,89302471.571132705,94660619.865400672]
[{"$f":"'Org structure'!E14","v":"2.1 - Human Resource"}]
[{"$f":"'Org structure'!E15","v":"2.2 - Records Management"}]
[{"$f":"'Org structure'!E16","v":"2.3 - Legal Services"}]
[{"$f":"'Org structure'!E17","v":"2.4 - Administration"},null,455580,3227527,336367.64142857102,364124.5564,564681.44463314302,564681.44463314302,614135.91691113205,{"$f":"I20*1.06","v":650984.07192580006},690043.11624134809]
[{"$f":"'Org structure'!E18","v":"2.5 - Revenue Management"}]
[{"$f":"'Org structure'!E19","v":"2.6 - Supply Chain Management"}]
[{"$f":"'Org structure'!E20","v":"2.7 - CFO"},null,119598106,129513572,74587793.175600007,78308743.109999999,{"$f":"80390885.9319074-553881.17","v":79837004.761907399},{"$f":"80390885.9319074-553881.17","v":79837004.761907399},{"$f":"84220592.8128367-587114.04","v":83633478.7728367},{"$f":"I23*1.06","v":88651487.499206901},93970576.749159321]
[{"$f":"'Org structure'!E21","v":"2.8 - Director Corporate Services"}]
[{"$f":"'Org structure'!E22","v":"2.9 - Budget and Treasury"}]
[{"$f":"'Org structure'!E23","v":"2.10 - Expenditure"}]
[{"$f":"'Org structure'!A4","v":"Vote 3 - COMMUNITY SERVICES"},null,{"$f":"SUM(C28:C37)","v":12729956},5904839,36274860.520000003,15252626.002235431,17093757.332235433,17093757.332235433,12798569.551169548,13566483.724239722,14380472.747694109]
[{"$f":"'Org structure'!E25","v":"3.1 - Cementry"},null,null,null,21888768.140000001,5330343.3100000005,5465890.0100000007,5465890.0100000007,4654994.0791999996,{"$f":"I28*1.06","v":4934293.723952},5230351.3473891206]
[{"$f":"'Org structure'!E26","v":"3.2 - Parks"}]
[{"$f":"'Org structure'!E27","v":"3.3 - Director Community Services"},null,5614961,1568426,5880223.54,3879422.4222354302,3879422.4222354302,3879422.4222354302,3879918.45196955,{"$f":"I30*1.06","v":4112713.559087723},4359476.3726329869]
[{"$f":"'Org structure'!E28","v":"3.4 - Traffic Services"},null,205404,216310,236700,430000,380000,380000,700000,742000,786520]
[{"$f":"'Org structure'!E29","v":"3.5 - Fire Services"}]
[{"$f":"'Org structure'!E30","v":"3.6 - Sports and Recreation"},null,6909591,4120103,8269168.8400000017,5612860.2699999996,7368444.9000000004,7368444.9000000004,{"$f":"2358237.28+1205419.74","v":3563657.0199999996},{"$f":"I33*1.06","v":3777476.4411999998},4004125.0276719998]
[{"$f":"'Org structure'!E31","v":"3.7 - Libraries"}]
[{"$f":"'Org structure'!E32","v":0}]
[{"$f":"'Org structure'!E33","v":0}]
[{"$f":"'Org structure'!E34","v":0}]
[{"$f":"'Org structure'!A5","v":"Vote 4 - WASTE MANAGEMENT"},null,{"$f":"SUM(C39:C48)","v":14910230},20818636,28749668.018571399,36764201.049999997,31006909.462457202,31006909.462457202,33631527.016400002,35649418.637384005,37788383.755627044]
[{"$f":"'Org structure'!E36","v":"4.1 - Waste Collection"}]
[{"$f":"'Org structure'!E37","v":"4.2 - Solid Waste Disposal"},null,14910230,20818636,28749668.018571399,36764201.049999997,{"$f":"39623932.0024572-8617022.54","v":31006909.462457202},{"$f":"39623932.0024572-8617022.54","v":31006909.462457202},{"$f":"42341025.9064+424545-9134043.89","v":33631527.016400002},{"$f":"I40*1.06","v":35649418.637384005},37788383.755627044]
[{"$f":"'Org structure'!E38","v":"4.3 - Solid Waste Management"}]
[{"$f":"'Org structure'!E39","v":0}]
[{"$f":"'Org structure'!E40","v":0}]
[{"$f":"'Org structure'!E41","v":0}]
[{"$f":"'Org structure'!E42","v":0}]
[{"$f":"'Org structure'!E43","v":0}]
[{"$f":"'Org structure'!E44","v":0}]
[{"$f":"'Org structure'!E45","v":0}]
[{"$f":"'Org structure'!A6","v":"Vote 5 - LOCAL ECONOMIC DEVELOPMENT"},null,{"$f":"SUM(C50:C59)","v":2000},{"$f":"SUM(D50:D59)","v":0},4460159.5599999996,4460159.5599999996,4501443.7085714303,4501443.7085714303,4503920.7574857101,4774156.0029348526,5060605.3631109446]
[{"$f":"'Org structure'!E47","v":"5.1 - SMME Hub"}]
[{"$f":"'Org structure'!E48","v":"5.2 - Tourism"},null,null,null,1701922.28,1701922.28,1701922.28,1701922.28,1701922.28,{"$f":"I51*1.06","v":1804037.6168000002},1912279.8738080002]
[{"$f":"'Org structure'!E49","v":"5.3 - Economic Development"},null,2000,null,2758237.28,2758237.28,2799521.42857143,2799521.42857143,2801998.4774857098,{"$f":"I52*1.06","v":2970118.3861348527},3148325.4893029439]
[{"$f":"'Org structure'!E50","v":0}]
[{"$f":"'Org structure'!E51","v":0}]
[{"$f":"'Org structure'!E52","v":0}]
[{"$f":"'Org structure'!E53","v":0}]
[{"$f":"'Org structure'!E54","v":0}]
[{"$f":"'Org structure'!E55","v":0}]
[{"$f":"'Org structure'!E56","v":0}]
[{"$f":"'Org structure'!A7","v":"Vote 6 - ROADS TRANSPORT"},null,{"$f":"SUM(C61:C70)","v":12309264},{"$f":"SUM(D61:D70)","v":15780460},15928366.73,20835156.669999998,24160232.530000001,24160232.529999997,16561040.800000001,17554703.248000003,18607985.442880005]
[{"$f":"'Org structure'!E58","v":"6.1 - Roads"},null,12309264,15780460,15928366.73,20835156.669999998,{"$f":"24160232.53","v":24160232.530000001},24160232.529999997,{"$f":"7992967.42+8568073.38","v":16561040.800000001},{"$f":"I61*1.06","v":17554703.248000003},18607985.442880005]
[{"$f":"'Org structure'!E59","v":"6.2 - Storm Water"}]
[{"$f":"'Org structure'!E60","v":"6.3 - Director Technical"}]
[{"$f":"'Org structure'!E61","v":0}]
[{"$f":"'Org structure'!E62","v":0}]
[{"$f":"'Org structure'!E63","v":0}]
[{"$f":"'Org structure'!E64","v":0}]
[{"$f":"'Org structure'!E65","v":0}]
[{"$f":"'Org structure'!E66","v":0}]
[{"$f":"'Org structure'!E67","v":0}]
[{"$f":"'Org structure'!A8","v":"Vote 7 - WATER"},null,{"$f":"SUM(C72:C81)","v":62543611},69818760,80958321.849999994,130279857.58999999,105666937.20365702,105666937.20365702,115284010.87262899,122201051.52498673,129533114.61648594]
[{"$f":"'Org structure'!E69","v":"7.1 - WTW Reitz"}]
[{"$f":"'Org structure'!E70","v":"7.2 - WTW Mamafubedu"}]
[{"$f":"'Org structure'!E71","v":"7.3 - WTW Lindley"}]
[{"$f":"'Org structure'!E72","v":"7.4 - WTW Arlington"}]
[{"$f":"'Org structure'!E73","v":"7.5 - Water Network Reitz"}]
[{"$f":"'Org structure'!E74","v":"7.6 - Water Network Mamafubedu"}]
[{"$f":"'Org structure'!E75","v":"7.7 - Water Network Lindley"}]
[{"$f":"'Org structure'!E76","v":"7.8 - Water Network Arlington"}]
[{"$f":"'Org structure'!E77","v":"7.9 - General Water Works"},null,62543611,69818760,80958321.849999994,130279857.58999999,{"$f":"139005284.473657-33338347.27","v":105666937.20365702},{"$f":"139005284.473657-33338347.27","v":105666937.20365702},{"$f":"125597985.082629+24691384.92-35005359.13","v":115284010.87262899},{"$f":"I80*1.06","v":122201051.52498673},129533114.61648594]
[{"$f":"'Org structure'!E78","v":0}]
[{"$f":"'Org structure'!A9","v":"Vote 8 - ELECTRICITY"},null,{"$f":"SUM(C83:C92)","v":45435565},{"$f":"SUM(D83:D92)","v":49324095},53737275.017828599,57572098.600000001,58333258.140228599,58333258.140228599,58620604.3059429,62137840.564299479,65866110.998157449]
[{"$f":"'Org structure'!E80","v":"8.1 - Reitz Electricity"}]
[{"$f":"'Org structure'!E81","v":"8.2 - Mamafubedu Electricity"}]
[{"$f":"'Org structure'!E82","v":"8.3 - Lindley Electricity"}]
[{"$f":"'Org structure'!E83","v":"8.4 - General Electricity Works"},null,45435565,49324095,53737275.017828599,57572098.600000001,{"$f":"60662401.5602286-2329143.42","v":58333258.140228599},{"$f":"60662401.5602286-2329143.42","v":58333258.140228599},{"$f":"59940508.8359429+1547056.65-2866961.18","v":58620604.3059429},{"$f":"I86*1.06","v":62137840.564299479},65866110.998157449]
[{"$f":"'Org structure'!E84","v":0}]
[{"$f":"'Org structure'!E85","v":0}]
[{"$f":"'Org structure'!E86","v":0}]
[{"$f":"'Org structure'!E87","v":0}]
[{"$f":"'Org structure'!E88","v":0}]
[{"$f":"'Org structure'!E89","v":0}]
[{"$f":"'Org structure'!A10","v":"Vote 9 - WASTE WATER"},null,{"$f":"SUM(C94:C103)","v":30862203},{"$f":"SUM(D94:D103)","v":32469467},38874189.257142894,48227020.75,75863616.593858287,75863616.593858287,58816705.562029704,62345707.895751491,66086450.369496584]
[{"$f":"'Org structure'!E91","v":"9.1 - WWTW Reitz"},null,30862203,32469467,38874189.257142894,48227020.75,{"$f":"83251455.1338583-7387838.54","v":75863616.593858287},{"$f":"83251455.1338583-7387838.54","v":75863616.593858287},{"$f":"38083415.2520297+28490520.31-7757230","v":58816705.562029704},{"$f":"I94*1.06","v":62345707.895751491},66086450.369496584]
[{"$f":"'Org structure'!E92","v":"9.2 - Network Reitz"}]
[{"$f":"'Org structure'!E93","v":"9.3 - Network Mamafubedu"}]
[{"$f":"'Org structure'!E94","v":"9.4 - WWTW Mamafubedu"}]
[{"$f":"'Org structure'!E95","v":"9.5 - WWTW Lindley"}]
[{"$f":"'Org structure'!E96","v":"9.6 - Network Lindley"}]
[{"$f":"'Org structure'!E97","v":"9.7 - WWTW Arlington"}]
[{"$f":"'Org structure'!E98","v":"9.8 - Network Arlington"}]
[{"$f":"'Org structure'!E99","v":0}]
[{"$f":"'Org structure'!E100","v":0}]
[{"$f":"'Org structure'!A11","v":"Vote 10 - HOUSING"},null,{"$f":"SUM(C105:C114)","v":0},{"$f":"SUM(D105:D114)","v":0},3877358.4657142898,1862344.18,1862254.17,1862254.17,1862344.18,1974084.8308000001,2092529.9206480002]
[{"$f":"'Org structure'!E102","v":"10.1 - Urban Planning"},null,null,null,3877358.4657142898,1862344.18,{"$f":"1862344.18-90.01","v":1862254.17},{"$f":"1862344.18-90.01","v":1862254.17},1862344.18,{"$f":"I105*1.06","v":1974084.8308000001},2092529.9206480002]
[{"$f":"'Org structure'!E103","v":"10.2 - Housing"}]
[{"$f":"'Org structure'!E104","v":0}]
[{"$f":"'Org structure'!E105","v":0}]
[{"$f":"'Org structure'!E106","v":0}]
[{"$f":"'Org structure'!E107","v":0}]
[{"$f":"'Org structure'!E108","v":0}]
[{"$f":"'Org structure'!E109","v":0}]
[{"$f":"'Org structure'!E110","v":0}]
[{"$f":"'Org structure'!E111","v":0}]
[{"$f":"'Org structure'!A12","v":"Vote 11 - [NAME OF VOTE 11]"},null,{"$f":"SUM(C116:C125)","v":0},{"$f":"SUM(D116:D125)","v":0},0,0,0,0,0,0,0]
[{"$f":"'Org structure'!E113","v":"11.1 - [Name of sub-vote]"}]
[{"$f":"'Org structure'!E114","v":0}]
[{"$f":"'Org structure'!E115","v":0}]
[{"$f":"'Org structure'!E116","v":0}]
[{"$f":"'Org structure'!E117","v":0}]
[{"$f":"'Org structure'!E118","v":0}]
[{"$f":"'Org structure'!E119","v":0}]
[{"$f":"'Org structure'!E120","v":0}]
[{"$f":"'Org structure'!E121","v":0}]
[{"$f":"'Org structure'!E122","v":0}]
[{"$f":"'Org structure'!A13","v":"Vote 12 - [NAME OF VOTE 12]"},null,{"$f":"SUM(C127:C136)","v":0},{"$f":"SUM(D127:D136)","v":0},0,0,0,0,0,0,0]
[{"$f":"'Org structure'!E124","v":"12.1 - [Name of sub-vote]"}]
[{"$f":"'Org structure'!E125","v":0}]
[{"$f":"'Org structure'!E126","v":0}]
[{"$f":"'Org structure'!E127","v":0}]
[{"$f":"'Org structure'!E128","v":0}]
[{"$f":"'Org structure'!E129","v":0}]
[{"$f":"'Org structure'!E130","v":0}]
[{"$f":"'Org structure'!E131","v":0}]
[{"$f":"'Org structure'!E132","v":0}]
[{"$f":"'Org structure'!E133","v":0}]
[{"$f":"'Org structure'!A14","v":"Vote 13 - [NAME OF VOTE 13]"},null,{"$f":"SUM(C138:C147)","v":0},{"$f":"SUM(D138:D147)","v":0},0,0,0,0,0,0,0]
[{"$f":"'Org structure'!E135","v":"13.1 - [Name of sub-vote]"}]
[{"$f":"'Org structure'!E136","v":0}]
[{"$f":"'Org structure'!E137","v":0}]
[{"$f":"'Org structure'!E138","v":0}]
[{"$f":"'Org structure'!E139","v":0}]
[{"$f":"'Org structure'!E140","v":0}]
[{"$f":"'Org structure'!E141","v":0}]
[{"$f":"'Org structure'!E142","v":0}]
[{"$f":"'Org structure'!E143","v":0}]
[{"$f":"'Org structure'!E144","v":0}]
[{"$f":"'Org structure'!A15","v":"Vote 14 - [NAME OF VOTE 14]"},null,{"$f":"SUM(C149:C158)","v":0},{"$f":"SUM(D149:D158)","v":0},0,0,0,0,0,0,0]
[{"$f":"'Org structure'!E146","v":"14.1 - [Name of sub-vote]"}]
[{"$f":"'Org structure'!E147","v":0}]
[{"$f":"'Org structure'!E148","v":0}]
[{"$f":"'Org structure'!E149","v":0}]
[{"$f":"'Org structure'!E150","v":0}]
[{"$f":"'Org structure'!E151","v":0}]
[{"$f":"'Org structure'!E152","v":0}]
[{"$f":"'Org structure'!E153","v":0}]
[{"$f":"'Org structure'!E154","v":0}]
[{"$f":"'Org structure'!E155","v":0}]
[{"$f":"'Org structure'!A16","v":"Vote 15 - [NAME OF VOTE 15]"},null,{"$f":"SUM(C160:C169)","v":0},{"$f":"SUM(D160:D169)","v":0},0,0,0,0,0,0,0]
[{"$f":"'Org structure'!E157","v":"15.1 - [Name of sub-vote]"}]
[{"$f":"'Org structure'!E158","v":0}]
[{"$f":"'Org structure'!E159","v":0}]
[{"$f":"'Org structure'!E160","v":0}]
[{"$f":"'Org structure'!E161","v":0}]
[{"$f":"'Org structure'!E162","v":0}]
[{"$f":"'Org structure'!E163","v":0}]
[{"$f":"'Org structure'!E164","v":0}]
[{"$f":"'Org structure'!E165","v":0}]
[{"$f":"'Org structure'!E166","v":0}]
["Total Revenue by Vote",2,{"$f":"C5+C16+C27+C38+C49+C60+C71+C82+C93+C104+C115+C126+C137+C148+C159","v":298846515},{"$f":"D5+D16+D27+D38+D49+D60+D71+D82+D93+D104+D115+D126+D137+D148+D159","v":326857356},{"$f":"E5+E16+E27+E38+E49+E60+E71+E82+E93+E104+E115+E126+E137+E148+E159","v":357305702.87628573},402472674.70863545,407436437.98754859,407436437.98754859,{"$f":"I5+I16+I27+I38+I49+I60+I71+I82+I93+I104+I115+I126+I137+I148+I159","v":394942680.37540472},418639241.19792897,443757595.66980469,{"$f":"SUM(L78:L81)","v":0},0,0,0,0,0,0,0,0,0,0,0]
[]
["Expenditure by Vote",1]
[{"$f":"A5","v":"Vote 1 - EXECUTIVE AND COUNCIL"},null,{"$f":"SUM(C174:C183)","v":20653305},23465912,26474858.829999994,24701627.694980573,27289615.379213713,27289615.379213713,29513637.12618725,30989318.982496612,32228891.741796479]
[{"$f":"A6","v":"1.1 - Mayor's Office"},null,2225664,2297180,4267895.0199999996,3859738.8366171429,3439666.4950674288,3439666.4950674288,4333743.5258935774,{"$f":"I174*1.05","v":4550430.7021882562},{"$f":"J174*1.04","v":4732447.9302757867}]
["1.2 - Speaker's Office",null,4451329,4594361,10174842.66,10189073.175538285,10553467.659359999,10553467.659359999,11376828.185943775,{"$f":"I175*1.05","v":11945669.595240964},{"$f":"J175*1.04","v":12423496.379050603}]
["1.3 - Municipal Manager's Office",null,13976312,16574371,12032121.149999995,10652815.682825144,13296481.224786285,13296481.224786285,13803065.414349899,{"$f":"I176*1.05","v":14493218.685067395},{"$f":"J176*1.04","v":15072947.432470091}]
["1.4 - IDP and PMS"]
["1.5 - Internal Audit"]
["1.6 - Special Programmes"]
[0]
[0]
[0]
[0]
[{"$f":"A16","v":"Vote 2 - FINANCE AND ADMINISTRATION"},null,{"$f":"SUM(C185:C194)","v":69240855},{"$f":"SUM(D185:D194)","v":99660150},{"$f":"SUM(E185:E194)","v":83824963.649805039},58005917.823289827,66443350.203121662,66443350.203121662,63187352.610152617,66346720.24066025,69000589.050286666]
[{"$f":"A17","v":"2.1 - Human Resource"}]
["2.2 - Records Management"]
["2.3 - Legal Services"]
["2.4 - Administration",null,26052206,62301255,41045559.389805034,27210337.28328982,26354353.684063371,26354353.684063371,25849139.562608019,{"$f":"I188*1.05","v":27141596.540738422},{"$f":"J188*1.04","v":28227260.402367961}]
["2.5 - Revenue Management"]
["2.6 - Supply Chain Management"]
["2.7 - CFO",null,43188649,37358895,42779404.259999998,30795580.540000003,{"$f":"40642877.6890583-553881.17","v":40088996.519058295},{"$f":"40642877.6890583-553881.17","v":40088996.519058295},{"$f":"37925327.0875446-587114.04","v":37338213.047544599},{"$f":"I191*1.05","v":39205123.699921831},{"$f":"J191*1.04","v":40773328.647918709}]
["2.8 - Director Corporate Services"]
["2.9 - Budget and Treasury"]
["2.10 - Expenditure"]
[{"$f":"A27","v":"Vote 3 - COMMUNITY SERVICES"},null,{"$f":"SUM(C196:C205)","v":21660050},14721311,22170020.340000004,24183076.998614859,28340768.544941716,28340768.544941716,29739720.1664,31226706.174720004,32475774.421708804]
["3.1 - Cementry",null,null,null,14342181.600000003,15316716.132032,18056355.274285719,18056355.274285719,18592011.162228569,{"$f":"I196*1.05","v":19521611.720339999},{"$f":"J196*1.04","v":20302476.1891536}]
["3.2 - Parks"]
["3.3 - Director Community Services",null,14296901,8851423,2886019.5999999996,2885617.5052068573,3823844.9399999995,3823844.9399999995,3535585.1625714293,{"$f":"I198*1.05","v":3712364.4207000011},{"$f":"J198*1.04","v":3860858.9975280012}]
["3.4 - Traffic Services",null,7025576,5365900,4466826.7800000012,5385620.826907428,6042193.4628571421,6042193.4628571421,7050500.1253714301,{"$f":"I199*1.05","v":7403025.1316400021},{"$f":"J199*1.04","v":7699146.1369056022}]
["3.5 - Fire Services"]
["3.6 - Sports and Recreation",null,337573,503988,474992.36000000004,595122.53446857142,418374.86779885722,418374.86779885722,561623.71622857137,{"$f":"I201*1.05","v":589704.90203999996},{"$f":"J201*1.04","v":613293.09812159999}]
["3.7 - Libraries"]
[0]
[0]
[0]
["Vote 4 - WASTE MANAGEMENT",null,{"$f":"SUM(C207:C216)","v":30583995},21964528,20520558.489999998,23741857.539999999,23946999.257622801,23946999.257622801,24731365.387257099,25967933.656619955,27006651.002884753]
[{"$f":"A39","v":"4.1 - Waste Collection"}]
["4.2 - Solid Waste Disposal",null,30583995,21964528,20520558.489999998,23741857.539999999,{"$f":"32564021.7976228-8617022.54","v":23946999.257622801},{"$f":"32564021.7976228-8617022.54","v":23946999.257622801},{"$f":"33865409.2772571-9134043.89","v":24731365.387257099},{"$f":"I208*1.05","v":25967933.656619955},{"$f":"J208*1.04","v":27006651.002884753}]
["4.3 - Solid Waste Management"]
[0]
[0]
[0]
[0]
[0]
[0]
[0]
[{"$f":"A49","v":"Vote 5 - LOCAL ECONOMIC DEVELOPMENT"},null,{"$f":"SUM(C218:C227)","v":2058354},8105303,2347814.38,2336215.5179657144,2259843.3171428605,2259843.3171428605,2597181.1696000006,2727040.2280800007,2836121.8372032009]
[{"$f":"A50","v":"5.1 - SMME Hub"}]
["5.2 - Tourism",null,null,null,1067684.7999999998,1123721.7631451432,1095616.8285714318,1095616.8285714318,1272390.0065714289,{"$f":"I219*1.05","v":1336009.5069000004},{"$f":"J219*1.04","v":1389449.8871760005}]
["5.3 - Economic Development",null,2058354,8105303,1280129.58,1212493.7548205715,1164226.4885714287,1164226.4885714287,1324791.1630285715,{"$f":"I220*1.05","v":1391030.7211800001},{"$f":"J220*1.04","v":1446671.9500272002}]
[0]
[0]
[0]
[0]
[0]
[0]
[0]
[{"$f":"A60","v":"Vote 6 - ROADS TRANSPORT"},null,{"$f":"SUM(C229:C238)","v":44964999},48287746,43450394.680000007,48116277.764833033,45399386.062081464,45399386.062081464,47240784.624807887,49602823.856048286,51586936.810290217]
[{"$f":"A61","v":"6.1 - Roads"},null,44964999,48287746,43450394.680000007,48116277.764833033,45399386.062081464,45399386.062081464,47240784.624807887,{"$f":"I229*1.05","v":49602823.856048286},{"$f":"J229*1.04","v":51586936.810290217}]
["6.2 - Storm Water"]
["6.3 - Director Technical"]
[0]
[0]
[0]
[0]
[0]
[0]
[0]
[{"$f":"A71","v":"Vote 7 - WATER"},null,{"$f":"SUM(C240:C249)","v":58910306},58956916,45176037.289999992,56073206.109999999,51586266.550277308,51586266.550277308,54198276.710601293,56908190.546131358,59184518.16797661]
[{"$f":"A72","v":"7.1 - WTW Reitz"}]
["7.2 - WTW Mamafubedu"]
["7.3 - WTW Lindley"]
["7.4 - WTW Arlington"]
["7.5 - Water Network Reitz"]
["7.6 - Water Network Mamafubedu"]
["7.7 - Water Network Lindley"]
["7.8 - Water Network Arlington"]
["7.9 - General Water Works",null,58910306,58956916,45176037.289999992,56073206.109999999,{"$f":"84924703.8202773-33338437.27","v":51586266.550277308},{"$f":"84924703.8202773-33338437.27","v":51586266.550277308},{"$f":"89203635.8406013-35005359.13","v":54198276.710601293},{"$f":"I248*1.05","v":56908190.546131358},{"$f":"J248*1.04","v":59184518.16797661}]
[0]
[{"$f":"A82","v":"Vote 8 - ELECTRICITY"},null,{"$f":"SUM(C251:C260)","v":73308773},69949988,67523586.519999996,71959366.670000002,72665455.4137692,72665455.4137692,75740631.338961393,79527662.905909464,82708769.422145844]
[{"$f":"A83","v":"8.1 - Reitz Electricity"}]
["8.2 - Mamafubedu Electricity"]
["8.3 - Lindley Electricity"]
["8.4 - General Electricity Works",null,73308773,69949988,67523586.519999996,71959366.670000002,{"$f":"74994598.8337692-2329143.42","v":72665455.4137692},{"$f":"74994598.8337692-2329143.42","v":72665455.4137692},{"$f":"78607592.5189614-2866961.18","v":75740631.338961393},{"$f":"I254*1.05","v":79527662.905909464},{"$f":"J254*1.04","v":82708769.422145844}]
[0]
[0]
[0]
[0]
[0]
[0]
["Vote 9 - WASTE WATER",null,{"$f":"SUM(C262:C271)","v":40696948},22440550,22604956.5,25743626.759999998,25950940.904330902,25950940.904330902,26910064.952100396,28255568.199705418,29385790.927693635]
["9.1 - WWTW Reitz",null,40696948,22440550,22604956.5,25743626.759999998,{"$f":"33338779.4443309-7387838.54","v":25950940.904330902},{"$f":"33338779.4443309-7387838.54","v":25950940.904330902},{"$f":"34667295.4121004-7757230.46","v":26910064.952100396},{"$f":"I262*1.05","v":28255568.199705418},{"$f":"J262*1.04","v":29385790.927693635}]
["9.2 - Network Reitz"]
["9.3 - Network Mamafubedu"]
["9.4 - WWTW Mamafubedu"]
["9.5 - WWTW Lindley"]
["9.6 - Network Lindley"]
["9.7 - WWTW Arlington"]
["9.8 - Network Arlington"]
[0]
[0]
[{"$f":"A104","v":"Vote 10 - HOUSING"},null,{"$f":"SUM(C273:C282)","v":833342},604704,2030748.4017540093,2057315.5882102854,2324944.5114285704,2324944.5114285704,2682737.0680571436,2816873.9214600008,2929548.8783184011]
[{"$f":"A105","v":"10.1 - Urban Planning"}]
[{"$f":"A106","v":"10.2 - Housing"},null,833342,604704,2030748.4017540093,2057315.5882102854,{"$f":"2324351.83142857+592.68","v":2324944.5114285704},{"$f":"2324351.83142857+592.68","v":2324944.5114285704},2682737.0680571436,{"$f":"I274*1.05","v":2816873.9214600008},{"$f":"J274*1.04","v":2929548.8783184011}]
[0]
[0]
[0]
[0]
[0]
[0]
[0]
[{"$f":"A114","v":0}]
[{"$f":"A115","v":"Vote 11 - [NAME OF VOTE 11]"},null,{"$f":"SUM(C284:C293)","v":0},0,0,0,0,0,0,0,0]
[{"$f":"A116","v":"11.1 - [Name of sub-vote]"}]
[{"$f":"A117","v":0}]
[0]
[0]
[0]
[0]
[0]
[0]
[0]
[0]
["Vote 12 - [NAME OF VOTE 12]",null,{"$f":"SUM(C295:C304)","v":0},0,0,0,0,0,0,0,0]
["12.1 - [Name of sub-vote]"]
[0]
[0]
[0]
[0]
[0]
[0]
[0]
[0]
[0]
["Vote 13 - [NAME OF VOTE 13]",null,{"$f":"SUM(C306:C315)","v":0},0,0,0,0,0,0,0,0]
["13.1 - [Name of sub-vote]"]
[0]
[0]
[0]
[0]
[0]
[0]
[0]
[0]
[0]
["Vote 14 - [NAME OF VOTE 14]",null,{"$f":"SUM(C317:C326)","v":0},0,0,0,0,0,0,0,0]
["14.1 - [Name of sub-vote]"]
[0]
[0]
[0]
[0]
[0]
[0]
[0]
[0]
[0]
["Vote 15 - [NAME OF VOTE 15]",null,{"$f":"SUM(C328:C337)","v":0},0,0,0,0,0,0,0,0]
["15.1 - [Name of sub-vote]"]
[0]
[0]
[0]
[0]
[0]
[0]
[0]
[0]
[0]
["Total Expenditure by Vote",2,{"$f":"C173+C184+C195+C206+C217+C228+C239+C250+C261+C283+C294+C305+C316+C327+C272","v":362910927},{"$f":"D173+D184+D195+D206+D217+D228+D239+D250+D261+D283+D294+D305+D316+D327+D272","v":368157108},{"$f":"E173+E184+E195+E206+E217+E228+E239+E250+E261+E283+E294+E305+E316+E327+E272","v":336123939.08155906},336918488.46789432,346207570.14393026,346207570.14393026,356541751.15412509,374368838.71183133,389343592.26030469,{"$f":"SUM(L173:L249)","v":0},0,0,0,0,0,0,0,0,0,0,0]
[]
[{"$f":"result","v":"Surplus/(Deficit) for the year"},2,{"$f":"C170-C338","v":-64064412},-41299752,21181763.79472667,65554186.240741134,61228867.843618333,61228867.843618333,38400929.221279621,44270402.486097634,54414003.409500003,0,0,0,0,0,0,0,0,0,0,0,0]
[{"$f":"head27a","v":"References"}]
["1. Insert 'Vote'; e.g. Department, if different to Functional structure"]
["2. Must reconcile to Financial Performance ('Revenue and Expenditure by Functional Classification' and 'Revenue and Expenditure')"]
["3. Assign share in 'associate' to relevant Vote"]
[]
["check revenue",null,{"$f":"C170-'A4-FinPerf RE'!C59","v":0},{"$f":"D170-'A4-FinPerf RE'!D59","v":0},{"$f":"E170-'A4-FinPerf RE'!E59","v":0.3627428412437439},{"$f":"F170-'A4-FinPerf RE'!F59","v":-1.1478722095489502E-2},{"$f":"G170-'A4-FinPerf RE'!G59","v":-3.1120181083679199E-3},{"$f":"H170-'A4-FinPerf RE'!H59","v":-3.1120181083679199E-3},{"$f":"I170-'A4-FinPerf RE'!J59","v":-2080200.6348739862},{"$f":"J170-'A4-FinPerf RE'!K59","v":-2205012.6729665399},{"$f":"K170-'A4-FinPerf RE'!L59","v":-2337313.433344543}]
["check expenditure",null,{"$f":"C338-'A4-FinPerf RE'!C35","v":0},{"$f":"D338-'A4-FinPerf RE'!D35","v":0},{"$f":"E338-'A4-FinPerf RE'!E35","v":-2.7266740798950195E-3},{"$f":"F338-'A4-FinPerf RE'!F35","v":-7.1352124214172363E-3},{"$f":"G338-'A4-FinPerf RE'!G35","v":-4.1154623031616211E-3},{"$f":"H338-'A4-FinPerf RE'!H35","v":-4.1154623031616211E-3},{"$f":"I338-'A4-FinPerf RE'!J35","v":-448499.9949144125},{"$f":"J338-'A4-FinPerf RE'!K35","v":-470924.99466013908},{"$f":"K338-'A4-FinPerf RE'!L35","v":-489761.99444645643}]

{"sheet":"A4-FinPerf RE","index":11,"n_rows":59,"n_cols":24,"rows_kept":59,"cut":false,"hidden":false,"merged":[[1,12,1,23],[1,9,1,11],[1,5,1,8]]}
[{"$f":"muni&\" - \"&Approve4","v":"FS193 Nketoana - Table A4 Budgeted Financial Performance (revenue and expenditure)"}]
[{"$f":"desc","v":"Description"},{"$f":"head27","v":"Ref"},{"$f":"head1b","v":"2014/15"},{"$f":"head1A","v":"2015/16"},{"$f":"Head1","v":"2016/17"},{"$f":"Head2","v":"Current Year 2017/18"},null,null,null,{"$f":"Head3","v":"2018/19 Medium Term Revenue & Expenditure Framework"},null,null,{"$f":"Head4","v":"LTFS"}]
["R thousand",1,{"$f":"Head5","v":"Audited Outcome"},{"$f":"Head5","v":"Audited Outcome"},{"$f":"Head5","v":"Audited Outcome"},{"$f":"Head6","v":"Original Budget"},{"$f":"Head7","v":"Adjusted Budget"},{"$f":"Head8","v":"Full Year Forecast"},{"$f":"Head5b","v":"Pre-audit outcome"},{"$f":"Head9","v":"Budget Year 2018/19"},{"$f":"Head10","v":"Budget Year +1 2019/20"},{"$f":"Head11","v":"Budget Year +2 2020/21"},{"$f":"Head12","v":"Forecast 2021/22"},{"$f":"Head13","v":"Forecast 2022/23"},{"$f":"Head14","v":"Forecast 2023/24"},{"$f":"Head15","v":"Forecast 2024/25"},{"$f":"Head16","v":"Forecast 2025/26"},{"$f":"Head17","v":"Forecast 2026/27"},{"$f":"Head18","v":"Forecast 2027/28"},{"$f":"Head19","v":"Forecast 2028/29"},{"$f":"Head20","v":"Forecast 2029/30"},{"$f":"Head21","v":"Forecast 2030/31"},{"$f":"Head22","v":"Forecast 2031/32"},{"$f":"Head23","v":"Forecast 2032/33"}]
["Revenue By Source"]
["Property rates",2,{"$f":"'SA1'!C9","v":15835059},{"$f":"'SA1'!D9","v":16612976},{"$f":"'SA1'!E9","v":19537745.909999993},{"$f":"'SA1'!F9","v":20340678.0886629},19875809.385805752,19875809.385805752,19875809.385805752,{"$f":"'SA1'!J9","v":21272654.854526442},{"$f":"'SA1'!K9","v":22549014.145798028},{"$f":"'SA1'!L9","v":23901954.994545911}]
["Service charges - electricity revenue",2,{"$f":"'SA1'!C15","v":41780565},{"$f":"'SA1'!D15","v":46084095},{"$f":"'SA1'!E15","v":49523648.539999999},{"$f":"'SA1'!F15","v":49940173.369371429},50562788.320388526,50562788.320388526,50562788.320388526,{"$f":"'SA1'!J15","v":53727405.786857098},{"$f":"'SA1'!K15","v":56951050.134068534},{"$f":"'SA1'!L15","v":60368113.142112643}]
["Service charges - water revenue",2,{"$f":"'SA1'!C21","v":38736065},{"$f":"'SA1'!D21","v":44260561},{"$f":"'SA1'!E21","v":47531660.660000004},{"$f":"'SA1'!F21","v":51324389.062690303},52064183.67428568,52064183.67428568,52064183.67428568,{"$f":"'SA1'!J21","v":56375445.276857205},{"$f":"'SA1'!K21","v":59757971.993468635},{"$f":"'SA1'!L21","v":63343450.313076757}]
["Service charges - sanitation revenue",2,{"$f":"'SA1'!C27","v":15902118},{"$f":"'SA1'!D27","v":19500461},{"$f":"'SA1'!E27","v":20313173.080000002},{"$f":"'SA1'!F27","v":21134998.303926889},21179679.462857142,21179679.462857142,21179679.462857142,{"$f":"'SA1'!J27","v":22810013.796},{"$f":"'SA1'!K27","v":24178614.62376},{"$f":"'SA1'!L27","v":25629331.501185596}]
["Service charges - refuse revenue",2,{"$f":"'SA1'!C34","v":14836937},{"$f":"'SA1'!D34","v":18505722},{"$f":"'SA1'!E34","v":19401805.02},{"$f":"'SA1'!F34","v":20169485.9634789},20658821.468571447,20658821.468571447,20658821.468571447,{"$f":"'SA1'!J34","v":22191109.19674287},{"$f":"'SA1'!K34","v":23522575.748547442},{"$f":"'SA1'!L34","v":24933930.293460287}]
["Service charges - other"]
["Rental of facilities and equipment",null,356580,331864,362559.74,393185.59700800001,577775.281154286,577775.281154286,577775.281154286,618219.55083508603,{"$f":"J11*1.06","v":655312.72388519126},694631.48731830274]
["Interest earned - external investments",null,583166,1101572,1202536.78,1303833.3567428601,1303833.3567428601,1303833.3567428601,1303833.3567428601,1395101.69171486,1478807.7932177517,1567536.2608108169]
["Interest earned - outstanding debtors",null,20201160,24391914,36727276.259999998,39421351.632449999,39440262.634285703,39440262.634285703,39440262.634285703,42201081.018685699,44733145.879806846,47417134.632595256]
["Dividends received",null,null,null,null,null,0,0,0,null,0,0]
["Fines, penalties and forfeits",null,205404,216310,236700,330000,330000,330000,330000,650000,689000,730340]
["Licences and permits",null,null,null,null,null,0,0,0,null,0,0]
["Agency services",null,null,null,null,null,0,0,0,null,0,0]
["Transfers and subsidies",null,82878721,85568721,81702000,82580000.0044,82580000.0044,82580000.0044,82580000.0044,90366999.997428596,95789019.997274309,101536361.19711077]
["Other revenue",2,{"$f":"'SA1'!C49","v":5373806},{"$f":"'SA1'!D49","v":10418473},{"$f":"'SA1'!E49","v":16548596.5235429},{"$f":"'SA1'!F49","v":16773579.341382857},20102284.402169142,20102284.402169142,20102284.402169142,{"$f":"'SA1'!J49","v":20487849.840630908},{"$f":"'SA1'!K49","v":21717120.831068758},{"$f":"'SA1'!L49","v":23020148.080932889}]
["Gains on disposal of PPE"]
["Total Revenue (excluding capital transfers and contributions)",null,{"$f":"SUM(C5:C20)","v":236689581},266992669,293087702.51354289,303711674.72011417,308675437.99066061,308675437.99066061,308675437.99066061,332095881.0102787,352021633.8708955,373142931.90314925,0,0,0,0,0,0,0,0,0,0,0,0]
[]
["Expenditure By Type"]
["Employee related costs",2,{"$f":"'SA1'!C67","v":74798709},{"$f":"'SA1'!D67","v":80810390},{"$f":"'SA1'!E67","v":86156238.959999993},{"$f":"'SA1'!F67","v":93590545.786523402},97962608.540980563,97962608.540980563,97962608.540980563,{"$f":"'SA1'!J67","v":105019841.40257849},{"$f":"'SA1'!K67","v":110270833.47270742},{"$f":"'SA1'!L67","v":114681666.81161571}]
["Remuneration of councillors",null,6676993,6891541,8749575.6799999978,9083084.9921554271,9501709.2168411426,9501709.2168411426,9501709.2168411426,10166194.691837352,{"$f":"J25*1.05","v":10674504.42642922},{"$f":"K25*1.04","v":11101484.603486389}]
["Debt impairment",3,108567852,83419298,40340358.030000001,49930820.359199993,54965937.252000004,54965937.252000004,54965937.252000004,55027045.741714284,{"$f":"J26*1.05","v":57778398.028800003},{"$f":"K26*1.04","v":60089533.949952006}]
["Depreciation & asset impairment",2,{"$f":"'SA1'!C83","v":57015081},{"$f":"'SA1'!D83","v":58502541},{"$f":"'SA1'!E83","v":58502541},{"$f":"'SA1'!F83","v":59672591.820000008},58872591.820000008,58872591.820000008,58872591.820000008,{"$f":"'SA1'!J83","v":58872591.820000008},{"$f":"'SA1'!K83","v":61816221.411000013},{"$f":"'SA1'!L83","v":64288870.267440014}]
["Finance charges",null,8338647,10202243,17575034.34,17835802.793925434,17835802.793925434,17835802.793925434,17835802.793925434,17845133.115040358,{"$f":"J28*1.05","v":18737389.770792376},{"$f":"K28*1.04","v":19486885.361624073}]
["Bulk purchases",2,{"$f":"'SA1'!C88","v":38934748},{"$f":"'SA1'!D88","v":43817910},{"$f":"'SA1'!E88","v":55382957.859999999},{"$f":"'SA1'!F88","v":50455517.467767999},50455517.467767999,50455517.467767999,50455517.467767999,{"$f":"'SA1'!J88","v":53861421.334211878},{"$f":"'SA1'!K88","v":56554492.400922477},{"$f":"'SA1'!L88","v":58816672.096959375}]
["Other materials",8,15404523,18427332,9564144.5714285709,10187870,8754755.4399999995,8754755.4399999995,8754755.4399999995,9010000,{"$f":"J30*1.05","v":9460500},{"$f":"K30*1.04","v":9838920}]
["Contracted services",null,{"$f":"'SA1'!C127","v":10758689},{"$f":"'SA1'!D127","v":11399862},{"$f":"'SA1'!E127","v":6767735.3028571429},{"$f":"'SA1'!F127","v":9163485.6099999994},6773494.6899999995,6773494.6899999995,6773494.6899999995,{"$f":"'SA1'!J127","v":7130000},{"$f":"'SA1'!K127","v":7486500},{"$f":"'SA1'!L127","v":7785960}]
["Transfers and subsidies",null,{"$f":"'SA1'!C93","v":0},{"$f":"'SA1'!D93","v":0},{"$f":"'SA1'!E93","v":0},{"$f":"'SA1'!F93","v":0},0,0,0,{"$f":"'SA1'!J93","v":0},{"$f":"'SA1'!K93","v":0},{"$f":"'SA1'!L93","v":0}]
["Other expenditure","4, 5",{"$f":"'SA1'!C157","v":42415685},{"$f":"'SA1'!D157","v":54685991},{"$f":"'SA1'!E157","v":53085353.339999996},{"$f":"'SA1'!F157","v":36998769.645457283},41085152.926530614,41085152.926530614,41085152.926530614,{"$f":"'SA1'!J157","v":40058023.043657139},{"$f":"'SA1'!K157","v":42060924.195840001},{"$f":"'SA1'!L157","v":43743361.163673602}]
["Loss on disposal of PPE",null,null,null,null,null,0,0,0]
["Total Expenditure",null,{"$f":"SUM(C24:C34)","v":362910927},{"$f":"SUM(D24:D34)","v":368157108},336123939.08428574,336918488.47502953,346207570.14804572,346207570.14804572,346207570.14804572,356990251.14903951,374839763.70649147,389833354.25475115,{"$f":"SUM(M24:M34)","v":0},0,0,0,0,0,0,0,0,0,0,0]
[]
["Surplus/(Deficit)",null,{"$f":"C21-C35","v":-126221346},-101164439,-43036236.570742846,-33206813.754915357,-37532132.157385111,-37532132.157385111,-37532132.157385111,-24894370.138760805,-22818129.835595965,-16690422.351601899,{"$f":"M21+M35","v":0},0,0,0,0,0,0,0,0,0,0,0]
["Transfers and subsidies - capital (monetary allocations) (National / Provincial and District)",null,62156934,59864687,64218000,98761000,98761000,98761000,98761000,64927000,{"$f":"J38*1.06","v":68822620},72951977.200000003]
["Transfers and subsidies - capital (monetary allocations) (National / Provincial Departmental Agencies, Households, Non-profit Institutions, Private Enterprises, Public Corporatons, Higher Educational Institutions)",6,{"$f":"'SA1'!C76","v":0},{"$f":"'SA1'!D76","v":0},{"$f":"'SA1'!E76","v":0},{"$f":"'SA1'!F76","v":0},{"$f":"'SA1'!G76","v":0},{"$f":"'SA1'!H76","v":0},{"$f":"'SA1'!I76","v":0},{"$f":"'SA1'!J76","v":0},{"$f":"'SA1'!K76","v":0},{"$f":"'SA1'!L76","v":0}]
["Transfers and subsidies - capital (in-kind - all) "]
["Surplus/(Deficit) after capital transfers & contributions",null,{"$f":"SUM(C37:C40)","v":-64064412},-41299752,21181763.429257154,65554186.245084643,61228867.842614889,61228867.842614889,61228867.842614889,40032629.861239195,46004490.164404035,56261554.848398104]
["Taxation"]
["Surplus/(Deficit) after taxation",null,{"$f":"C41-C42","v":-64064412},-41299752,21181763.429257154,65554186.245084643,61228867.842614889,61228867.842614889,61228867.842614889,40032629.861239195,46004490.164404035,56261554.848398104]
["Attributable to minorities"]
["Surplus/(Deficit) attributable to municipality",null,{"$f":"SUM(C43:C44)","v":-64064412},-41299752,21181763.429257154,65554186.245084643,61228867.842614889,61228867.842614889,61228867.842614889,40032629.861239195,46004490.164404035,56261554.848398104]
["Share of surplus/ (deficit) of associate",7]
[{"$f":"result","v":"Surplus/(Deficit) for the year"},null,{"$f":"SUM(C45:C46)","v":-64064412},-41299752,21181763.429257154,65554186.245084643,61228867.842614889,61228867.842614889,61228867.842614889,40032629.861239195,46004490.164404035,56261554.848398104,{"$f":"M25+M46","v":0},0,0,0,0,0,0,0,0,0,0,0]
[{"$f":"head27a","v":"References"}]
["1. Classifications are revenue sources and expenditure type"]
["2. Detail to be provided in Table SA1"]
["3. Previously described as 'bad or doubtful debts' - amounts shown should reflect the change in the provision for debt impairment"]
["4. Expenditure type components previously shown under repairs and maintenance should be allocated back to the originating expenditure group/item; e.g. employee costs"]
["5. Repairs & maintenance detailed in Table A9 and Table SA34c"]
["6. Contributions are funds provided by external organisations to assist with infrastructure development; e.g. developer contributions (detail to be provided in Table SA1)"]
["7. Equity method ( Includes Joint Ventures)"]
["8. All materials not part of 'bulk' e.g  road making materials, pipe, cable etc."]
["check balance",null,{"$f":"C45-'A3-FinPerf V'!C39","v":0},{"$f":"D45-'A3-FinPerf V'!D39","v":0},{"$f":"E45-'A3-FinPerf V'!E39","v":-0.36546951532363892},{"$f":"F45-'A3-FinPerf V'!F39","v":4.3435096740722656E-3},{"$f":"G45-'A3-FinPerf V'!G39","v":-1.0034441947937012E-3},{"$f":"H45-'A3-FinPerf V'!H39","v":-1.0034441947937012E-3},null,{"$f":"J45-'A3-FinPerf V'!I39","v":1631700.6399595737},{"$f":"K45-'A3-FinPerf V'!J39","v":1734087.6783064008},{"$f":"L45-'A3-FinPerf V'!K39","v":1847551.4388981014}]
[]
["Total revenue",null,{"$f":"C21+SUM(C38:C40)","v":298846515},326857356,357305702.51354289,402472674.72011417,407436437.99066061,407436437.99066061,407436437.99066061,{"$f":"J21+SUM(J38:J40)","v":397022881.0102787},420844253.8708955,446094909.10314924]

{"sheet":"A5-Capex","index":12,"n_rows":85,"n_cols":12,"rows_kept":85,"cut":false,"hidden":false,"merged":[[1,9,1,11],[1,5,1,8],[82,0,82,11],[77,0,77,11],[76,0,76,11],[78,0,78,11]]}
[{"$f":"muni&\" - \"&Approve5","v":"FS193 Nketoana - Table A5 Budgeted Capital Expenditure by vote, functional classification and funding"}]
[{"$f":"Vdesc","v":"Vote Description"},{"$f":"head27","v":"Ref"},{"$f":"head1b","v":"2014/15"},{"$f":"head1A","v":"2015/16"},{"$f":"Head1","v":"2016/17"},{"$f":"Head2","v":"Current Year 2017/18"},null,null,null,{"$f":"Head3","v":"2018/19 Medium Term Revenue & Expenditure Framework"}]
["R thousand",1,{"$f":"Head5","v":"Audited Outcome"},{"$f":"Head5","v":"Audited Outcome"},{"$f":"Head5","v":"Audited Outcome"},{"$f":"Head6","v":"Original Budget"},{"$f":"Head7","v":"Adjusted Budget"},{"$f":"Head8","v":"Full Year Forecast"},{"$f":"Head5b","v":"Pre-audit outcome"},{"$f":"Head9","v":"Budget Year 2018/19"},{"$f":"Head10","v":"Budget Year +1 2019/20"},{"$f":"Head11","v":"Budget Year +2 2020/21"}]
["Capital expenditure - Vote"]
["Multi-year expenditure  to be appropriated",2]
[{"$f":"A5A!A6","v":"Vote 1 - EXECUTIVE AND COUNCIL"},null,{"$f":"A5A!C6","v":0},{"$f":"A5A!D6","v":0},{"$f":"A5A!E6","v":0},{"$f":"A5A!F6","v":0},{"$f":"A5A!G6","v":0},{"$f":"A5A!H6","v":0},{"$f":"A5A!I6","v":0},{"$f":"A5A!J6","v":0},{"$f":"A5A!K6","v":0},{"$f":"A5A!L6","v":0}]
[{"$f":"A5A!A17","v":"Vote 2 - FINANCE AND ADMINISTRATION"},null,{"$f":"A5A!C17","v":0},{"$f":"A5A!D17","v":0},{"$f":"A5A!E17","v":0},{"$f":"A5A!F17","v":0},{"$f":"A5A!G17","v":0},{"$f":"A5A!H17","v":0},{"$f":"A5A!I17","v":0},{"$f":"A5A!J17","v":0},{"$f":"A5A!K17","v":0},{"$f":"A5A!L17","v":0}]
[{"$f":"A5A!A28","v":"Vote 3 - COMMUNITY SERVICES"},null,{"$f":"A5A!C28","v":0},{"$f":"A5A!D28","v":0},{"$f":"A5A!E28","v":0},{"$f":"A5A!F28","v":0},{"$f":"A5A!G28","v":0},{"$f":"A5A!H28","v":0},{"$f":"A5A!I28","v":0},{"$f":"A5A!J28","v":0},{"$f":"A5A!K28","v":0},{"$f":"A5A!L28","v":0}]
[{"$f":"A5A!A39","v":"Vote 4 - WASTE MANAGEMENT"},null,{"$f":"A5A!C39","v":0},{"$f":"A5A!D39","v":0},{"$f":"A5A!E39","v":0},{"$f":"A5A!F39","v":0},{"$f":"A5A!G39","v":0},{"$f":"A5A!H39","v":0},{"$f":"A5A!I39","v":0},{"$f":"A5A!J39","v":0},{"$f":"A5A!K39","v":0},{"$f":"A5A!L39","v":0}]
[{"$f":"A5A!A50","v":"Vote 5 - LOCAL ECONOMIC DEVELOPMENT"},null,{"$f":"A5A!C50","v":0},{"$f":"A5A!D50","v":0},{"$f":"A5A!E50","v":0},{"$f":"A5A!F50","v":0},{"$f":"A5A!G50","v":0},{"$f":"A5A!H50","v":0},{"$f":"A5A!I50","v":0},{"$f":"A5A!J50","v":0},{"$f":"A5A!K50","v":0},{"$f":"A5A!L50","v":0}]
[{"$f":"A5A!A61","v":"Vote 6 - ROADS TRANSPORT"},null,{"$f":"A5A!C61","v":0},{"$f":"A5A!D61","v":0},{"$f":"A5A!E61","v":0},{"$f":"A5A!F61","v":0},{"$f":"A5A!G61","v":0},{"$f":"A5A!H61","v":0},{"$f":"A5A!I61","v":0},{"$f":"A5A!J61","v":0},{"$f":"A5A!K61","v":0},{"$f":"A5A!L61","v":0}]
[{"$f":"A5A!A72","v":"Vote 7 - WATER"},null,{"$f":"A5A!C72","v":0},{"$f":"A5A!D72","v":0},{"$f":"A5A!E72","v":0},{"$f":"A5A!F72","v":0},{"$f":"A5A!G72","v":0},{"$f":"A5A!H72","v":0},{"$f":"A5A!I72","v":0},{"$f":"A5A!J72","v":0},{"$f":"A5A!K72","v":0},{"$f":"A5A!L72","v":0}]
[{"$f":"A5A!A83","v":"Vote 8 - ELECTRICITY"},null,{"$f":"A5A!C83","v":0},{"$f":"A5A!D83","v":0},{"$f":"A5A!E83","v":0},{"$f":"A5A!F83","v":0},{"$f":"A5A!G83","v":0},{"$f":"A5A!H83","v":0},{"$f":"A5A!I83","v":0},{"$f":"A5A!J83","v":0},{"$f":"A5A!K83","v":0},{"$f":"A5A!L83","v":0}]
[{"$f":"A5A!A94","v":"Vote 9 - WASTE WATER"},null,{"$f":"A5A!C94","v":0},{"$f":"A5A!D94","v":0},{"$f":"A5A!E94","v":0},{"$f":"A5A!F94","v":0},{"$f":"A5A!G94","v":0},{"$f":"A5A!H94","v":0},{"$f":"A5A!I94","v":0},{"$f":"A5A!J94","v":0},{"$f":"A5A!K94","v":0},{"$f":"A5A!L94","v":0}]
[{"$f":"A5A!A105","v":"Vote 10 - HOUSING"},null,{"$f":"A5A!C105","v":0},{"$f":"A5A!D105","v":0},{"$f":"A5A!E105","v":0},{"$f":"A5A!F105","v":0},{"$f":"A5A!G105","v":0},{"$f":"A5A!H105","v":0},{"$f":"A5A!I105","v":0},{"$f":"A5A!J105","v":0},{"$f":"A5A!K105","v":0},{"$f":"A5A!L105","v":0}]
[{"$f":"A5A!A116","v":"Vote 11 - [NAME OF VOTE 11]"},null,{"$f":"A5A!C116","v":0},{"$f":"A5A!D116","v":0},{"$f":"A5A!E116","v":0},{"$f":"A5A!F116","v":0},{"$f":"A5A!G116","v":0},{"$f":"A5A!H116","v":0},{"$f":"A5A!I116","v":0},{"$f":"A5A!J116","v":0},{"$f":"A5A!K116","v":0},{"$f":"A5A!L116","v":0}]
[{"$f":"A5A!A127","v":"Vote 12 - [NAME OF VOTE 12]"},null,{"$f":"A5A!C127","v":0},{"$f":"A5A!D127","v":0},{"$f":"A5A!E127","v":0},{"$f":"A5A!F127","v":0},{"$f":"A5A!G127","v":0},{"$f":"A5A!H127","v":0},{"$f":"A5A!I127","v":0},{"$f":"A5A!J127","v":0},{"$f":"A5A!K127","v":0},{"$f":"A5A!L127","v":0}]
[{"$f":"A5A!A138","v":"Vote 13 - [NAME OF VOTE 13]"},null,{"$f":"A5A!C138","v":0},{"$f":"A5A!D138","v":0},{"$f":"A5A!E138","v":0},{"$f":"A5A!F138","v":0},{"$f":"A5A!G138","v":0},{"$f":"A5A!H138","v":0},{"$f":"A5A!I138","v":0},{"$f":"A5A!J138","v":0},{"$f":"A5A!K138","v":0},{"$f":"A5A!L138","v":0}]
[{"$f":"A5A!A149","v":"Vote 14 - [NAME OF VOTE 14]"},null,{"$f":"A5A!C149","v":0},{"$f":"A5A!D149","v":0},{"$f":"A5A!E149","v":0},{"$f":"A5A!F149","v":0},{"$f":"A5A!G149","v":0},{"$f":"A5A!H149","v":0},{"$f":"A5A!I149","v":0},{"$f":"A5A!J149","v":0},{"$f":"A5A!K149","v":0},{"$f":"A5A!L149","v":0}]
[{"$f":"A5A!A160","v":"Vote 15 - [NAME OF VOTE 15]"},null,{"$f":"A5A!C160","v":0},{"$f":"A5A!D160","v":0},{"$f":"A5A!E160","v":0},{"$f":"A5A!F160","v":0},{"$f":"A5A!G160","v":0},{"$f":"A5A!H160","v":0},{"$f":"A5A!I160","v":0},{"$f":"A5A!J160","v":0},{"$f":"A5A!K160","v":0},{"$f":"A5A!L160","v":0}]
["Capital multi-year expenditure sub-total",7,{"$f":"SUM(C6:C20)","v":0},{"$f":"SUM(D6:D20)","v":0},0,0,0,{"$f":"SUM(H6:H20)","v":0},0,0,0,0]
[]
["Single-year expenditure to be appropriated",2]
[{"$f":"A6","v":"Vote 1 - EXECUTIVE AND COUNCIL"},null,{"$f":"A5A!C175","v":0},{"$f":"A5A!D175","v":0},{"$f":"A5A!E175","v":0},{"$f":"A5A!F175","v":0},{"$f":"A5A!G175","v":0},{"$f":"A5A!H175","v":0},{"$f":"A5A!I175","v":0},{"$f":"A5A!J175","v":0},{"$f":"A5A!K175","v":0},{"$f":"A5A!L175","v":0}]
[{"$f":"A7","v":"Vote 2 - FINANCE AND ADMINISTRATION"},null,{"$f":"A5A!C186","v":8929961},{"$f":"A5A!D186","v":7753889},{"$f":"A5A!E186","v":0},{"$f":"A5A!F186","v":0},{"$f":"A5A!G186","v":0},{"$f":"A5A!H186","v":0},{"$f":"A5A!I186","v":0},{"$f":"A5A!J186","v":0},{"$f":"A5A!K186","v":0},{"$f":"A5A!L186","v":0}]
["Vote 3 - COMMUNITY SERVICES",null,{"$f":"A5A!C197","v":0},{"$f":"A5A!D197","v":0},{"$f":"A5A!E197","v":16300177.48},{"$f":"A5A!F197","v":4109190.6},{"$f":"A5A!G197","v":5864775.2300000004},{"$f":"A5A!H197","v":5864775.2300000004},{"$f":"A5A!I197","v":5864775.2300000004},{"$f":"A5A!J197","v":1205419.74},{"$f":"A5A!K197","v":1277744.9244000001},{"$f":"A5A!L197","v":1354409.6198640002}]
["Vote 4 - WASTE MANAGEMENT",null,{"$f":"A5A!C208","v":1516178},{"$f":"A5A!D208","v":8942785},{"$f":"A5A!E208","v":376200},{"$f":"A5A!F208","v":7690155},{"$f":"A5A!G208","v":386370.00999999978},{"$f":"A5A!H208","v":386370.00999999978},{"$f":"A5A!I208","v":386370.00999999978},{"$f":"A5A!J208","v":424545},{"$f":"A5A!K208","v":450017.7},{"$f":"A5A!L208","v":477018.76200000005}]
["Vote 5 - LOCAL ECONOMIC DEVELOPMENT",null,{"$f":"A5A!C219","v":0},{"$f":"A5A!D219","v":0},{"$f":"A5A!E219","v":0},{"$f":"A5A!F219","v":0},{"$f":"A5A!G219","v":0},{"$f":"A5A!H219","v":0},{"$f":"A5A!I219","v":0},{"$f":"A5A!J219","v":0},{"$f":"A5A!K219","v":0},{"$f":"A5A!L219","v":0}]
["Vote 6 - ROADS TRANSPORT",null,{"$f":"A5A!C230","v":11094273},{"$f":"A5A!D230","v":12648409},{"$f":"A5A!E230","v":5127377.7300000004},{"$f":"A5A!F230","v":13833065.620000001},{"$f":"A5A!G230","v":17158141.479999997},{"$f":"A5A!H230","v":17158141.479999997},{"$f":"A5A!I230","v":17158141.479999997},{"$f":"A5A!J230","v":8568073.3800000008},{"$f":"A5A!K230","v":9082157.782800002},{"$f":"A5A!L230","v":9627087.249768002}]
["Vote 7 - WATER",null,{"$f":"A5A!C241","v":14597433},{"$f":"A5A!D241","v":19660506},{"$f":"A5A!E241","v":32010790.849999998},{"$f":"A5A!F241","v":47849485.739999995},{"$f":"A5A!G241","v":47849485.739999995},{"$f":"A5A!H241","v":47849485.739999995},{"$f":"A5A!I241","v":47849485.739999995},{"$f":"A5A!J241","v":24691384.919999998},{"$f":"A5A!K241","v":26172868.0152},{"$f":"A5A!L241","v":27743240.096112002}]
["Vote 8 - ELECTRICITY",null,{"$f":"A5A!C252","v":5300000},{"$f":"A5A!D252","v":2842188},{"$f":"A5A!E252","v":0},{"$f":"A5A!F252","v":5000000},{"$f":"A5A!G252","v":5000000},{"$f":"A5A!H252","v":5000000},{"$f":"A5A!I252","v":5000000},{"$f":"A5A!J252","v":1547056.65},{"$f":"A5A!K252","v":1639880.0489999999},{"$f":"A5A!L252","v":1738272.85194}]
["Vote 9 - WASTE WATER",null,{"$f":"A5A!C263","v":4160116},{"$f":"A5A!D263","v":7728815},{"$f":"A5A!E263","v":10403453.939999999},{"$f":"A5A!F263","v":20279103.039999999},{"$f":"A5A!G263","v":22502227.549999997},{"$f":"A5A!H263","v":22502227.549999997},{"$f":"A5A!I263","v":22502227.549999997},{"$f":"A5A!J263","v":28490520.309999999},{"$f":"A5A!K263","v":30199951.5286},{"$f":"A5A!L263","v":32011948.620316003}]
["Vote 10 - HOUSING",null,{"$f":"A5A!C274","v":0},{"$f":"A5A!D274","v":0},{"$f":"A5A!E274","v":0},{"$f":"A5A!F274","v":0},{"$f":"A5A!G274","v":0},{"$f":"A5A!H274","v":0},{"$f":"A5A!I274","v":0},{"$f":"A5A!J274","v":0},{"$f":"A5A!K274","v":0},{"$f":"A5A!L274","v":0}]
["Vote 11 - [NAME OF VOTE 11]",null,{"$f":"A5A!C285","v":0},{"$f":"A5A!D285","v":0},{"$f":"A5A!E285","v":0},{"$f":"A5A!F285","v":0},{"$f":"A5A!G285","v":0},{"$f":"A5A!H285","v":0},{"$f":"A5A!I285","v":0},{"$f":"A5A!J285","v":0},{"$f":"A5A!K285","v":0},{"$f":"A5A!L285","v":0}]
["Vote 12 - [NAME OF VOTE 12]",null,{"$f":"A5A!C296","v":0},{"$f":"A5A!D296","v":0},{"$f":"A5A!E296","v":0},{"$f":"A5A!F296","v":0},{"$f":"A5A!G296","v":0},{"$f":"A5A!H296","v":0},{"$f":"A5A!I296","v":0},{"$f":"A5A!J296","v":0},{"$f":"A5A!K296","v":0},{"$f":"A5A!L296","v":0}]
["Vote 13 - [NAME OF VOTE 13]",null,{"$f":"A5A!C307","v":0},{"$f":"A5A!D307","v":0},{"$f":"A5A!E307","v":0},{"$f":"A5A!F307","v":0},{"$f":"A5A!G307","v":0},{"$f":"A5A!H307","v":0},{"$f":"A5A!I307","v":0},{"$f":"A5A!J307","v":0},{"$f":"A5A!K307","v":0},{"$f":"A5A!L307","v":0}]
["Vote 14 - [NAME OF VOTE 14]",null,{"$f":"A5A!C318","v":0},{"$f":"A5A!D318","v":0},{"$f":"A5A!E318","v":0},{"$f":"A5A!F318","v":0},{"$f":"A5A!G318","v":0},{"$f":"A5A!H318","v":0},{"$f":"A5A!I318","v":0},{"$f":"A5A!J318","v":0},{"$f":"A5A!K318","v":0},{"$f":"A5A!L318","v":0}]
[{"$f":"A20","v":"Vote 15 - [NAME OF VOTE 15]"},null,{"$f":"A5A!C329","v":0},{"$f":"A5A!D329","v":0},{"$f":"A5A!E329","v":0},{"$f":"A5A!F329","v":0},{"$f":"A5A!G329","v":0},{"$f":"A5A!H329","v":0},{"$f":"A5A!I329","v":0},{"$f":"A5A!J329","v":0},{"$f":"A5A!K329","v":0},{"$f":"A5A!L329","v":0}]
["Capital single-year expenditure sub-total",null,{"$f":"SUM(C24:C38)","v":45597961},{"$f":"SUM(D24:D38)","v":59576592},64218000,98761000,98761000.00999999,98761000.00999999,98761000.00999999,64927000,68822620,72951977.200000003]
["Total Capital Expenditure - Vote",null,{"$f":"C39+C21","v":45597961},{"$f":"D39+D21","v":59576592},64218000,98761000,98761000.00999999,98761000.00999999,98761000.00999999,64927000,68822620,72951977.200000003]
[]
["Capital Expenditure - Functional"]
["Governance and administration",null,{"$f":"SUM(C44:C46)","v":8929961},{"$f":"SUM(D44:D46)","v":7753889},0,0,0,0,0,0,0,0]
["Executive and council"]
["Finance and administration",null,8929961,7753889]
["Internal audit"]
["Community and public safety",null,{"$f":"SUM(C48:C52)","v":0},{"$f":"SUM(D48:D52)","v":0},16300177.48,4109190.6,5864775.2300000004,5864775.2300000004,5864775.2300000004,1205419.74,1277744.9244000001,1354409.6198640002]
["Community and social services",null,null,null,12389245.92,854567.61,854567.61,854567.61,854567.61,null,{"$f":"J48*1.06","v":0},0]
["Sport and recreation",null,null,null,3910931.56,3254622.99,5010207.62,5010207.62,5010207.62,1205419.74,{"$f":"J49*1.06","v":1277744.9244000001},{"$f":"K49*1.06","v":1354409.6198640002}]
["Public safety"]
["Housing"]
["Health"]
["Economic and environmental services",null,{"$f":"SUM(C54:C56)","v":11094273},{"$f":"SUM(D54:D56)","v":12648409},5127377.7300000004,13833065.620000001,17158141.479999997,17158141.479999997,17158141.479999997,8568073.3800000008,9082157.782800002,9627087.249768002]
["Planning and development"]
["Road transport",null,11094273,12648409,5127377.7300000004,13833065.620000001,17158141.479999997,17158141.479999997,17158141.479999997,8568073.3800000008,{"$f":"J55*1.06","v":9082157.782800002},9627087.249768002]
["Environmental protection"]
["Trading services",null,{"$f":"SUM(C58:C61)","v":25573727},{"$f":"SUM(D58:D61)","v":39174294},42790444.789999999,80818743.780000001,75738083.299999997,75738083.299999997,75738083.299999997,55153506.879999995,58462717.292800002,61970480.330368005]
["Energy sources",null,5300000,2842188,0,5000000,5000000,5000000,5000000,1547056.65,{"$f":"J58*1.06","v":1639880.0489999999},1738272.85194]
["Water management",null,14597433,19660506,32010790.849999998,47849485.739999995,47849485.739999995,47849485.739999995,47849485.739999995,24691384.919999998,26172868.0152,27743240.096112002]
["Waste water management",null,4160116,7728815,10403453.939999999,20279103.039999999,22502227.549999997,22502227.549999997,22502227.549999997,28490520.309999999,30199951.5286,32011948.620316003]
["Waste management",null,1516178,8942785,376200,7690155,386370.00999999978,386370.00999999978,386370.00999999978,424545,450017.7,477018.76200000005]
["Other"]
["Total Capital Expenditure - Functional",3,{"$f":"C43+C47+C53+C57+C62","v":45597961},{"$f":"D43+D47+D53+D57+D62","v":59576592},64218000,98761000,98761000.00999999,98761000.00999999,98761000.00999999,64927000,68822620,{"$f":"L43+L47+L53+L57+L62","v":72951977.200000003}]
[]
["Funded by:"]
["National Government",null,44175660,58035212,64218000,98761000,98761000.00999999,98761000.00999999,98761000.00999999,64927000,{"$f":"J66*1.06","v":68822620},72951977.200000003]
["Provincial Government"]
["District Municipality"]
["Other transfers and grants"]
["Transfers recognised - capital",4,{"$f":"SUM(C66:C69)","v":44175660},58035212,64218000,98761000,98761000.00999999,98761000.00999999,98761000.00999999,64927000,68822620,72951977.200000003]
["Public contributions & donations",5]
["Borrowing",6]
["Internally generated funds",null,1422301,1541380]
["Total Capital Funding",7,{"$f":"SUM(C70:C73)","v":45597961},59576592,64218000,98761000,98761000.00999999,98761000.00999999,98761000.00999999,64927000,68822620,72951977.200000003]
[{"$f":"head27a","v":"References"}]
["1. Municipalities may choose to appropriate for capital expenditure for three years or for one year (if one year appropriation projected expenditure required for yr2 and yr3)."]
["2. Include capital component of PPP unitary payment. Note that capital transfers are only appropriated to municipalities for the budget year"]
["3. Capital expenditure by functional classification must reconcile to the appropriations by vote"]
["4. Must reconcile to supporting table SA20 and to Budgeted Financial Performance (revenue and expenditure)"]
["5. Must reconcile to Budgeted Financial Performance (revenue and expenditure)"]
["6. Include finance leases and PPP capital funding component of unitary payment - total borrowing/repayments to reconcile to changes in Table SA17"]
["7. Total Capital Funding must balance with Total Capital Expenditure"]
["8. Include any capitalised interest (MFMA section 46) as part of relevant capital budget"]
[]
["check balance",null,{"$f":"IF((C63-C74)=0,0,\"Unbalanced\")","v":0},{"$f":"IF((D63-D74)=0,0,\"Unbalanced\")","v":0},0,0,{"$f":"IF((G63-G74)=0,0,\"Unbalanced\")","v":0},{"$f":"IF((H63-H74)=0,0,\"Unbalanced\")","v":0},0,0,0,0]

{"sheet":"A5A","index":13,"n_rows":341,"n_cols":24,"rows_kept":341,"cut":false,"hidden":false,"merged":[[1,5,1,8],[1,9,1,11],[1,13,1,16],[1,17,1,20],[1,21,1,23]]}
[{"$f":"muni&\" - \"&Approve5","v":"FS193 Nketoana - Table A5 Budgeted Capital Expenditure by vote, functional classification and funding"}]
[{"$f":"Vdesc","v":"Vote Description"},{"$f":"head27","v":"Ref"},{"$f":"head1b","v":"2014/15"},{"$f":"head1A","v":"2015/16"},{"$f":"Head1","v":"2016/17"},{"$f":"Head2","v":"Current Year 2017/18"},null,null,null,{"$f":"Head3","v":"2018/19 Medium Term Revenue & Expenditure Framework"},null,null,null,{"$f":"\"Multi-year appropriation for \"&Head9&\n\"\n in the \"&Head2A&\" Annual Budget\"","v":"Multi-year appropriation for Budget Year 2018/19\n in the 2017/18 Annual Budget"},null,null,null,{"$f":"\"Multi-year appropriation for \"&RIGHT(Head10,7)&\n\"\n in the \"&Head2A&\" Annual Budget\"","v":"Multi-year appropriation for 2019/20\n in the 2017/18 Annual Budget"},null,null,null,"New multi-year appropriations \n(funds for new and existing projects) "]
["R thousand",1,{"$f":"Head5","v":"Audited Outcome"},{"$f":"Head5","v":"Audited Outcome"},{"$f":"Head5","v":"Audited Outcome"},{"$f":"Head6","v":"Original Budget"},{"$f":"Head7","v":"Adjusted Budget"},{"$f":"Head8","v":"Full Year Forecast"},{"$f":"Head5b","v":"Pre-audit outcome"},{"$f":"Head9","v":"Budget Year 2018/19"},{"$f":"Head10","v":"Budget Year +1 2019/20"},{"$f":"Head11","v":"Budget Year +2 2020/21"},null,{"$f":"\"Appropriation for \"&RIGHT(Head9,7)","v":"Appropriation for 2018/19"},{"$f":"\"Adjustments in \"&Head2A","v":"Adjustments in 2017/18"},{"$f":"\"Downward adjustments for \"&RIGHT(Head9,7)","v":"Downward adjustments for 2018/19"},"Appropriation carried forward",{"$f":"\"Appropriation for \"&RIGHT(Head9,7)","v":"Appropriation for 2018/19"},{"$f":"\"Adjustments in \"&Head2A","v":"Adjustments in 2017/18"},{"$f":"\"Downward adjustments for \"&RIGHT(Head9,7)","v":"Downward adjustments for 2018/19"},"Appropriation carried forward",{"$f":"Head9","v":"Budget Year 2018/19"},{"$f":"Head10","v":"Budget Year +1 2019/20"},{"$f":"Head11","v":"Budget Year +2 2020/21"}]
["Capital expenditure - Municipal Vote"]
["Multi-year expenditure appropriation",2]
[{"$f":"'Org structure'!A2","v":"Vote 1 - EXECUTIVE AND COUNCIL"},null,{"$f":"SUM(C7:C16)","v":0},{"$f":"SUM(D7:D16)","v":0},0,0,0,0,{"$f":"SUM(I7:I16)","v":0},0,0,0,null,{"$f":"SUM(N7:N16)","v":0},0,0,0,0,0,0,0,{"$f":"SUM(V7:V16)","v":0},{"$f":"SUM(W7:W16)","v":0},{"$f":"SUM(X7:X16)","v":0}]
[{"$f":"'Org structure'!E3","v":"1.1 - Mayor's Office"},null,null,null,null,null,null,null,null,{"$f":"Q7+V7","v":0},{"$f":"U7+W7","v":0},{"$f":"X7","v":0},null,null,null,null,{"$f":"SUM(N7:P7)","v":0},null,null,null,{"$f":"SUM(R7:T7)","v":0}]
[{"$f":"'Org structure'!E4","v":"1.2 - Speaker's Office"},null,null,null,null,null,null,null,null,{"$f":"Q8+V8","v":0},{"$f":"U8+W8","v":0},{"$f":"X8","v":0},null,null,null,null,{"$f":"SUM(N8:P8)","v":0},null,null,null,{"$f":"SUM(R8:T8)","v":0}]
[{"$f":"'Org structure'!E5","v":"1.3 - Municipal Manager's Office"},null,null,null,null,null,null,null,null,{"$f":"Q9+V9","v":0},{"$f":"U9+W9","v":0},0,null,null,null,null,0,null,null,null,0]
[{"$f":"'Org structure'!E6","v":"1.4 - IDP and PMS"},null,null,null,null,null,null,null,null,0,0,0,null,null,null,null,0,null,null,null,0]
[{"$f":"'Org structure'!E7","v":"1.5 - Internal Audit"},null,null,null,null,null,null,null,null,0,0,{"$f":"X11","v":0},null,null,null,null,0,null,null,null,0]
[{"$f":"'Org structure'!E8","v":"1.6 - Special Programmes"},null,null,null,null,null,null,null,null,0,0,0,null,null,null,null,0,null,null,null,0]
[{"$f":"'Org structure'!E9","v":0},null,null,null,null,null,null,null,null,0,0,0,null,null,null,null,0,null,null,null,0]
[{"$f":"'Org structure'!E10","v":0},null,null,null,null,null,null,null,null,0,0,0,null,null,null,null,0,null,null,null,0]
[{"$f":"'Org structure'!E11","v":0},null,null,null,null,null,null,null,null,0,0,0,null,null,null,null,0,null,null,null,0]
[{"$f":"'Org structure'!E12","v":0},null,null,null,null,null,null,null,null,0,0,0,null,null,null,null,0,null,null,null,0]
[{"$f":"'Org structure'!A3","v":"Vote 2 - FINANCE AND ADMINISTRATION"},null,{"$f":"SUM(C18:C27)","v":0},{"$f":"SUM(D18:D27)","v":0},0,0,0,0,{"$f":"SUM(I18:I27)","v":0},0,0,0,null,{"$f":"SUM(N18:N27)","v":0},0,0,0,0,0,0,0,0,0,0]
[{"$f":"'Org structure'!E14","v":"2.1 - Human Resource"},null,null,null,null,null,null,null,null,{"$f":"Q18+V18","v":0},{"$f":"U18+W18","v":0},{"$f":"X18","v":0},null,null,null,null,{"$f":"SUM(N18:P18)","v":0},null,null,null,0]
[{"$f":"'Org structure'!E15","v":"2.2 - Records Management"},null,null,null,null,null,null,null,null,{"$f":"Q19+V19","v":0},{"$f":"U19+W19","v":0},0,null,null,null,null,0,null,null,null,0]
[{"$f":"'Org structure'!E16","v":"2.3 - Legal Services"},null,null,null,null,null,null,null,null,0,0,0,null,null,null,null,0,null,null,null,0]
[{"$f":"'Org structure'!E17","v":"2.4 - Administration"},null,null,null,null,null,null,null,null,0,{"$f":"U21+W21","v":0},0,null,null,null,null,0,null,null,null,0]
[{"$f":"'Org structure'!E18","v":"2.5 - Revenue Management"},null,null,null,null,null,null,null,null,0,0,0,null,null,null,null,0,null,null,null,0]
[{"$f":"'Org structure'!E19","v":"2.6 - Supply Chain Management"},null,null,null,null,null,null,null,null,0,0,0,null,null,null,null,0,null,null,null,0]
[{"$f":"'Org structure'!E20","v":"2.7 - CFO"},null,null,null,null,null,null,null,null,0,0,0,null,null,null,null,0,null,null,null,0]
[{"$f":"'Org structure'!E21","v":"2.8 - Director Corporate Services"},null,null,null,null,null,null,null,null,0,0,0,null,null,null,null,0,null,null,null,0]
[{"$f":"'Org structure'!E22","v":"2.9 - Budget and Treasury"},null,null,null,null,null,null,null,null,0,0,0,null,null,null,null,0,null,null,null,0]
[{"$f":"'Org structure'!E23","v":"2.10 - Expenditure"},null,null,null,null,null,null,null,null,0,0,0,null,null,null,null,0,null,null,null,0]
[{"$f":"'Org structure'!A4","v":"Vote 3 - COMMUNITY SERVICES"},null,{"$f":"SUM(C29:C38)","v":0},{"$f":"SUM(D29:D38)","v":0},0,0,0,0,{"$f":"SUM(I29:I38)","v":0},0,0,0,null,{"$f":"SUM(N29:N38)","v":0},0,0,0,0,0,0,0,0,0,0]
[{"$f":"'Org structure'!E25","v":"3.1 - Cementry"},null,null,null,null,null,null,null,null,{"$f":"Q29+V29","v":0},{"$f":"U29+W29","v":0},{"$f":"X29","v":0},null,null,null,null,{"$f":"SUM(N29:P29)","v":0},null,null,null,0]
[{"$f":"'Org structure'!E26","v":"3.2 - Parks"},null,null,null,null,null,null,null,null,0,0,0,null,null,null,null,0,null,null,null,0]
[{"$f":"'Org structure'!E27","v":"3.3 - Director Community Services"},null,null,null,null,null,null,null,null,0,0,0,null,null,null,null,0,null,null,null,{"$f":"SUM(R31:T31)","v":0}]
[{"$f":"'Org structure'!E28","v":"3.4 - Traffic Services"},null,null,null,null,null,null,null,null,0,{"$f":"U32+W32","v":0},0,null,null,null,null,0,null,null,null,0]
[{"$f":"'Org structure'!E29","v":"3.5 - Fire Services"},null,null,null,null,null,null,null,null,{"$f":"Q33+V33","v":0},0,0,null,null,null,null,0,null,null,null,0]
[{"$f":"'Org structure'!E30","v":"3.6 - Sports and Recreation"},null,null,null,null,null,null,null,null,0,0,0,null,null,null,null,0,null,null,null,0]
[{"$f":"'Org structure'!E31","v":"3.7 - Libraries"},null,null,null,null,null,null,null,null,0,0,0,null,null,null,null,0,null,null,null,0]
[{"$f":"'Org structure'!E32","v":0},null,null,null,null,null,null,null,null,0,0,0,null,null,null,null,0,null,null,null,0]
[{"$f":"'Org structure'!E33","v":0},null,null,null,null,null,null,null,null,0,0,0,null,null,null,null,0,null,null,null,0]
[{"$f":"'Org structure'!E34","v":0},null,null,null,null,null,null,null,null,0,0,0,null,null,null,null,0,null,null,null,0]
[{"$f":"'Org structure'!A5","v":"Vote 4 - WASTE MANAGEMENT"},null,{"$f":"SUM(C40:C49)","v":0},{"$f":"SUM(D40:D49)","v":0},0,0,0,0,{"$f":"SUM(I40:I49)","v":0},0,0,0,null,{"$f":"SUM(N40:N49)","v":0},0,0,0,0,0,0,0,0,0,0]
[{"$f":"'Org structure'!E36","v":"4.1 - Waste Collection"},null,null,null,null,null,null,null,null,{"$f":"Q40+V40","v":0},{"$f":"U40+W40","v":0},{"$f":"X40","v":0},null,null,null,null,{"$f":"SUM(N40:P40)","v":0},null,null,null,0]
[{"$f":"'Org structure'!E37","v":"4.2 - Solid Waste Disposal"},null,null,null,null,null,null,null,null,0,0,0,null,null,null,null,0,null,null,null,0]
[{"$f":"'Org structure'!E38","v":"4.3 - Solid Waste Management"},null,null,null,null,null,null,null,null,0,0,0,null,null,null,null,0,null,null,null,0]
[{"$f":"'Org structure'!E39","v":0},null,null,null,null,null,null,null,null,0,0,0,null,null,null,null,0,null,null,null,0]
[{"$f":"'Org structure'!E40","v":0},null,null,null,null,null,null,null,null,0,0,0,null,null,null,null,0,null,null,null,0]
[{"$f":"'Org structure'!E41","v":0},null,null,null,null,null,null,null,null,0,0,0,null,null,null,null,0,null,null,null,0]
[{"$f":"'Org structure'!E42","v":0},null,null,null,null,null,null,null,null,0,0,0,null,null,null,null,0,null,null,null,0]
[{"$f":"'Org structure'!E43","v":0},null,null,null,null,null,null,null,null,0,0,0,null,null,null,null,0,null,null,null,0]
[{"$f":"'Org structure'!E44","v":0},null,null,null,null,null,null,null,null,0,0,0,null,null,null,null,0,null,null,null,0]
[{"$f":"'Org structure'!E45","v":0},null,null,null,null,null,null,null,null,0,0,0,null,null,null,null,0,null,null,null,0]
[{"$f":"'Org structure'!A6","v":"Vote 5 - LOCAL ECONOMIC DEVELOPMENT"},null,{"$f":"SUM(C51:C60)","v":0},{"$f":"SUM(D51:D60)","v":0},0,0,0,0,{"$f":"SUM(I51:I60)","v":0},0,0,0,null,{"$f":"SUM(N51:N60)","v":0},0,0,0,0,0,0,0,0,0,0]
[{"$f":"'Org structure'!E47","v":"5.1 - SMME Hub"},null,null,null,null,null,null,null,null,{"$f":"Q51+V51","v":0},{"$f":"U51+W51","v":0},{"$f":"X51","v":0},null,null,null,null,{"$f":"SUM(N51:P51)","v":0},null,null,null,0]
[{"$f":"'Org structure'!E48","v":"5.2 - Tourism"},null,null,null,null,null,null,null,null,0,0,0,null,null,null,null,0,null,null,null,0]
[{"$f":"'Org structure'!E49","v":"5.3 - Economic Development"},null,null,null,null,null,null,null,null,0,0,0,null,null,null,null,0,null,null,null,0]
[{"$f":"'Org structure'!E50","v":0},null,null,null,null,null,null,null,null,0,0,0,null,null,null,null,0,null,null,null,0]
[{"$f":"'Org structure'!E51","v":0},null,null,null,null,null,null,null,null,0,0,0,null,null,null,null,0,null,null,null,0]
[{"$f":"'Org structure'!E52","v":0},null,null,null,null,null,null,null,null,0,0,0,null,null,null,null,0,null,null,null,0]
[{"$f":"'Org structure'!E53","v":0},null,null,null,null,null,null,null,null,0,0,0,null,null,null,null,0,null,null,null,0]
[{"$f":"'Org structure'!E54","v":0},null,null,null,null,null,null,null,null,0,0,0,null,null,null,null,0,null,null,null,0]
[{"$f":"'Org structure'!E55","v":0},null,null,null,null,null,null,null,null,0,0,0,null,null,null,null,0,null,null,null,0]
[{"$f":"'Org structure'!E56","v":0},null,null,null,null,null,null,null,null,0,0,0,null,null,null,null,0,null,null,null,0]
[{"$f":"'Org structure'!A7","v":"Vote 6 - ROADS TRANSPORT"},null,{"$f":"SUM(C62:C71)","v":0},{"$f":"SUM(D62:D71)","v":0},0,0,0,0,{"$f":"SUM(I62:I71)","v":0},0,0,0,null,{"$f":"SUM(N62:N71)","v":0},0,0,0,0,0,0,0,0,0,0]
[{"$f":"'Org structure'!E58","v":"6.1 - Roads"},null,null,null,null,null,null,null,null,{"$f":"Q62+V62","v":0},{"$f":"U62+W62","v":0},{"$f":"X62","v":0},null,null,null,null,{"$f":"SUM(N62:P62)","v":0},null,null,null,0]
[{"$f":"'Org structure'!E59","v":"6.2 - Storm Water"},null,null,null,null,null,null,null,null,0,0,0,null,null,null,null,0,null,null,null,0]
[{"$f":"'Org structure'!E60","v":"6.3 - Director Technical"},null,null,null,null,null,null,null,null,0,0,0,null,null,null,null,0,null,null,null,0]
[{"$f":"'Org structure'!E61","v":0},null,null,null,null,null,null,null,null,0,0,0,null,null,null,null,0,null,null,null,0]
[{"$f":"'Org structure'!E62","v":0},null,null,null,null,null,null,null,null,0,0,0,null,null,null,null,0,null,null,null,0]
[{"$f":"'Org structure'!E63","v":0},null,null,null,null,null,null,null,null,0,0,0,null,null,null,null,0,null,null,null,0]
[{"$f":"'Org structure'!E64","v":0},null,null,null,null,null,null,null,null,0,0,0,null,null,null,null,0,null,null,null,0]
[{"$f":"'Org structure'!E65","v":0},null,null,null,null,null,null,null,null,0,0,0,null,null,null,null,0,null,null,null,0]
[{"$f":"'Org structure'!E66","v":0},null,null,null,null,null,null,null,null,0,0,0,null,null,null,null,0,null,null,null,0]
[{"$f":"'Org structure'!E67","v":0},null,null,null,null,null,null,null,null,0,0,0,null,null,null,null,0,null,null,null,0]
[{"$f":"'Org structure'!A8","v":"Vote 7 - WATER"},null,{"$f":"SUM(C73:C82)","v":0},0,0,0,0,0,0,0,0,0,null,{"$f":"SUM(N73:N82)","v":0},0,0,0,0,0,0,0,0,0,0]
[{"$f":"'Org structure'!E69","v":"7.1 - WTW Reitz"},null,null,null,null,null,null,null,null,{"$f":"Q73+V73","v":0},{"$f":"U73+W73","v":0},{"$f":"X73","v":0},null,null,null,null,{"$f":"SUM(N73:P73)","v":0},null,null,null,{"$f":"SUM(R73:T73)","v":0}]
[{"$f":"'Org structure'!E70","v":"7.2 - WTW Mamafubedu"},null,null,null,null,null,null,null,null,0,0,0,null,null,null,null,0,null,null,null,0]
[{"$f":"'Org structure'!E71","v":"7.3 - WTW Lindley"},null,null,null,null,null,null,null,null,0,0,0,null,null,null,null,0,null,null,null,0]
[{"$f":"'Org structure'!E72","v":"7.4 - WTW Arlington"},null,null,null,null,null,null,null,null,0,0,0,null,null,null,null,0,null,null,null,0]
[{"$f":"'Org structure'!E73","v":"7.5 - Water Network Reitz"},null,null,null,null,null,null,null,null,0,0,0,null,null,null,null,0,null,null,null,0]
[{"$f":"'Org structure'!E74","v":"7.6 - Water Network Mamafubedu"},null,null,null,null,null,null,null,null,0,0,0,null,null,null,null,0,null,null,null,0]
[{"$f":"'Org structure'!E75","v":"7.7 - Water Network Lindley"},null,null,null,null,null,null,null,null,0,0,0,null,null,null,null,0,null,null,null,0]
[{"$f":"'Org structure'!E76","v":"7.8 - Water Network Arlington"},null,null,null,null,null,null,null,null,0,0,0,null,null,null,null,0,null,null,null,0]
[{"$f":"'Org structure'!E77","v":"7.9 - General Water Works"},null,null,null,null,null,null,null,null,0,0,0,null,null,null,null,0,null,null,null,0]
[{"$f":"'Org structure'!E78","v":0},null,null,null,null,null,null,null,null,0,0,0,null,null,null,null,0,null,null,null,0]
[{"$f":"'Org structure'!A9","v":"Vote 8 - ELECTRICITY"},null,{"$f":"SUM(C84:C93)","v":0},0,0,0,0,0,0,0,0,0,null,{"$f":"SUM(N84:N93)","v":0},0,0,0,0,0,0,0,0,0,0]
[{"$f":"'Org structure'!E80","v":"8.1 - Reitz Electricity"},null,null,null,null,null,null,null,null,{"$f":"Q84+V84","v":0},{"$f":"U84+W84","v":0},{"$f":"X84","v":0},null,null,null,null,{"$f":"SUM(N84:P84)","v":0},null,null,null,0]
[{"$f":"'Org structure'!E81","v":"8.2 - Mamafubedu Electricity"},null,null,null,null,null,null,null,null,0,0,0,null,null,null,null,0,null,null,null,0]
[{"$f":"'Org structure'!E82","v":"8.3 - Lindley Electricity"},null,null,null,null,null,null,null,null,0,0,0,null,null,null,null,0,null,null,null,0]
[{"$f":"'Org structure'!E83","v":"8.4 - General Electricity Works"},null,null,null,null,null,null,null,null,0,0,0,null,null,null,null,0,null,null,null,0]
[{"$f":"'Org structure'!E84","v":0},null,null,null,null,null,null,null,null,0,0,0,null,null,null,null,0,null,null,null,0]
[{"$f":"'Org structure'!E85","v":0},null,null,null,null,null,null,null,null,0,0,0,null,null,null,null,0,null,null,null,0]
[{"$f":"'Org structure'!E86","v":0},null,null,null,null,null,null,null,null,0,0,0,null,null,null,null,0,null,null,null,0]
[{"$f":"'Org structure'!E87","v":0},null,null,null,null,null,null,null,null,0,0,0,null,null,null,null,0,null,null,null,0]
[{"$f":"'Org structure'!E88","v":0},null,null,null,null,null,null,null,null,0,0,0,null,null,null,null,0,null,null,null,0]
[{"$f":"'Org structure'!E89","v":0},null,null,null,null,null,null,null,null,0,0,0,null,null,null,null,0,null,null,null,0]
[{"$f":"'Org structure'!A10","v":"Vote 9 - WASTE WATER"},null,{"$f":"SUM(C95:C104)","v":0},{"$f":"SUM(D95:D104)","v":0},0,0,0,0,0,0,0,0,null,{"$f":"SUM(N95:N104)","v":0},0,0,0,0,0,0,0,0,0,0]
[{"$f":"'Org structure'!E91","v":"9.1 - WWTW Reitz"},null,null,null,null,null,null,null,null,{"$f":"Q95+V95","v":0},{"$f":"U95+W95","v":0},{"$f":"X95","v":0},null,null,null,null,{"$f":"SUM(N95:P95)","v":0},null,null,null,0]
[{"$f":"'Org structure'!E92","v":"9.2 - Network Reitz"},null,null,null,null,null,null,null,null,0,0,0,null,null,null,null,0,null,null,null,0]
[{"$f":"'Org structure'!E93","v":"9.3 - Network Mamafubedu"},null,null,null,null,null,null,null,null,0,0,0,null,null,null,null,0,null,null,null,0]
[{"$f":"'Org structure'!E94","v":"9.4 - WWTW Mamafubedu"},null,null,null,null,null,null,null,null,0,0,0,null,null,null,null,0,null,null,null,0]
[{"$f":"'Org structure'!E95","v":"9.5 - WWTW Lindley"},null,null,null,null,null,null,null,null,0,0,0,null,null,null,null,0,null,null,null,0]
[{"$f":"'Org structure'!E96","v":"9.6 - Network Lindley"},null,null,null,null,null,null,null,null,0,0,0,null,null,null,null,0,null,null,null,0]
[{"$f":"'Org structure'!E97","v":"9.7 - WWTW Arlington"},null,null,null,null,null,null,null,null,0,0,0,null,null,null,null,0,null,null,null,0]
[{"$f":"'Org structure'!E98","v":"9.8 - Network Arlington"},null,null,null,null,null,null,null,null,0,0,0,null,null,null,null,0,null,null,null,0]
[{"$f":"'Org structure'!E99","v":0},null,null,null,null,null,null,null,null,0,0,0,null,null,null,null,0,null,null,null,0]
[{"$f":"'Org structure'!E100","v":0},null,null,null,null,null,null,null,null,0,0,0,null,null,null,null,0,null,null,null,0]
[{"$f":"'Org structure'!A11","v":"Vote 10 - HOUSING"},null,{"$f":"SUM(C106:C115)","v":0},{"$f":"SUM(D106:D115)","v":0},0,0,0,0,0,0,0,0,null,{"$f":"SUM(N106:N115)","v":0},0,0,0,0,0,0,0,0,0,0]
[{"$f":"'Org structure'!E102","v":"10.1 - Urban Planning"},null,null,null,null,null,null,null,null,{"$f":"Q106+V106","v":0},{"$f":"U106+W106","v":0},{"$f":"X106","v":0},null,null,null,null,{"$f":"SUM(N106:P106)","v":0},null,null,null,0]
[{"$f":"'Org structure'!E103","v":"10.2 - Housing"},null,null,null,null,null,null,null,null,0,0,0,null,null,null,null,0,null,null,null,0]
[{"$f":"'Org structure'!E104","v":0},null,null,null,null,null,null,null,null,0,0,0,null,null,null,null,0,null,null,null,0]
[{"$f":"'Org structure'!E105","v":0},null,null,null,null,null,null,null,null,0,0,0,null,null,null,null,0,null,null,null,0]
[{"$f":"'Org structure'!E106","v":0},null,null,null,null,null,null,null,null,0,0,0,null,null,null,null,0,null,null,null,0]
[{"$f":"'Org structure'!E107","v":0},null,null,null,null,null,null,null,null,0,0,0,null,null,null,null,0,null,null,null,0]
[{"$f":"'Org structure'!E108","v":0},null,null,null,null,null,null,null,null,0,0,0,null,null,null,null,0,null,null,null,0]
[{"$f":"'Org structure'!E109","v":0},null,null,null,null,null,null,null,null,0,0,0,null,null,null,null,0,null,null,null,0]
[{"$f":"'Org structure'!E110","v":0},null,null,null,null,null,null,null,null,0,0,0,null,null,null,null,0,null,null,null,0]
[{"$f":"'Org structure'!E111","v":0},null,null,null,null,null,null,null,null,0,0,0,null,null,null,null,0,null,null,null,0]
[{"$f":"'Org structure'!A12","v":"Vote 11 - [NAME OF VOTE 11]"},null,{"$f":"SUM(C117:C126)","v":0},0,0,0,0,0,0,0,0,0,null,{"$f":"SUM(N117:N126)","v":0},0,0,0,0,0,0,0,0,0,0]
[{"$f":"'Org structure'!E113","v":"11.1 - [Name of sub-vote]"},null,null,null,null,null,null,null,null,{"$f":"Q117+V117","v":0},{"$f":"U117+W117","v":0},{"$f":"X117","v":0},null,null,null,null,{"$f":"SUM(N117:P117)","v":0},null,null,null,0]
[{"$f":"'Org structure'!E114","v":0},null,null,null,null,null,null,null,null,0,0,0,null,null,null,null,0,null,null,null,0]
[{"$f":"'Org structure'!E115","v":0},null,null,null,null,null,null,null,null,0,0,0,null,null,null,null,0,null,null,null,0]
[{"$f":"'Org structure'!E116","v":0},null,null,null,null,null,null,null,null,0,0,0,null,null,null,null,0,null,null,null,0]
[{"$f":"'Org structure'!E117","v":0},null,null,null,null,null,null,null,null,0,0,0,null,null,null,null,0,null,null,null,0]
[{"$f":"'Org structure'!E118","v":0},null,null,null,null,null,null,null,null,0,0,0,null,null,null,null,0,null,null,null,0]
[{"$f":"'Org structure'!E119","v":0},null,null,null,null,null,null,null,null,0,0,0,null,null,null,null,0,null,null,null,0]
[{"$f":"'Org structure'!E120","v":0},null,null,null,null,null,null,null,null,0,0,0,null,null,null,null,0,null,null,null,0]
[{"$f":"'Org structure'!E121","v":0},null,null,null,null,null,null,null,null,0,0,0,null,null,null,null,0,null,null,null,0]
[{"$f":"'Org structure'!E122","v":0},null,null,null,null,null,null,null,null,0,0,0,null,null,null,null,0,null,null,null,0]
[{"$f":"'Org structure'!A13","v":"Vote 12 - [NAME OF VOTE 12]"},null,{"$f":"SUM(C128:C137)","v":0},0,0,0,0,0,0,0,0,0,null,{"$f":"SUM(N128:N137)","v":0},0,0,0,0,0,0,0,0,0,0]
[{"$f":"'Org structure'!E124","v":"12.1 - [Name of sub-vote]"},null,null,null,null,null,null,null,null,{"$f":"Q128+V128","v":0},{"$f":"U128+W128","v":0},{"$f":"X128","v":0},null,null,null,null,{"$f":"SUM(N128:P128)","v":0},null,null,null,0]
[{"$f":"'Org structure'!E125","v":0},null,null,null,null,null,null,null,null,0,0,0,null,null,null,null,0,null,null,null,0]
[{"$f":"'Org structure'!E126","v":0},null,null,null,null,null,null,null,null,0,0,0,null,null,null,null,0,null,null,null,0]
[{"$f":"'Org structure'!E127","v":0},null,null,null,null,null,null,null,null,0,0,0,null,null,null,null,0,null,null,null,0]
[{"$f":"'Org structure'!E128","v":0},null,null,null,null,null,null,null,null,0,0,0,null,null,null,null,0,null,null,null,0]
[{"$f":"'Org structure'!E129","v":0},null,null,null,null,null,null,null,null,{"$f":"Q133+V133","v":0},0,0,null,null,null,null,0,null,null,null,0]
[{"$f":"'Org structure'!E130","v":0},null,null,null,null,null,null,null,null,0,0,0,null,null,null,null,0,null,null,null,0]
[{"$f":"'Org structure'!E131","v":0},null,null,null,null,null,null,null,null,0,0,0,null,null,null,null,0,null,null,null,0]
[{"$f":"'Org structure'!E132","v":0},null,null,null,null,null,null,null,null,0,0,0,null,null,null,null,0,null,null,null,{"$f":"SUM(R136:T136)","v":0}]
[{"$f":"'Org structure'!E133","v":0},null,null,null,null,null,null,null,null,0,0,0,null,null,null,null,0,null,null,null,0]
[{"$f":"'Org structure'!A14","v":"Vote 13 - [NAME OF VOTE 13]"},null,{"$f":"SUM(C139:C148)","v":0},0,0,0,0,0,0,0,0,0,null,{"$f":"SUM(N139:N148)","v":0},0,0,0,0,0,0,0,0,0,0]
[{"$f":"'Org structure'!E135","v":"13.1 - [Name of sub-vote]"},null,null,null,null,null,null,null,null,{"$f":"Q139+V139","v":0},{"$f":"U139+W139","v":0},{"$f":"X139","v":0},null,null,null,null,{"$f":"SUM(N139:P139)","v":0},null,null,null,0]
[{"$f":"'Org structure'!E136","v":0},null,null,null,null,null,null,null,null,0,0,0,null,null,null,null,0,null,null,null,0]
[{"$f":"'Org structure'!E137","v":0},null,null,null,null,null,null,null,null,0,0,0,null,null,null,null,0,null,null,null,0]
[{"$f":"'Org structure'!E138","v":0},null,null,null,null,null,null,null,null,0,0,0,null,null,null,null,0,null,null,null,0]
[{"$f":"'Org structure'!E139","v":0},null,null,null,null,null,null,null,null,0,0,0,null,null,null,null,0,null,null,null,0]
[{"$f":"'Org structure'!E140","v":0},null,null,null,null,null,null,null,null,0,0,0,null,null,null,null,0,null,null,null,0]
[{"$f":"'Org structure'!E141","v":0},null,null,null,null,null,null,null,null,0,0,0,null,null,null,null,0,null,null,null,0]
[{"$f":"'Org structure'!E142","v":0},null,null,null,null,null,null,null,null,0,0,0,null,null,null,null,0,null,null,null,0]
[{"$f":"'Org structure'!E143","v":0},null,null,null,null,null,null,null,null,0,0,0,null,null,null,null,0,null,null,null,0]
[{"$f":"'Org structure'!E144","v":0},null,null,null,null,null,null,null,null,0,0,0,null,null,null,null,0,null,null,null,0]
[{"$f":"'Org structure'!A15","v":"Vote 14 - [NAME OF VOTE 14]"},null,{"$f":"SUM(C150:C159)","v":0},0,0,0,0,0,0,0,0,0,null,{"$f":"SUM(N150:N159)","v":0},0,0,0,0,0,0,0,0,0,0]
[{"$f":"'Org structure'!E146","v":"14.1 - [Name of sub-vote]"},null,null,null,null,null,null,null,null,{"$f":"Q150+V150","v":0},{"$f":"U150+W150","v":0},{"$f":"X150","v":0},null,null,null,null,{"$f":"SUM(N150:P150)","v":0},null,null,null,0]
[{"$f":"'Org structure'!E147","v":0},null,null,null,null,null,null,null,null,0,0,0,null,null,null,null,0,null,null,null,0]
[{"$f":"'Org structure'!E148","v":0},null,null,null,null,null,null,null,null,0,0,0,null,null,null,null,0,null,null,null,0]
[{"$f":"'Org structure'!E149","v":0},null,null,null,null,null,null,null,null,0,0,0,null,null,null,null,0,null,null,null,0]
[{"$f":"'Org structure'!E150","v":0},null,null,null,null,null,null,null,null,0,0,0,null,null,null,null,0,null,null,null,0]
[{"$f":"'Org structure'!E151","v":0},null,null,null,null,null,null,null,null,0,0,0,null,null,null,null,0,null,null,null,0]
[{"$f":"'Org structure'!E152","v":0},null,null,null,null,null,null,null,null,0,0,0,null,null,null,null,0,null,null,null,0]
[{"$f":"'Org structure'!E153","v":0},null,null,null,null,null,null,null,null,0,0,0,null,null,null,null,0,null,null,null,0]
[{"$f":"'Org structure'!E154","v":0},null,null,null,null,null,null,null,null,0,0,0,null,null,null,null,0,null,null,null,0]
[{"$f":"'Org structure'!E155","v":0},null,null,null,null,null,null,null,null,0,0,0,null,null,null,null,0,null,null,null,0]
[{"$f":"'Org structure'!A16","v":"Vote 15 - [NAME OF VOTE 15]"},null,{"$f":"SUM(C161:C170)","v":0},0,0,0,0,0,0,0,0,0,null,{"$f":"SUM(N161:N170)","v":0},0,0,0,0,0,0,0,0,0,0]
[{"$f":"'Org structure'!E157","v":"15.1 - [Name of sub-vote]"},null,null,null,null,null,null,null,null,{"$f":"Q161+V161","v":0},{"$f":"U161+W161","v":0},{"$f":"X161","v":0},null,null,null,null,{"$f":"SUM(N161:P161)","v":0},null,null,null,0]
[{"$f":"'Org structure'!E158","v":0},null,null,null,null,null,null,null,null,0,0,0,null,null,null,null,0,null,null,null,0]
[{"$f":"'Org structure'!E159","v":0},null,null,null,null,null,null,null,null,0,0,0,null,null,null,null,0,null,null,null,0]
[{"$f":"'Org structure'!E160","v":0},null,null,null,null,null,null,null,null,0,0,0,null,null,null,null,0,null,null,null,0]
[{"$f":"'Org structure'!E161","v":0},null,null,null,null,null,null,null,null,0,0,0,null,null,null,null,0,null,null,null,0]
[{"$f":"'Org structure'!E162","v":0},null,null,null,null,null,null,null,null,0,0,0,null,null,null,null,0,null,null,null,0]
[{"$f":"'Org structure'!E163","v":0},null,null,null,null,null,null,null,null,0,0,0,null,null,null,null,0,null,null,null,0]
[{"$f":"'Org structure'!E164","v":0},null,null,null,null,null,null,null,null,0,0,0,null,null,null,null,0,null,null,null,0]
[{"$f":"'Org structure'!E165","v":0},null,null,null,null,null,null,null,null,0,0,0,null,null,null,null,0,null,null,null,0]
[{"$f":"'Org structure'!E166","v":0},null,null,null,null,null,null,null,null,0,0,0,null,null,null,null,0,null,null,null,0]
["Capital multi-year expenditure sub-total",null,{"$f":"C6+C17+C28+C39+C50+C61+C72+C83+C94+C105+C116+C127+C138+C149+C160","v":0},{"$f":"D6+D17+D28+D39+D50+D61+D72+D83+D94+D105+D116+D127+D138+D149+D160","v":0},0,0,0,0,0,0,0,0,null,{"$f":"N6+N17+N28+N39+N50+N61+N72+N83+N94+N105+N116+N127+N138+N149+N160","v":0},0,0,0,0,0,null,0,{"$f":"V6+V17+V28+V39+V50+V61+V72+V83+V94+V105+V116+V127+V138+V149+V160","v":0},{"$f":"W6+W17+W28+W39+W50+W61+W72+W83+W94+W105+W116+W127+W138+W149+W160","v":0}]
[]
["Capital expenditure - Municipal Vote"]
["Single-year expenditure appropriation",2]
[{"$f":"A6","v":"Vote 1 - EXECUTIVE AND COUNCIL"},null,{"$f":"SUM(C176:C185)","v":0},0,0,0,0,0,0,0,0,0]
[{"$f":"A7","v":"1.1 - Mayor's Office"}]
["1.2 - Speaker's Office"]
["1.3 - Municipal Manager's Office"]
["1.4 - IDP and PMS"]
["1.5 - Internal Audit"]
["1.6 - Special Programmes"]
[0]
[0]
[0]
[0]
["Vote 2 - FINANCE AND ADMINISTRATION",null,{"$f":"SUM(C187:C196)","v":8929961},7753889,0,0,0,0,0,0,0,0]
["2.1 - Human Resource"]
["2.2 - Records Management"]
["2.3 - Legal Services"]
["2.4 - Administration",null,8064296,7646115]
["2.5 - Revenue Management",null,865665,107774]
["2.6 - Supply Chain Management"]
["2.7 - CFO"]
["2.8 - Director Corporate Services"]
["2.9 - Budget and Treasury"]
["2.10 - Expenditure"]
["Vote 3 - COMMUNITY SERVICES",null,{"$f":"SUM(C198:C207)","v":0},0,16300177.48,4109190.6,5864775.2300000004,5864775.2300000004,5864775.2300000004,1205419.74,1277744.9244000001,1354409.6198640002]
["3.1 - Cementry",null,null,null,12389245.92,854567.61,854567.61,854567.61,854567.61,null,{"$f":"J198*1.06","v":0},0]
["3.2 - Parks"]
["3.3 - Director Community Services"]
["3.4 - Traffic Services"]
["3.5 - Fire Services"]
["3.6 - Sports and Recreation",null,null,null,3910931.56,3254622.99,5010207.62,5010207.62,5010207.62,1205419.74,{"$f":"J203*1.06","v":1277744.9244000001},1354409.6198640002]
["3.7 - Libraries"]
[0]
[0]
[0]
["Vote 4 - WASTE MANAGEMENT",null,{"$f":"SUM(C209:C218)","v":1516178},8942785,376200,7690155,386370.00999999978,386370.00999999978,386370.00999999978,424545,450017.7,477018.76200000005]
["4.1 - Waste Collection"]
["4.2 - Solid Waste Disposal",null,1516178,8942785,376200,7690155,386370.00999999978,386370.00999999978,386370.00999999978,424545,{"$f":"J210*1.06","v":450017.7},477018.76200000005]
["4.3 - Solid Waste Management"]
[0]
[0]
[0]
[0]
[0]
[0]
[0]
["Vote 5 - LOCAL ECONOMIC DEVELOPMENT",null,{"$f":"SUM(C220:C229)","v":0},0,0,0,0,0,0,0,0,0]
["5.1 - SMME Hub"]
["5.2 - Tourism"]
["5.3 - Economic Development"]
[0]
[0]
[0]
[0]
[0]
[0]
[0]
["Vote 6 - ROADS TRANSPORT",null,{"$f":"SUM(C231:C240)","v":11094273},12648409,5127377.7300000004,13833065.620000001,17158141.479999997,17158141.479999997,17158141.479999997,8568073.3800000008,9082157.782800002,9627087.249768002]
["6.1 - Roads",null,11094273,12648409,5127377.7300000004,13833065.620000001,17158141.479999997,17158141.479999997,17158141.479999997,8568073.3800000008,{"$f":"J231*1.06","v":9082157.782800002},9627087.249768002]
["6.2 - Storm Water"]
["6.3 - Director Technical"]
[0]
[0]
[0]
[0]
[0]
[0]
[{"$f":"A71","v":0}]
["Vote 7 - WATER",null,{"$f":"SUM(C242:C251)","v":14597433},19660506,32010790.849999998,47849485.739999995,47849485.739999995,47849485.739999995,47849485.739999995,24691384.919999998,26172868.0152,27743240.096112002]
["7.1 - WTW Reitz",null,14597433,19660506,32010790.849999998,47849485.739999995,47849485.739999995,47849485.739999995,47849485.739999995,24691384.919999998,{"$f":"J242*1.06","v":26172868.0152},27743240.096112002]
["7.2 - WTW Mamafubedu"]
["7.3 - WTW Lindley"]
["7.4 - WTW Arlington"]
["7.5 - Water Network Reitz"]
["7.6 - Water Network Mamafubedu"]
["7.7 - Water Network Lindley"]
["7.8 - Water Network Arlington"]
["7.9 - General Water Works"]
[0]
["Vote 8 - ELECTRICITY",null,{"$f":"SUM(C253:C262)","v":5300000},2842188,0,5000000,5000000,5000000,5000000,1547056.65,1639880.0489999999,1738272.85194]
["8.1 - Reitz Electricity",null,5300000,2842188,0,5000000,5000000,5000000,5000000,1547056.65,{"$f":"J253*1.06","v":1639880.0489999999},1738272.85194]
["8.2 - Mamafubedu Electricity"]
["8.3 - Lindley Electricity"]
["8.4 - General Electricity Works"]
[0]
[0]
[0]
[0]
[0]
[0]
["Vote 9 - WASTE WATER",null,{"$f":"SUM(C264:C273)","v":4160116},7728815,10403453.939999999,20279103.039999999,22502227.549999997,22502227.549999997,22502227.549999997,28490520.309999999,30199951.5286,32011948.620316003]
["9.1 - WWTW Reitz",null,4160116,7728815,10403453.939999999,20279103.039999999,22502227.549999997,22502227.549999997,22502227.549999997,28490520.309999999,{"$f":"J264*1.06","v":30199951.5286},32011948.620316003]
["9.2 - Network Reitz"]
["9.3 - Network Mamafubedu"]
["9.4 - WWTW Mamafubedu"]
["9.5 - WWTW Lindley"]
["9.6 - Network Lindley"]
["9.7 - WWTW Arlington"]
["9.8 - Network Arlington"]
[0]
[0]
["Vote 10 - HOUSING",null,{"$f":"SUM(C275:C284)","v":0},0,0,0,0,0,0,0,0,0]
["10.1 - Urban Planning"]
["10.2 - Housing"]
[0]
[0]
[0]
[0]
[0]
[0]
[0]
[0]
["Vote 11 - [NAME OF VOTE 11]",null,{"$f":"SUM(C286:C295)","v":0},0,0,0,0,0,0,0,0,0]
["11.1 - [Name of sub-vote]"]
[0]
[0]
[0]
[0]
[0]
[0]
[0]
[0]
[0]
["Vote 12 - [NAME OF VOTE 12]",null,{"$f":"SUM(C297:C306)","v":0},0,0,0,0,0,0,0,0,0]
["12.1 - [Name of sub-vote]"]
[0]
[0]
[0]
[0]
[0]
[0]
[{"$f":"A135","v":0}]
[0]
[0]
["Vote 13 - [NAME OF VOTE 13]",null,{"$f":"SUM(C308:C317)","v":0},0,0,0,0,0,0,0,0,0]
["13.1 - [Name of sub-vote]"]
[0]
[0]
[0]
[0]
[0]
[0]
[0]
[0]
[0]
["Vote 14 - [NAME OF VOTE 14]",null,{"$f":"SUM(C319:C328)","v":0},0,0,0,0,0,0,0,0,0]
["14.1 - [Name of sub-vote]"]
[0]
[0]
[0]
[0]
[0]
[0]
[0]
[0]
[0]
["Vote 15 - [NAME OF VOTE 15]",null,{"$f":"SUM(C330:C339)","v":0},0,0,0,0,0,0,0,0,0]
["15.1 - [Name of sub-vote]"]
[0]
[0]
[0]
[0]
[0]
[0]
[0]
[0]
[0]
["Capital single-year expenditure sub-total",null,{"$f":"C175+C186+C197+C208+C219+C230+C241+C252+C263+C274+C285+C296+C307+C318+C329","v":45597961},{"$f":"D175+D186+D197+D208+D219+D230+D241+D252+D263+D274+D285+D296+D307+D318+D329","v":59576592},64218000,98761000,98761000.00999999,98761000.00999999,98761000.00999999,64927000,68822620,72951977.200000003]
["Total Capital Expenditure",null,{"$f":"C171+C340","v":45597961},{"$f":"D171+D340","v":59576592},64218000,98761000,98761000.00999999,98761000.00999999,98761000.00999999,64927000,68822620,72951977.200000003]

{"sheet":"A6-FinPos","index":14,"n_rows":71,"n_cols":12,"rows_kept":71,"cut":false,"hidden":false,"merged":[[49,0,49,11],[1,9,1,11],[1,5,1,8]]}
[" "]
[{"$f":"desc","v":"Description"},{"$f":"head27","v":"Ref"},{"$f":"head1b","v":"2014/15"},{"$f":"head1A","v":"2015/16"},{"$f":"Head1","v":"2016/17"},{"$f":"Head2","v":"Current Year 2017/18"},null,null,null,{"$f":"Head3","v":"2018/19 Medium Term Revenue & Expenditure Framework"}]
["R thousand",null,{"$f":"Head5","v":"Audited Outcome"},{"$f":"Head5","v":"Audited Outcome"},{"$f":"Head5","v":"Audited Outcome"},{"$f":"Head6","v":"Original Budget"},{"$f":"Head7","v":"Adjusted Budget"},{"$f":"Head8","v":"Full Year Forecast"},{"$f":"Head5b","v":"Pre-audit outcome"},{"$f":"Head9","v":"Budget Year 2018/19"},{"$f":"Head10","v":"Budget Year +1 2019/20"},{"$f":"Head11","v":"Budget Year +2 2020/21"}]
["ASSETS"]
["Current assets"]
["Cash",null,2908446,3104182,4878356,null,null,null,null,48291,{"$f":"J6*1.06","v":51188.46},54259.767599999999]
["Call investment deposits",1,{"$f":"'SA3'!C9","v":0},{"$f":"'SA3'!D9","v":0},{"$f":"'SA3'!E9","v":16877633},{"$f":"'SA3'!F9","v":16167241.27},{"$f":"'SA3'!G9","v":16167241.27},{"$f":"'SA3'!H9","v":16167241.27},{"$f":"'SA3'!I9","v":16167241.27},{"$f":"'SA3'!J9","v":16167241.27},{"$f":"'SA3'!K9","v":17137275.746199999},{"$f":"'SA3'!L9","v":18165512.290971998}]
["Consumer debtors",1,{"$f":"'SA3'!C14","v":15822490},{"$f":"'SA3'!D14","v":17708530},{"$f":"'SA3'!E14","v":306076806.03000003},{"$f":"'SA3'!F14","v":317271373.48080003},{"$f":"'SA3'!G14","v":317271373.48080003},{"$f":"'SA3'!H14","v":317271373.48080003},{"$f":"'SA3'!I14","v":317271373.48080003},{"$f":"'SA3'!J14","v":298507907.18000001},{"$f":"'SA3'!K14","v":316418381.61079997},{"$f":"'SA3'!L14","v":335403484.50744802}]
["Other debtors",null,1953845,2119152,13341583,14142077.98,14142077.98,14142077.98,14142077.98,1824616,{"$f":"J9*1.06","v":1934092.9600000002},2050138.5376000004]
["Current portion of long-term receivables",null,1763881,1763881,20311929,21530644.740000002,21530644.740000002,21530644.740000002,21530644.740000002,8306,8804.36,9332.6216000000004]
["Inventory",2,586686,608278,663128,702915.68,702915.68,702915.68,702915.68,705473,747801.38,792669.4628000001]
["Total current assets",null,{"$f":"SUM(C6:C11)","v":23035348},25304023,362149435.03000003,369814253.15080005,369814253.15080005,369814253.15080005,369814253.15080005,317261834.44999999,336297544.51699996,356475397.18801999]
[]
["Non current assets"]
["Long-term receivables",null,2018500,2018500,2099240,2225194.4,2225194.4,2225194.4,2225194.4,2018500,2018500,2018500]
["Investments"]
["Investment property",null,13877904,13877904,8441625,14155462.08,14155462.08,14155462.08,14155462.08,13966722,{"$f":"J17*1.06","v":14804725.32},15693008.839200001]
["Investment in Associate",null,null,null,4478037,4567597.9440000001,4567597.9440000001,4567597.9440000001,4567597.9440000001,4892128,5185655.6800000006,5496795.020800001]
["Property, plant and equipment",3,{"$f":"'SA3'!C26","v":1004475920},{"$f":"'SA3'!D26","v":1004970006},{"$f":"'SA3'!E26","v":1006101787.7299999},{"$f":"'SA3'!F26","v":1026223823.4845999},{"$f":"'SA3'!G26","v":1026223823.4845999},{"$f":"'SA3'!H26","v":1026223823.4845999},{"$f":"'SA3'!I26","v":1026223823.4845999},{"$f":"'SA3'!J26","v":986569640},{"$f":"'SA3'!K26","v":1045763818.4000001},{"$f":"'SA3'!L26","v":1108509647.5040002}]
["Agricultural"]
["Biological",null,50476,24513,24513,24513,24513,24513,24513,37700,{"$f":"J21*1.06","v":39962},42359.72]
["Intangible",null,72705,65598,65598,65598,65598,65598,65598,49371,52333.26,55473.255600000004]
["Other non-current assets",null,4835605,5117576,161942,165180.84,165180.84,165180.84,165180.84,529800,561588,595283.28]
["Total non current assets",null,{"$f":"SUM(C15:C23)","v":1025331110},{"$f":"SUM(D15:D23)","v":1026074097},{"$f":"SUM(E15:E23)","v":1021372742.7299999},1047427369.7486,1047427369.7486,1047427369.7486,1047427369.7486,1008063861,1068426582.6600001,1132411067.6196001]
["TOTAL ASSETS",null,{"$f":"C12+C24","v":1048366458},{"$f":"D12+D24","v":1051378120},{"$f":"E12+E24","v":1383522177.76},{"$f":"F12+F24","v":1417241622.8994},1417241622.8994,1417241622.8994,1417241622.8994,1325325695.45,1404724127.177,1488886464.80762]
[]
["LIABILITIES"]
["Current liabilities"]
["Bank overdraft",1]
["Borrowing",4,{"$f":"'SA3'!C32","v":1398503},{"$f":"'SA3'!D32","v":1531041},{"$f":"'SA3'!E32","v":7829433},{"$f":"'SA3'!F32","v":7986021.6600000001},{"$f":"'SA3'!G32","v":7986021.6600000001},{"$f":"'SA3'!H32","v":7986021.6600000001},{"$f":"'SA3'!I32","v":7986021.6600000001},{"$f":"'SA3'!J32","v":2188650},{"$f":"'SA3'!K32","v":1188650},{"$f":"'SA3'!L32","v":1028650}]
["Consumer deposits",null,1305253,1348785,1423310,1508708.6,1508708.6,1508708.6,1508708.6,1401912,{"$f":"J31*1.06","v":1486026.72},1575188.3232]
["Trade and other payables",4,{"$f":"'SA3'!C38","v":134622383},{"$f":"'SA3'!D38","v":177993617},{"$f":"'SA3'!E38","v":156659430.47999999},{"$f":"'SA3'!F38","v":163652719.48000002},{"$f":"'SA3'!G38","v":163652719.48000002},{"$f":"'SA3'!H38","v":163652719.48000002},{"$f":"'SA3'!I38","v":163652719.48000002},{"$f":"'SA3'!J38","v":209630150},{"$f":"'SA3'!K38","v":222207959.00000003},{"$f":"'SA3'!L38","v":235540436.54000005}]
["Provisions",null,550000,422000,572000,null,null,null,null,{"$f":"214464+530000+4363174","v":5107638},{"$f":"J33*1.06","v":5414096.2800000003},{"$f":"K33*1.06","v":5738942.0568000004}]
["Total current liabilities",null,{"$f":"SUM(C29:C33)","v":137876139},181295443,166484173.47999999,173147449.74000001,173147449.74000001,173147449.74000001,173147449.74000001,218328350,230296732.00000003,243883216.92000005]
[]
["Non current liabilities"]
["Borrowing",null,{"$f":"'SA3'!C43","v":8569848},{"$f":"'SA3'!D43","v":8273764},{"$f":"'SA3'!E43","v":7829433},{"$f":"'SA3'!F43","v":7986021.6600000001},{"$f":"'SA3'!G43","v":7986021.6600000001},{"$f":"'SA3'!H43","v":7986021.6600000001},{"$f":"'SA3'!I43","v":7986021.6600000001},{"$f":"'SA3'!J43","v":6902519},{"$f":"'SA3'!K43","v":6298484},{"$f":"'SA3'!L43","v":5298484}]
["Provisions",null,{"$f":"'SA3'!C50","v":17988811},{"$f":"'SA3'!D50","v":19142003},{"$f":"'SA3'!E50","v":301420848},{"$f":"'SA3'!F50","v":307449264.95999998},{"$f":"'SA3'!G50","v":307449264.95999998},{"$f":"'SA3'!H50","v":307449264.95999998},{"$f":"'SA3'!I50","v":307449264.95999998},{"$f":"'SA3'!J50","v":18661476},{"$f":"'SA3'!K50","v":19781164.560000002},{"$f":"'SA3'!L50","v":20968034.433600001}]
["Total non current liabilities",null,{"$f":"SUM(C37:C38)","v":26558659},{"$f":"SUM(D37:D38)","v":27415767},{"$f":"SUM(E37:E38)","v":309250281},{"$f":"SUM(F37:F38)","v":315435286.62},315435286.62,315435286.62,315435286.62,25563995,{"$f":"SUM(K37:K38)","v":26079648.560000002},26266518.433600001]
["TOTAL LIABILITIES",null,{"$f":"C34+C39","v":164434798},{"$f":"D34+D39","v":208711210},{"$f":"E34+E39","v":475734454.48000002},{"$f":"F34+F39","v":488582736.36000001},488582736.36000001,488582736.36000001,488582736.36000001,243892345,{"$f":"K34+K39","v":256376380.56000003},270149735.35360003]
[]
["NET ASSETS",5,{"$f":"C25-C40","v":883931660},842666910,907787723.27999997,928658886.53939998,928658886.53939998,928658886.53939998,928658886.53939998,1081433350.45,1148347746.6170001,1218736729.45402]
[]
["COMMUNITY WEALTH/EQUITY"]
["Accumulated Surplus/(Deficit)",null,883931660,842666910,907787723.27999997,928658886.53939998,928658886.53939998,928658886.53939998,928658886.53939998,1081433350.45,1148347746.6170001,1218736729.45402]
["Reserves",4,{"$f":"'SA3'!C69","v":0},{"$f":"'SA3'!D69","v":0},{"$f":"'SA3'!E69","v":0},{"$f":"'SA3'!F69","v":0},{"$f":"'SA3'!G69","v":0},{"$f":"'SA3'!H69","v":0},{"$f":"'SA3'!I69","v":0}]
[]
["TOTAL COMMUNITY WEALTH/EQUITY",5,{"$f":"SUM(C45:C47)","v":883931660},{"$f":"SUM(D45:D47)","v":842666910},907787723.27999997,928658886.53939998,928658886.53939998,928658886.53939998,928658886.53939998,1081433350.45,1148347746.6170001,1218736729.45402]
[{"$f":"head27a","v":"References"}]
["1. Detail to be provided in Table SA3"]
["2. Include completed low cost housing to be transferred to beneficiaries within 12 months"]
["3. Include 'Construction-work-in-progress' (disclosed separately in annual financial statements)"]
["4. Detail to be provided in Table SA3. Includes reserves to be funded by statute."]
["5. Net assets must balance with Total Community Wealth/Equity"]
["check balance",null,{"$f":"IF((C42-C48)=0,0,\"Unbalanced\")","v":0},{"$f":"IF((D42-D48)=0,0,\"Unbalanced\")","v":0},0,0,0,0,0,0,0,0]
[]
[]
[]
[]
[]
[]
[]
[]
[]
[]
[]
[]
[]
[]
[]
["Test",null,{"$f":"IF(C25<>C40,\"Unbalanced\",0)","v":"Unbalanced"},{"$f":"IF(D25<>D40,\"Unbalanced\",0)","v":"Unbalanced"},"Unbalanced","Unbalanced","Unbalanced","Unbalanced","Unbalanced","Unbalanced","Unbalanced","Unbalanced"]

{"sheet":"A7-CFlow","index":15,"n_rows":51,"n_cols":12,"rows_kept":51,"cut":false,"hidden":false,"merged":[[1,9,1,11],[1,5,1,8]]}
[{"$f":"muni&\" - \"&Approve7","v":"FS193 Nketoana - Table A7 Budgeted Cash Flows"}]
[{"$f":"desc","v":"Description"},{"$f":"head27","v":"Ref"},{"$f":"head1b","v":"2014/15"},{"$f":"head1A","v":"2015/16"},{"$f":"Head1","v":"2016/17"},{"$f":"Head2","v":"Current Year 2017/18"},null,null,null,{"$f":"Head3","v":"2018/19 Medium Term Revenue & Expenditure Framework"}]
["R thousand",null,{"$f":"Head5","v":"Audited Outcome"},{"$f":"Head5","v":"Audited Outcome"},{"$f":"Head5","v":"Audited Outcome"},{"$f":"Head6","v":"Original Budget"},{"$f":"Head7","v":"Adjusted Budget"},{"$f":"Head8","v":"Full Year Forecast"},{"$f":"Head5b","v":"Pre-audit outcome"},{"$f":"Head9","v":"Budget Year 2018/19"},{"$f":"Head10","v":"Budget Year +1 2019/20"},{"$f":"Head11","v":"Budget Year +2 2020/21"}]
["CASH FLOW FROM OPERATING ACTIVITIES"]
["Receipts"]
["Property rates",null,15835059,16673984,19537746,14238474.662064029,9294651.9000000004,9294651.9000000004,9294651.9000000004,{"$f":"'SA30'!N5","v":15801268.46518695},{"$f":"'SA30'!O5","v":16749344.573098168},{"$f":"'SA30'!P5","v":17754305.247484058}]
["Service charges",null,54705719,69183916,0,99798332.68962726,88550332.68962726,88550332.68962726,88550332.68962726,{"$f":"'SA30'!N6+'SA30'!N7+'SA30'!N8+'SA30'!N9+'SA30'!N10","v":115253635.67022854},{"$f":"'SA30'!O6+'SA30'!O7+'SA30'!O8+'SA30'!O9+'SA30'!O10","v":122168853.81044225},{"$f":"'SA30'!P6+'SA30'!P7+'SA30'!P8+'SA30'!P9+'SA30'!P10","v":129498985.0390688}]
["Other revenue",null,583166,1101572,17147557,14026549.070114287,16103675.281154286,16103675.281154286,16103675.281154286,{"$f":"'SA30'!N11+'SA30'!N15+'SA30'!N16+'SA30'!N17+'SA30'!N19","v":21720065.986474246},{"$f":"'SA30'!O11+'SA30'!O15+'SA30'!O16+'SA30'!O17+'SA30'!O19","v":23023269.9456627},{"$f":"'SA30'!P11+'SA30'!P15+'SA30'!P16+'SA30'!P17+'SA30'!P19","v":24404666.142402463}]
["Government - operating",1,139771682,153427832,81702000,82580000.0044,82580000.0044,82580000.0044,82580000.0044,{"$f":"'SA30'!N18","v":90366999.997428596},{"$f":"'SA30'!O18","v":95789019.997274309},{"$f":"'SA30'!P18","v":101536361.19711077}]
["Government - capital",1,null,null,64218000,98761000,98761000,98761000,98761000,{"$f":"'SA30'!N23","v":64927000},{"$f":"'SA30'!O23","v":68822620},{"$f":"'SA30'!P23","v":72951977.200000003}]
["Interest",null,null,null,37929813,28898779.499457859,2336455.1567428596,2336455.1567428596,2336455.1567428596,{"$f":"'SA30'!N12+'SA30'!N13","v":32737072.15240461},{"$f":"'SA30'!O12+'SA30'!O13","v":34701296.48154889},{"$f":"'SA30'!P12+'SA30'!P13","v":36783374.27044183}]
["Dividends",null,null,null,null,0,0,0,0,{"$f":"'SA30'!N14","v":0},{"$f":"'SA30'!O14","v":0},{"$f":"'SA30'!P14","v":0}]
["Payments"]
["Suppliers and employees",null,-153361523,-169284096,-206167800,-217479756.03193235,-197461142.06386435,-197461142.06386435,-197461142.06386435,{"$f":"-('SA30'!N35+'SA30'!N36+'SA30'!N38+'SA30'!N39+'SA30'!N40+'SA30'!N41+'SA30'!N44+'SA30'!N50)","v":-240696980.47725642},{"$f":"-('SA30'!O35+'SA30'!O36+'SA30'!O38+'SA30'!O39+'SA30'!O40+'SA30'!O41+'SA30'!O44+'SA30'!O50)","v":-255138799.30589181},{"$f":"-('SA30'!P35+'SA30'!P36+'SA30'!P38+'SA30'!P39+'SA30'!P40+'SA30'!P41+'SA30'!P44+'SA30'!P50)","v":-270447127.26424539}]
["Finance charges",null,-8338647,-10202243,-1500000,-17835276.45012429,-8917638.2250621393,-8917638.2250621393,-8917638.2250621393,{"$f":"-('SA30'!N37)","v":-17845133.115040358},{"$f":"-('SA30'!O37)","v":-18915841.101942781},{"$f":"-('SA30'!P37)","v":-20050791.568059348}]
["Transfers and Grants",1,null,null,null,0,0,0,0,{"$f":"-('SA30'!N42+'SA30'!N43)","v":0},{"$f":"-('SA30'!O42+'SA30'!O43)","v":0},{"$f":"-('SA30'!P42+'SA30'!P43)","v":0}]
["NET CASH FROM/(USED) OPERATING ACTIVITIES",null,{"$f":"SUM(C6:C12)+SUM(C14:C16)","v":49195456},60900965,12867316,102988103.44360676,91247334.742997944,91247334.742997944,91247334.742997944,82263928.679426193,87199764.400191724,92431750.264203191]
[]
["CASH FLOWS FROM INVESTING ACTIVITIES"]
["Receipts"]
["Proceeds on disposal of PPE",null,36425,587073,null,0,0,0,0,{"$f":"'SA30'!N24+'SA30'!N25","v":0},{"$f":"'SA30'!O24+'SA30'!O25","v":0},{"$f":"'SA30'!P24+'SA30'!P25","v":0}]
["Decrease (Increase) in non-current debtors",null,0,0,null,0,0,0,0,{"$f":"'SA30'!N29","v":0},{"$f":"'SA30'!O29","v":0},{"$f":"'SA30'!P29","v":0}]
["Decrease (increase) other non-current receivables",null,287058,-309553,null,0,0,0,0,{"$f":"'SA30'!N30","v":0},{"$f":"'SA30'!O30","v":0},{"$f":"'SA30'!P30","v":0}]
["Decrease (increase) in non-current investments",null,null,null,null,0,0,0,0,{"$f":"'SA30'!N31","v":0},{"$f":"'SA30'!O31","v":0},{"$f":"'SA30'!P31","v":0}]
["Payments"]
["Capital assets",null,-45578295,-59549009,null,-98761000,-98761000,-98761000,-98761000,{"$f":"-('SA30'!N48)","v":-64927000},{"$f":"-('SA30'!O48)","v":-68822620},{"$f":"-('SA30'!P48)","v":-72951977.200000003}]
["NET CASH FROM/(USED) INVESTING ACTIVITIES",null,{"$f":"SUM(C21:C24)+C26","v":-45254812},{"$f":"SUM(D21:D24)+D26","v":-59271489},0,-98761000,-98761000,-98761000,-98761000,-64927000,-68822620,-72951977.200000003]
[]
["CASH FLOWS FROM FINANCING ACTIVITIES"]
["Receipts"]
["Short term loans",null,null,null,null,0,0,0,0,{"$f":"'SA30'!N26","v":0},{"$f":"'SA30'!O26","v":0},{"$f":"'SA30'!P26","v":0}]
["Borrowing long term/refinancing",null,null,null,null,0,0,0,0,{"$f":"'SA30'!N27","v":0},{"$f":"'SA30'!O27","v":0},{"$f":"'SA30'!P27","v":0}]
["Increase (decrease) in consumer deposits",null,null,null,132261.99600000001,144890.34,144890.34,144890.34,144890.34,{"$f":"'SA30'!N28","v":165000},{"$f":"'SA30'!O28","v":174900},{"$f":"'SA30'!P28","v":185394}]
["Payments"]
["Repayment of borrowing",null,-1348909,-812885,-8636631.2799999993,-486000,-4000000,-4000000,-4000000,{"$f":"-('SA30'!N49)","v":-2400000},{"$f":"-('SA30'!O49)","v":-2544000},{"$f":"-('SA30'!P49)","v":-2696640}]
["NET CASH FROM/(USED) FINANCING ACTIVITIES",null,{"$f":"SUM(C31:C33)+C35","v":-1348909},{"$f":"SUM(D31:D33)+D35","v":-812885},-8504369.284,-341109.66000000003,-3855109.66,-3855109.66,-3855109.66,-2235000,-2369100,-2511246]
[]
["NET INCREASE/ (DECREASE) IN CASH HELD",null,{"$f":"C17+C27+C36","v":2591735},{"$f":"D17+D27+D36","v":816591},4362946.716,{"$f":"F17+F27+F36","v":3885993.7836067639},-11368774.917002056,-11368774.917002056,-11368774.917002056,15101928.679426193,16008044.400191724,16968527.064203188]
["Cash/cash equivalents at the year begin:",2,-881306,1710430,7269285,2527021,12381351,12381351,12381351,{"$f":"'SA30'!N54","v":-2480240},{"$f":"J40","v":12621688.679426193},{"$f":"K40","v":28629733.079617918}]
["Cash/cash equivalents at the year end:",2,{"$f":"C38+C39","v":1710429},{"$f":"D38+D39","v":2527021},{"$f":"E38+E39","v":11632231.716},{"$f":"F38+F39","v":6413014.7836067639},1012576.0829979442,1012576.0829979442,1012576.0829979442,12621688.679426193,28629733.079617918,45598260.143821105]
[{"$f":"head27a","v":"References"}]
["1. Local/District municipalities to include transfers from/to District/Local Municipalities"]
["2. Cash equivalents includes investments with maturities of 3 months or less"]
["3. The MTREF is populated directly from SA30."]
["Total receipts",null,{"$f":"SUM(C6:C12)+SUM(C21:C23)","v":211219109},240664824,220535116,338303135.92566341,297626115.03192443,297626115.03192443,297626115.03192443,340806042.27172297,361254404.80802631,382929669.09650791]
["Total payments",null,{"$f":"SUM(C14:C16)+C26","v":-207278465},{"$f":"SUM(D14:D16)+D26","v":-239035348},-207667800,-334076032.48205662,-305139780.28892648,-305139780.28892648,-305139780.28892648,-323469113.59229678,-342877260.40783459,-363449896.0323047]
[null,null,{"$f":"C45+C46","v":3940644},{"$f":"D45+D46","v":1629476},12867316,4227103.4436067939,-7513665.2570020556,-7513665.2570020556,-7513665.2570020556,17336928.679426193,18377144.400191724,19479773.064203203]
["Borrowings & investments & c.deposits",null,{"$f":"C24+C32+C33","v":0},{"$f":"D24+D32+D33","v":0},132261.99600000001,144890.34,144890.34,144890.34,144890.34,165000,174900,185394]
[{"$f":"A35","v":"Repayment of borrowing"},null,{"$f":"C35","v":-1348909},{"$f":"D35","v":-812885},-8636631.2799999993,-486000,-4000000,-4000000,{"$f":"I35","v":-4000000},-2400000,-2544000,-2696640]
[null,null,{"$f":"C47+C48+C49","v":2591735},{"$f":"D47+D48+D49","v":816591},4362946.716,3885993.7836067937,-11368774.917002056,-11368774.917002056,-11368774.917002056,15101928.679426193,16008044.400191724,16968527.064203203]
[null,null,{"$f":"C38-C50","v":0},0,0,-2.9802322387695313E-8,0,0,0,0,0,0]

{"sheet":"A8-ResRecon","index":16,"n_rows":67,"n_cols":12,"rows_kept":67,"cut":false,"hidden":false,"merged":[[1,9,1,11],[1,5,1,8]]}
[{"$f":"muni&\" - \"&Approve8","v":"FS193 Nketoana - Table A8 Cash backed reserves/accumulated surplus reconciliation"}]
[{"$f":"desc","v":"Description"},{"$f":"head27","v":"Ref"},{"$f":"head1b","v":"2014/15"},{"$f":"head1A","v":"2015/16"},{"$f":"Head1","v":"2016/17"},{"$f":"Head2","v":"Current Year 2017/18"},null,null,null,{"$f":"Head3","v":"2018/19 Medium Term Revenue & Expenditure Framework"}]
["R thousand",null,{"$f":"Head5","v":"Audited Outcome"},{"$f":"Head5","v":"Audited Outcome"},{"$f":"Head5","v":"Audited Outcome"},{"$f":"Head6","v":"Original Budget"},{"$f":"Head7","v":"Adjusted Budget"},{"$f":"Head8","v":"Full Year Forecast"},{"$f":"Head5b","v":"Pre-audit outcome"},{"$f":"Head9","v":"Budget Year 2018/19"},{"$f":"Head10","v":"Budget Year +1 2019/20"},{"$f":"Head11","v":"Budget Year +2 2020/21"}]
["Cash and investments available"]
[{"$f":"LEFT('A7-CFlow'!A40,37)","v":"Cash/cash equivalents at the year end"},1,{"$f":"'A7-CFlow'!C40","v":1710429},{"$f":"'A7-CFlow'!D40","v":2527021},{"$f":"'A7-CFlow'!E40","v":11632231.716},{"$f":"'A7-CFlow'!F40","v":6413014.7836067639},{"$f":"'A7-CFlow'!G40","v":1012576.0829979442},{"$f":"'A7-CFlow'!H40","v":1012576.0829979442},{"$f":"'A7-CFlow'!I40","v":1012576.0829979442},{"$f":"'A7-CFlow'!J40","v":12621688.679426193},{"$f":"'A7-CFlow'!K40","v":28629733.079617918},{"$f":"'A7-CFlow'!L40","v":45598260.143821105}]
["Other current investments  > 90 days",null,{"$f":"'A6-FinPos'!C6+'A6-FinPos'!C7-'A6-FinPos'!C29-'A8-ResRecon'!C5","v":1198017},{"$f":"'A6-FinPos'!D6+'A6-FinPos'!D7-'A6-FinPos'!D29-'A8-ResRecon'!D5","v":577161},{"$f":"'A6-FinPos'!E6+'A6-FinPos'!E7-'A6-FinPos'!E29-'A8-ResRecon'!E5","v":10123757.284},{"$f":"'A6-FinPos'!F6+'A6-FinPos'!F7-'A6-FinPos'!F29-'A8-ResRecon'!F5","v":9754226.4863932356},{"$f":"'A6-FinPos'!G6+'A6-FinPos'!G7-'A6-FinPos'!G29-'A8-ResRecon'!G5","v":15154665.187002055},{"$f":"'A6-FinPos'!H6+'A6-FinPos'!H7-'A6-FinPos'!H29-'A8-ResRecon'!H5","v":15154665.187002055},{"$f":"'A6-FinPos'!I6+'A6-FinPos'!I7-'A6-FinPos'!I29-'A8-ResRecon'!I5","v":15154665.187002055},{"$f":"'A6-FinPos'!J6+'A6-FinPos'!J7-'A6-FinPos'!J29-'A8-ResRecon'!J5","v":3593843.5905738063},{"$f":"'A6-FinPos'!K6+'A6-FinPos'!K7-'A6-FinPos'!K29-'A8-ResRecon'!K5","v":-11441268.873417918},{"$f":"'A6-FinPos'!L6+'A6-FinPos'!L7-'A6-FinPos'!L29-'A8-ResRecon'!L5","v":-27378488.085249107}]
[{"$f":"'A6-FinPos'!A14&\" - \"&'A6-FinPos'!A16","v":"Non current assets - Investments"},1,{"$f":"'A6-FinPos'!C16","v":0},{"$f":"'A6-FinPos'!D16","v":0},{"$f":"'A6-FinPos'!E16","v":0},{"$f":"'A6-FinPos'!F16","v":0},{"$f":"'A6-FinPos'!G16","v":0},{"$f":"'A6-FinPos'!H16","v":0},{"$f":"'A6-FinPos'!I16","v":0},{"$f":"'A6-FinPos'!J16","v":0},{"$f":"'A6-FinPos'!K16","v":0},{"$f":"'A6-FinPos'!L16","v":0}]
["Cash and investments available:",null,{"$f":"SUM(C5:C7)","v":2908446},{"$f":"SUM(D5:D7)","v":3104182},21755989,16167241.27,16167241.27,16167241.27,16167241.27,16215532.27,17188464.2062,18219772.058571998]
[]
["Application of cash and investments"]
[{"$f":"'SA3'!A36","v":"Unspent conditional transfers"},null,{"$f":"'SA3'!C36","v":1091381},{"$f":"'SA3'!D36","v":92019},{"$f":"'SA3'!E36","v":2270072.48},{"$f":"'SA3'!F36","v":0},{"$f":"'SA3'!G36","v":0},{"$f":"'SA3'!H36","v":0},{"$f":"'SA3'!I36","v":0},{"$f":"'SA3'!J36","v":0},{"$f":"'SA3'!K36","v":0},{"$f":"'SA3'!L36","v":0}]
["Unspent borrowing",null,{"$f":"'SA17'!C67","v":0},{"$f":"'SA17'!D67","v":0},{"$f":"'SA17'!E67","v":0},{"$f":"'SA17'!F67","v":0},{"$f":"'SA17'!G67","v":0},{"$f":"'SA17'!H67","v":0},null,{"$f":"'SA17'!I67","v":0},{"$f":"'SA17'!J67","v":0},{"$f":"'SA17'!K67","v":0}]
["Statutory requirements",2]
["Other working capital requirements",3,{"$f":"-C32","v":105966335},{"$f":"-D32","v":153821242},81708168,{"$f":"-F32","v":-48269261.919999987},{"$f":"-G32","v":-23028261.919999987},-23028261.919999987,-23028261.919999987,{"$f":"-J32","v":10888383},11618565.980000019,12392859.938800037]
["Other provisions"]
["Long term investments committed",4,{"$f":"C52","v":0},{"$f":"D52","v":0},0,0,0,0,0,0,0,0]
["Reserves to be backed by cash/investments",5]
[{"$f":"\"Total \"&A10&\":\"","v":"Total Application of cash and investments:"},null,{"$f":"SUM(C11:C17)","v":107057716},{"$f":"SUM(D11:D17)","v":153913261},83978240.480000004,-48269261.919999987,-23028261.919999987,-23028261.919999987,-23028261.919999987,10888383,11618565.980000019,12392859.938800037]
["Surplus(shortfall)",null,{"$f":"C8-C18","v":-104149270},{"$f":"D8-D18","v":-150809079},-62222251.480000004,64436503.189999983,39195503.189999983,39195503.189999983,39195503.189999983,5327149.2699999996,5569898.2261999808,5826912.1197719611]
[{"$f":"head27a","v":"References"}]
["1. Must reconcile with Budgeted Cash Flows"]
["2. For example: VAT, taxation"]
["3. Council approval for policy required - include sufficient working capital (e.g. allowing for a % of current debtors > 90 days as uncollectable)"]
["4. For example: sinking fund requirements for borrowing"]
["5. Council approval required for each reserve created and basis of cash backing of reserves"]
[]
[]
["Other working capital requirements"]
["Debtors",null,{"$f":"IF(ISERROR(ROUND(C35*C36,-3)),0,(ROUND(C35*C36,-3)))","v":9188000},{"$f":"IF(ISERROR(ROUND(D35*D36,-3)),0,(ROUND(D35*D36,-3)))","v":10535000},56118000,194365000,{"$f":"IF(ISERROR(ROUND(G35*G36,-3)),0,(ROUND(G35*G36,-3)))","v":169124000},169124000,169124000,{"$f":"IF(ISERROR(ROUND(J35*J36,-3)),0,(ROUND(J35*J36,-3)))","v":192198000},203653000,215795000]
[]
["Creditors due",null,{"$f":"'SA3'!C35","v":115154335},{"$f":"'SA3'!D35","v":164356242},{"$f":"'SA3'!E35","v":137826168},{"$f":"'SA3'!F35","v":146095738.08000001},{"$f":"'SA3'!G35","v":146095738.08000001},{"$f":"'SA3'!H35","v":146095738.08000001},{"$f":"'SA3'!I35","v":146095738.08000001},{"$f":"'SA3'!J35","v":203086383},{"$f":"'SA3'!K35","v":215271565.98000002},{"$f":"'SA3'!L35","v":228187859.93880004}]
["Total",null,{"$f":"C29-C31","v":-105966335},{"$f":"D29-D31","v":-153821242},-81708168,48269261.919999987,23028261.919999987,23028261.919999987,23028261.919999987,-10888383,-11618565.980000019,-12392859.938800037]
[]
["Debtors collection assumptions"]
["Balance outstanding - debtors",null,{"$f":"'A6-FinPos'!C8+'A6-FinPos'!C9+'A6-FinPos'!C15","v":19794835},{"$f":"'A6-FinPos'!D8+'A6-FinPos'!D9+'A6-FinPos'!D15","v":21846182},{"$f":"'A6-FinPos'!E8+'A6-FinPos'!E9+'A6-FinPos'!E15","v":321517629.03000003},{"$f":"'A6-FinPos'!F8+'A6-FinPos'!F9+'A6-FinPos'!F15","v":333638645.86080003},{"$f":"'A6-FinPos'!G8+'A6-FinPos'!G9+'A6-FinPos'!G15","v":333638645.86080003},{"$f":"'A6-FinPos'!H8+'A6-FinPos'!H9+'A6-FinPos'!H15","v":333638645.86080003},{"$f":"'A6-FinPos'!I8+'A6-FinPos'!I9+'A6-FinPos'!I15","v":333638645.86080003},{"$f":"'A6-FinPos'!J8+'A6-FinPos'!J9+'A6-FinPos'!J15","v":302351023.18000001},{"$f":"'A6-FinPos'!K8+'A6-FinPos'!K9+'A6-FinPos'!K15","v":320370974.57079995},{"$f":"'A6-FinPos'!L8+'A6-FinPos'!L9+'A6-FinPos'!L15","v":339472123.045048}]
["Estimate of debtors collection rate",null,{"$f":"IF(ISERROR('SA10'!D10),0,('SA10'!D10))","v":0.46417160072904312},{"$f":"IF(ISERROR('SA10'!E10),0,('SA10'!E10))","v":0.48224448861521213},{"$f":"IF(ISERROR('SA10'!F10),0,('SA10'!F10))","v":0.17453968243349866},{"$f":"IF(ISERROR('SA10'!G10),0,('SA10'!G10))","v":0.58256204323401661},{"$f":"IF(ISERROR('SA10'!H10),0,('SA10'!H10))","v":0.50690798732711562},{"$f":"IF(ISERROR('SA10'!I10),0,('SA10'!I10))","v":0.50690798732711562},{"$f":"IF(ISERROR('SA10'!J10),0,('SA10'!J10))","v":0.50690798732711562},{"$f":"IF(ISERROR('SA10'!K10),0,('SA10'!K10))","v":0.63567830769952227},{"$f":"IF(ISERROR('SA10'!L10),0,('SA10'!L10))","v":0.63567830769952238},{"$f":"IF(ISERROR('SA10'!M10),0,('SA10'!M10))","v":0.63567830769952216}]
[]
[]
[null,null,null,null,null,null,null,null,null,null,"`"]
[{"$f":"A16","v":"Long term investments committed"}]
["Balance (Insert description; eg sinking fund)"]
[]
[]
[]
[]
[]
[]
[]
[]
[]
[]
[null,null,{"$f":"SUM(C41:C51)","v":0},{"$f":"SUM(D41:D51)","v":0},0,0,0,0,0,0,0,0]
[{"$f":"A17","v":"Reserves to be backed by cash/investments"}]
[{"$f":"'SA3'!A64","v":"Housing Development Fund"},null,{"$f":"'SA3'!C64","v":0},{"$f":"'SA3'!D64","v":0},{"$f":"'SA3'!E64","v":0},{"$f":"'SA3'!F64","v":0},{"$f":"'SA3'!G64","v":0},{"$f":"'SA3'!H64","v":0},{"$f":"'SA3'!I64","v":0},{"$f":"'SA3'!J64","v":0},{"$f":"'SA3'!K64","v":0},{"$f":"'SA3'!L64","v":0}]
[{"$f":"'SA3'!A65","v":"Capital replacement"}]
[{"$f":"'SA3'!A66","v":"Self-insurance"}]
["Other (list)"]
[]
[]
[]
[]
[]
[]
[]
[]
[]
[null,null,{"$f":"SUM(C54:C65)","v":0},0,0,0,0,0,0,0,0,0]

{"sheet":"A9-Asset","index":17,"n_rows":217,"n_cols":11,"rows_kept":217,"cut":false,"hidden":false,"merged":[[1,5,1,7],[1,8,1,10]]}
[{"$f":"muni&\" - \"&Approve9","v":"FS193 Nketoana - Table A9 Asset Management"}]
[{"$f":"desc","v":"Description"},{"$f":"head27","v":"Ref"},{"$f":"head1b","v":"2014/15"},{"$f":"head1A","v":"2015/16"},{"$f":"Head1","v":"2016/17"},{"$f":"Head2","v":"Current Year 2017/18"},null,null,{"$f":"Head3","v":"2018/19 Medium Term Revenue & Expenditure Framework"}]
["R thousand",null,{"$f":"Head5","v":"Audited Outcome"},{"$f":"Head5","v":"Audited Outcome"},{"$f":"Head5","v":"Audited Outcome"},{"$f":"Head6","v":"Original Budget"},{"$f":"Head7","v":"Adjusted Budget"},{"$f":"Head8","v":"Full Year Forecast"},{"$f":"Head9","v":"Budget Year 2018/19"},{"$f":"Head10","v":"Budget Year +1 2019/20"},{"$f":"Head11","v":"Budget Year +2 2020/21"}]
["CAPITAL EXPENDITURE"]
["Total New Assets",1,{"$f":"C15+C18+C19+C22+C25+C26+SUM(C29:C35)","v":45597961},{"$f":"D15+D18+D19+D22+D25+D26+SUM(D29:D35)","v":59576592},56390590.690000005,52085861.759999998,44782076.769999996,44782076.769999996,23935551.619999997,25371684.717199996,26893985.800231997]
["Roads Infrastructure",null,{"$f":"SA34a!C7","v":11094273},{"$f":"SA34a!D7","v":12648409},{"$f":"SA34a!E7","v":1210900},{"$f":"SA34a!F7","v":1287750},{"$f":"SA34a!G7","v":1287750},{"$f":"SA34a!H7","v":1287750},{"$f":"SA34a!I7","v":1352100},{"$f":"SA34a!J7","v":1433226},{"$f":"SA34a!K7","v":1519219.56}]
["Storm water Infrastructure",null,{"$f":"SA34a!C12","v":0},{"$f":"SA34a!D12","v":0},{"$f":"SA34a!E12","v":0},{"$f":"SA34a!F12","v":0},{"$f":"SA34a!G12","v":0},{"$f":"SA34a!H12","v":0},{"$f":"SA34a!I12","v":0},{"$f":"SA34a!J12","v":0},{"$f":"SA34a!K12","v":0}]
["Electrical Infrastructure",null,{"$f":"SA34a!C16","v":5300000},{"$f":"SA34a!D16","v":2842188},{"$f":"SA34a!E16","v":0},{"$f":"SA34a!F16","v":0},{"$f":"SA34a!G16","v":0},{"$f":"SA34a!H16","v":0},{"$f":"SA34a!I16","v":1547056.65},{"$f":"SA34a!J16","v":1639880.0489999999},{"$f":"SA34a!K16","v":1738272.85194}]
["Water Supply Infrastructure",null,{"$f":"SA34a!C26","v":14597433},{"$f":"SA34a!D26","v":19660506},{"$f":"SA34a!E26","v":32010790.850000001},{"$f":"SA34a!F26","v":42253389.149999999},{"$f":"SA34a!G26","v":42253389.149999999},{"$f":"SA34a!H26","v":42253389.149999999},{"$f":"SA34a!I26","v":0},{"$f":"SA34a!J26","v":0},{"$f":"SA34a!K26","v":0}]
["Sanitation Infrastructure",null,{"$f":"SA34a!C37","v":4160116},{"$f":"SA34a!D37","v":7728815},{"$f":"SA34a!E37","v":10403453.92},{"$f":"SA34a!F37","v":0},{"$f":"SA34a!G37","v":0},{"$f":"SA34a!H37","v":0},{"$f":"SA34a!I37","v":20611849.969999999},{"$f":"SA34a!J37","v":21848560.968199998},{"$f":"SA34a!K37","v":23159474.626291998}]
["Solid Waste Infrastructure",null,{"$f":"SA34a!C44","v":9023838},{"$f":"SA34a!D44","v":8942785},{"$f":"SA34a!E44","v":376200},{"$f":"SA34a!F44","v":7690155},{"$f":"SA34a!G44","v":386370.00999999978},{"$f":"SA34a!H44","v":386370.00999999978},{"$f":"SA34a!I44","v":424545},{"$f":"SA34a!J44","v":450017.7},{"$f":"SA34a!K44","v":477018.76200000005}]
["Rail Infrastructure",null,{"$f":"SA34a!C52","v":0},{"$f":"SA34a!D52","v":0},{"$f":"SA34a!E52","v":0},{"$f":"SA34a!F52","v":0},{"$f":"SA34a!G52","v":0},{"$f":"SA34a!H52","v":0},{"$f":"SA34a!I52","v":0},{"$f":"SA34a!J52","v":0},{"$f":"SA34a!K52","v":0}]
["Coastal Infrastructure",null,{"$f":"SA34a!C62","v":0},{"$f":"SA34a!D62","v":0},{"$f":"SA34a!E62","v":0},{"$f":"SA34a!F62","v":0},{"$f":"SA34a!G62","v":0},{"$f":"SA34a!H62","v":0},{"$f":"SA34a!I62","v":0},{"$f":"SA34a!J62","v":0},{"$f":"SA34a!K62","v":0}]
["Information and Communication Infrastructure",null,{"$f":"SA34a!C68","v":0},{"$f":"SA34a!D68","v":0},{"$f":"SA34a!E68","v":0},{"$f":"SA34a!F68","v":0},{"$f":"SA34a!G68","v":0},{"$f":"SA34a!H68","v":0},{"$f":"SA34a!I68","v":0},{"$f":"SA34a!J68","v":0},{"$f":"SA34a!K68","v":0}]
["Infrastructure",null,{"$f":"SUM(C6:C14)","v":44175660},{"$f":"SUM(D6:D14)","v":51822703},44001344.770000003,51231294.149999999,43927509.159999996,43927509.159999996,23935551.619999997,25371684.717199996,26893985.800231997]
["Community Facilities",null,{"$f":"SA34a!C75","v":0},{"$f":"SA34a!D75","v":6212509},{"$f":"SA34a!E75","v":12389245.92},{"$f":"SA34a!F75","v":854567.61},{"$f":"SA34a!G75","v":854567.61},{"$f":"SA34a!H75","v":854567.61},{"$f":"SA34a!I75","v":0},{"$f":"SA34a!J75","v":0},{"$f":"SA34a!K75","v":0}]
["Sport and Recreation Facilities",null,{"$f":"SA34a!C98","v":0},{"$f":"SA34a!D98","v":0},{"$f":"SA34a!E98","v":0},{"$f":"SA34a!F98","v":0},{"$f":"SA34a!G98","v":0},{"$f":"SA34a!H98","v":0},{"$f":"SA34a!I98","v":0},{"$f":"SA34a!J98","v":0},{"$f":"SA34a!K98","v":0}]
["Community Assets",null,{"$f":"SUM(C16:C17)","v":0},{"$f":"SUM(D16:D17)","v":6212509},12389245.92,854567.61,854567.61,854567.61,0,0,0]
["Heritage Assets",null,{"$f":"SA34a!C103","v":0},{"$f":"SA34a!D103","v":0},{"$f":"SA34a!E103","v":0},{"$f":"SA34a!F103","v":0},{"$f":"SA34a!G103","v":0},{"$f":"SA34a!H103","v":0},{"$f":"SA34a!I103","v":0},{"$f":"SA34a!J103","v":0},{"$f":"SA34a!K103","v":0}]
["Revenue Generating",null,{"$f":"SA34a!C111","v":0},{"$f":"SA34a!D111","v":0},{"$f":"SA34a!E111","v":0},{"$f":"SA34a!F111","v":0},{"$f":"SA34a!G111","v":0},{"$f":"SA34a!H111","v":0},{"$f":"SA34a!I111","v":0},{"$f":"SA34a!J111","v":0},{"$f":"SA34a!K111","v":0}]
["Non-revenue Generating",null,{"$f":"SA34a!C114","v":0},{"$f":"SA34a!D114","v":0},{"$f":"SA34a!E114","v":0},{"$f":"SA34a!F114","v":0},{"$f":"SA34a!G114","v":0},{"$f":"SA34a!H114","v":0},{"$f":"SA34a!I114","v":0},{"$f":"SA34a!J114","v":0},{"$f":"SA34a!K114","v":0}]
["Investment properties",null,{"$f":"SUM(C20:C21)","v":0},{"$f":"SUM(D20:D21)","v":0},0,0,0,0,0,0,0]
["Operational Buildings",null,{"$f":"SA34a!C119","v":1402635},{"$f":"SA34a!D119","v":1513798},{"$f":"SA34a!E119","v":0},{"$f":"SA34a!F119","v":0},{"$f":"SA34a!G119","v":0},{"$f":"SA34a!H119","v":0},{"$f":"SA34a!I119","v":0},{"$f":"SA34a!J119","v":0},{"$f":"SA34a!K119","v":0}]
["Housing",null,{"$f":"SA34a!C131","v":0},{"$f":"SA34a!D131","v":0},{"$f":"SA34a!E131","v":0},{"$f":"SA34a!F131","v":0},{"$f":"SA34a!G131","v":0},{"$f":"SA34a!H131","v":0},{"$f":"SA34a!I131","v":0},{"$f":"SA34a!J131","v":0},{"$f":"SA34a!K131","v":0}]
["Other Assets",null,{"$f":"SUM(C23:C24)","v":1402635},{"$f":"SUM(D23:D24)","v":1513798},0,0,0,0,0,0,0]
["Biological or Cultivated Assets",null,{"$f":"SA34a!C136","v":0},{"$f":"SA34a!D136","v":0},{"$f":"SA34a!E136","v":0},{"$f":"SA34a!F136","v":0},{"$f":"SA34a!G136","v":0},{"$f":"SA34a!H136","v":0},{"$f":"SA34a!I136","v":0},{"$f":"SA34a!J136","v":0},{"$f":"SA34a!K136","v":0}]
["Servitudes",null,{"$f":"SA34a!C140","v":0},{"$f":"SA34a!D140","v":0},{"$f":"SA34a!E140","v":0},{"$f":"SA34a!F140","v":0},{"$f":"SA34a!G140","v":0},{"$f":"SA34a!H140","v":0},{"$f":"SA34a!I140","v":0},{"$f":"SA34a!J140","v":0},{"$f":"SA34a!K140","v":0}]
["Licences and Rights",null,{"$f":"SA34a!C141","v":19666},{"$f":"SA34a!D141","v":27582},{"$f":"SA34a!E141","v":0},{"$f":"SA34a!F141","v":0},{"$f":"SA34a!G141","v":0},{"$f":"SA34a!H141","v":0},{"$f":"SA34a!I141","v":0},{"$f":"SA34a!J141","v":0},{"$f":"SA34a!K141","v":0}]
["Intangible Assets",null,{"$f":"SUM(C27:C28)","v":19666},{"$f":"SUM(D27:D28)","v":27582},0,0,0,0,0,0,0]
["Computer Equipment",null,{"$f":"SA34a!C149","v":0},{"$f":"SA34a!D149","v":0},{"$f":"SA34a!E149","v":0},{"$f":"SA34a!F149","v":0},{"$f":"SA34a!G149","v":0},{"$f":"SA34a!H149","v":0},{"$f":"SA34a!I149","v":0},{"$f":"SA34a!J149","v":0},{"$f":"SA34a!K149","v":0}]
["Furniture and Office Equipment",null,{"$f":"SA34a!C152","v":0},{"$f":"SA34a!D152","v":0},{"$f":"SA34a!E152","v":0},{"$f":"SA34a!F152","v":0},{"$f":"SA34a!G152","v":0},{"$f":"SA34a!H152","v":0},{"$f":"SA34a!I152","v":0},{"$f":"SA34a!J152","v":0},{"$f":"SA34a!K152","v":0}]
["Machinery and Equipment",null,{"$f":"SA34a!C155","v":0},{"$f":"SA34a!D155","v":0},{"$f":"SA34a!E155","v":0},{"$f":"SA34a!F155","v":0},{"$f":"SA34a!G155","v":0},{"$f":"SA34a!H155","v":0},{"$f":"SA34a!I155","v":0},{"$f":"SA34a!J155","v":0},{"$f":"SA34a!K155","v":0}]
["Transport Assets",null,{"$f":"SA34a!C158","v":0},{"$f":"SA34a!D158","v":0},{"$f":"SA34a!E158","v":0},{"$f":"SA34a!F158","v":0},{"$f":"SA34a!G158","v":0},{"$f":"SA34a!H158","v":0},{"$f":"SA34a!I158","v":0},{"$f":"SA34a!J158","v":0},{"$f":"SA34a!K158","v":0}]
["Libraries",null,{"$f":"SA34a!C161","v":0},{"$f":"SA34a!D161","v":0},{"$f":"SA34a!E161","v":0},{"$f":"SA34a!F161","v":0},{"$f":"SA34a!G161","v":0},{"$f":"SA34a!H161","v":0},{"$f":"SA34a!I161","v":0},{"$f":"SA34a!J161","v":0},{"$f":"SA34a!K161","v":0}]
["Zoo's, Marine and Non-biological Animals",null,{"$f":"SA34a!C164","v":0},{"$f":"SA34a!D164","v":0},{"$f":"SA34a!E164","v":0},{"$f":"SA34a!F164","v":0},{"$f":"SA34a!G164","v":0},{"$f":"SA34a!H164","v":0},{"$f":"SA34a!I164","v":0},{"$f":"SA34a!J164","v":0},{"$f":"SA34a!K164","v":0}]
[]
["Total Renewal of Existing Assets",2,{"$f":"C47+C50+C51+C54+C57+C58+SUM(C61:C67)","v":0},{"$f":"D47+D50+D51+D54+D57+D58+SUM(D61:D67)","v":0},7827409.29,46675138.240000002,53978923.239999987,53978923.239999987,40991448.380000003,43450935.282799996,46057991.399768002]
["Roads Infrastructure",null,{"$f":"SA34b!C7","v":0},{"$f":"SA34b!D7","v":0},{"$f":"SA34b!E7","v":3916477.73},{"$f":"SA34b!F7","v":12545315.620000001},{"$f":"SA34b!G7","v":15870391.479999999},{"$f":"SA34b!H7","v":15870391.479999999},{"$f":"SA34b!I7","v":7215973.3799999999},{"$f":"SA34b!J7","v":7648931.7828000002},{"$f":"SA34b!K7","v":8107867.6897680005}]
["Storm water Infrastructure",null,{"$f":"SA34b!C12","v":0},{"$f":"SA34b!D12","v":0},{"$f":"SA34b!E12","v":0},{"$f":"SA34b!F12","v":0},{"$f":"SA34b!G12","v":0},{"$f":"SA34b!H12","v":0},{"$f":"SA34b!I12","v":0},{"$f":"SA34b!J12","v":0},{"$f":"SA34b!K12","v":0}]
["Electrical Infrastructure",null,{"$f":"SA34b!C16","v":0},{"$f":"SA34b!D16","v":0},{"$f":"SA34b!E16","v":0},{"$f":"SA34b!F16","v":5000000},{"$f":"SA34b!G16","v":5000000},{"$f":"SA34b!H16","v":5000000},{"$f":"SA34b!I16","v":0},{"$f":"SA34b!J16","v":0},{"$f":"SA34b!K16","v":0}]
["Water Supply Infrastructure",null,{"$f":"SA34b!C26","v":0},{"$f":"SA34b!D26","v":0},{"$f":"SA34b!E26","v":0},{"$f":"SA34b!F26","v":5596096.5899999999},{"$f":"SA34b!G26","v":5596096.5899999999},{"$f":"SA34b!H26","v":5596096.5899999999},{"$f":"SA34b!I26","v":28490520.309999999},{"$f":"SA34b!J26","v":30199951.5286},{"$f":"SA34b!K26","v":32011948.620316003}]
["Sanitation Infrastructure",null,{"$f":"SA34b!C37","v":0},{"$f":"SA34b!D37","v":0},{"$f":"SA34b!E37","v":0},{"$f":"SA34b!F37","v":20279103.039999999},{"$f":"SA34b!G37","v":22502227.549999997},{"$f":"SA34b!H37","v":22502227.549999997},{"$f":"SA34b!I37","v":4079534.95},{"$f":"SA34b!J37","v":4324307.0470000003},{"$f":"SA34b!K37","v":4583765.4698200002}]
["Solid Waste Infrastructure",null,{"$f":"SA34b!C44","v":0},{"$f":"SA34b!D44","v":0},{"$f":"SA34b!E44","v":0},{"$f":"SA34b!F44","v":0},{"$f":"SA34b!G44","v":0},{"$f":"SA34b!H44","v":0},{"$f":"SA34b!I44","v":0},{"$f":"SA34b!J44","v":0},{"$f":"SA34b!K44","v":0}]
["Rail Infrastructure",null,{"$f":"SA34b!C52","v":0},{"$f":"SA34b!D52","v":0},{"$f":"SA34b!E52","v":0},{"$f":"SA34b!F52","v":0},{"$f":"SA34b!G52","v":0},{"$f":"SA34b!H52","v":0},{"$f":"SA34b!I52","v":0},{"$f":"SA34b!J52","v":0},{"$f":"SA34b!K52","v":0}]
["Coastal Infrastructure",null,{"$f":"SA34b!C62","v":0},{"$f":"SA34b!D62","v":0},{"$f":"SA34b!E62","v":0},{"$f":"SA34b!F62","v":0},{"$f":"SA34b!G62","v":0},{"$f":"SA34b!H62","v":0},{"$f":"SA34b!I62","v":0},{"$f":"SA34b!J62","v":0},{"$f":"SA34b!K62","v":0}]
["Information and Communication Infrastructure",null,{"$f":"SA34b!C68","v":0},{"$f":"SA34b!D68","v":0},{"$f":"SA34b!E68","v":0},{"$f":"SA34b!F68","v":0},{"$f":"SA34b!G68","v":0},{"$f":"SA34b!H68","v":0},{"$f":"SA34b!I68","v":0},{"$f":"SA34b!J68","v":0},{"$f":"SA34b!K68","v":0}]
["Infrastructure",null,{"$f":"SUM(C38:C46)","v":0},{"$f":"SUM(D38:D46)","v":0},3916477.73,43420515.25,48968715.61999999,48968715.61999999,39786028.640000001,42173190.358399995,44703581.779904]
["Community Facilities",null,{"$f":"SA34b!C75","v":0},{"$f":"SA34b!D75","v":0},{"$f":"SA34b!E75","v":3910931.56},{"$f":"SA34b!F75","v":0},{"$f":"SA34b!G75","v":0},{"$f":"SA34b!H75","v":0},{"$f":"SA34b!I75","v":0},{"$f":"SA34b!J75","v":0},{"$f":"SA34b!K75","v":0}]
["Sport and Recreation Facilities",null,{"$f":"SA34b!C98","v":0},{"$f":"SA34b!D98","v":0},{"$f":"SA34b!E98","v":0},{"$f":"SA34b!F98","v":3254622.99},{"$f":"SA34b!G98","v":5010207.62},{"$f":"SA34b!H98","v":5010207.62},{"$f":"SA34b!I98","v":1205419.74},{"$f":"SA34b!J98","v":1277744.9244000001},{"$f":"SA34b!K98","v":1354409.6198640002}]
["Community Assets",null,{"$f":"SUM(C48:C49)","v":0},{"$f":"SUM(D48:D49)","v":0},3910931.56,3254622.99,5010207.62,5010207.62,1205419.74,1277744.9244000001,1354409.6198640002]
["Heritage Assets",null,{"$f":"SA34b!C103","v":0},{"$f":"SA34b!D103","v":0},{"$f":"SA34b!E103","v":0},{"$f":"SA34b!F103","v":0},{"$f":"SA34b!G103","v":0},{"$f":"SA34b!H103","v":0},{"$f":"SA34b!I103","v":0},{"$f":"SA34b!J103","v":0},{"$f":"SA34b!K103","v":0}]
["Revenue Generating",null,{"$f":"SA34b!C111","v":0},{"$f":"SA34b!D111","v":0},{"$f":"SA34b!E111","v":0},{"$f":"SA34b!F111","v":0},{"$f":"SA34b!G111","v":0},{"$f":"SA34b!H111","v":0},{"$f":"SA34b!I111","v":0},{"$f":"SA34b!J111","v":0},{"$f":"SA34b!K111","v":0}]
["Non-revenue Generating",null,{"$f":"SA34b!C114","v":0},{"$f":"SA34b!D114","v":0},{"$f":"SA34b!E114","v":0},{"$f":"SA34b!F114","v":0},{"$f":"SA34b!G114","v":0},{"$f":"SA34b!H114","v":0},{"$f":"SA34b!I114","v":0},{"$f":"SA34b!J114","v":0},{"$f":"SA34b!K114","v":0}]
["Investment properties",null,{"$f":"SUM(C52:C53)","v":0},{"$f":"SUM(D52:D53)","v":0},0,0,0,0,0,0,0]
["Operational Buildings",null,{"$f":"SA34b!C119","v":0},{"$f":"SA34b!D119","v":0},{"$f":"SA34b!E119","v":0},{"$f":"SA34b!F119","v":0},{"$f":"SA34b!G119","v":0},{"$f":"SA34b!H119","v":0},{"$f":"SA34b!I119","v":0},{"$f":"SA34b!J119","v":0},{"$f":"SA34b!K119","v":0}]
["Housing",null,{"$f":"SA34b!C131","v":0},{"$f":"SA34b!D131","v":0},{"$f":"SA34b!E131","v":0},{"$f":"SA34b!F131","v":0},{"$f":"SA34b!G131","v":0},{"$f":"SA34b!H131","v":0},{"$f":"SA34b!I131","v":0},{"$f":"SA34b!J131","v":0},{"$f":"SA34b!K131","v":0}]
["Other Assets",null,{"$f":"SUM(C55:C56)","v":0},{"$f":"SUM(D55:D56)","v":0},0,0,0,0,0,0,0]
["Biological or Cultivated Assets",null,{"$f":"SA34b!C136","v":0},{"$f":"SA34b!D136","v":0},{"$f":"SA34b!E136","v":0},{"$f":"SA34b!F136","v":0},{"$f":"SA34b!G136","v":0},{"$f":"SA34b!H136","v":0},{"$f":"SA34b!I136","v":0},{"$f":"SA34b!J136","v":0},{"$f":"SA34b!K136","v":0}]
["Servitudes",null,{"$f":"SA34b!C140","v":0},{"$f":"SA34b!D140","v":0},{"$f":"SA34b!E140","v":0},{"$f":"SA34b!F140","v":0},{"$f":"SA34b!G140","v":0},{"$f":"SA34b!H140","v":0},{"$f":"SA34b!I140","v":0},{"$f":"SA34b!J140","v":0},{"$f":"SA34b!K140","v":0}]
["Licences and Rights",null,{"$f":"SA34b!C141","v":0},{"$f":"SA34b!D141","v":0},{"$f":"SA34b!E141","v":0},{"$f":"SA34b!F141","v":0},{"$f":"SA34b!G141","v":0},{"$f":"SA34b!H141","v":0},{"$f":"SA34b!I141","v":0},{"$f":"SA34b!J141","v":0},{"$f":"SA34b!K141","v":0}]
["Intangible Assets",null,{"$f":"SUM(C59:C60)","v":0},{"$f":"SUM(D59:D60)","v":0},0,0,0,0,0,0,0]
["Computer Equipment",null,{"$f":"SA34b!C149","v":0},{"$f":"SA34b!D149","v":0},{"$f":"SA34b!E149","v":0},{"$f":"SA34b!F149","v":0},{"$f":"SA34b!G149","v":0},{"$f":"SA34b!H149","v":0},{"$f":"SA34b!I149","v":0},{"$f":"SA34b!J149","v":0},{"$f":"SA34b!K149","v":0}]
["Furniture and Office Equipment",null,{"$f":"SA34b!C152","v":0},{"$f":"SA34b!D152","v":0},{"$f":"SA34b!E152","v":0},{"$f":"SA34b!F152","v":0},{"$f":"SA34b!G152","v":0},{"$f":"SA34b!H152","v":0},{"$f":"SA34b!I152","v":0},{"$f":"SA34b!J152","v":0},{"$f":"SA34b!K152","v":0}]
["Machinery and Equipment",null,{"$f":"SA34b!C155","v":0},{"$f":"SA34b!D155","v":0},{"$f":"SA34b!E155","v":0},{"$f":"SA34b!F155","v":0},{"$f":"SA34b!G155","v":0},{"$f":"SA34b!H155","v":0},{"$f":"SA34b!I155","v":0},{"$f":"SA34b!J155","v":0},{"$f":"SA34b!K155","v":0}]
["Transport Assets",null,{"$f":"SA34b!C158","v":0},{"$f":"SA34b!D158","v":0},{"$f":"SA34b!E158","v":0},{"$f":"SA34b!F158","v":0},{"$f":"SA34b!G158","v":0},{"$f":"SA34b!H158","v":0},{"$f":"SA34b!I158","v":0},{"$f":"SA34b!J158","v":0},{"$f":"SA34b!K158","v":0}]
["Libraries",null,{"$f":"SA34b!C161","v":0},{"$f":"SA34b!D161","v":0},{"$f":"SA34b!E161","v":0},{"$f":"SA34b!F161","v":0},{"$f":"SA34b!G161","v":0},{"$f":"SA34b!H161","v":0},{"$f":"SA34b!I161","v":0},{"$f":"SA34b!J161","v":0},{"$f":"SA34b!K161","v":0}]
["Zoo's, Marine and Non-biological Animals",null,{"$f":"SA34b!C164","v":0},{"$f":"SA34b!D164","v":0},{"$f":"SA34b!E164","v":0},{"$f":"SA34b!F164","v":0},{"$f":"SA34b!G164","v":0},{"$f":"SA34b!H164","v":0},{"$f":"SA34b!I164","v":0},{"$f":"SA34b!J164","v":0},{"$f":"SA34b!K164","v":0}]
[]
["Total Upgrading of Existing Assets",6,{"$f":"C79+C82+C83+C86+C89+C90+SUM(C93:C99)","v":0},{"$f":"D79+D82+D83+D86+D89+D90+SUM(D93:D99)","v":0},0,0,0,0,0,0,0]
["Roads Infrastructure",null,{"$f":"SA34e!C7","v":0},{"$f":"SA34e!D7","v":0},{"$f":"SA34e!E7","v":0},{"$f":"SA34e!F7","v":0},{"$f":"SA34e!G7","v":0},{"$f":"SA34e!H7","v":0},{"$f":"SA34e!I7","v":0},{"$f":"SA34e!J7","v":0},{"$f":"SA34e!K7","v":0}]
["Storm water Infrastructure",null,{"$f":"SA34e!C12","v":0},{"$f":"SA34e!D12","v":0},{"$f":"SA34e!E12","v":0},{"$f":"SA34e!F12","v":0},{"$f":"SA34e!G12","v":0},{"$f":"SA34e!H12","v":0},{"$f":"SA34e!I12","v":0},{"$f":"SA34e!J12","v":0},{"$f":"SA34e!K12","v":0}]
["Electrical Infrastructure",null,{"$f":"SA34e!C16","v":0},{"$f":"SA34e!D16","v":0},{"$f":"SA34e!E16","v":0},{"$f":"SA34e!F16","v":0},{"$f":"SA34e!G16","v":0},{"$f":"SA34e!H16","v":0},{"$f":"SA34e!I16","v":0},{"$f":"SA34e!J16","v":0},{"$f":"SA34e!K16","v":0}]
["Water Supply Infrastructure",null,{"$f":"SA34e!C26","v":0},{"$f":"SA34e!D26","v":0},{"$f":"SA34e!E26","v":0},{"$f":"SA34e!F26","v":0},{"$f":"SA34e!G26","v":0},{"$f":"SA34e!H26","v":0},{"$f":"SA34e!I26","v":0},{"$f":"SA34e!J26","v":0},{"$f":"SA34e!K26","v":0}]
["Sanitation Infrastructure",null,{"$f":"SA34e!C37","v":0},{"$f":"SA34e!D37","v":0},{"$f":"SA34e!E37","v":0},{"$f":"SA34e!F37","v":0},{"$f":"SA34e!G37","v":0},{"$f":"SA34e!H37","v":0},{"$f":"SA34e!I37","v":0},{"$f":"SA34e!J37","v":0},{"$f":"SA34e!K37","v":0}]
["Solid Waste Infrastructure",null,{"$f":"SA34e!C44","v":0},{"$f":"SA34e!D44","v":0},{"$f":"SA34e!E44","v":0},{"$f":"SA34e!F44","v":0},{"$f":"SA34e!G44","v":0},{"$f":"SA34e!H44","v":0},{"$f":"SA34e!I44","v":0},{"$f":"SA34e!J44","v":0},{"$f":"SA34e!K44","v":0}]
["Rail Infrastructure",null,{"$f":"SA34e!C52","v":0},{"$f":"SA34e!D52","v":0},{"$f":"SA34e!E52","v":0},{"$f":"SA34e!F52","v":0},{"$f":"SA34e!G52","v":0},{"$f":"SA34e!H52","v":0},{"$f":"SA34e!I52","v":0},{"$f":"SA34e!J52","v":0},{"$f":"SA34e!K52","v":0}]
["Coastal Infrastructure",null,{"$f":"SA34e!C62","v":0},{"$f":"SA34e!D62","v":0},{"$f":"SA34e!E62","v":0},{"$f":"SA34e!F62","v":0},{"$f":"SA34e!G62","v":0},{"$f":"SA34e!H62","v":0},{"$f":"SA34e!I62","v":0},{"$f":"SA34e!J62","v":0},{"$f":"SA34e!K62","v":0}]
["Information and Communication Infrastructure",null,{"$f":"SA34e!C68","v":0},{"$f":"SA34e!D68","v":0},{"$f":"SA34e!E68","v":0},{"$f":"SA34e!F68","v":0},{"$f":"SA34e!G68","v":0},{"$f":"SA34e!H68","v":0},{"$f":"SA34e!I68","v":0},{"$f":"SA34e!J68","v":0},{"$f":"SA34e!K68","v":0}]
["Infrastructure",null,{"$f":"SUM(C70:C78)","v":0},0,0,0,0,0,0,0,0]
["Community Facilities",null,{"$f":"SA34e!C75","v":0},{"$f":"SA34e!D75","v":0},{"$f":"SA34e!E75","v":0},{"$f":"SA34e!F75","v":0},{"$f":"SA34e!G75","v":0},{"$f":"SA34e!H75","v":0},{"$f":"SA34e!I75","v":0},{"$f":"SA34e!J75","v":0},{"$f":"SA34e!K75","v":0}]
["Sport and Recreation Facilities",null,{"$f":"SA34e!C98","v":0},{"$f":"SA34e!D98","v":0},{"$f":"SA34e!E98","v":0},{"$f":"SA34e!F98","v":0},{"$f":"SA34e!G98","v":0},{"$f":"SA34e!H98","v":0},{"$f":"SA34e!I98","v":0},{"$f":"SA34e!J98","v":0},{"$f":"SA34e!K98","v":0}]
["Community Assets",null,{"$f":"SUM(C80:C81)","v":0},0,0,0,0,0,0,0,0]
["Heritage Assets",null,{"$f":"SA34e!C103","v":0},{"$f":"SA34e!D103","v":0},{"$f":"SA34e!E103","v":0},{"$f":"SA34e!F103","v":0},{"$f":"SA34e!G103","v":0},{"$f":"SA34e!H103","v":0},{"$f":"SA34e!I103","v":0},{"$f":"SA34e!J103","v":0},{"$f":"SA34e!K103","v":0}]
["Revenue Generating",null,{"$f":"SA34e!C111","v":0},{"$f":"SA34e!D111","v":0},{"$f":"SA34e!E111","v":0},{"$f":"SA34e!F111","v":0},{"$f":"SA34e!G111","v":0},{"$f":"SA34e!H111","v":0},{"$f":"SA34e!I111","v":0},{"$f":"SA34e!J111","v":0},{"$f":"SA34e!K111","v":0}]
["Non-revenue Generating",null,{"$f":"SA34e!C114","v":0},{"$f":"SA34e!D114","v":0},{"$f":"SA34e!E114","v":0},{"$f":"SA34e!F114","v":0},{"$f":"SA34e!G114","v":0},{"$f":"SA34e!H114","v":0},{"$f":"SA34e!I114","v":0},{"$f":"SA34e!J114","v":0},{"$f":"SA34e!K114","v":0}]
["Investment properties",null,{"$f":"SUM(C84:C85)","v":0},0,0,0,0,0,0,0,0]
["Operational Buildings",null,{"$f":"SA34e!C119","v":0},{"$f":"SA34e!D119","v":0},{"$f":"SA34e!E119","v":0},{"$f":"SA34e!F119","v":0},{"$f":"SA34e!G119","v":0},{"$f":"SA34e!H119","v":0},{"$f":"SA34e!I119","v":0},{"$f":"SA34e!J119","v":0},{"$f":"SA34e!K119","v":0}]
["Housing",null,{"$f":"SA34e!C131","v":0},{"$f":"SA34e!D131","v":0},{"$f":"SA34e!E131","v":0},{"$f":"SA34e!F131","v":0},{"$f":"SA34e!G131","v":0},{"$f":"SA34e!H131","v":0},{"$f":"SA34e!I131","v":0},{"$f":"SA34e!J131","v":0},{"$f":"SA34e!K131","v":0}]
["Other Assets",null,{"$f":"SUM(C87:C88)","v":0},0,0,0,0,0,0,0,0]
["Biological or Cultivated Assets",null,{"$f":"SA34e!C136","v":0},{"$f":"SA34e!D136","v":0},{"$f":"SA34e!E136","v":0},{"$f":"SA34e!F136","v":0},{"$f":"SA34e!G136","v":0},{"$f":"SA34e!H136","v":0},{"$f":"SA34e!I136","v":0},{"$f":"SA34e!J136","v":0},{"$f":"SA34e!K136","v":0}]
["Servitudes",null,{"$f":"SA34e!C140","v":0},{"$f":"SA34e!D140","v":0},{"$f":"SA34e!E140","v":0},{"$f":"SA34e!F140","v":0},{"$f":"SA34e!G140","v":0},{"$f":"SA34e!H140","v":0},{"$f":"SA34e!I140","v":0},{"$f":"SA34e!J140","v":0},{"$f":"SA34e!K140","v":0}]
["Licences and Rights",null,{"$f":"SA34e!C141","v":0},{"$f":"SA34e!D141","v":0},{"$f":"SA34e!E141","v":0},{"$f":"SA34e!F141","v":0},{"$f":"SA34e!G141","v":0},{"$f":"SA34e!H141","v":0},{"$f":"SA34e!I141","v":0},{"$f":"SA34e!J141","v":0},{"$f":"SA34e!K141","v":0}]
["Intangible Assets",null,{"$f":"SUM(C91:C92)","v":0},0,0,0,0,0,0,0,0]
["Computer Equipment",null,{"$f":"SA34e!C149","v":0},{"$f":"SA34e!D149","v":0},{"$f":"SA34e!E149","v":0},{"$f":"SA34e!F149","v":0},{"$f":"SA34e!G149","v":0},{"$f":"SA34e!H149","v":0},{"$f":"SA34e!I149","v":0},{"$f":"SA34e!J149","v":0},{"$f":"SA34e!K149","v":0}]
["Furniture and Office Equipment",null,{"$f":"SA34e!C152","v":0},{"$f":"SA34e!D152","v":0},{"$f":"SA34e!E152","v":0},{"$f":"SA34e!F152","v":0},{"$f":"SA34e!G152","v":0},{"$f":"SA34e!H152","v":0},{"$f":"SA34e!I152","v":0},{"$f":"SA34e!J152","v":0},{"$f":"SA34e!K152","v":0}]
["Machinery and Equipment",null,{"$f":"SA34e!C155","v":0},{"$f":"SA34e!D155","v":0},{"$f":"SA34e!E155","v":0},{"$f":"SA34e!F155","v":0},{"$f":"SA34e!G155","v":0},{"$f":"SA34e!H155","v":0},{"$f":"SA34e!I155","v":0},{"$f":"SA34e!J155","v":0},{"$f":"SA34e!K155","v":0}]
["Transport Assets",null,{"$f":"SA34e!C158","v":0},{"$f":"SA34e!D158","v":0},{"$f":"SA34e!E158","v":0},{"$f":"SA34e!F158","v":0},{"$f":"SA34e!G158","v":0},{"$f":"SA34e!H158","v":0},{"$f":"SA34e!I158","v":0},{"$f":"SA34e!J158","v":0},{"$f":"SA34e!K158","v":0}]
["Libraries",null,{"$f":"SA34e!C161","v":0},{"$f":"SA34e!D161","v":0},{"$f":"SA34e!E161","v":0},{"$f":"SA34e!F161","v":0},{"$f":"SA34e!G161","v":0},{"$f":"SA34e!H161","v":0},{"$f":"SA34e!I161","v":0},{"$f":"SA34e!J161","v":0},{"$f":"SA34e!K161","v":0}]
["Zoo's, Marine and Non-biological Animals",null,{"$f":"SA34e!C164","v":0},{"$f":"SA34e!D164","v":0},{"$f":"SA34e!E164","v":0},{"$f":"SA34e!F164","v":0},{"$f":"SA34e!G164","v":0},{"$f":"SA34e!H164","v":0},{"$f":"SA34e!I164","v":0},{"$f":"SA34e!J164","v":0},{"$f":"SA34e!K164","v":0}]
[]
["Total Capital Expenditure",4]
["Roads Infrastructure",null,{"$f":"+C6+C38+C70","v":11094273},{"$f":"+D6+D38+D70","v":12648409},5127377.7300000004,13833065.620000001,17158141.479999997,17158141.479999997,8568073.379999999,9082157.7828000002,9627087.2497680001]
["Storm water Infrastructure",null,{"$f":"+C7+C39+C71","v":0},0,0,0,0,0,0,0,0]
["Electrical Infrastructure",null,5300000,2842188,0,5000000,5000000,5000000,1547056.65,1639880.0489999999,1738272.85194]
["Water Supply Infrastructure",null,14597433,19660506,32010790.850000001,47849485.739999995,47849485.739999995,47849485.739999995,28490520.309999999,30199951.5286,32011948.620316003]
["Sanitation Infrastructure",null,4160116,7728815,10403453.92,20279103.039999999,22502227.549999997,22502227.549999997,24691384.919999998,26172868.015199997,27743240.096111998]
["Solid Waste Infrastructure",null,9023838,8942785,376200,7690155,386370.00999999978,386370.00999999978,424545,450017.7,477018.76200000005]
["Rail Infrastructure",null,0,0,0,0,0,0,0,0,0]
["Coastal Infrastructure",null,0,0,0,0,0,0,0,0,0]
["Information and Communication Infrastructure",null,0,0,0,0,0,0,0,0,0]
["Infrastructure",null,{"$f":"SUM(C102:C110)","v":44175660},{"$f":"SUM(D102:D110)","v":51822703},47917822.5,94651809.400000006,92896224.780000001,92896224.780000001,63721580.25999999,67544875.075599998,71597567.580136001]
["Community Facilities",null,{"$f":"+C16+C48+C80","v":0},{"$f":"+D16+D48+D80","v":6212509},16300177.48,854567.61,854567.61,854567.61,0,0,0]
["Sport and Recreation Facilities",null,{"$f":"+C17+C49+C81","v":0},{"$f":"+D17+D49+D81","v":0},0,3254622.99,5010207.62,5010207.62,1205419.74,1277744.9244000001,1354409.6198640002]
["Community Assets",null,{"$f":"SUM(C112:C113)","v":0},{"$f":"SUM(D112:D113)","v":6212509},16300177.48,4109190.6,5864775.2300000004,5864775.2300000004,1205419.74,1277744.9244000001,1354409.6198640002]
["Heritage Assets",null,{"$f":"+C19+C51+C83","v":0},{"$f":"+D19+D51+D83","v":0},0,0,0,0,0,0,0]
["Revenue Generating",null,{"$f":"+C20+C52+C84","v":0},{"$f":"+D20+D52+D84","v":0},0,0,0,0,0,0,0]
["Non-revenue Generating",null,{"$f":"+C21+C53+C85","v":0},{"$f":"+D21+D53+D85","v":0},0,0,0,0,0,0,0]
["Investment properties",null,{"$f":"SUM(C116:C117)","v":0},{"$f":"SUM(D116:D117)","v":0},0,0,0,0,0,0,0]
["Operational Buildings",null,{"$f":"+C23+C55+C87","v":1402635},{"$f":"+D23+D55+D87","v":1513798},0,0,0,0,0,0,0]
["Housing",null,{"$f":"+C24+C56+C88","v":0},{"$f":"+D24+D56+D88","v":0},0,0,0,0,0,0,0]
["Other Assets",null,{"$f":"SUM(C119:C120)","v":1402635},1513798,0,0,0,0,0,0,0]
["Biological or Cultivated Assets",null,{"$f":"+C26+C58+C90","v":0},{"$f":"+D26+D58+D90","v":0},0,0,0,0,0,0,0]
["Servitudes",null,{"$f":"+C27+C59+C91","v":0},{"$f":"+D27+D59+D91","v":0},0,0,0,0,0,0,0]
["Licences and Rights",null,{"$f":"+C28+C60+C92","v":19666},{"$f":"+D28+D60+D92","v":27582},0,0,0,0,0,0,0]
["Intangible Assets",null,{"$f":"SUM(C123:C124)","v":19666},{"$f":"SUM(D123:D124)","v":27582},0,0,0,0,0,0,0]
["Computer Equipment",null,{"$f":"+C30+C62+C94","v":0},{"$f":"+D30+D62+D94","v":0},0,0,0,0,0,0,0]
["Furniture and Office Equipment",null,{"$f":"+C31+C63+C95","v":0},0,0,0,0,0,0,0,0]
["Machinery and Equipment",null,0,0,0,0,0,0,0,0,0]
["Transport Assets",null,0,0,0,0,0,0,0,0,0]
["Libraries",null,0,0,0,0,0,0,0,0,0]
["Zoo's, Marine and Non-biological Animals",null,0,0,0,0,0,0,0,0,0]
["TOTAL CAPITAL EXPENDITURE - Asset class",null,{"$f":"+C5+C37+C69","v":45597961},{"$f":"+D5+D37+D69","v":59576592},64217999.980000004,98761000,98761000.00999999,98761000.00999999,64927000,68822620,72951977.200000003]
[]
["ASSET REGISTER SUMMARY - PPE (WDV)",5]
["Roads Infrastructure",null,749464963,737232411,341665480,368448574.86000001,368448574.86000001,368448574.86000001,{"$f":"H135*1.02","v":375817546.35720003},{"$f":"I135*1.06","v":398366599.13863206},422268595.08695]
["Storm water Infrastructure",null,null,null,null,0,0,0,{"$f":"H136*1.02","v":0},0,0]
["Electrical Infrastructure",null,5300000,2842188,9299836,68087659.140000001,68087659.140000001,68087659.140000001,69449412.322799996,73616377.062168002,78033359.68589808]
["Water Supply Infrastructure",null,83413771,100477590,220062366,225105199.44,225105199.44,225105199.44,229607303.42879999,243383741.63452801,257986766.13259971]
["Sanitation Infrastructure",null,4160116,7728815,17875622,196125007.38,196125007.38,196125007.38,200047507.52759999,212050357.979256,224773379.45801139]
["Solid Waste Infrastructure",null,160734435,148962696,-1038795,15422194.7045999,15422194.7045999,15422194.7045999,15730638.598691899,16674476.914613415,17674945.529490221]
["Rail Infrastructure"]
["Coastal Infrastructure"]
["Information and Communication Infrastructure"]
["Infrastructure",null,{"$f":"SUM(C135:C143)","v":1003073285},{"$f":"SUM(D135:D143)","v":997243700},587864509,873188635.52459991,873188635.52459991,873188635.52459991,890652408.23509192,944091552.7291975,1000737045.8929493]
["Community Facilities",null,0,6212509,-7190969,20507113.260000002,20507113.260000002,20507113.260000002,{"$f":"H145*1.02","v":20917255.525200002},{"$f":"I145*1.06","v":22172290.856712002},23502628.308114722]
["Sport and Recreation Facilities"]
["Community Assets",null,{"$f":"SUM(C145:C146)","v":0},6212509,-7190969,20507113.260000002,20507113.260000002,20507113.260000002,20917255.525200002,22172290.856712002,23502628.308114722]
["Heritage Assets"]
["Revenue Generating"]
["Non-revenue Generating"]
["Investment properties",null,{"$f":"SUM(C149:C150)","v":0},0,0,0,0,0,0,0,0]
["Operational Buildings",null,13877904,13877904,8441625,14155462.08,14155462.08,14155462.08,{"$f":"H152*1.02","v":14438571.321599999},{"$f":"I152*1.06","v":15304885.600896001},16223178.736949762]
["Housing"]
["Other Assets",null,{"$f":"SUM(C152:C153)","v":13877904},13877904,8441625,14155462.08,14155462.08,14155462.08,14438571.321599999,15304885.600896001,16223178.736949762]
["Biological or Cultivated Assets",null,50476,24513,24513,24513,24513,24513,{"$f":"H155*1.02","v":25003.260000000002},{"$f":"I155*1.06","v":26503.455600000005},28093.662936000008]
["Servitudes",null,72705,65598,65598,65598,65598,65598,66909.960000000006,70924.557600000015,75180.031056000022]
["Licences and Rights"]
["Intangible Assets",null,{"$f":"SUM(C156:C157)","v":72705},65598,65598,65598,65598,65598,66909.960000000006,70924.557600000015,75180.031056000022]
["Computer Equipment",null,5761479,6101574,15991284,132528074.7,132528074.7,132528074.7,{"$f":"H159*1.02","v":135178636.19400001},{"$f":"I159*1.06","v":143289354.36564001},151886715.62757844]
["Furniture and Office Equipment"]
["Machinery and Equipment"]
["Transport Assets"]
["Libraries"]
["Zoo's, Marine and Non-biological Animals"]
["TOTAL ASSET REGISTER SUMMARY - PPE (WDV)",5,{"$f":"C144+C147+C151+C154+C155+C158+C159+C160+C161+C162+C163+C164+C148","v":1022835849},{"$f":"D144+D147+D151+D154+D155+D158+D159+D160+D161+D162+D163+D164+D148","v":1023525798},605196560,1040469396.5646,1040469396.5646,1040469396.5646,1061278784.4958919,1124955511.5656455,1192452842.2595844]
[]
["EXPENDITURE OTHER ITEMS"]
["Depreciation",7,{"$f":"SA34d!C167","v":57015081},{"$f":"SA34d!D167","v":58502541},{"$f":"SA34d!E167","v":58502541},{"$f":"SA34d!F167","v":59672591.820000008},{"$f":"SA34d!G167","v":58872591.820000008},{"$f":"SA34d!H167","v":58872591.820000008},{"$f":"SA34d!I167","v":58872591.820000008},{"$f":"SA34d!J167","v":62404947.329200014},{"$f":"SA34d!K167","v":66149244.168952018}]
["Repairs and Maintenance by Asset Class",3,{"$f":"C179+C182+C183+C186+C189+C190+SUM(C193:C199)","v":15404523},{"$f":"D179+D182+D183+D186+D189+D190+SUM(D193:D199)","v":18427321},9564144.5700000003,10187870,8754755.4385714289,8754755.4385714289,9010000,9550600,10123636]
["Roads Infrastructure",null,{"$f":"SA34c!C7","v":3396000},{"$f":"SA34c!D7","v":3114490},{"$f":"SA34c!E7","v":1820000},{"$f":"SA34c!F7","v":2541000},{"$f":"SA34c!G7","v":1372433.38},{"$f":"SA34c!H7","v":1372433.38},{"$f":"SA34c!I7","v":2462000},{"$f":"SA34c!J7","v":2609720},{"$f":"SA34c!K7","v":2766303.2}]
["Storm water Infrastructure",null,{"$f":"SA34c!C12","v":0},{"$f":"SA34c!D12","v":0},{"$f":"SA34c!E12","v":0},{"$f":"SA34c!F12","v":0},{"$f":"SA34c!G12","v":0},{"$f":"SA34c!H12","v":0},{"$f":"SA34c!I12","v":0},{"$f":"SA34c!J12","v":0},{"$f":"SA34c!K12","v":0}]
["Electrical Infrastructure",null,{"$f":"SA34c!C16","v":2650000},{"$f":"SA34c!D16","v":2628203},{"$f":"SA34c!E16","v":2481108},{"$f":"SA34c!F16","v":1851850},{"$f":"SA34c!G16","v":1755603.2},{"$f":"SA34c!H16","v":1755603.2},{"$f":"SA34c!I16","v":1553000},{"$f":"SA34c!J16","v":1646180},{"$f":"SA34c!K16","v":1744950.8}]
["Water Supply Infrastructure",null,{"$f":"SA34c!C26","v":4992047},{"$f":"SA34c!D26","v":3836490},{"$f":"SA34c!E26","v":2502000},{"$f":"SA34c!F26","v":3430350},{"$f":"SA34c!G26","v":2249963.75},{"$f":"SA34c!H26","v":2249963.75},{"$f":"SA34c!I26","v":2810000},{"$f":"SA34c!J26","v":2978600},{"$f":"SA34c!K26","v":3157316}]
["Sanitation Infrastructure",null,{"$f":"SA34c!C37","v":2295300},{"$f":"SA34c!D37","v":2047492},{"$f":"SA34c!E37","v":560000},{"$f":"SA34c!F37","v":311850},{"$f":"SA34c!G37","v":475934.46},{"$f":"SA34c!H37","v":475934.46},{"$f":"SA34c!I37","v":650000},{"$f":"SA34c!J37","v":689000},{"$f":"SA34c!K37","v":730340}]
["Solid Waste Infrastructure",null,{"$f":"SA34c!C44","v":778000},{"$f":"SA34c!D44","v":849492},{"$f":"SA34c!E44","v":200000},{"$f":"SA34c!F44","v":269500},{"$f":"SA34c!G44","v":201000},{"$f":"SA34c!H44","v":201000},{"$f":"SA34c!I44","v":240000},{"$f":"SA34c!J44","v":254400},{"$f":"SA34c!K44","v":269664}]
["Rail Infrastructure",null,{"$f":"SA34c!C52","v":0},{"$f":"SA34c!D52","v":0},{"$f":"SA34c!E52","v":0},{"$f":"SA34c!F52","v":0},{"$f":"SA34c!G52","v":0},{"$f":"SA34c!H52","v":0},{"$f":"SA34c!I52","v":0},{"$f":"SA34c!J52","v":0},{"$f":"SA34c!K52","v":0}]
["Coastal Infrastructure",null,{"$f":"SA34c!C62","v":0},{"$f":"SA34c!D62","v":0},{"$f":"SA34c!E62","v":0},{"$f":"SA34c!F62","v":0},{"$f":"SA34c!G62","v":0},{"$f":"SA34c!H62","v":0},{"$f":"SA34c!I62","v":0},{"$f":"SA34c!J62","v":0},{"$f":"SA34c!K62","v":0}]
["Information and Communication Infrastructure",null,{"$f":"SA34c!C68","v":0},{"$f":"SA34c!D68","v":0},{"$f":"SA34c!E68","v":0},{"$f":"SA34c!F68","v":0},{"$f":"SA34c!G68","v":0},{"$f":"SA34c!H68","v":0},{"$f":"SA34c!I68","v":0},{"$f":"SA34c!J68","v":0},{"$f":"SA34c!K68","v":0}]
["Infrastructure",null,{"$f":"SUM(C170:C178)","v":14111347},{"$f":"SUM(D170:D178)","v":12476167},7563108,8404550,6054934.79,6054934.79,7715000,8177900,8668574]
["Community Facilities",null,{"$f":"SA34c!C75","v":0},{"$f":"SA34c!D75","v":724492},{"$f":"SA34c!E75","v":530000},{"$f":"SA34c!F75","v":836220},{"$f":"SA34c!G75","v":2437977.96},{"$f":"SA34c!H75","v":2437977.96},{"$f":"SA34c!I75","v":790000},{"$f":"SA34c!J75","v":837400},{"$f":"SA34c!K75","v":887644}]
["Sport and Recreation Facilities",null,{"$f":"SA34c!C98","v":0},{"$f":"SA34c!D98","v":0},{"$f":"SA34c!E98","v":30000},{"$f":"SA34c!F98","v":84700},{"$f":"SA34c!G98","v":1221.0685714285646},{"$f":"SA34c!H98","v":1221.0685714285646},{"$f":"SA34c!I98","v":80000},{"$f":"SA34c!J98","v":84800},{"$f":"SA34c!K98","v":89888}]
["Community Assets",null,{"$f":"SUM(C180:C181)","v":0},724492,560000,920920,2439199.0285714287,2439199.0285714287,870000,922200,977532]
["Heritage Assets",null,{"$f":"SA34c!C103","v":0},{"$f":"SA34c!D103","v":0},{"$f":"SA34c!E103","v":1391036.57},{"$f":"SA34c!F103","v":800800},{"$f":"SA34c!G103","v":243250.18999999994},{"$f":"SA34c!H103","v":243250.18999999994},{"$f":"SA34c!I103","v":345000},{"$f":"SA34c!J103","v":365700},{"$f":"SA34c!K103","v":387642}]
["Revenue Generating",null,{"$f":"SA34c!C111","v":0},{"$f":"SA34c!D111","v":0},{"$f":"SA34c!E111","v":0},{"$f":"SA34c!F111","v":0},{"$f":"SA34c!G111","v":0},{"$f":"SA34c!H111","v":0},{"$f":"SA34c!I111","v":0},{"$f":"SA34c!J111","v":0},{"$f":"SA34c!K111","v":0}]
["Non-revenue Generating",null,{"$f":"SA34c!C114","v":0},{"$f":"SA34c!D114","v":0},{"$f":"SA34c!E114","v":0},{"$f":"SA34c!F114","v":0},{"$f":"SA34c!G114","v":0},{"$f":"SA34c!H114","v":0},{"$f":"SA34c!I114","v":0},{"$f":"SA34c!J114","v":0},{"$f":"SA34c!K114","v":0}]
["Investment properties",null,{"$f":"SUM(C184:C185)","v":0},0,0,0,0,0,0,0,0]
["Operational Buildings",null,{"$f":"SA34c!C119","v":1293176},{"$f":"SA34c!D119","v":5226662},{"$f":"SA34c!E119","v":50000},{"$f":"SA34c!F119","v":0},{"$f":"SA34c!G119","v":0},{"$f":"SA34c!H119","v":0},{"$f":"SA34c!I119","v":0},{"$f":"SA34c!J119","v":0},{"$f":"SA34c!K119","v":0}]
["Housing",null,{"$f":"SA34c!C131","v":0},{"$f":"SA34c!D131","v":0},{"$f":"SA34c!E131","v":0},{"$f":"SA34c!F131","v":0},{"$f":"SA34c!G131","v":0},{"$f":"SA34c!H131","v":0},{"$f":"SA34c!I131","v":0},{"$f":"SA34c!J131","v":0},{"$f":"SA34c!K131","v":0}]
["Other Assets",null,{"$f":"SUM(C187:C188)","v":1293176},5226662,50000,0,0,0,0,0,0]
["Biological or Cultivated Assets",null,{"$f":"SA34c!C136","v":0},{"$f":"SA34c!D136","v":0},{"$f":"SA34c!E136","v":0},{"$f":"SA34c!F136","v":0},{"$f":"SA34c!G136","v":0},{"$f":"SA34c!H136","v":0},{"$f":"SA34c!I136","v":0},{"$f":"SA34c!J136","v":0},{"$f":"SA34c!K136","v":0}]
["Servitudes",null,{"$f":"SA34c!C140","v":0},{"$f":"SA34c!D140","v":0},{"$f":"SA34c!E140","v":0},{"$f":"SA34c!F140","v":0},{"$f":"SA34c!G140","v":0},{"$f":"SA34c!H140","v":0},{"$f":"SA34c!I140","v":0},{"$f":"SA34c!J140","v":0},{"$f":"SA34c!K140","v":0}]
["Licences and Rights",null,{"$f":"SA34c!C141","v":0},{"$f":"SA34c!D141","v":0},{"$f":"SA34c!E141","v":0},{"$f":"SA34c!F141","v":0},{"$f":"SA34c!G141","v":0},{"$f":"SA34c!H141","v":0},{"$f":"SA34c!I141","v":0},{"$f":"SA34c!J141","v":0},{"$f":"SA34c!K141","v":0}]
["Intangible Assets",null,{"$f":"SUM(C191:C192)","v":0},0,0,0,0,0,0,0,0]
["Computer Equipment",null,{"$f":"SA34c!C149","v":0},{"$f":"SA34c!D149","v":0},{"$f":"SA34c!E149","v":0},{"$f":"SA34c!F149","v":0},{"$f":"SA34c!G149","v":0},{"$f":"SA34c!H149","v":0},{"$f":"SA34c!I149","v":0},{"$f":"SA34c!J149","v":0},{"$f":"SA34c!K149","v":0}]
["Furniture and Office Equipment",null,{"$f":"SA34c!C152","v":0},{"$f":"SA34c!D152","v":0},{"$f":"SA34c!E152","v":0},{"$f":"SA34c!F152","v":61600},{"$f":"SA34c!G152","v":17371.43},{"$f":"SA34c!H152","v":17371.43},{"$f":"SA34c!I152","v":80000},{"$f":"SA34c!J152","v":84800},{"$f":"SA34c!K152","v":89888}]
["Machinery and Equipment",null,{"$f":"SA34c!C155","v":0},{"$f":"SA34c!D155","v":0},{"$f":"SA34c!E155","v":0},{"$f":"SA34c!F155","v":0},{"$f":"SA34c!G155","v":0},{"$f":"SA34c!H155","v":0},{"$f":"SA34c!I155","v":0},{"$f":"SA34c!J155","v":0},{"$f":"SA34c!K155","v":0}]
["Transport Assets",null,{"$f":"SA34c!C158","v":0},{"$f":"SA34c!D158","v":0},{"$f":"SA34c!E158","v":0},{"$f":"SA34c!F158","v":0},{"$f":"SA34c!G158","v":0},{"$f":"SA34c!H158","v":0},{"$f":"SA34c!I158","v":0},{"$f":"SA34c!J158","v":0},{"$f":"SA34c!K158","v":0}]
["Libraries",null,{"$f":"SA34c!C161","v":0},{"$f":"SA34c!D161","v":0},{"$f":"SA34c!E161","v":0},{"$f":"SA34c!F161","v":0},{"$f":"SA34c!G161","v":0},{"$f":"SA34c!H161","v":0},{"$f":"SA34c!I161","v":0},{"$f":"SA34c!J161","v":0},{"$f":"SA34c!K161","v":0}]
["Zoo's, Marine and Non-biological Animals",null,{"$f":"SA34c!C164","v":0},{"$f":"SA34c!D164","v":0},{"$f":"SA34c!E164","v":0},{"$f":"SA34c!F164","v":0},{"$f":"SA34c!G164","v":0},{"$f":"SA34c!H164","v":0},{"$f":"SA34c!I164","v":0},{"$f":"SA34c!J164","v":0},{"$f":"SA34c!K164","v":0}]
[]
["TOTAL EXPENDITURE OTHER ITEMS",null,{"$f":"SUM(C168:C169)","v":72419604},76929862,68066685.569999993,69860461.820000008,67627347.258571431,67627347.258571431,67882591.820000008,71955547.329200014,76272880.168952018]
[]
["Renewal and upgrading of Existing Assets as % of total capex",null,{"$f":"IF(ISERROR((C37+C69)/C132),0,((C37+C69)/C132))","v":0},{"$f":"IF(ISERROR((D37+D69)/D132),0,((D37+D69)/D132))","v":0},0.12188808889155317,0.47260698291835851,0.54656112468013063,0.54656112468013063,0.63134671831441469,0.63134671831441458,0.63134671831441469]
["Renewal and upgrading of Existing Assets as % of deprecn",null,{"$f":"IF(ISERROR((C37+C69)/C168),0,((C37+C69)/C168))","v":0},{"$f":"IF(ISERROR((D37+D69)/D168),0,((D37+D69)/D168))","v":0},0.13379605665333408,0.78218721219272147,0.91687696381769357,0.91687696381769357,0.6962738876068052,0.69627388760680498,0.69627388760680509]
["R&M as a % of PPE",null,{"$f":"IF(ISERROR(ROUND(C169/'A6-FinPos'!C19,3)),0,(ROUND(C169/'A6-FinPos'!C19,3)))","v":1.4999999999999999E-2},{"$f":"IF(ISERROR(ROUND(D169/'A6-FinPos'!D19,3)),0,(ROUND(D169/'A6-FinPos'!D19,3)))","v":1.7999999999999999E-2},{"$f":"IF(ISERROR(ROUND(E169/'A6-FinPos'!E19,3)),0,(ROUND(E169/'A6-FinPos'!E19,3)))","v":0.01},{"$f":"IF(ISERROR(ROUND(F169/'A6-FinPos'!F19,3)),0,(ROUND(F169/'A6-FinPos'!F19,3)))","v":0.01},{"$f":"IF(ISERROR(ROUND(G169/'A6-FinPos'!G19,3)),0,(ROUND(G169/'A6-FinPos'!G19,3)))","v":8.9999999999999993E-3},{"$f":"IF(ISERROR(ROUND(H169/'A6-FinPos'!H19,3)),0,(ROUND(H169/'A6-FinPos'!H19,3)))","v":8.9999999999999993E-3},{"$f":"IF(ISERROR(ROUND(I169/'A6-FinPos'!J19,3)),0,(ROUND(I169/'A6-FinPos'!J19,3)))","v":8.9999999999999993E-3},{"$f":"IF(ISERROR(ROUND(J169/'A6-FinPos'!K19,3)),0,(ROUND(J169/'A6-FinPos'!K19,3)))","v":8.9999999999999993E-3},{"$f":"IF(ISERROR(ROUND(K169/'A6-FinPos'!L19,3)),0,(ROUND(K169/'A6-FinPos'!L19,3)))","v":8.9999999999999993E-3}]
["Renewal and upgrading and R&M as a % of PPE",null,{"$f":"IF(ISERROR(ROUND((C37+C69+C169)/C165,2)),0,(ROUND((C37+C69+C169)/C165,2)))","v":0.02},{"$f":"IF(ISERROR(ROUND((D37+D69+D169)/D165,2)),0,(ROUND((D37+D69+D169)/D165,2)))","v":0.02},0.03,0.05,0.06,0.06,0.05,0.05,0.05]
[]
[{"$f":"head27a","v":"References"}]
["1. Detail of new assets provided in Table SA34a"]
["2. Detail of renewal of existing assets provided in Table SA34b"]
["3. Detail of Repairs and Maintenance by Asset Class provided in Table SA34c"]
["4. Must reconcile to total capital expenditure on Budgeted Capital Expenditure"]
["5. Must reconcile to 'Budgeted Financial Position' (written down value)"]
["6. Detail of upgrading of existing assets provided in Table SA34e"]
["7. Detail of depreciation provided in Table SA34d"]
[]
["Check balance to A6",null,{"$f":"C165-'A6-FinPos'!D17-'A6-FinPos'!D19-'A6-FinPos'!D20-'A6-FinPos'!D21-'A6-FinPos'!D22-C148","v":3897828},{"$f":"D165-'A6-FinPos'!E17-'A6-FinPos'!E19-'A6-FinPos'!E20-'A6-FinPos'!E21-'A6-FinPos'!E22-D148","v":8892274.2700001001},{"$f":"E165-'A6-FinPos'!F17-'A6-FinPos'!F19-'A6-FinPos'!F20-'A6-FinPos'!F21-'A6-FinPos'!F22-E148","v":-435272836.56459999},{"$f":"F165-'A6-FinPos'!G17-'A6-FinPos'!G19-'A6-FinPos'!G20-'A6-FinPos'!G21-'A6-FinPos'!G22-F148","v":0},{"$f":"G165-'A6-FinPos'!H17-'A6-FinPos'!H19-'A6-FinPos'!H20-'A6-FinPos'!H21-'A6-FinPos'!H22-G148","v":0},{"$f":"H165-'A6-FinPos'!I17-'A6-FinPos'!I19-'A6-FinPos'!I20-'A6-FinPos'!I21-'A6-FinPos'!I22-H148","v":0},{"$f":"I165-'A6-FinPos'!J17-'A6-FinPos'!J19-'A6-FinPos'!J20-'A6-FinPos'!J21-'A6-FinPos'!J22-I148","v":60655351.495891929},{"$f":"J165-'A6-FinPos'!K17-'A6-FinPos'!K19-'A6-FinPos'!K20-'A6-FinPos'!K21-'A6-FinPos'!K22-J148","v":64294672.58564543},{"$f":"K165-'A6-FinPos'!L17-'A6-FinPos'!L19-'A6-FinPos'!L20-'A6-FinPos'!L21-'A6-FinPos'!L22-K148","v":68152352.940784216}]

{"sheet":"A10-SerDel","index":18,"n_rows":89,"n_cols":11,"rows_kept":89,"cut":false,"hidden":false,"merged":[[1,5,1,7],[1,8,1,10],[1,0,2,0],[1,1,2,1]]}
[{"$f":"muni&\" - \"&Approve10","v":"FS193 Nketoana - Table A10 Basic service delivery measurement"}]
[{"$f":"desc","v":"Description"},{"$f":"head27","v":"Ref"},{"$f":"head1b","v":"2014/15"},{"$f":"head1A","v":"2015/16"},{"$f":"Head1","v":"2016/17"},{"$f":"Head2","v":"Current Year 2017/18"},null,null,{"$f":"Head3","v":"2018/19 Medium Term Revenue & Expenditure Framework"}]
[null,null,{"$f":"Head5A","v":"Outcome"},{"$f":"Head5A","v":"Outcome"},{"$f":"Head5A","v":"Outcome"},{"$f":"Head6","v":"Original Budget"},{"$f":"Head7","v":"Adjusted Budget"},{"$f":"Head8","v":"Full Year Forecast"},{"$f":"Head9","v":"Budget Year 2018/19"},{"$f":"Head10","v":"Budget Year +1 2019/20"},{"$f":"Head11","v":"Budget Year +2 2020/21"}]
["Household service targets",1]
["Water:"]
["Piped water inside dwelling",null,{"$f":"'SA9'!E67","v":7992},{"$f":"'SA9'!F67","v":8202},{"$f":"'SA9'!G67","v":8366.0400000000009},{"$f":"'SA9'!H67","v":8533.3608000000004},{"$f":"'SA9'!I67","v":8533.3608000000004},{"$f":"'SA9'!J67","v":8533.3608000000004},{"$f":"'SA9'!K67","v":9045.3624480000017},{"$f":"'SA9'!L67","v":9588.0841948800025},{"$f":"'SA9'!M67","v":10163.369246572804}]
["Piped water inside yard (but not in dwelling)",null,{"$f":"'SA9'!E68","v":2232},{"$f":"'SA9'!F68","v":2232},{"$f":"'SA9'!G68","v":2254.3200000000002},{"$f":"'SA9'!H68","v":2299.4064000000003},{"$f":"'SA9'!I68","v":2299.4064000000003},{"$f":"'SA9'!J68","v":2299.4064000000003},{"$f":"'SA9'!K68","v":2437.3707840000006},{"$f":"'SA9'!L68","v":2583.6130310400008},{"$f":"'SA9'!M68","v":2738.6298129024008}]
["Using public tap (at least min.service level)",2,{"$f":"'SA9'!E69","v":1691},{"$f":"'SA9'!F69","v":1083},{"$f":"'SA9'!G69","v":1093.83},{"$f":"'SA9'!H69","v":1115.7066},{"$f":"'SA9'!I69","v":1115.7066},{"$f":"'SA9'!J69","v":1115.7066},{"$f":"'SA9'!K69","v":1182.6489960000001},{"$f":"'SA9'!L69","v":1253.6079357600001},{"$f":"'SA9'!M69","v":1328.8244119056003}]
["Other water supply (at least min.service level)",4,{"$f":"'SA9'!E70","v":0},{"$f":"'SA9'!F70","v":0},{"$f":"'SA9'!G70","v":0},{"$f":"'SA9'!H70","v":0},{"$f":"'SA9'!I70","v":0},{"$f":"'SA9'!J70","v":0},{"$f":"'SA9'!K70","v":0},{"$f":"'SA9'!L70","v":0},{"$f":"'SA9'!M70","v":0}]
["Minimum Service Level and Above sub-total",null,{"$f":"SUM(C6:C9)","v":11915},{"$f":"SUM(D6:D9)","v":11517},11714.19,11948.4738,11948.4738,11948.4738,12665.382228000002,13425.305161680004,14230.823471380805]
["Using public tap (< min.service level)",3,{"$f":"'SA9'!E72","v":0},{"$f":"'SA9'!F72","v":0},{"$f":"'SA9'!G72","v":0},{"$f":"'SA9'!H72","v":0},{"$f":"'SA9'!I72","v":0},{"$f":"'SA9'!J72","v":0},{"$f":"'SA9'!K72","v":0},{"$f":"'SA9'!L72","v":0},{"$f":"'SA9'!M72","v":0}]
["Other water supply (< min.service level)",{"$f":"B9","v":4},{"$f":"'SA9'!E73","v":0},{"$f":"'SA9'!F73","v":0},{"$f":"'SA9'!G73","v":0},{"$f":"'SA9'!H73","v":0},{"$f":"'SA9'!I73","v":0},{"$f":"'SA9'!J73","v":0},{"$f":"'SA9'!K73","v":0},{"$f":"'SA9'!L73","v":0},{"$f":"'SA9'!M73","v":0}]
["No water supply",null,{"$f":"'SA9'!E74","v":7873},{"$f":"'SA9'!F74","v":7873},{"$f":"'SA9'!G74","v":7005},{"$f":"'SA9'!H74","v":7145.1},{"$f":"'SA9'!I74","v":7145.1},{"$f":"'SA9'!J74","v":7145.1},{"$f":"'SA9'!K74","v":7573.8060000000005},{"$f":"'SA9'!L74","v":8028.2343600000013},{"$f":"'SA9'!M74","v":8509.9284216000015}]
["Below Minimum Service Level sub-total",null,{"$f":"SUM(C11:C13)","v":7873},{"$f":"SUM(D11:D13)","v":7873},7005,7145.1,7145.1,7145.1,7573.8060000000005,8028.2343600000013,8509.9284216000015]
["Total number of households",5,{"$f":"C10+C14","v":19788},{"$f":"D10+D14","v":19390},18719.190000000002,19093.573799999998,19093.573799999998,19093.573799999998,20239.188228000003,21453.539521680006,22740.751892980807]
["Sanitation/sewerage:"]
["Flush toilet (connected to sewerage)",null,{"$f":"'SA9'!E78","v":15597},{"$f":"'SA9'!F78","v":14322},{"$f":"'SA9'!G78","v":15597},{"$f":"'SA9'!H78","v":15908.94},{"$f":"'SA9'!I78","v":15908.94},{"$f":"'SA9'!J78","v":15908.94},{"$f":"'SA9'!K78","v":16863.476400000003},{"$f":"'SA9'!L78","v":17875.284984000005},{"$f":"'SA9'!M78","v":18947.802083040006}]
["Flush toilet (with septic tank)",null,{"$f":"'SA9'!E79","v":0},{"$f":"'SA9'!F79","v":0},{"$f":"'SA9'!G79","v":0},{"$f":"'SA9'!H79","v":0},{"$f":"'SA9'!I79","v":0},{"$f":"'SA9'!J79","v":0},{"$f":"'SA9'!K79","v":0},{"$f":"'SA9'!L79","v":0},{"$f":"'SA9'!M79","v":0}]
["Chemical toilet",null,{"$f":"'SA9'!E80","v":0},{"$f":"'SA9'!F80","v":0},{"$f":"'SA9'!G80","v":0},{"$f":"'SA9'!H80","v":0},{"$f":"'SA9'!I80","v":0},{"$f":"'SA9'!J80","v":0},{"$f":"'SA9'!K80","v":0},{"$f":"'SA9'!L80","v":0},{"$f":"'SA9'!M80","v":0}]
["Pit toilet (ventilated)",null,{"$f":"'SA9'!E81","v":0},{"$f":"'SA9'!F81","v":0},{"$f":"'SA9'!G81","v":0},{"$f":"'SA9'!H81","v":0},{"$f":"'SA9'!I81","v":0},{"$f":"'SA9'!J81","v":0},{"$f":"'SA9'!K81","v":0},{"$f":"'SA9'!L81","v":0},{"$f":"'SA9'!M81","v":0}]
["Other toilet provisions (> min.service level)",null,{"$f":"'SA9'!E82","v":0},{"$f":"'SA9'!F82","v":0},{"$f":"'SA9'!G82","v":0},{"$f":"'SA9'!H82","v":0},{"$f":"'SA9'!I82","v":0},{"$f":"'SA9'!J82","v":0},{"$f":"'SA9'!K82","v":0},{"$f":"'SA9'!L82","v":0},{"$f":"'SA9'!M82","v":0}]
[{"$f":"$A$10","v":"Minimum Service Level and Above sub-total"},null,{"$f":"SUM(C17:C21)","v":15597},{"$f":"SUM(D17:D21)","v":14322},15597,15908.94,15908.94,15908.94,16863.476400000003,17875.284984000005,18947.802083040006]
["Bucket toilet",null,{"$f":"'SA9'!E84","v":0},{"$f":"'SA9'!F84","v":0},{"$f":"'SA9'!G84","v":0},{"$f":"'SA9'!H84","v":0},{"$f":"'SA9'!I84","v":0},{"$f":"'SA9'!J84","v":0},{"$f":"'SA9'!K84","v":0},{"$f":"'SA9'!L84","v":0},{"$f":"'SA9'!M84","v":0}]
["Other toilet provisions (< min.service level)",null,{"$f":"'SA9'!E85","v":0},{"$f":"'SA9'!F85","v":0},{"$f":"'SA9'!G85","v":0},{"$f":"'SA9'!H85","v":0},{"$f":"'SA9'!I85","v":0},{"$f":"'SA9'!J85","v":0},{"$f":"'SA9'!K85","v":0},{"$f":"'SA9'!L85","v":0},{"$f":"'SA9'!M85","v":0}]
["No toilet provisions",null,{"$f":"'SA9'!E86","v":4191},{"$f":"'SA9'!F86","v":4191},{"$f":"'SA9'!G86","v":4191},{"$f":"'SA9'!H86","v":4274.82},{"$f":"'SA9'!I86","v":4274.82},{"$f":"'SA9'!J86","v":4274.82},{"$f":"'SA9'!K86","v":4531.3091999999997},{"$f":"'SA9'!L86","v":4803.1877519999998},{"$f":"'SA9'!M86","v":5091.3790171199998}]
[{"$f":"$A$14","v":"Below Minimum Service Level sub-total"},null,{"$f":"SUM(C23:C25)","v":4191},{"$f":"SUM(D23:D25)","v":4191},4191,4274.82,4274.82,4274.82,4531.3091999999997,4803.1877519999998,5091.3790171199998]
[{"$f":"$A$15","v":"Total number of households"},{"$f":"$B$15","v":5},{"$f":"C22+C26","v":19788},{"$f":"D22+D26","v":18513},19788,20183.760000000002,20183.760000000002,20183.760000000002,21394.785600000003,22678.472736000003,24039.181100160007]
["Energy:"]
["Electricity (at least min.service level)",null,{"$f":"'SA9'!E90","v":3498},{"$f":"'SA9'!F90","v":3498},{"$f":"'SA9'!G90","v":3637.92},{"$f":"'SA9'!H90","v":3710.6784000000002},{"$f":"'SA9'!I90","v":3710.6784000000002},{"$f":"'SA9'!J90","v":3710.6784000000002},{"$f":"'SA9'!K90","v":3933.3191040000006},{"$f":"'SA9'!L90","v":4169.3182502400005},{"$f":"'SA9'!M90","v":4419.4773452544005}]
["Electricity - prepaid (min.service level)",null,{"$f":"'SA9'!E91","v":2486},{"$f":"'SA9'!F91","v":2486},{"$f":"'SA9'!G91","v":2585.44},{"$f":"'SA9'!H91","v":2637.1487999999999},{"$f":"'SA9'!I91","v":2637.1487999999999},{"$f":"'SA9'!J91","v":2637.1487999999999},{"$f":"'SA9'!K91","v":2795.3777279999999},{"$f":"'SA9'!L91","v":2963.10039168},{"$f":"'SA9'!M91","v":3140.8864151808002}]
[{"$f":"$A$10","v":"Minimum Service Level and Above sub-total"},null,{"$f":"SUM(C29:C30)","v":5984},{"$f":"SUM(D29:D30)","v":5984},6223.3600000000006,6347.8271999999997,6347.8271999999997,6347.8271999999997,6728.6968320000005,7132.4186419200005,7560.3637604352007]
["Electricity (< min.service level)",null,{"$f":"'SA9'!E93","v":0},{"$f":"'SA9'!F93","v":0},{"$f":"'SA9'!G93","v":0},{"$f":"'SA9'!H93","v":0},{"$f":"'SA9'!I93","v":0},{"$f":"'SA9'!J93","v":0},{"$f":"'SA9'!K93","v":0},{"$f":"'SA9'!L93","v":0},{"$f":"'SA9'!M93","v":0}]
["Electricity - prepaid (< min. service level)",null,{"$f":"'SA9'!E94","v":0},{"$f":"'SA9'!F94","v":0},{"$f":"'SA9'!G94","v":0},{"$f":"'SA9'!H94","v":0},{"$f":"'SA9'!I94","v":0},{"$f":"'SA9'!J94","v":0},{"$f":"'SA9'!K94","v":0},{"$f":"'SA9'!L94","v":0},{"$f":"'SA9'!M94","v":0}]
["Other energy sources",null,{"$f":"'SA9'!E95","v":13804},{"$f":"'SA9'!F95","v":13804},{"$f":"'SA9'!G95","v":12835},{"$f":"'SA9'!H95","v":13091.7},{"$f":"'SA9'!I95","v":13091.7},{"$f":"'SA9'!J95","v":13091.7},{"$f":"'SA9'!K95","v":13877.202000000001},{"$f":"'SA9'!L95","v":14709.834120000001},{"$f":"'SA9'!M95","v":15592.424167200003}]
[{"$f":"$A$14","v":"Below Minimum Service Level sub-total"},null,{"$f":"SUM(C32:C34)","v":13804},{"$f":"SUM(D32:D34)","v":13804},12835,13091.7,13091.7,13091.7,13877.202000000001,14709.834120000001,15592.424167200003]
[{"$f":"$A$15","v":"Total number of households"},{"$f":"$B$15","v":5},{"$f":"C31+C35","v":19788},{"$f":"D31+D35","v":19788},19058.36,19439.5272,19439.5272,19439.5272,20605.898832000003,21842.252761920001,23152.787927635203]
["Refuse:"]
["Removed at least once a week",null,{"$f":"'SA9'!E99","v":14402},{"$f":"'SA9'!F99","v":14402},{"$f":"'SA9'!G99","v":14975},{"$f":"'SA9'!H99","v":15274.5},{"$f":"'SA9'!I99","v":15274.5},{"$f":"'SA9'!J99","v":15274.5},{"$f":"'SA9'!K99","v":16190.970000000001},{"$f":"'SA9'!L99","v":17162.428200000002},{"$f":"'SA9'!M99","v":18192.173892000003}]
[{"$f":"$A$10","v":"Minimum Service Level and Above sub-total"},null,{"$f":"SUM(C38)","v":14402},{"$f":"SUM(D38)","v":14402},14975,15274.5,15274.5,15274.5,16190.970000000001,17162.428200000002,18192.173892000003]
["Removed less frequently than once a week",null,{"$f":"'SA9'!E101","v":0},{"$f":"'SA9'!F101","v":0},{"$f":"'SA9'!G101","v":0},{"$f":"'SA9'!H101","v":0},{"$f":"'SA9'!I101","v":0},{"$f":"'SA9'!J101","v":0},{"$f":"'SA9'!K101","v":0},{"$f":"'SA9'!L101","v":0},{"$f":"'SA9'!M101","v":0}]
["Using communal refuse dump",null,{"$f":"'SA9'!E102","v":0},{"$f":"'SA9'!F102","v":0},{"$f":"'SA9'!G102","v":0},{"$f":"'SA9'!H102","v":0},{"$f":"'SA9'!I102","v":0},{"$f":"'SA9'!J102","v":0},{"$f":"'SA9'!K102","v":0},{"$f":"'SA9'!L102","v":0},{"$f":"'SA9'!M102","v":0}]
["Using own refuse dump",null,{"$f":"'SA9'!E103","v":0},{"$f":"'SA9'!F103","v":0},{"$f":"'SA9'!G103","v":0},{"$f":"'SA9'!H103","v":0},{"$f":"'SA9'!I103","v":0},{"$f":"'SA9'!J103","v":0},{"$f":"'SA9'!K103","v":0},{"$f":"'SA9'!L103","v":0},{"$f":"'SA9'!M103","v":0}]
["Other rubbish disposal",null,{"$f":"'SA9'!E104","v":0},{"$f":"'SA9'!F104","v":0},{"$f":"'SA9'!G104","v":0},{"$f":"'SA9'!H104","v":0},{"$f":"'SA9'!I104","v":0},{"$f":"'SA9'!J104","v":0},{"$f":"'SA9'!K104","v":0},{"$f":"'SA9'!L104","v":0},{"$f":"'SA9'!M104","v":0}]
["No rubbish disposal",null,{"$f":"'SA9'!E105","v":4813},{"$f":"'SA9'!F105","v":4813},{"$f":"'SA9'!G105","v":4701},{"$f":"'SA9'!H105","v":4795.0200000000004},{"$f":"'SA9'!I105","v":4795.0200000000004},{"$f":"'SA9'!J105","v":4795.0200000000004},{"$f":"'SA9'!K105","v":5082.7212000000009},{"$f":"'SA9'!L105","v":5387.6844720000008},{"$f":"'SA9'!M105","v":5710.9455403200009}]
[{"$f":"$A$14","v":"Below Minimum Service Level sub-total"},null,{"$f":"SUM(C40:C44)","v":4813},4813,4701,4795.0200000000004,4795.0200000000004,4795.0200000000004,5082.7212000000009,5387.6844720000008,5710.9455403200009]
[{"$f":"$A$15","v":"Total number of households"},{"$f":"$B$15","v":5},{"$f":"C39+C45","v":19215},{"$f":"D39+D45","v":19215},19676,20069.52,20069.52,20069.52,21273.691200000001,22550.112672000003,23903.119432320003]
[]
["Households receiving Free Basic Service",7]
["Water (6 kilolitres per household per month)",null,{"$f":"'SA9'!E263","v":5925},{"$f":"'SA9'!F263","v":4773},{"$f":"'SA9'!G263","v":6181},{"$f":"'SA9'!H263","v":6500},{"$f":"'SA9'!I263","v":6500},{"$f":"'SA9'!J263","v":6500},{"$f":"'SA9'!K263","v":7000},{"$f":"'SA9'!L263","v":7200},{"$f":"'SA9'!M263","v":7600}]
["Sanitation (free minimum level service)",null,{"$f":"'SA9'!E275","v":5925},{"$f":"'SA9'!F275","v":4773},{"$f":"'SA9'!G275","v":6181},{"$f":"'SA9'!H275","v":6500},{"$f":"'SA9'!I275","v":6500},{"$f":"'SA9'!J275","v":6500},{"$f":"'SA9'!K275","v":7000},{"$f":"'SA9'!L275","v":7200},{"$f":"'SA9'!M275","v":7600}]
["Electricity/other energy (50kwh per household per month)",null,{"$f":"'SA9'!E251","v":5925},{"$f":"'SA9'!F251","v":4773},{"$f":"'SA9'!G251","v":6181},{"$f":"'SA9'!H251","v":6500},{"$f":"'SA9'!I251","v":6500},{"$f":"'SA9'!J251","v":6500},{"$f":"'SA9'!K251","v":7000},{"$f":"'SA9'!L251","v":7200},{"$f":"'SA9'!M251","v":7600}]
["Refuse (removed at least once a week)",null,{"$f":"'SA9'!E287","v":5925},{"$f":"'SA9'!F287","v":4773},{"$f":"'SA9'!G287","v":6181},{"$f":"'SA9'!H287","v":6500},{"$f":"'SA9'!I287","v":6500},{"$f":"'SA9'!J287","v":6500},{"$f":"'SA9'!K287","v":7000},{"$f":"'SA9'!L287","v":7200},{"$f":"'SA9'!M287","v":7600}]
[]
["Cost of Free Basic Services provided - Formal Settlements (R'000)",8]
["Water (6 kilolitres per indigent household per month)",null,{"$f":"'SA1'!C20","v":9229924.3599999994},{"$f":"'SA1'!D20","v":6894786.9500000002},{"$f":"'SA1'!E20","v":28174505.759999998},{"$f":"'SA1'!F20","v":31143728.607648004},{"$f":"'SA1'!G20","v":33338437.268571422},{"$f":"'SA1'!H20","v":33338437.268571422},{"$f":"'SA1'!J20","v":35005359.131999992},{"$f":"'SA1'!K20","v":37105680.679919995},{"$f":"'SA1'!L20","v":39332021.520715199}]
["Sanitation (free sanitation service to indigent households)",null,{"$f":"'SA1'!C26","v":6648454.6799999997},{"$f":"'SA1'!D26","v":5021895.76},{"$f":"'SA1'!E26","v":6041176.7000000002},{"$f":"'SA1'!F26","v":6815403.9012137139},{"$f":"'SA1'!G26","v":7387838.5371428579},{"$f":"'SA1'!H26","v":7387838.5371428579},{"$f":"'SA1'!J26","v":7757230.4640000015},{"$f":"'SA1'!K26","v":8222664.2918400019},{"$f":"'SA1'!L26","v":8716024.1493504029}]
["Electricity/other energy (50kwh per indigent household per month)",null,{"$f":"'SA1'!C14","v":2944888.46},{"$f":"'SA1'!D14","v":2368567.5499999998},{"$f":"'SA1'!E14","v":2034013.2600000002},{"$f":"'SA1'!F14","v":2329143.4224685715},{"$f":"'SA1'!G14","v":2329143.4224685715},{"$f":"'SA1'!H14","v":2329143.4224685715},{"$f":"'SA1'!J14","v":2866961.1780000003},{"$f":"'SA1'!K14","v":3038978.8486800003},{"$f":"'SA1'!L14","v":3221317.5796008003}]
["Refuse (removed once a week for indigent households)",null,{"$f":"'SA1'!C33","v":7706172.1799999997},{"$f":"'SA1'!D33","v":5817667.8399999999},{"$f":"'SA1'!E33","v":7030439.6399999997},{"$f":"'SA1'!F33","v":7931405.7653759997},{"$f":"'SA1'!G33","v":8617022.5371428579},{"$f":"'SA1'!H33","v":8617022.5371428579},{"$f":"'SA1'!J33","v":9134043.8893714305},{"$f":"'SA1'!K33","v":9682086.5227337163},{"$f":"'SA1'!L33","v":10263011.71409774}]
["Cost of Free Basic Services provided - Informal Formal Settlements (R'000)",null,{"$f":"'SA9'!E260+'SA9'!E272+'SA9'!E284+'SA9'!E296","v":0},{"$f":"'SA9'!F260+'SA9'!F272+'SA9'!F284+'SA9'!F296","v":0},{"$f":"'SA9'!G260+'SA9'!G272+'SA9'!G284+'SA9'!G296","v":0},{"$f":"'SA9'!H260+'SA9'!H272+'SA9'!H284+'SA9'!H296","v":0},{"$f":"'SA9'!I260+'SA9'!I272+'SA9'!I284+'SA9'!I296","v":0},{"$f":"'SA9'!J260+'SA9'!J272+'SA9'!J284+'SA9'!J296","v":0},{"$f":"'SA9'!K260+'SA9'!K272+'SA9'!K284+'SA9'!K296","v":0},{"$f":"'SA9'!L260+'SA9'!L272+'SA9'!L284+'SA9'!L296","v":0},{"$f":"'SA9'!M260+'SA9'!M272+'SA9'!M284+'SA9'!M296","v":0}]
["Total cost of FBS provided  ",null,{"$f":"SUM(C55:C59)","v":26529439.68},20102918.100000001,43280135.359999999,48219681.696706295,51672441.76532571,51672441.76532571,54763594.663371429,58049410.343173712,61532374.963764146]
[]
["Highest level of free service provided per household"]
["Property rates (R value threshold)",null,20000,20000,20000,15000,15000,15000,15000,15000,15000]
["Water (kilolitres per household per month)",null,6,6,6,6,6,6,6,6,6]
["Sanitation (kilolitres per household per month)",null,null,null,0,null,null,null,null,{"$f":"I65*1.06","v":0},0]
["Sanitation (Rand per household per month)",null,96.77,103,109,109,109,109,{"$f":"H66*1.06","v":115.54},122.47240000000001,129.82074400000002]
["Electricity (kwh per household per month)",null,50,50,53,53,53,53,{"$f":"H67*1.06","v":56.18},59.550800000000002,63.123848000000002]
["Refuse (average litres per week)",null,85,85,89,89,89,89,94.34,100.00040000000001,106.00042400000002]
["Revenue  cost of subsidised services provided (R'000)",9]
["Property rates (tariff adjustment) ( impermissable values per section 17 of MPRA)",null,674231,714685,780000,{"$f":"E70*1.06","v":826800},826800,826800,{"$f":"H70*1.06","v":876408},{"$f":"I70*1.06","v":928992.4800000001},{"$f":"J70*1.06","v":984732.0288000002}]
["Property rates  exemptions, reductions and rebates and impermissable values in excess of section 17 of MPRA)",null,{"$f":"'SA1'!C8","v":777917},{"$f":"'SA1'!D8","v":1166876},{"$f":"'SA1'!E8","v":21578745.940000001},{"$f":"'SA1'!F8","v":22608224.159999996},{"$f":"'SA1'!G8","v":23073092.862857144},{"$f":"'SA1'!H8","v":23073092.862857144},{"$f":"'SA1'!J8","v":24682670.55154286},{"$f":"'SA1'!K8","v":26163630.784635432},{"$f":"'SA1'!L8","v":27733448.631713558}]
["Water (in excess of 6 kilolitres per indigent household per month)",null,{"$f":"'SA1'!C19","v":0},{"$f":"'SA1'!D19","v":0},{"$f":"'SA1'!E19","v":0},{"$f":"'SA1'!F19","v":0},{"$f":"'SA1'!G19","v":0},{"$f":"'SA1'!H19","v":0},{"$f":"'SA1'!J19","v":0},{"$f":"'SA1'!K19","v":0},{"$f":"'SA1'!L19","v":0}]
["Sanitation (in excess of free sanitation service to indigent households)",null,{"$f":"'SA1'!C25","v":0},{"$f":"'SA1'!D25","v":0},{"$f":"'SA1'!E25","v":0},{"$f":"'SA1'!F25","v":0},{"$f":"'SA1'!G25","v":0},{"$f":"'SA1'!H25","v":0},{"$f":"'SA1'!J25","v":0},{"$f":"'SA1'!K25","v":0},{"$f":"'SA1'!L25","v":0}]
["Electricity/other energy (in excess of 50 kwh per indigent household per month)",null,{"$f":"'SA1'!C13","v":0},{"$f":"'SA1'!D13","v":0},{"$f":"'SA1'!E13","v":0},{"$f":"'SA1'!F13","v":0},{"$f":"'SA1'!G13","v":0},{"$f":"'SA1'!H13","v":0},{"$f":"'SA1'!J13","v":0},{"$f":"'SA1'!K13","v":0},{"$f":"'SA1'!L13","v":0}]
["Refuse (in excess of one removal a week for indigent households)",null,{"$f":"'SA1'!C32","v":0},{"$f":"'SA1'!D32","v":0},{"$f":"'SA1'!E32","v":0},{"$f":"'SA1'!F32","v":0},{"$f":"'SA1'!G32","v":0},{"$f":"'SA1'!H32","v":0},{"$f":"'SA1'!J32","v":0},{"$f":"'SA1'!K32","v":0},{"$f":"'SA1'!L32","v":0}]
["Municipal Housing - rental rebates"]
["Housing - top structure subsidies",6]
["Other"]
["Total revenue cost of subsidised services provided ",null,{"$f":"SUM(C70:C78)","v":1452148},{"$f":"SUM(D70:D78)","v":1881561},22358745.940000001,23435024.159999996,23899892.862857144,23899892.862857144,25559078.55154286,{"$f":"SUM(J70:J78)","v":27092623.264635433},{"$f":"SUM(K70:K78)","v":28718180.660513557}]
[{"$f":"head27a","v":"References"}]
["1. Include services provided by another entity; e.g. Eskom"]
["2. Stand distance <= 200m from dwelling"]
["3. Stand distance > 200m from dwelling"]
["4. Borehole, spring, rain-water tank etc."]
["5. Must agree to total number of households in municipal area (informal settlements receiving services must be included)"]
["6. Include value of subsidy provided by municipality above provincial subsidy level"]
["7. Show number of households receiving at least these levels of services completely free (informal settlements must be included)"]
["8. Must reflect the cost to the municipality of providing the Free Basic Service"]
["9. Reflect the cost to the municipality in terms of 'revenue foregone' of providing free services (note this will not equal 'Revenue Foregone' on SA1)"]

{"sheet":"SA1","index":19,"n_rows":179,"n_cols":12,"rows_kept":179,"cut":false,"hidden":false,"merged":[[1,9,1,11],[1,5,1,8],[1,0,2,0],[1,1,2,1]]}
[{"$f":"muni&\" - \"&TableA1","v":"FS193 Nketoana - Supporting Table SA1 Supportinging detail to 'Budgeted Financial Performance'"}]
[{"$f":"desc","v":"Description"},{"$f":"head27","v":"Ref"},{"$f":"head1b","v":"2014/15"},{"$f":"head1A","v":"2015/16"},{"$f":"Head1","v":"2016/17"},{"$f":"Head2","v":"Current Year 2017/18"},null,null,null,{"$f":"Head3","v":"2018/19 Medium Term Revenue & Expenditure Framework"}]
[null,null,{"$f":"Head5","v":"Audited Outcome"},{"$f":"Head5","v":"Audited Outcome"},{"$f":"Head5","v":"Audited Outcome"},{"$f":"Head6","v":"Original Budget"},{"$f":"Head7","v":"Adjusted Budget"},{"$f":"Head8","v":"Full Year Forecast"},{"$f":"Head5b","v":"Pre-audit outcome"},{"$f":"Head9","v":"Budget Year 2018/19"},{"$f":"Head10","v":"Budget Year +1 2019/20"},{"$f":"Head11","v":"Budget Year +2 2020/21"}]
["R thousand"]
["REVENUE ITEMS:"]
[{"$f":"'A4-FinPerf RE'!A5","v":"Property rates"},6]
["Total Property Rates",null,16612976,17779852,41116491.849999994,42948902.248662896,42948902.248662896,42948902.248662896,42948902.248662896,45955325.406069301,{"$f":"J7*1.06","v":48712644.93043346},51635403.626259468]
["less Revenue Foregone (exemptions, reductions and rebates and impermissable values in excess of section 17 of MPRA)",null,777917,1166876,21578745.940000001,22608224.159999996,23073092.862857144,23073092.862857144,23073092.862857144,24682670.55154286,26163630.784635432,27733448.631713558]
["Net Property Rates",null,{"$f":"C7-C8","v":15835059},{"$f":"D7-D8","v":16612976},19537745.909999993,20340678.0886629,19875809.385805752,19875809.385805752,19875809.385805752,21272654.854526442,22549014.145798028,23901954.994545911]
[]
[{"$f":"'A4-FinPerf RE'!A6","v":"Service charges - electricity revenue"},6]
[{"$f":"\"Total \"&A11","v":"Total Service charges - electricity revenue"},null,44725453.460000001,48452662.549999997,51557661.799999997,52269316.791840002,52891931.742857099,52891931.742857099,52891931.742857099,56594366.964857101,{"$f":"J12*1.06","v":59990028.982748531},63589430.721713446]
["less Revenue Foregone (in excess of 50 kwh per indigent household per month)"]
["less Cost of Free Basis Services (50 kwh per indigent household per month)",null,{"$f":"'SA9'!E250","v":2944888.46},{"$f":"'SA9'!F250","v":2368567.5499999998},{"$f":"'SA9'!G250","v":2034013.2600000002},2329143.4224685715,{"$f":"'SA9'!I250","v":2329143.4224685715},{"$f":"'SA9'!J250","v":2329143.4224685715},2329143.4224685715,{"$f":"'SA9'!K250","v":2866961.1780000003},{"$f":"'SA9'!L250","v":3038978.8486800003},{"$f":"'SA9'!M250","v":3221317.5796008003}]
[{"$f":"\"Net \"& A11","v":"Net Service charges - electricity revenue"},null,{"$f":"C12-C13-C14","v":41780565},{"$f":"D12-D13-D14","v":46084095},49523648.539999999,49940173.369371429,50562788.320388526,50562788.320388526,50562788.320388526,53727405.786857098,56951050.134068534,60368113.142112643]
[]
[{"$f":"'A4-FinPerf RE'!A7","v":"Service charges - water revenue"},6]
[{"$f":"\"Total \"&A17","v":"Total Service charges - water revenue"},null,47965989.359999999,51155347.950000003,75706166.420000002,82468117.670338303,85402620.942857102,85402620.942857102,85402620.942857102,91380804.408857197,{"$f":"J18*1.06","v":96863652.67338863},102675471.83379196]
["less Revenue Foregone (in excess of 6 kilolitres per indigent household per month)"]
["less Cost of Free Basis Services (6 kilolitres per indigent household per month)",null,{"$f":"'SA9'!E262","v":9229924.3599999994},{"$f":"'SA9'!F262","v":6894786.9500000002},{"$f":"'SA9'!G262","v":28174505.759999998},31143728.607648004,{"$f":"'SA9'!I262","v":33338437.268571422},{"$f":"'SA9'!J262","v":33338437.268571422},33338437.268571422,{"$f":"'SA9'!K262","v":35005359.131999992},{"$f":"'SA9'!L262","v":37105680.679919995},{"$f":"'SA9'!M262","v":39332021.520715199}]
[{"$f":"\"Net \"& A17","v":"Net Service charges - water revenue"},null,{"$f":"C18-C19-C20","v":38736065},{"$f":"D18-D19-D20","v":44260561},47531660.660000004,51324389.062690303,52064183.67428568,52064183.67428568,52064183.67428568,56375445.276857205,59757971.993468635,63343450.313076757]
[]
[{"$f":"'A4-FinPerf RE'!A8","v":"Service charges - sanitation revenue"}]
[{"$f":"\"Total \"&A23","v":"Total Service charges - sanitation revenue"},null,22550572.68,24522356.760000002,26354349.780000001,27950402.205140602,28567518,28567518,28567518,30567244.260000002,{"$f":"J24*1.06","v":32401278.915600002},34345355.650536001]
["less Revenue Foregone (in excess of free sanitation service to indigent households)",null,null,null,null,null,null,null,null,null,0,0]
["less Cost of Free Basis Services (free sanitation service to indigent households)",null,{"$f":"'SA9'!E274","v":6648454.6799999997},{"$f":"'SA9'!F274","v":5021895.76},{"$f":"'SA9'!G274","v":6041176.7000000002},6815403.9012137139,{"$f":"'SA9'!I274","v":7387838.5371428579},{"$f":"'SA9'!J274","v":7387838.5371428579},7387838.5371428579,{"$f":"'SA9'!K274","v":7757230.4640000015},{"$f":"'SA9'!L274","v":8222664.2918400019},{"$f":"'SA9'!M274","v":8716024.1493504029}]
[{"$f":"\"Net \"& A23","v":"Net Service charges - sanitation revenue"},null,{"$f":"C24-C25-C26","v":15902118},{"$f":"D24-D25-D26","v":19500461},20313173.080000002,21134998.303926889,21179679.462857142,21179679.462857142,21179679.462857142,22810013.796,24178614.62376,25629331.501185596]
[]
[{"$f":"'A4-FinPerf RE'!A9","v":"Service charges - refuse revenue"},6]
["Total refuse removal revenue",null,22543109.18,24323389.84,26432244.66,28100891.728854898,29275844.005714301,29275844.005714301,29275844.005714301,31325153.086114299,{"$f":"J30*1.06","v":33204662.271281157},35196942.007558025]
["Total landfill revenue",null,null,null,null,null,0,0,0]
["less Revenue Foregone (in excess of one removal a week to indigent households)",null,null,null,null,null,null,null,null,null,{"$f":"J32*1.06","v":0},0]
["less Cost of Free Basis Services  (removed once a week to indigent households)",null,{"$f":"'SA9'!E286","v":7706172.1799999997},{"$f":"'SA9'!F286","v":5817667.8399999999},{"$f":"'SA9'!G286","v":7030439.6399999997},7931405.7653759997,{"$f":"'SA9'!I286","v":8617022.5371428579},{"$f":"'SA9'!J286","v":8617022.5371428579},8617022.5371428579,{"$f":"'SA9'!K286","v":9134043.8893714305},{"$f":"'SA9'!L286","v":9682086.5227337163},{"$f":"'SA9'!M286","v":10263011.71409774}]
[{"$f":"\"Net \"& A29","v":"Net Service charges - refuse revenue"},null,{"$f":"SUM(C30:C31)-C32-C33","v":14836937},{"$f":"SUM(D30:D31)-D32-D33","v":18505722},19401805.02,20169485.9634789,20658821.468571443,20658821.468571443,20658821.468571443,22191109.19674287,23522575.748547442,24933930.293460287]
[]
["Other Revenue by source"]
["Fuel Levy"]
["Other Revenue",null,951709,764114,475520.94714289717,945227.49,4042610.2716548564,4042610.2716548564,4042610.2716548564,4325018.5209806198,{"$f":"J38*1.06","v":4584519.6322394572},4859590.8101738254]
["Public donation",null,null,null,null,null,0,0,0,null,0,0]
["Income From Old Debt (5% of R325 Mil)",null,null,null,14498201.08,14500000,14500000,14500000,14500000,14500000,15370000,16292200]
["Buildng Plans Applications",null,3000000,5000000,30000,15000,15000,15000,15000,15000,15900,16854]
["Discount received",null,41738,30000,null,null,0,0,0,null,0,0]
["Zoning Certificates",null,null,0,1000,1000,1000,1000,1000,1000,1060,1123.6000000000001]
["Cementy Payments",null,1000,5000,576957.30000000005,547866.667894857,655193.84571428597,655193.84571428597,655193.84571428597,701057.414914286,743120.85980914324,787708.11139769189]
["Entrance Fees",null,1047959,4047959,16172.98,20080.962486857101,24418.4914285714,24418.4914285714,24418.4914285714,26127.785828571399,27695.452978285684,29357.180156982828]
["Sundries",null,40000,50000,295540.14354285703,393647.89448228601,383497.09051428601,383497.09051428601,383497.09051428601,405441.88685028598,429768.40006130317,455554.50406498136]
["Clearance Certificate",null,281400,481400,11597.16,12961.7406925714,21748.062857142901,21748.062857142901,21748.062857142901,23270.427257142899,24666.652892571474,26146.652066125764]
["Connection of service",3,10000,40000,643606.91285714298,337794.585826286,458816.64,458816.64,458816.64,490933.80479999998,520389.83308800001,551613.22307328007]
["Total 'Other' Revenue",1,{"$f":"SUM(C37:C48)","v":5373806},{"$f":"SUM(D37:D48)","v":10418473},16548596.5235429,16773579.341382857,20102284.402169146,20102284.402169146,20102284.402169146,20487849.840630908,21717120.831068758,23020148.080932889]
[]
["EXPENDITURE ITEMS:"]
[{"$f":"'A4-FinPerf RE'!A24","v":"Employee related costs"}]
["Basic Salaries and Wages",2,48212499,40804500,56068085.700000003,60297518.372105099,65513397.629238851,65513397.629238851,65513397.629238851,69914656.864178479,{"$f":"J53*1.05","v":73410389.707387403},{"$f":"K53*1.04","v":76346805.295682907}]
["Pension and UIF Contributions",null,8966153,9682000,8459322.4199999999,9076000.0051474292,9226381.3666560017,9226381.3666560017,9226381.3666560017,11048547.205028573,{"$f":"J54*1.05","v":11600974.565280002},{"$f":"K54*1.04","v":12065013.547891201}]
["Medical Aid Contributions",null,2097075,2304700,2583355.4,2785334.0365714286,2854983.8790034284,2854983.8790034284,2854983.8790034284,2943875.9588571428,{"$f":"J55*1.05","v":3091069.7568000001},3214712.5470720003]
["Overtime",null,4476539,10569000,6960218.379999999,7444570.1504365727,5047536.518571428,5047536.518571428,5047536.518571428,5621400.3648000006,{"$f":"J56*1.05","v":5902470.3830400007},6138569.1983616007]
["Performance Bonus",null,3694122,4169000,3230486.0000000005,3510208.3888457147,2776006.2242194288,2776006.2242194288,2776006.2242194288,4504128.1186285717,{"$f":"J57*1.05","v":4729334.5245600007},4918507.9055424007]
["Motor Vehicle Allowance",null,2422581,4154000,3001122.02,3107397.7117165714,3475300.5207908577,3475300.5207908577,3475300.5207908577,2966711.5197714288,{"$f":"J58*1.05","v":3115047.0957600004},3239648.9795904006]
["Cellphone Allowance",null,732442,1241000,407020.79999999999,394109.95279542863,980415.31323428568,980415.31323428568,980415.31323428568,409078.54800000001,{"$f":"J59*1.05","v":429532.47540000005},446713.77441600006]
["Housing Allowances",null,406791,1290000,878999.96,1010226.8889051429,1255700.1257142858,1255700.1257142858,1255700.1257142858,1450380.4998857141,{"$f":"J60*1.05","v":1522899.5248799999},1583815.5058752]
["Other benefits and allowances",null,3114413,3319000,4567628.2800000012,5965180.2800000003,6832886.963552,6832886.963552,6832886.963552,6161062.3234285712,{"$f":"J61*1.05","v":6469115.4396000002},6727880.0571840005]
["Payments in lieu of leave",null,676094,2120000]
["Long service awards",null,null,1157190]
["Post-retirement benefit obligations",4]
["sub-total",5,{"$f":"SUM(C53:C64)","v":74798709},{"$f":"SUM(D53:D64)","v":80810390},86156238.959999993,93590545.786523402,97962608.540980563,97962608.540980563,97962608.540980563,105019841.40257849,110270833.47270742,114681666.81161571]
["Less: Employees costs capitalised to PPE"]
[{"$f":"\"Total \"&A52","v":"Total Employee related costs"},1,{"$f":"C65-C66","v":74798709},{"$f":"D65-D66","v":80810390},86156238.959999993,93590545.786523402,97962608.540980563,97962608.540980563,97962608.540980563,105019841.40257849,110270833.47270742,114681666.81161571]
[]
["Contributions recognised - capital"]
["List contributions by contract"]
[]
[]
[]
[]
[]
[{"$f":"\"Total \"&A69","v":"Total Contributions recognised - capital"},null,{"$f":"SUM(C70:C75)","v":0},0,0,0,0,0,0,0,0,0]
[]
[{"$f":"'A4-FinPerf RE'!A27","v":"Depreciation & asset impairment"}]
["Depreciation of Property, Plant & Equipment",null,57015081,58502541,58502541,59672591.820000008,58872591.820000008,58872591.820000008,58872591.820000008,58872591.820000008,{"$f":"J79*1.05","v":61816221.411000013},{"$f":"K79*1.04","v":64288870.267440014}]
["Lease amortisation"]
["Capital asset impairment"]
["Depreciation resulting from revaluation of PPE",10]
[{"$f":"\"Total \"&LEFT(A78,35)","v":"Total Depreciation & asset impairment"},1,{"$f":"SUM(C79:C81)-C82","v":57015081},{"$f":"SUM(D79:D81)-D82","v":58502541},58502541,59672591.820000008,58872591.820000008,58872591.820000008,58872591.820000008,{"$f":"SUM(J79:J81)-J82","v":58872591.820000008},61816221.411000013,64288870.267440014]
[]
[{"$f":"'A4-FinPerf RE'!A29","v":"Bulk purchases"}]
["Electricity Bulk Purchases",null,38183983,43532721,54682957.859999999,49710997.467767999,49710997.467767999,49710997.467767999,49710997.467767999,53091421.334211878,{"$f":"J86*1.05","v":55745992.400922477},{"$f":"K86*1.04","v":57975832.096959375}]
["Water Bulk Purchases",null,750765,285189,700000,744520.00000000012,744520.00000000012,744520.00000000012,744520.00000000012,770000,{"$f":"J87*1.05","v":808500},{"$f":"K87*1.04","v":840840}]
["Total bulk purchases",1,{"$f":"SUM(C86:C87)","v":38934748},{"$f":"SUM(D86:D87)","v":43817910},55382957.859999999,50455517.467767999,50455517.467767999,50455517.467767999,50455517.467767999,53861421.334211878,56554492.400922477,58816672.096959375]
[]
["Transfers and grants"]
["Cash transfers and grants",null,{"$f":"'SA21'!C32","v":0},{"$f":"'SA21'!D32","v":0},{"$f":"'SA21'!E32","v":0},{"$f":"'SA21'!F32","v":0},{"$f":"'SA21'!G32","v":0},{"$f":"'SA21'!H32","v":0},{"$f":"'SA21'!I32","v":0},{"$f":"'SA21'!J32","v":0},{"$f":"'SA21'!K32","v":0},{"$f":"'SA21'!L32","v":0}]
["Non-cash transfers and grants",null,{"$f":"'SA21'!C63","v":0},{"$f":"'SA21'!D63","v":0},{"$f":"'SA21'!E63","v":0},{"$f":"'SA21'!F63","v":0},{"$f":"'SA21'!G63","v":0},{"$f":"'SA21'!H63","v":0},{"$f":"'SA21'!I63","v":0},{"$f":"'SA21'!J63","v":0},{"$f":"'SA21'!K63","v":0},{"$f":"'SA21'!L63","v":0}]
["Total transfers and grants",1,{"$f":"SUM(C91:C92)","v":0},{"$f":"SUM(D91:D92)","v":0},0,0,0,0,0,0,0,0]
[]
[{"$f":"'A4-FinPerf RE'!A31","v":"Contracted services"}]
["List services provided by contract",null,10758689]
["AFS compilation",null,null,1189695]
["Lease of photocopying machines",null,null,927695,1300000,1540000,2832492.3771428568,2832492.3771428568,2832492.3771428568,2800000,{"$f":"J98*1.05","v":2940000},{"$f":"K98*1.04","v":3057600}]
["Lease of fleet",null,null,2020695,1900000,2934622.61,642130.81000000006,642130.81000000006,642130.81000000006,510000,{"$f":"J99*1.05","v":535500},{"$f":"K99*1.04","v":556920}]
["Printing and postal of Municipal water and lights acc",null,null,1492304,null,null,0,0,0,null,0,0]
["Valuation Roll",null,null,null,null,null,0,0,0,null,0,0]
["Support Service Management, operations and maintanance",null,null,889695,null,null,0,0,0,null,0,0]
["Licencing software (Financial system)",null,null,970695,1010000,2793863,1786174.6285714286,1786174.6285714286,1786174.6285714286,1880000,1974000,2052960]
["Comprehensive of IT Audit, assessment ",null,null,1188695,null,null,0,0,0,null,0,0]
["Lease of telephone",null,null,830695,907735.30285714287,770000,1137696.8742857142,1137696.8742857142,1137696.8742857142,1140000,1197000,1244880]
["Security services",null,null,0,150000,null,0,0,0,null,0,0]
["Municipality's Assets  insurance",null,null,1889693,1500000,1125000,375000,375000,375000,800000,840000,873600]
[]
[]
[]
[]
[]
[]
[]
[]
[]
[]
[]
[]
[]
["sub-total",1,{"$f":"SUM(C96:C120)","v":10758689},11399862,6767735.3028571429,9163485.6099999994,6773494.6899999995,6773494.6899999995,6773494.6899999995,7130000,7486500,7785960]
["Allocations to organs of state:"]
["Electricity"]
["Water"]
["Sanitation"]
["Other"]
["Total contracted services",null,{"$f":"SUM(C121:C126)","v":10758689},{"$f":"SUM(D121:D126)","v":11399862},6767735.3028571429,9163485.6099999994,6773494.6899999995,6773494.6899999995,6773494.6899999995,7130000,7486500,7785960]
[]
["Other Expenditure By Type"]
["Collection costs"]
["Contributions to 'other' provisions"]
["Consultant fees"]
["Audit fees",null,3000000,3000000,3000000,3080000,5500000,5500000,5500000,5000000,{"$f":"J133*1.05","v":5250000},{"$f":"K133*1.04","v":5460000}]
["General expenses",3,14234245,26504551,33182916.569999993,14937403.645457283,11258042.748571429,11258042.748571429,11258042.748571429,14054951.9712,{"$f":"J134*1.05","v":14757699.56976},{"$f":"K134*1.04","v":15348007.552550402}]
["List Other Expenditure by Type",null,null,null,null,null,0,0,0,null,0,0]
["Advertising",null,140000,140000,140000,231000,283825.22857142857,283825.22857142857,283825.22857142857,290000,304500,316680]
["Municipal Services",null,0,0,null,null,0,0,0,null,0,0]
["Bank Charges",null,531500,531500,580200,539231,701010.44571428571,701010.44571428571,701010.44571428571,743071.07245714287,780224.62608000007,811433.61112320016]
["Fuel and Oil",null,740000,740000,731456.9,2060000,3477894.097142857,3477894.097142857,3477894.097142857,1960000,2058000,2140320]
["Printing and Stationary",null,3971469,3971469,1766935.7942857144,1405250,1216726.2457142856,1216726.2457142856,1216726.2457142856,864000,907200,943488]
["Postage and Courier",null,317000,317000,520000,15785,499236.54857142858,499236.54857142858,499236.54857142858,505000,530250,551460]
["Promotion",null,200000,200000,200000,200200,62314.28571428571,62314.28571428571,62314.28571428571,140000,147000,152880]
["Membership Fees",null,300000,300000,400000,61600,789540,789540,789540,800000,840000,873600]
["Telephone and Fax",null,0,0,null,null,0,0,0,null,0,0]
["Skills Development",null,800000,800000,750000,693000,850000,850000,850000,850000,892500,928200]
["Learnerships",null,50000,50000,25000,77000,0,0,0,0,0,0]
["Protective Clothing",null,0,0,null,null,0,0,0,null,0,0]
["Transport Services/Travel and Subsitence",null,5127602,5127602,3056606.8285714285,1871100,1666918.0799999998,1666918.0799999998,1666918.0799999998,1721000,1807050,1879332]
["Events and Meetings",null,0,0,null,null,0,0,0,null,0,0]
["Uniforms and overall",null,1000000,1000000,1000000,1655500,1540000,1540000,1540000,1900000,1995000,2074800]
["Legal Fees",null,1200000,1200000,1000000,2310000,2500000,2500000,2500000,1500000,1575000,1638000]
["Free Basic Charge",null,0,0,null,null,0,0,0,null,0,0]
["Cleaning",null,173400,173400,262000,169400,116647.04571428572,116647.04571428572,116647.04571428572,100000,105000,109200]
["Professional/Consulting fee",null,9030469,9030469,5117822.3900000006,4697000,8454169.6293877549,8454169.6293877549,8454169.6293877549,7090000,7444500,7742280]
["Chemicals",null,1450000,1450000,1190000,2687300,1845428.5714285714,1845428.5714285714,1845428.5714285714,2190000,2299500,2391480]
["Bursaries",null,150000,150000,162414.85714285716,308000,323400,323400,323400,350000,367500,382200]
["Total 'Other' Expenditure",1,{"$f":"SUM(C130:C156)","v":42415685},{"$f":"SUM(D130:D156)","v":54685991},53085353.339999996,36998769.645457283,41085152.926530622,41085152.926530622,41085152.926530622,40058023.043657139,42060924.195840001,43743361.163673602]
[]
["Repairs and Maintenance \nby Expenditure Item",8]
["Employee related costs"]
["Other materials",null,15404523,18427332,9564144.5714285709,10187870,8754755.4399999995,8754755.4399999995,8754755.4399999995,9010000,{"$f":"J161*1.06","v":9550600},10123636]
["Contracted Services"]
["Other Expenditure"]
["Total Repairs and Maintenance Expenditure",9,{"$f":"SUM(C160:C163)","v":15404523},{"$f":"SUM(D160:D163)","v":18427332},9564144.5714285709,10187870,8754755.4399999995,8754755.4399999995,8754755.4399999995,9010000,9550600,10123636]
[]
["check",null,{"$f":"C164-SA34c!C167","v":0},{"$f":"D164-SA34c!D167","v":11},{"$f":"E164-SA34c!E167","v":1.4285705983638763E-3},{"$f":"F164-SA34c!F167","v":0},{"$f":"G164-SA34c!G167","v":1.4285705983638763E-3},{"$f":"H164-SA34c!H167","v":1.4285705983638763E-3},null,{"$f":"J164-SA34c!I167","v":0},{"$f":"K164-SA34c!J167","v":0},{"$f":"L164-SA34c!K167","v":0}]
[]
[]
[{"$f":"head27a","v":"References"}]
["1. Must reconcile with 'Budgeted Financial Performance (Revenue and Expenditure)"]
["2. Must reconcile to supporting documentation on staff salaries"]
["3. Insert other categories where revenue or expenditure is of a material nature (list separate items until 'General expenses' is not > 10% of Total Expenditure)"]
["4. Expenditure to meet any 'unfunded obligations'"]
["5 This sub-total must agree with the total on SA22, but excluding councillor and board member items"]
["6. Include a note for each revenue item that is affected by 'revenue foregone'"]
["7. Special consideration may have to be given to including 'goodwill arising' or 'joint venture' budgets where circumstances require this (include separately under relevant notes)"]
["8. Repairs and Maintenance is not a GRAP item. However to facilitate transparency, municipalities must provide a breakdown of the amounts included in the relevant GRAP items that will be spent on Repairs and Maintenance."]
["9. Must reconcile with Repairs and Maintenance by Asset Class (Total Repairs and Maintenance) on Table SA34c."]
["10. Only applicable to municipalities that have adopted the 'revaluation method' in GRAP 17. The aim is to prevent overstating 'depreciation and asset impairment'"]

{"sheet":"SA2","index":20,"n_rows":44,"n_cols":18,"rows_kept":44,"cut":false,"hidden":false,"merged":[[1,6,2,6],[1,7,2,7],[1,2,2,2],[1,3,2,3],[1,4,2,4],[1,5,2,5],[1,16,2,16],[1,17,2,17],[1,8,2,8],[1,9,2,9],[1,10,2,10],[1,11,2,11],[1,12,2,12],[1,13,2,13],[1,14,2,14],[1,15,2,15]]}
[{"$f":"muni&\" - \"&TableA2","v":"FS193 Nketoana - Supporting Table SA2 Matrix Financial Performance Budget (revenue source/expenditure type and dept.)"}]
[{"$f":"desc","v":"Description"},{"$f":"head27","v":"Ref"},{"$f":"'A3-FinPerf V'!A5","v":"Vote 1 - EXECUTIVE AND COUNCIL"},{"$f":"'A3-FinPerf V'!A6","v":"Vote 2 - FINANCE AND ADMINISTRATION"},{"$f":"'A3-FinPerf V'!A7","v":"Vote 3 - COMMUNITY SERVICES"},{"$f":"'A3-FinPerf V'!A8","v":"Vote 4 - WASTE MANAGEMENT"},{"$f":"'A3-FinPerf V'!A9","v":"Vote 5 - LOCAL ECONOMIC DEVELOPMENT"},{"$f":"'A3-FinPerf V'!A10","v":"Vote 6 - ROADS TRANSPORT"},{"$f":"'A3-FinPerf V'!A11","v":"Vote 7 - WATER"},{"$f":"'A3-FinPerf V'!A12","v":"Vote 8 - ELECTRICITY"},{"$f":"'A3-FinPerf V'!A13","v":"Vote 9 - WASTE WATER"},{"$f":"'A3-FinPerf V'!A14","v":"Vote 10 - HOUSING"},{"$f":"'A3-FinPerf V'!A15","v":"Vote 11 - [NAME OF VOTE 11]"},{"$f":"'A3-FinPerf V'!A16","v":"Vote 12 - [NAME OF VOTE 12]"},{"$f":"'A3-FinPerf V'!A17","v":"Vote 13 - [NAME OF VOTE 13]"},{"$f":"'A3-FinPerf V'!A18","v":"Vote 14 - [NAME OF VOTE 14]"},{"$f":"'A3-FinPerf V'!A19","v":"Vote 15 - [NAME OF VOTE 15]"},"Total"]
["R thousand",1,"R'000","R'000","R'000","R'000","R'000","R'000",null,null,null,null,null,null,null,null,"R'000","R'000"]
[{"$f":"'A4-FinPerf RE'!A4","v":"Revenue By Source"}]
[{"$f":"'A4-FinPerf RE'!A5","v":"Property rates"},null,null,21272654.854526442,null,null,null,null,null,null,null,null,null,null,null,null,null,{"$f":"SUM(C5:Q5)","v":21272654.854526442}]
[{"$f":"'A4-FinPerf RE'!A6","v":"Service charges - electricity revenue"},null,null,null,null,null,null,null,null,53727405.786857098,null,null,null,null,null,null,null,{"$f":"SUM(C6:Q6)","v":53727405.786857098}]
[{"$f":"'A4-FinPerf RE'!A7","v":"Service charges - water revenue"},null,null,null,null,null,null,null,56375445.276857205,null,null,null,null,null,null,null,null,56375445.276857205]
[{"$f":"'A4-FinPerf RE'!A8","v":"Service charges - sanitation revenue"},null,null,null,null,null,null,null,null,null,22810013.796,null,null,null,null,null,null,22810013.796]
[{"$f":"'A4-FinPerf RE'!A9","v":"Service charges - refuse revenue"},null,null,null,null,22191109.19674287,null,null,null,null,null,null,null,null,null,null,null,22191109.19674287]
[{"$f":"'A4-FinPerf RE'!A10","v":"Service charges - other"},null,null,null,null,null,null,null,null,null,null,null,null,null,null,null,null,0]
[{"$f":"'A4-FinPerf RE'!A11","v":"Rental of facilities and equipment"},null,null,null,618219.55083508603,null,null,null,null,null,null,null,null,null,null,null,null,618219.55083508603]
[{"$f":"'A4-FinPerf RE'!A12","v":"Interest earned - external investments"},null,null,1395101.69171486,null,null,null,null,null,null,null,null,null,null,null,null,null,1395101.69171486]
[{"$f":"'A4-FinPerf RE'!A13","v":"Interest earned - outstanding debtors"},null,null,42201081.018685699,null,null,null,null,null,null,null,null,null,null,null,null,null,42201081.018685699]
[{"$f":"'A4-FinPerf RE'!A14","v":"Dividends received"},null,null,null,null,null,null,null,null,null,null,null,null,null,null,null,null,0]
[{"$f":"'A4-FinPerf RE'!A15","v":"Fines, penalties and forfeits"},null,null,null,650000,null,null,null,null,null,null,null,null,null,null,null,null,650000]
[{"$f":"'A4-FinPerf RE'!A16","v":"Licences and permits"},null,null,null,null,null,null,null,null,null,null,null,null,null,null,null,null,0]
[{"$f":"'A4-FinPerf RE'!A17","v":"Agency services"},null,null,null,null,null,null,null,null,null,null,null,null,null,null,null,null,0]
[{"$f":"'A4-FinPerf RE'!A19","v":"Other revenue"},null,null,20487849.840630908,null,null,null,null,null,null,null,null,null,null,null,null,null,20487849.840630908]
[{"$f":"'A4-FinPerf RE'!A18","v":"Transfers and subsidies"},null,null,90366999.997428596,null,null,null,null,null,null,null,null,null,null,null,null,null,90366999.997428596]
[{"$f":"'A4-FinPerf RE'!A20","v":"Gains on disposal of PPE"},null,null,null,null,null,null,null,null,null,null,null,null,null,null,null,null,0]
[{"$f":"'A4-FinPerf RE'!A21","v":"Total Revenue (excluding capital transfers and contributions)"},null,{"$f":"SUM(C5:C20)","v":0},175723687.4029865,1268219.550835086,22191109.19674287,0,0,56375445.276857205,53727405.786857098,22810013.796,0,0,0,0,0,0,332095881.01027876]
[]
[{"$f":"'A4-FinPerf RE'!A23","v":"Expenditure By Type"}]
[{"$f":"'A4-FinPerf RE'!A24","v":"Employee related costs"},null,6895444,13189377.67,12816397.34,14058666,6994364.1699999999,11567644.85,{"$f":"8081000+4359000","v":12440000},12895666,7133328.8899999997,7028952.4825784713,null,null,null,null,null,{"$f":"SUM(C24:Q24)","v":105019841.40257847}]
[{"$f":"'A4-FinPerf RE'!A25","v":"Remuneration of councillors"},null,10166194.691837352,null,null,null,null,null,null,null,null,null,null,null,null,null,null,{"$f":"SUM(C25:Q25)","v":10166194.691837352}]
[{"$f":"'A4-FinPerf RE'!A26","v":"Debt impairment"},null,null,16076787.754285716,10693881.325714286,null,null,null,17948012.412,1283278.284,9025085.965714287,null,null,null,null,null,null,55027045.741714284]
[{"$f":"'A4-FinPerf RE'!A27","v":"Depreciation & asset impairment"},null,{"$f":"1374342.9+91369.56","v":1465712.46},5293751.04,663608.93999999994,658643.57999999996,36410.94,32641895.440000001,9387811.7400000002,3655522.92,5052001.8600000003,17232.900000000001,null,null,null,null,null,58872591.82]
[{"$f":"'A4-FinPerf RE'!A28","v":"Finance charges"},null,null,164835.67303035432,null,null,null,null,null,17680297.442010004,null,null,null,null,null,null,null,17845133.115040358]
[{"$f":"'A4-FinPerf RE'!A29","v":"Bulk purchases"},null,null,null,null,null,null,null,770000,53091421.334211878,null,null,null,null,null,null,null,53861421.334211878]
[{"$f":"'A4-FinPerf RE'!A30","v":"Other materials"},null,70000,355000,870000,240000,0,2462000,2810000,1553000,650000,0,null,null,null,null,null,9010000]
[{"$f":"'A4-FinPerf RE'!A31","v":"Contracted services"},null,null,6630000,null,null,null,500000,null,null,null,null,null,null,null,null,null,7130000]
[{"$f":"'A4-FinPerf RE'!A32","v":"Transfers and subsidies"},null,null,null,null,null,null,null,null,null,null,null,null,null,null,null,null,0]
[{"$f":"'A4-FinPerf RE'!A33","v":"Other expenditure"},null,12202500,12313073.939999999,3386313.4,2244000,330000,400000,6127585.9106857143,1394759.8080000002,1081289.9846285714,578500.00034286082,null,null,null,null,null,40058023.043657139]
[{"$f":"'A4-FinPerf RE'!A34","v":"Loss on disposal of PPE"},null,null,null,null,null,null,null,null,null,null,null,null,null,null,null,null,0]
["Total Expenditure",null,{"$f":"SUM(C24:C34)","v":30799851.151837353},54022826.077316068,28430201.005714286,17201309.579999998,7360775.1100000003,47571540.289999999,49483410.062685713,91553945.788221881,22941706.70034286,7624685.3829213325,0,0,0,0,0,356990251.14903945]
[]
[{"$f":"'A4-FinPerf RE'!A37","v":"Surplus/(Deficit)"},null,{"$f":"C21-C35","v":-30799851.151837353},121700861.32567042,-27161981.454879202,4989799.6167428717,-7360775.1100000003,-47571540.289999999,{"$f":"I21-I35","v":6892035.2141714916},-37826540.001364782,-131692.90434285998,-7624685.3829213325,0,0,0,0,0,{"$f":"R21-R35","v":-24894370.138760686}]
[{"$f":"'A4-FinPerf RE'!A38","v":"Transfers and subsidies - capital (monetary allocations) (National / Provincial and District)"},null,null,null,1205419.74,424545,null,8568073.3800000008,24691384.919999998,1547056.65,28490520.309999999,null,null,null,null,null,null,{"$f":"SUM(C38:Q38)","v":64927000}]
[{"$f":"'A4-FinPerf RE'!A39","v":"Transfers and subsidies - capital (monetary allocations) (National / Provincial Departmental Agencies, Households, Non-profit Institutions, Private Enterprises, Public Corporatons, Higher Educational Institutions)"},null,null,null,null,null,null,null,null,null,null,null,null,null,null,null,null,{"$f":"SUM(C39:Q39)","v":0}]
[{"$f":"'A4-FinPerf RE'!A40","v":"Transfers and subsidies - capital (in-kind - all) "},null,null,null,null,null,null,null,null,null,null,null,null,null,null,null,null,{"$f":"SUM(C40:Q40)","v":0}]
[{"$f":"'A4-FinPerf RE'!A41","v":"Surplus/(Deficit) after capital transfers & contributions"},null,{"$f":"SUM(C37:C40)","v":-30799851.151837353},121700861.32567042,-25956561.714879204,5414344.6167428717,-7360775.1100000003,-39003466.909999996,31583420.13417149,-36279483.351364784,28358827.405657139,-7624685.3829213325,0,0,0,0,{"$f":"SUM(Q37:Q40)","v":0},{"$f":"SUM(R37:R40)","v":40032629.861239314}]
[{"$f":"head27a","v":"References"}]
["1. Departmental columns to be based on municipal organisation structure"]
["check balance",null,null,null,null,null,null,null,null,null,null,null,null,null,null,null,null,{"$f":"'A4-FinPerf RE'!J41-'SA2'!R41","v":-1.1920928955078125E-7}]

{"sheet":"SA3","index":21,"n_rows":82,"n_cols":12,"rows_kept":82,"cut":false,"hidden":false,"merged":[[1,0,2,0],[1,1,2,1],[1,9,1,11],[1,5,1,8]]}
[{"$f":"muni&\" - \"&TableA3","v":"FS193 Nketoana - Supporting Table SA3 Supportinging detail to 'Budgeted Financial Position'"}]
[{"$f":"desc","v":"Description"},{"$f":"head27","v":"Ref"},{"$f":"head1b","v":"2014/15"},{"$f":"head1A","v":"2015/16"},{"$f":"Head1","v":"2016/17"},{"$f":"Head2","v":"Current Year 2017/18"},null,null,null,{"$f":"Head3","v":"2018/19 Medium Term Revenue & Expenditure Framework"}]
[null,null,{"$f":"Head5","v":"Audited Outcome"},{"$f":"Head5","v":"Audited Outcome"},{"$f":"Head5","v":"Audited Outcome"},{"$f":"Head6","v":"Original Budget"},{"$f":"Head7","v":"Adjusted Budget"},{"$f":"Head8","v":"Full Year Forecast"},{"$f":"Head5b","v":"Pre-audit outcome"},{"$f":"Head9","v":"Budget Year 2018/19"},{"$f":"Head10","v":"Budget Year +1 2019/20"},{"$f":"Head11","v":"Budget Year +2 2020/21"}]
["R thousand"]
["ASSETS"]
[{"$f":"'A6-FinPos'!A7","v":"Call investment deposits"}]
["Call deposits",null,null,null,16877633,16167241.27,16167241.27,16167241.27,16167241.27,16167241.27,{"$f":"J7*1.06","v":17137275.746199999},18165512.290971998]
["Other current investments"]
[{"$f":"\"Total \"&A6","v":"Total Call investment deposits"},2,{"$f":"SUM(C7:C8)","v":0},{"$f":"SUM(D7:D8)","v":0},16877633,16167241.27,16167241.27,16167241.27,16167241.27,16167241.27,17137275.746199999,18165512.290971998]
[]
[{"$f":"'A6-FinPos'!A8","v":"Consumer debtors"}]
[{"$f":"A11","v":"Consumer debtors"},null,15822490,17708530,265736448,367202193.84000003,367202193.84000003,367202193.84000003,367202193.84000003,357380499,{"$f":"J12*1.06","v":378823328.94},401552728.67640001]
["Less: Provision for debt impairment",null,null,null,40340358.030000009,-49930820.359200001,-49930820.359200001,-49930820.359200001,-49930820.359200001,-58872591.82,-62404947.329200007,-66149244.168952011]
[{"$f":"\"Total \"&A11","v":"Total Consumer debtors"},2,{"$f":"SUM(C12:C13)","v":15822490},{"$f":"SUM(D12:D13)","v":17708530},306076806.03000003,{"$f":"SUM(F12:F13)","v":317271373.48080003},317271373.48080003,317271373.48080003,317271373.48080003,298507907.18000001,316418381.61079997,335403484.50744802]
[]
["Debt impairment provision"]
["Balance at the beginning of the year"]
["Contributions to the provision"]
["Bad debts written off",null,null,null,40340358.030000009,-49930820.359200001,-49930820.359200001,-49930820.359200001,-49930820.359200001,-58872591.82,{"$f":"J19*1.06","v":-62404947.329200007},-66149244.168952011]
["Balance at end of year",null,{"$f":"SUM(C17:C19)","v":0},{"$f":"SUM(D17:D19)","v":0},40340358.030000009,-49930820.359200001,-49930820.359200001,-49930820.359200001,-49930820.359200001,-58872591.82,-62404947.329200007,-66149244.168952011]
[]
[{"$f":"'A6-FinPos'!A19&\" (PPE)\"","v":"Property, plant and equipment (PPE)"}]
["PPE at cost/valuation (excl. finance leases)",null,1004475920,1004970006,1892010082.8399999,1929850284.4967999,1929850284.4967999,1929850284.4967999,1929850284.4967999,1924553243,{"$f":"J23*1.06","v":2040026437.5800002},2162428023.8348002]
["Leases recognised as PPE",3]
["Less: Accumulated depreciation",null,null,null,885908295.11000001,903626461.0122,903626461.0122,903626461.0122,903626461.0122,937983603,{"$f":"J25*1.06","v":994262619.18000007},1053918376.3308002]
[{"$f":"\"Total \"&A22","v":"Total Property, plant and equipment (PPE)"},2,{"$f":"SUM(C23:C24)-C25","v":1004475920},{"$f":"SUM(D23:D24)-D25","v":1004970006},1006101787.7299999,1026223823.4845999,1026223823.4845999,1026223823.4845999,1026223823.4845999,986569640,1045763818.4000001,1108509647.5040002]
[]
["LIABILITIES"]
[{"$f":"'A6-FinPos'!A28&\" - \"&'A6-FinPos'!A30","v":"Current liabilities - Borrowing"}]
["Short term loans (other than bank overdraft)"]
["Current portion of long-term liabilities",null,1398503,1531041,7829433,7986021.6600000001,7986021.6600000001,7986021.6600000001,7986021.6600000001,2188650,1188650,1028650]
[{"$f":"\"Total \"&A29","v":"Total Current liabilities - Borrowing"},null,{"$f":"SUM(C30:C31)","v":1398503},{"$f":"SUM(D30:D31)","v":1531041},7829433,7986021.6600000001,7986021.6600000001,7986021.6600000001,7986021.6600000001,2188650,1188650,1028650]
[]
[{"$f":"'A6-FinPos'!A32","v":"Trade and other payables"}]
["Trade and other creditors",null,115154335,164356242,137826168,146095738.08000001,146095738.08000001,146095738.08000001,146095738.08000001,{"$f":"209630150-6543767","v":203086383},{"$f":"J35*1.06","v":215271565.98000002},228187859.93880004]
["Unspent conditional transfers",null,1091381,92019,2270072.48]
["VAT",null,18376667,13545356,16563190,17556981.400000002,17556981.400000002,17556981.400000002,17556981.400000002,6543767,{"$f":"J37*1.06","v":6936393.0200000005},7352576.6012000013]
[{"$f":"\"Total \"&A34","v":"Total Trade and other payables"},2,{"$f":"SUM(C35:C37)","v":134622383},177993617,156659430.47999999,163652719.48000002,163652719.48000002,163652719.48000002,163652719.48000002,209630150,222207959.00000003,{"$f":"SUM(L35:L37)","v":235540436.54000005}]
[]
[{"$f":"'A6-FinPos'!A36&\" - \"&'A6-FinPos'!A37","v":"Non current liabilities - Borrowing"}]
["Borrowing",4,8569848,8273764,7829433,7986021.6600000001,7986021.6600000001,7986021.6600000001,7986021.6600000001,6649242,5649242,4649242]
["Finance leases (including PPP asset element)",null,null,null,null,null,null,null,null,253277,649242,649242]
[{"$f":"\"Total \"&A40","v":"Total Non current liabilities - Borrowing"},null,{"$f":"SUM(C41:C42)","v":8569848},{"$f":"SUM(D41:D42)","v":8273764},7829433,7986021.6600000001,7986021.6600000001,7986021.6600000001,7986021.6600000001,6902519,6298484,5298484]
[]
[{"$f":"'A6-FinPos'!A38&\" - non-current\"","v":"Provisions - non-current"}]
["Retirement benefits",null,null,null,11043760,11264635.200000001,11264635.200000001,11264635.200000001,11264635.200000001,10099000,{"$f":"J46*1.06","v":10704940},11347236.4]
["List other major provision items"]
["Refuse landfill site rehabilitation",null,null,null,290377088,296184629.75999999,296184629.75999999,296184629.75999999,296184629.75999999,8562476,{"$f":"J48*1.06","v":9076224.5600000005},9620798.0336000007]
["Other",null,17988811,19142003]
[{"$f":"\"Total \"&A45","v":"Total Provisions - non-current"},null,{"$f":"SUM(C46:C49)","v":17988811},19142003,301420848,307449264.95999998,307449264.95999998,{"$f":"SUM(H46:H49)","v":307449264.95999998},307449264.95999998,18661476,19781164.560000002,20968034.433600001]
[]
["CHANGES IN NET ASSETS"]
[{"$f":"'A6-FinPos'!A45","v":"Accumulated Surplus/(Deficit)"}]
[{"$f":"A53&\" - opening balance\"","v":"Accumulated Surplus/(Deficit) - opening balance"},null,947996072,883966662,827107007.22000003,894878348.6286,867430018.69678497,867430018.69678497,867430018.69678497,1041400720.58876,1102343256.4526,1162475174.6056199]
["GRAP adjustments"]
["Restated balance",null,{"$f":"SUM(C54:C55)","v":947996072},{"$f":"SUM(D54:D55)","v":883966662},{"$f":"SUM(E54:E55)","v":827107007.22000003},{"$f":"SUM(F54:F55)","v":894878348.6286},867430018.69678497,867430018.69678497,867430018.69678497,1041400720.58876,1102343256.4526,1162475174.6056199]
[{"$f":"'A4-FinPerf RE'!A37","v":"Surplus/(Deficit)"},null,{"$f":"'A4-FinPerf RE'!C45","v":-64064412},{"$f":"'A4-FinPerf RE'!D45","v":-41299752},{"$f":"'A4-FinPerf RE'!E45","v":21181763.429257154},{"$f":"'A4-FinPerf RE'!F45","v":65554186.245084643},{"$f":"'A4-FinPerf RE'!G45","v":61228867.842614889},{"$f":"'A4-FinPerf RE'!H45","v":61228867.842614889},{"$f":"'A4-FinPerf RE'!I45","v":61228867.842614889},{"$f":"'A4-FinPerf RE'!J45","v":40032629.861239195},{"$f":"'A4-FinPerf RE'!K45","v":46004490.164404035},{"$f":"'A4-FinPerf RE'!L45","v":56261554.848398104}]
["Appropriations to Reserves"]
["Transfers from Reserves"]
["Depreciation offsets"]
["Other adjustments",null,null,null,59498952.630742997,-31773648.3342847]
["Accumulated Surplus/(Deficit)",1,{"$f":"SUM(C56:C61)","v":883931660},{"$f":"SUM(D56:D61)","v":842666910},{"$f":"SUM(E56:E61)","v":907787723.28000021},928658886.53939998,928658886.53939986,928658886.53939986,928658886.53939986,1081433350.4499993,1148347746.6170039,1218736729.4540181]
["Reserves"]
["Housing Development Fund"]
["Capital replacement"]
["Self-insurance"]
["Other reserves"]
["Revaluation"]
["Total Reserves",2,{"$f":"SUM(C64:C68)","v":0},0,0,0,0,0,0,0,0,0]
[{"$f":"'A6-FinPos'!A48","v":"TOTAL COMMUNITY WEALTH/EQUITY"},2,{"$f":"C62+C69","v":883931660},842666910,907787723.28000021,928658886.53939998,928658886.53939986,928658886.53939986,928658886.53939986,1081433350.4499993,1148347746.6170039,1218736729.4540181]
[]
["Total capital expenditure includes expenditure on nationally significant priorities:"]
["Provision of basic services"]
[]
[]
[{"$f":"head27a","v":"References"}]
[{"$f":"\"1. Must reconcile with \"&'Template names'!F103","v":"1. Must reconcile with Table A4 Budgeted Financial Performance (revenue and expenditure)"}]
[{"$f":"\"2. Must reconcile with \"&'Template names'!F105","v":"2. Must reconcile with Table A6 Budgeted Financial Position"}]
["3. Leases treated as assets to be depreciated as the same as purchased/constructed assets.  Includes PPP asset element accounted for as finance leases"]
["4. Borrowing must reconcile to Table A17"]
["check",null,{"$f":"C70-'A6-FinPos'!C48","v":0},{"$f":"D70-'A6-FinPos'!D48","v":0},{"$f":"E70-'A6-FinPos'!E48","v":0},{"$f":"F70-'A6-FinPos'!F48","v":0},{"$f":"G70-'A6-FinPos'!G48","v":0},{"$f":"H70-'A6-FinPos'!H48","v":0},{"$f":"I70-'A6-FinPos'!I48","v":0},{"$f":"J70-'A6-FinPos'!J48","v":0},{"$f":"K70-'A6-FinPos'!K48","v":3.814697265625E-6},{"$f":"L70-'A6-FinPos'!L48","v":-1.9073486328125E-6}]
[null,null,{"$f":"TREND(D82:H82)","v":0},{"$f":"TREND(E82:H82)","v":0},{"$f":"E73","v":0},{"$f":"H73","v":0},{"$f":"J73","v":0},{"$f":"K73","v":0},{"$f":"L73","v":0}]

{"sheet":"SA4","index":22,"n_rows":26,"n_cols":13,"rows_kept":26,"cut":false,"hidden":false,"merged":[[1,7,1,9],[1,10,1,12],[1,3,2,3]]}
[{"$f":"muni&\" - \"&TableA4","v":"FS193 Nketoana - Supporting Table SA4 Reconciliation of IDP strategic objectives and budget (revenue)"}]
["Strategic Objective","Goal","Goal\nCode",{"$f":"head27","v":"Ref"},{"$f":"head1b","v":"2014/15"},{"$f":"head1A","v":"2015/16"},{"$f":"Head1","v":"2016/17"},{"$f":"Head2","v":"Current Year 2017/18"},null,null,{"$f":"Head3","v":"2018/19 Medium Term Revenue & Expenditure Framework"}]
["R thousand",null,null,null,{"$f":"Head5","v":"Audited Outcome"},{"$f":"Head5","v":"Audited Outcome"},{"$f":"Head5","v":"Audited Outcome"},{"$f":"Head6","v":"Original Budget"},{"$f":"Head7","v":"Adjusted Budget"},{"$f":"Head8","v":"Full Year Forecast"},{"$f":"Head9","v":"Budget Year 2018/19"},{"$f":"Head10","v":"Budget Year +1 2019/20"},{"$f":"Head11","v":"Budget Year +2 2020/21"}]
["Local Economic Development","To create employment opportunities in the Nketoana ",null,null,7555000,4460159.5599999996,4460159.5599999996,4460159.5599999996,2801998.4774857098,2801998.4774857098,2801998.47,{"$f":"K4*1.06","v":2970118.3782000002},{"$f":"L4*1.06","v":3148325.4808920003}]
["Urban Planning","To ensure an effective urban planning that will promote proper spatial planning to address sustainable development and social cohesion",null,null,3587400,3870646.18,3877358.4657142898,1862344.18,1862344.18,1862344.18,1862344.18,1974084.8308000001,2092529.9206480002]
[]
["Institutional Building ","To facilitate institutional transformation and development in the Nketoana local municipality",null,null,21273000,20028342.640000001,19521342.640000001,8546342.6400000006,8546342.6400000006,8546342.6400000006,8616342.6400000006,{"$f":"K7*1.06","v":9133323.198400002},9681322.5903040022]
[]
["Municipal Financial viability and Management  ","To monitor, evaluate and improve the financial viability of the Nketoana local municipality as measured in terms of the key indicators of the Municipal Planning and Performance Management Regulations, 2001",null,null,81123815,54057211.719999999,37524248.637028597,82333555.074684396,80955567.376406804,80955567.376406804,84834728.729747802,{"$f":"K9*1.06","v":89924812.453532681},95320301.200744644]
["Traffic and Parking ","To ensure effective traffic management and parking in the Nketoana municipal area",null,null,4680000,6061155.4699999997,236700,330000,380000,380000,700000,742000,786520]
[]
["Sanitation ","To ensure that 100% of households in formal settlements in the Nketoana municipal area have access to basic level of sanitation by 2017",null,null,21506000,44916632.189999998,44915365.957142904,48155414.794799998,35401969.393858299,35401969.393858299,38083415.252029702,{"$f":"K12*1.06","v":40368420.167151488},42790525.377180576]
[]
["Refuse Removal","To ensure that all households in urban areas have access to waste removal according to waste removal standards and good waste management in the municipal area",null,null,28443000,29462077.609999999,35780107.6585714,36695932.766228601,39237561.992457204,39237561.992457204,42341025.906400003,{"$f":"K14*1.06","v":44881487.460784003},47574376.708431043]
["Electricity Reticulation","To Ensure that 100% of households in Nketoana Municipal area have access to electricity",null,null,55604000,48723807.530000001,55771288.277828597,57484064.363069698,55662401.560228601,55662401.560228601,59940508.835942902,63536939.366099477,67349155.728065446]
["Water","To ensure that 100% of households in fomal and informal settlement in the Nketoana Municipal area have acess to basic level of water ",null,null,39901000,64623597.459999993,109132827.61000001,131350431.454686,113574100.46320499,113574100.46320499,125597985.082629,133133864.18758674,141121896.03884196]
["Municipal Roads and Storm Water","To ensure that the Internal Roads in the Nketoana Municipal area are maintained and/ upgraded to facilitate economic and social activity required for the sustainable development ",null,null,18975000,24216253.310000002,15928366.73,20335156.669999998,7002091.0499999998,7002091.0499999998,7992967.4199999999,8472545.4651999995,8980898.1931120008]
["Parks and Cemetries","To ensure effective management of graveyards and cemetries in the Nketoana Municipal area",null,null,12317300,15169644.27,21888768.140000001,5306412.9496571403,4475775.7012937097,4475775.7012937097,4654994.0791999996,4934293.723952,5230351.3473891206]
["Sport and Recreational Facilities","To ensure acess to quality sport and recreational facilities in the Nketoana municipal area",null,null,3881000,11267828.060000001,8269168.8400000017,5612860.2699999996,57536285.1557253,57536285.1557253,17516369.3189977,18567351.478137564,19681392.566825818]
[]
["Allocations to other priorities",null,null,2]
[{"$f":"'A4-FinPerf RE'!A21","v":"Total Revenue (excluding capital transfers and contributions)"},null,null,1,{"$f":"SUM(E4:E21)","v":298846515},326857356,357305702.51628578,402472674.72312582,407436437.99066061,407436437.99066061,394942679.91494709,418639240.70984393,443757595.15243459]
[{"$f":"head27a","v":"References"}]
[{"$f":"\"1. Total revenue must reconcile to \"&'Template names'!F103","v":"1. Total revenue must reconcile to Table A4 Budgeted Financial Performance (revenue and expenditure)"}]
["2. Balance of allocations not directly linked to an IDP strategic objective"]
["check op revenue balance",null,null,null,{"$f":"E22-'A4-FinPerf RE'!C59","v":0},{"$f":"F22-'A4-FinPerf RE'!D59","v":0},{"$f":"G22-'A4-FinPerf RE'!E59","v":2.7428865432739258E-3},{"$f":"H22-'A4-FinPerf RE'!F59","v":3.0116438865661621E-3},{"$f":"I22-'A4-FinPerf RE'!G59","v":0},{"$f":"J22-'A4-FinPerf RE'!H59","v":0},{"$f":"K22-'A4-FinPerf RE'!J59","v":-2080201.0953316092},{"$f":"L22-'A4-FinPerf RE'!K59","v":-2205013.1610515714},{"$f":"M22-'A4-FinPerf RE'!L59","v":-2337313.9507146478}]

{"sheet":"SA5","index":23,"n_rows":27,"n_cols":13,"rows_kept":27,"cut":false,"hidden":false,"merged":[[1,7,1,9],[1,10,1,12],[1,3,2,3]]}
[{"$f":"muni&\" - \"&TableA5","v":"FS193 Nketoana - Supporting Table SA5 Reconciliation of IDP strategic objectives and budget (operating expenditure)"}]
["Strategic Objective","Goal","Goal\nCode",{"$f":"head27","v":"Ref"},{"$f":"head1b","v":"2014/15"},{"$f":"head1A","v":"2015/16"},{"$f":"Head1","v":"2016/17"},{"$f":"Head2","v":"Current Year 2017/18"},null,null,{"$f":"Head3","v":"2018/19 Medium Term Revenue & Expenditure Framework"}]
["R thousand",null,null,null,{"$f":"Head5","v":"Audited Outcome"},{"$f":"Head5","v":"Audited Outcome"},{"$f":"Head5","v":"Audited Outcome"},{"$f":"Head6","v":"Original Budget"},{"$f":"Head7","v":"Adjusted Budget"},{"$f":"Head8","v":"Full Year Forecast"},{"$f":"Head9","v":"Budget Year 2018/19"},{"$f":"Head10","v":"Budget Year +1 2019/20"},{"$f":"Head11","v":"Budget Year +2 2020/21"}]
["Local Economic Development+A4:B18","To create employment opportunities in the Nketoana ",null,null,3266000,2599261.4400000004,2347814.38,2443631.8774285717,3823844.9399999995,3823844.9399999995,3535585.1625714293,{"$f":"K4*1.06","v":3747720.2723257151},3972583.488665258]
["Urban Planning","To ensure an effective urban planning that will promote proper spatial planning to address sustainable development and social cohesion",null,null,3692400,2141398.67,2030748.4017540093,2055126.4137714286,2324351.8314285707,2324351.8314285707,2682737.0680571436,2843701.2921405723,3014323.3696690067]
[null,null,null,null,null,null,null,null,null,null,null,0,0]
["Institutional Building ","To facilitate institutional transformation and development in the Nketoana local municipality",null,null,17532223,25188414.549999997,26474858.829999994,27295773.349542856,27289615.379213713,27289615.379213713,29513637.12618725,31284455.353758488,33161522.674984001]
[null,null,null,null,null,null,null,null,null,null,null,0,0]
["Municipal Financial viability and Management  ","To monitor, evaluate and improve the financial viability of the Nketoana local municipality as measured in terms of the key indicators of the Municipal Planning and Performance Management Regulations, 2001",null,null,103963104,112639952.72,43430847.889804997,63175192.789548665,66997231.373121649,66997231.373121649,63774466.650152661,67600934.649161831,71656990.72811155]
["Traffic and Parking ","To ensure effective traffic management and parking in the Nketoana municipal area",null,null,6036000,9943932.9800000004,4466826.7800000012,5689994.1460571419,6042193.4628571421,6042193.4628571421,7050500.1253714301,7473530.132893716,7921941.9408673393]
[null,null,null,null,null,null,null,null,null,null,null,0,0]
["Sanitation ","To ensure that 100% of households in formal settlements in the Nketoana municipal area have access to basic level of sanitation by 2017",null,null,29205400,27176447.719999999,28646133.199999996,27174784.108799998,33338779.447103187,33338779.447103187,34667295.412100412,36747333.136826441,38952173.125036031]
[null,null,null,null,null,null,null,null,null,null,null,0,0]
["Refuse Removal","To ensure that all households in urban areas have access to waste removal according to waste removal standards and good waste management in the municipal area",null,null,20672000,17499980.129999999,27550998.129999995,27399967.425257098,32564021.79285714,32564021.79285714,33865409.277257144,35897333.833892576,38051173.863926135]
["Electricity Reticulation","To Ensure that 100% of households in Nketoana Municipal area have access to electricity",null,null,60271400,59911946.100000001,69557599.780000001,81450206.576143697,74994598.838625431,74994598.838625431,78607592.51896143,83324048.070099115,88323490.954305068]
["Water","To ensure that 100% of households in fomal and informal settlement in the Nketoana Municipal area have acess to basic level of water ",null,null,42508400,41400017.710000001,73350543.049999997,35855048.002285697,{"$f":"84924703.8252455-49863458.7182023","v":35061245.107043199},{"$f":"84924703.8252455-49863458.7182023","v":35061245.107043199},{"$f":"89203635.8406013-52891903.8142857","v":36311732.026315592},38490435.947894529,40799862.104768202]
["Municipal Roads and Storm Water","To ensure that the Internal Roads in the Nketoana Municipal area are maintained and/ upgraded to facilitate economic and social activity required for the sustainable development ",null,null,68277000,60512123.149999999,43450394.680000007,48302494.584457144,45061396.996367075,45061396.996367075,47240784.624807887,50075231.702296361,53079745.604434147]
["Parks and Cemetries","To ensure effective management of graveyards and cemetries in the Nketoana Municipal area",null,null,6773000,8639644.0800000001,14342181.600000003,15422807.148399999,18056355.274285719,18056355.274285719,18592011.162228569,19707531.831962284,20889983.741880022]
["Sport and Recreational Facilities","To ensure acess to quality sport and recreational facilities in the Nketoana municipal area",null,null,714000,503988.75,474992.36000000004,653935.70514285716,653935.70514285716,653935.70514285716,700000,742000,786520]
[]
[]
["Allocations to other priorities"]
[{"$f":"'A4-FinPerf RE'!A35","v":"Total Expenditure"},null,null,1,{"$f":"SUM(E4:E22)","v":362910927},368157107.99999994,336123939.08155906,336918962.12683517,346207570.14804572,346207570.14804572,356541751.15401095,377934256.22325164,400610311.59664673]
[{"$f":"head27a","v":"References"}]
[{"$f":"\"1. Total expenditure must reconcile to \"&'Template names'!F103","v":"1. Total expenditure must reconcile to Table A4 Budgeted Financial Performance (revenue and expenditure)"}]
["2. Balance of allocations not directly linked to an IDP strategic objective"]
["check op expenditure balance",null,null,null,{"$f":"E23-'A4-FinPerf RE'!C35","v":0},{"$f":"F23-'A4-FinPerf RE'!D35","v":0},{"$f":"G23-'A4-FinPerf RE'!E35","v":-2.7266740798950195E-3},{"$f":"H23-'A4-FinPerf RE'!F35","v":473.65180563926697},{"$f":"I23-'A4-FinPerf RE'!G35","v":0},{"$f":"J23-'A4-FinPerf RE'!H35","v":0},{"$f":"K23-'A4-FinPerf RE'!J35","v":-448499.99502855539},{"$f":"L23-'A4-FinPerf RE'!K35","v":3094492.5167601705},{"$f":"M23-'A4-FinPerf RE'!L35","v":10776957.34189558}]

{"sheet":"SA6","index":24,"n_rows":26,"n_cols":13,"rows_kept":26,"cut":false,"hidden":false,"merged":[[1,7,1,9],[1,10,1,12],[1,3,2,3]]}
[{"$f":"muni&\" - \"&TableA6","v":"FS193 Nketoana - Supporting Table SA6 Reconciliation of IDP strategic objectives and budget (capital expenditure)"}]
["Strategic Objective","Goal","Goal Code",{"$f":"head27","v":"Ref"},{"$f":"head1b","v":"2014/15"},{"$f":"head1A","v":"2015/16"},{"$f":"Head1","v":"2016/17"},{"$f":"Head2","v":"Current Year 2017/18"},null,null,{"$f":"Head3","v":"2018/19 Medium Term Revenue & Expenditure Framework"}]
["R thousand",null,null,null,{"$f":"Head5","v":"Audited Outcome"},{"$f":"Head5","v":"Audited Outcome"},{"$f":"Head5","v":"Audited Outcome"},{"$f":"Head6","v":"Original Budget"},{"$f":"Head7","v":"Adjusted Budget"},{"$f":"Head8","v":"Full Year Forecast"},{"$f":"Head9","v":"Budget Year 2018/19"},{"$f":"Head10","v":"Budget Year +1 2019/20"},{"$f":"Head11","v":"Budget Year +2 2020/21"}]
["Local Economic Development","To create employment opportunities in the Nketoana ","A"]
["Urban Planning","To ensure an effective urban planning that will promote proper spatial planning to address sustainable development and social cohesion","B"]
[null,null,"C"]
["Institutional Building ","To facilitate institutional transformation and development in the Nketoana local municipality","D"]
[null,null,"E"]
["Municipal Financial viability and Management  ","To monitor, evaluate and improve the financial viability of the Nketoana local municipality as measured in terms of the key indicators of the Municipal Planning and Performance Management Regulations, 2001","F",null,8929961,7753889,null,null,null,null,null,{"$f":"K9*1.06","v":0},0]
["Traffic and Parking ","To ensure effective traffic management and parking in the Nketoana municipal area","G"]
[null,null,"H"]
["Sanitation ","To ensure that 100% of households in formal settlements in the Nketoana municipal area have access to basic level of sanitation by 2017","I",null,4160116,7728815,10403453.939999999,20279103.039999999,22502227.549999997,22502227.549999997,28490520.309999999,{"$f":"K12*1.06","v":30199951.5286},32011948.620316003]
[null,null,"J"]
["Refuse Removal","To ensure that all households in urban areas have access to waste removal according to waste removal standards and good waste management in the municipal area","K",null,1516178,8942785,376200,7690155,386370.01,386370.01,424545,{"$f":"K14*1.06","v":450017.7},477018.76200000005]
["Electricity Reticulation","To Ensure that 100% of households in Nketoana Municipal area have access to electricity","L",null,5300000,2842188,0,5000000,5000000,5000000,1547056.65,1639880.0489999999,1738272.85194]
["Water","To ensure that 100% of households in fomal and informal settlement in the Nketoana Municipal area have acess to basic level of water ","M",null,14597433,19660506,32010790.849999998,47849485.739999995,47849485.739999995,47849485.739999995,24691384.919999998,26172868.0152,27743240.096112002]
["Municipal Roads and Storm Water","To ensure that the Internal Roads in the Nketoana Municipal area are maintained and/ upgraded to facilitate economic and social activity required for the sustainable development ","N",null,11094273,12648409,5127377.7300000004,13833065.620000001,17158141.479999997,17158141.479999997,8568073.3800000008,9082157.782800002,9627087.249768002]
["Parks and Cemetries","To ensure effective management of graveyards and cemetries in the Nketoana Municipal area","O",null,null,null,12389245.92,854567.61,854567.61,854567.61,0,0,0]
["Sport and Recreational Facilities","To ensure acess to quality sport and recreational facilities in the Nketoana municipal area","P",null,0,0,3910931.56,3254622.99,5010207.62,5010207.62,1205419.74,1277744.9244000001,1354409.6198640002]
["Allocations to other priorities",null,null,3]
["Total Capital Expenditure",null,null,1,{"$f":"SUM(E4:E20)","v":45597961},59576592,64218000,98761000,98761000.010000005,98761000.010000005,64927000,68822620,72951977.200000003]
[{"$f":"head27a","v":"References"}]
["1. Total capital expenditure must reconcile to Budgeted Capital Expenditure"]
["2. Goal code must be used on Table SA36"]
["3. Balance of allocations not directly linked to an IDP strategic objective"]
["check capital balance",null,null,null,{"$f":"E21-'A5-Capex'!C40","v":0},{"$f":"F21-'A5-Capex'!D40","v":0},{"$f":"G21-'A5-Capex'!E40","v":0},{"$f":"H21-'A5-Capex'!F40","v":0},{"$f":"I21-'A5-Capex'!G40","v":0},{"$f":"J21-'A5-Capex'!H40","v":0},{"$f":"K21-'A5-Capex'!J40","v":0},{"$f":"L21-'A5-Capex'!K40","v":0},{"$f":"M21-'A5-Capex'!L40","v":0}]

{"sheet":"SA7","index":25,"n_rows":89,"n_cols":11,"rows_kept":89,"cut":false,"hidden":false,"merged":[[1,1,2,1],[1,0,2,0],[1,5,1,7],[1,8,1,10],[87,0,87,10],[67,0,67,10],[72,0,73,0],[72,1,73,1],[72,5,72,7],[72,8,72,10]]}
[{"$f":"muni&\" - \"&TableA7","v":"FS193 Nketoana - Supporting Table SA7 Measureable performance objectives"}]
["Description","Unit of measurement",{"$f":"head1b","v":"2014/15"},{"$f":"head1A","v":"2015/16"},{"$f":"Head1","v":"2016/17"},{"$f":"Head2","v":"Current Year 2017/18"},null,null,{"$f":"Head3","v":"2018/19 Medium Term Revenue & Expenditure Framework"}]
[null,null,{"$f":"Head5","v":"Audited Outcome"},{"$f":"Head5","v":"Audited Outcome"},{"$f":"Head5","v":"Audited Outcome"},{"$f":"Head6","v":"Original Budget"},{"$f":"Head7","v":"Adjusted Budget"},{"$f":"Head8","v":"Full Year Forecast"},{"$f":"Head9","v":"Budget Year 2018/19"},{"$f":"Head10","v":"Budget Year +1 2019/20"},{"$f":"Head11","v":"Budget Year +2 2020/21"}]
["EXECUTIVE AND COUNCIL","To ensure good governance and public participation in the Nketoana local municipality",0.03,null,null,null,null,null,null,{"$f":"I4*1.06","v":0},0]
["Municipal Manager",null,0.02,null,null,null,null,null,null,0,0]
["Speakers office",null,5.0000000000000001E-3,5.0000000000000001E-3,2.5000000000000001E-2,2.6500000000000003E-2,{"$f":"F6*1.06","v":2.8090000000000004E-2},{"$f":"G6*1.06","v":2.9775400000000004E-2},{"$f":"H6*1.06","v":3.1561924000000005E-2},3.3455639440000004E-2,3.5462977806400009E-2]
["Mayors office",null,null,null,null,null,null,null,null,0,0]
[null,null,null,null,null,null,null,null,null,0,0]
["FINANCE AND ADMIN","To monitor, evaluate and improve the financial viability of the Nketoana local municipality as measured in terms of the key indicators of the Municipal Planning and Performance Management Regulations, 2001",0.11,0.11,0.13,0.13780000000000001,0.13780000000000001,0.13780000000000001,0.13780000000000001,0.13780000000000001,0.13780000000000001]
["Finance",null,7.0000000000000007E-2,null,null,null,null,null,null,0,0]
["Corporate services",null,null,null,null,null,null,null,null,0,0]
["COMMUNITY SERVICES AND SOCIAL","Routine maintainance of  recreational facilities,  cemeteries  and  traffic control of traffic",0.02,null,null,null,null,null,null,0,0]
["Parks and Cemetery",null,0.01,0.01,0.03,3.1800000000000002E-2,3.1800000000000002E-2,3.1800000000000002E-2,3.1800000000000002E-2,3.1800000000000002E-2,3.1800000000000002E-2]
["Traffic and fire services",null,2E-3,null,null,null,null,null,null,0,0]
["Sports",null,5.0000000000000001E-3,null,null,null,null,null,null,0,0]
["other community anf social",null,null,null,null,null,null,null,null,0,0]
[null,null,null,0,0.02,2.12E-2,2.12E-2,2.12E-2,2.12E-2,2.12E-2,2.12E-2]
[null,null,null,null,null,null,null,null,null,0,0]
["SOLID WASTE MANAGEMENT ","Number of credible IWMPs developed",7.0000000000000007E-2,7.0000000000000007E-2,2.5000000000000001E-2,2.6500000000000003E-2,2.6500000000000003E-2,2.6500000000000003E-2,2.6500000000000003E-2,2.6500000000000003E-2,2.6500000000000003E-2]
["Refuse removal",null,null,null,null,null,null,null,null,{"$f":"I20*1.06","v":0},0]
[null,null,null,0,0.02,2.12E-2,2.12E-2,2.12E-2,2.12E-2,2.12E-2,2.12E-2]
["LOCAL ECONOMC DEVELOPMENT","Number of job opportunities created",7.0000000000000001E-3,null,null,null,null,null,null,0,0]
["Economic Development",null,3.0000000000000001E-3,3.0000000000000001E-3,2.3E-2,2.4380000000000002E-2,2.4380000000000002E-2,2.4380000000000002E-2,2.4380000000000002E-2,2.4380000000000002E-2,2.4380000000000002E-2]
["Tourism",null,null,null,null,null,null,null,null,0,0]
["ROADS AND STROM WATER","Number of projects completed according to quality and quantity specifications",0.21,null,null,null,null,null,null,0,0]
["Roads",null,null,null,null,null,null,null,null,0,0]
["Stormwater",null,null,0,0.02,2.12E-2,2.12E-2,2.12E-2,2.12E-2,2.12E-2,2.12E-2]
[null,null,null,null,null,null,null,null,null,0,0]
[null,null,null,0,0.02,2.12E-2,2.12E-2,2.12E-2,2.12E-2,2.12E-2,2.12E-2]
["WATER","Number of households with access to at least RDP level of water, provision of water into the Nketoana as a whole",0.12,null,null,null,null,null,null,0,0]
["Water",null,null,0,0.02,2.12E-2,2.12E-2,2.12E-2,2.12E-2,2.12E-2,2.12E-2]
[null,null,null,null,null,null,null,null,null,0,0]
["ELECTRICTY","Number of households with access to basic level of electricty",0.21,0.21,null,null,null,null,null,0,0]
["Electricity",null,null,null,null,null,null,null,null,0,0]
[null,null,null,null,null,null,null,null,null,0,0]
[null,null,null,0,0.02,2.12E-2,2.12E-2,2.12E-2,2.12E-2,2.12E-2,2.12E-2]
["WASTE MANAGEMENT ","Number of households with access to basic level of sanitation",7.0000000000000007E-2,null,null,null,null,null,null,{"$f":"I37*1.06","v":0},0]
["Waste Water Management",null,null,0,0.02,2.12E-2,2.12E-2,2.12E-2,2.12E-2,2.12E-2,2.12E-2]
[null,null,null,null,null,null,null,null,null,0,0]
["HOUSING","Number of credible SDF’s developed and approved, sector plans approved and number of housing demand database",7.0000000000000001E-3,7.0000000000000001E-3,2.7E-2,2.862E-2,2.862E-2,2.862E-2,2.862E-2,2.862E-2,2.862E-2]
["Urban and planning and housing"]
[]
["Sub-function 3 - (name)"]
["Insert measure/s description"]
[]
["Vote 3 - vote name"]
["Function 1 - (name)"]
["Sub-function 1 - (name)"]
["Insert measure/s description"]
[]
["Sub-function 2 - (name)"]
["Insert measure/s description"]
[]
["Sub-function 3 - (name)"]
["Insert measure/s description"]
[]
["Function 2 - (name)"]
["Sub-function 1 - (name)"]
["Insert measure/s description"]
[]
["Sub-function 2 - (name)"]
["Insert measure/s description"]
[]
["Sub-function 3 - (name)"]
["Insert measure/s description"]
[]
["And so on for the rest of the Votes"]
["1. Include a measurable performance objective for each revenue source (within a relevant function) and each vote (MFMA s17(3)(b))"]
["2. Include all Basic Services performance targets from 'Basic Service Delivery' to ensure Table SA7 represents all strategic responsibilities"]
["3. Only include prior year comparative information for individual measures where relevant activity occurred in that year/s"]
[]
[{"$f":"muni&\" - \"&\"Entities measureable performance objectives\"","v":"FS193 Nketoana - Entities measureable performance objectives"}]
[{"$f":"A2","v":"Description"},"Unit of measurement",{"$f":"head1b","v":"2014/15"},{"$f":"head1A","v":"2015/16"},{"$f":"Head1","v":"2016/17"},{"$f":"Head2","v":"Current Year 2017/18"},null,null,{"$f":"Head3","v":"2018/19 Medium Term Revenue & Expenditure Framework"}]
[null,null,{"$f":"Head5","v":"Audited Outcome"},{"$f":"Head5","v":"Audited Outcome"},{"$f":"Head5","v":"Audited Outcome"},{"$f":"Head6","v":"Original Budget"},{"$f":"Head7","v":"Adjusted Budget"},{"$f":"Head8","v":"Full Year Forecast"},{"$f":"Head9","v":"Budget Year 2018/19"},{"$f":"Head10","v":"Budget Year +1 2019/20"},{"$f":"Head11","v":"Budget Year +2 2020/21"}]
["Entity 1 - (name of entity)"]
["Insert measure/s description"]
[]
[]
["Entity 2 - (name of entity)"]
[{"$f":"$A$10","v":"Finance"}]
[]
[]
["Entity 3 - (name of entity)"]
[{"$f":"$A$10","v":"Finance"}]
[]
[]
["And so on for the rest of the Entities"]
["1. Include a measurable performance objective as agreed with the parent municipality (MFMA s87(5)(d))"]
["2. Only include prior year comparative information for individual measures where relevant activity occurred in that year/s"]

{"sheet":"SA8","index":26,"n_rows":49,"n_cols":12,"rows_kept":49,"cut":false,"hidden":false,"merged":[[28,0,30,0],[1,0,2,0],[1,9,1,11],[1,1,2,1],[1,5,1,8],[25,0,27,0]]}
[{"$f":"muni&\" - \"&TableA8","v":"FS193 Nketoana - Supporting Table SA8 Performance indicators and benchmarks"}]
["Description of financial indicator","Basis of calculation",{"$f":"head1b","v":"2014/15"},{"$f":"head1A","v":"2015/16"},{"$f":"Head1","v":"2016/17"},{"$f":"Head2","v":"Current Year 2017/18"},null,null,null,{"$f":"Head3","v":"2018/19 Medium Term Revenue & Expenditure Framework"}]
[null,null,{"$f":"Head5","v":"Audited Outcome"},{"$f":"Head5","v":"Audited Outcome"},{"$f":"Head5","v":"Audited Outcome"},{"$f":"Head6","v":"Original Budget"},{"$f":"Head7","v":"Adjusted Budget"},{"$f":"Head8","v":"Full Year Forecast"},{"$f":"Head5b","v":"Pre-audit outcome"},{"$f":"Head9","v":"Budget Year 2018/19"},{"$f":"Head10","v":"Budget Year +1 2019/20"},{"$f":"Head11","v":"Budget Year +2 2020/21"}]
["Borrowing Management"]
[]
["Credit Rating"]
["Capital Charges to Operating Expenditure","Interest & Principal Paid /Operating Expenditure",{"$f":"IF(ISERROR(('A4-FinPerf RE'!C28-'A7-CFlow'!C35)/'A4-FinPerf RE'!C35),0,(('A4-FinPerf RE'!C28-'A7-CFlow'!C35)/'A4-FinPerf RE'!C35))","v":2.6694032279716947E-2},{"$f":"IF(ISERROR(('A4-FinPerf RE'!D28-'A7-CFlow'!D35)/'A4-FinPerf RE'!D35),0,(('A4-FinPerf RE'!D28-'A7-CFlow'!D35)/'A4-FinPerf RE'!D35))","v":2.9919639633848926E-2},{"$f":"IF(ISERROR(('A4-FinPerf RE'!E28-'A7-CFlow'!E35)/'A4-FinPerf RE'!E35),0,(('A4-FinPerf RE'!E28-'A7-CFlow'!E35)/'A4-FinPerf RE'!E35))","v":7.7982144596452599E-2},{"$f":"IF(ISERROR(('A4-FinPerf RE'!F28-'A7-CFlow'!F35)/'A4-FinPerf RE'!F35),0,(('A4-FinPerf RE'!F28-'A7-CFlow'!F35)/'A4-FinPerf RE'!F35))","v":5.438052057295556E-2},{"$f":"IF(ISERROR(('A4-FinPerf RE'!G28-'A7-CFlow'!G35)/'A4-FinPerf RE'!G35),0,(('A4-FinPerf RE'!G28-'A7-CFlow'!G35)/'A4-FinPerf RE'!G35))","v":6.3071419219943636E-2},{"$f":"IF(ISERROR(('A4-FinPerf RE'!H28-'A7-CFlow'!H35)/'A4-FinPerf RE'!H35),0,(('A4-FinPerf RE'!H28-'A7-CFlow'!H35)/'A4-FinPerf RE'!H35))","v":6.3071419219943636E-2},{"$f":"IF(ISERROR(('A4-FinPerf RE'!I28-'A7-CFlow'!I35)/'A4-FinPerf RE'!I35),0,(('A4-FinPerf RE'!I28-'A7-CFlow'!I35)/'A4-FinPerf RE'!I35))","v":6.3071419219943636E-2},{"$f":"IF(ISERROR(('A4-FinPerf RE'!J28-'A7-CFlow'!J35)/'A4-FinPerf RE'!J35),0,(('A4-FinPerf RE'!J28-'A7-CFlow'!J35)/'A4-FinPerf RE'!J35))","v":5.671060498116582E-2},{"$f":"IF(ISERROR(('A4-FinPerf RE'!K28-'A7-CFlow'!K35)/'A4-FinPerf RE'!K35),0,(('A4-FinPerf RE'!K28-'A7-CFlow'!K35)/'A4-FinPerf RE'!K35))","v":5.6774632339850195E-2},{"$f":"IF(ISERROR(('A4-FinPerf RE'!L28-'A7-CFlow'!L35)/'A4-FinPerf RE'!L35),0,(('A4-FinPerf RE'!L28-'A7-CFlow'!L35)/'A4-FinPerf RE'!L35))","v":5.6905149647937567E-2}]
["Capital Charges to Own Revenue","Finance charges & Repayment of borrowing /Own Revenue",{"$f":"IF(ISERROR(('A4-FinPerf RE'!C28-'A7-CFlow'!C35)/('A4-FinPerf RE'!C21-'A4-FinPerf RE'!C18)),0,(('A4-FinPerf RE'!C28-'A7-CFlow'!C35)/('A4-FinPerf RE'!C21-'A4-FinPerf RE'!C18)))","v":6.2983563059201414E-2},{"$f":"IF(ISERROR(('A4-FinPerf RE'!D28-'A7-CFlow'!D35)/('A4-FinPerf RE'!D21-'A4-FinPerf RE'!D18)),0,(('A4-FinPerf RE'!D28-'A7-CFlow'!D35)/('A4-FinPerf RE'!D21-'A4-FinPerf RE'!D18)))","v":6.0714851161766142E-2},{"$f":"IF(ISERROR(('A4-FinPerf RE'!E28-'A7-CFlow'!E35)/('A4-FinPerf RE'!E21-'A4-FinPerf RE'!E18)),0,(('A4-FinPerf RE'!E28-'A7-CFlow'!E35)/('A4-FinPerf RE'!E21-'A4-FinPerf RE'!E18)))","v":0.12399923603310252},{"$f":"IF(ISERROR(('A4-FinPerf RE'!F28-'A7-CFlow'!F35)/('A4-FinPerf RE'!F21-'A4-FinPerf RE'!F18)),0,(('A4-FinPerf RE'!F28-'A7-CFlow'!F35)/('A4-FinPerf RE'!F21-'A4-FinPerf RE'!F18)))","v":8.2854719105618216E-2},{"$f":"IF(ISERROR(('A4-FinPerf RE'!G28-'A7-CFlow'!G35)/('A4-FinPerf RE'!G21-'A4-FinPerf RE'!G18)),0,(('A4-FinPerf RE'!G28-'A7-CFlow'!G35)/('A4-FinPerf RE'!G21-'A4-FinPerf RE'!G18)))","v":9.6577812398197779E-2},{"$f":"IF(ISERROR(('A4-FinPerf RE'!H28-'A7-CFlow'!H35)/('A4-FinPerf RE'!H21-'A4-FinPerf RE'!H18)),0,(('A4-FinPerf RE'!H28-'A7-CFlow'!H35)/('A4-FinPerf RE'!H21-'A4-FinPerf RE'!H18)))","v":9.6577812398197779E-2},{"$f":"IF(ISERROR(('A4-FinPerf RE'!I28-'A7-CFlow'!I35)/('A4-FinPerf RE'!I21-'A4-FinPerf RE'!I18)),0,(('A4-FinPerf RE'!I28-'A7-CFlow'!I35)/('A4-FinPerf RE'!I21-'A4-FinPerf RE'!I18)))","v":9.6577812398197779E-2},{"$f":"IF(ISERROR(('A4-FinPerf RE'!J28-'A7-CFlow'!J35)/('A4-FinPerf RE'!J21-'A4-FinPerf RE'!J18)),0,(('A4-FinPerf RE'!J28-'A7-CFlow'!J35)/('A4-FinPerf RE'!J21-'A4-FinPerf RE'!J18)))","v":8.3751403763641069E-2},{"$f":"IF(ISERROR(('A4-FinPerf RE'!K28-'A7-CFlow'!K35)/('A4-FinPerf RE'!K21-'A4-FinPerf RE'!K18)),0,(('A4-FinPerf RE'!K28-'A7-CFlow'!K35)/('A4-FinPerf RE'!K21-'A4-FinPerf RE'!K18)))","v":8.3054961072554029E-2},{"$f":"IF(ISERROR(('A4-FinPerf RE'!L28-'A7-CFlow'!L35)/('A4-FinPerf RE'!L21-'A4-FinPerf RE'!L18)),0,(('A4-FinPerf RE'!L28-'A7-CFlow'!L35)/('A4-FinPerf RE'!L21-'A4-FinPerf RE'!L18)))","v":8.1675216118513735E-2}]
["Borrowed funding of 'own' capital expenditure","Borrowing/Capital expenditure excl. transfers and grants and contributions",{"$f":"IF(ISERROR(C49/C48),0,(C49/C48))","v":0},{"$f":"IF(ISERROR(D49/D48),0,(D49/D48))","v":0},{"$f":"IF(ISERROR(E49/E48),0,(E49/E48))","v":0},0,0,0,0,0,0,0]
["Safety of Capital"]
["Gearing","Long Term Borrowing/ Funds & Reserves",{"$f":"IF(ISERROR(('A6-FinPos'!C37/'A6-FinPos'!C46)),0,(('A6-FinPos'!C37/'A6-FinPos'!C46)))","v":0},{"$f":"IF(ISERROR(('A6-FinPos'!D37/'A6-FinPos'!D46)),0,(('A6-FinPos'!D37/'A6-FinPos'!D46)))","v":0},{"$f":"IF(ISERROR(('A6-FinPos'!E37/'A6-FinPos'!E46)),0,(('A6-FinPos'!E37/'A6-FinPos'!E46)))","v":0},{"$f":"IF(ISERROR(('A6-FinPos'!F37/'A6-FinPos'!F46)),0,(('A6-FinPos'!F37/'A6-FinPos'!F46)))","v":0},{"$f":"IF(ISERROR(('A6-FinPos'!G37/'A6-FinPos'!G46)),0,(('A6-FinPos'!G37/'A6-FinPos'!G46)))","v":0},{"$f":"IF(ISERROR(('A6-FinPos'!H37/'A6-FinPos'!H46)),0,(('A6-FinPos'!H37/'A6-FinPos'!H46)))","v":0},{"$f":"IF(ISERROR(('A6-FinPos'!I37/'A6-FinPos'!I46)),0,(('A6-FinPos'!I37/'A6-FinPos'!I46)))","v":0},{"$f":"IF(ISERROR(('A6-FinPos'!J37/'A6-FinPos'!J46)),0,(('A6-FinPos'!J37/'A6-FinPos'!J46)))","v":0},{"$f":"IF(ISERROR(('A6-FinPos'!K37/'A6-FinPos'!K46)),0,(('A6-FinPos'!K37/'A6-FinPos'!K46)))","v":0},{"$f":"IF(ISERROR(('A6-FinPos'!L37/'A6-FinPos'!L46)),0,(('A6-FinPos'!L37/'A6-FinPos'!L46)))","v":0}]
["Liquidity"]
["Current Ratio","Current assets/current liabilities",{"$f":"IF(ISERROR('A6-FinPos'!C12/'A6-FinPos'!C34),0,('A6-FinPos'!C12/'A6-FinPos'!C34))","v":0.16707276666631926},{"$f":"IF(ISERROR('A6-FinPos'!D12/'A6-FinPos'!D34),0,('A6-FinPos'!D12/'A6-FinPos'!D34))","v":0.13957340891353789},{"$f":"IF(ISERROR('A6-FinPos'!E12/'A6-FinPos'!E34),0,('A6-FinPos'!E12/'A6-FinPos'!E34))","v":2.1752784511586358},{"$f":"IF(ISERROR('A6-FinPos'!F12/'A6-FinPos'!F34),0,('A6-FinPos'!F12/'A6-FinPos'!F34))","v":2.135834248244008},{"$f":"IF(ISERROR('A6-FinPos'!G12/'A6-FinPos'!G34),0,('A6-FinPos'!G12/'A6-FinPos'!G34))","v":2.135834248244008},{"$f":"IF(ISERROR('A6-FinPos'!H12/'A6-FinPos'!H34),0,('A6-FinPos'!H12/'A6-FinPos'!H34))","v":2.135834248244008},{"$f":"IF(ISERROR('A6-FinPos'!I12/'A6-FinPos'!I34),0,('A6-FinPos'!I12/'A6-FinPos'!I34))","v":2.135834248244008},{"$f":"IF(ISERROR('A6-FinPos'!J12/'A6-FinPos'!J34),0,('A6-FinPos'!J12/'A6-FinPos'!J34))","v":1.4531408058092319},{"$f":"IF(ISERROR('A6-FinPos'!K12/'A6-FinPos'!K34),0,('A6-FinPos'!K12/'A6-FinPos'!K34))","v":1.4602792735982024},{"$f":"IF(ISERROR('A6-FinPos'!L12/'A6-FinPos'!L34),0,('A6-FinPos'!L12/'A6-FinPos'!L34))","v":1.4616643231541147}]
["Current Ratio adjusted for aged debtors","Current assets less debtors > 90 days/current liabilities",{"$f":"IF(ISERROR(('A6-FinPos'!C12-'SA8'!C45)/'A6-FinPos'!C34),0,(('A6-FinPos'!C12-'SA8'!C45)/'A6-FinPos'!C34))","v":0.16707276666631926},{"$f":"IF(ISERROR(('A6-FinPos'!D12-'SA8'!D45)/'A6-FinPos'!D34),0,(('A6-FinPos'!D12-'SA8'!D45)/'A6-FinPos'!D34))","v":0.13957340891353789},{"$f":"IF(ISERROR(('A6-FinPos'!E12-'SA8'!E45)/'A6-FinPos'!E34),0,(('A6-FinPos'!E12-'SA8'!E45)/'A6-FinPos'!E34))","v":2.1752784511586358},{"$f":"IF(ISERROR(('A6-FinPos'!F12-'SA8'!F45)/'A6-FinPos'!F34),0,(('A6-FinPos'!F12-'SA8'!F45)/'A6-FinPos'!F34))","v":2.135834248244008},{"$f":"IF(ISERROR(('A6-FinPos'!G12-'SA8'!G45)/'A6-FinPos'!G34),0,(('A6-FinPos'!G12-'SA8'!G45)/'A6-FinPos'!G34))","v":2.135834248244008},{"$f":"IF(ISERROR(('A6-FinPos'!H12-'SA8'!H45)/'A6-FinPos'!H34),0,(('A6-FinPos'!H12-'SA8'!H45)/'A6-FinPos'!H34))","v":2.135834248244008},{"$f":"IF(ISERROR(('A6-FinPos'!I12-'SA8'!I45)/'A6-FinPos'!I34),0,(('A6-FinPos'!I12-'SA8'!I45)/'A6-FinPos'!I34))","v":2.135834248244008},{"$f":"IF(ISERROR(('A6-FinPos'!J12-'SA8'!J45)/'A6-FinPos'!J34),0,(('A6-FinPos'!J12-'SA8'!J45)/'A6-FinPos'!J34))","v":1.4531408058092319},{"$f":"IF(ISERROR(('A6-FinPos'!K12-'SA8'!K45)/'A6-FinPos'!K34),0,(('A6-FinPos'!K12-'SA8'!K45)/'A6-FinPos'!K34))","v":1.4602792735982024},{"$f":"IF(ISERROR(('A6-FinPos'!L12-'SA8'!L45)/'A6-FinPos'!L34),0,(('A6-FinPos'!L12-'SA8'!L45)/'A6-FinPos'!L34))","v":1.4616643231541147}]
["Liquidity Ratio","Monetary Assets/Current Liabilities",{"$f":"IF(ISERROR(('A6-FinPos'!C6+'A6-FinPos'!C7)/'A6-FinPos'!C34),0,(('A6-FinPos'!C6+'A6-FinPos'!C7)/'A6-FinPos'!C34))","v":2.109462899885817E-2},{"$f":"IF(ISERROR(('A6-FinPos'!D6+'A6-FinPos'!D7)/'A6-FinPos'!D34),0,(('A6-FinPos'!D6+'A6-FinPos'!D7)/'A6-FinPos'!D34))","v":1.7122228494182285E-2},{"$f":"IF(ISERROR(('A6-FinPos'!E6+'A6-FinPos'!E7)/'A6-FinPos'!E34),0,(('A6-FinPos'!E6+'A6-FinPos'!E7)/'A6-FinPos'!E34))","v":0.13067902218713651},{"$f":"IF(ISERROR(('A6-FinPos'!F6+'A6-FinPos'!F7)/'A6-FinPos'!F34),0,(('A6-FinPos'!F6+'A6-FinPos'!F7)/'A6-FinPos'!F34))","v":9.3372679148765375E-2},{"$f":"IF(ISERROR(('A6-FinPos'!G6+'A6-FinPos'!G7)/'A6-FinPos'!G34),0,(('A6-FinPos'!G6+'A6-FinPos'!G7)/'A6-FinPos'!G34))","v":9.3372679148765375E-2},{"$f":"IF(ISERROR(('A6-FinPos'!H6+'A6-FinPos'!H7)/'A6-FinPos'!H34),0,(('A6-FinPos'!H6+'A6-FinPos'!H7)/'A6-FinPos'!H34))","v":9.3372679148765375E-2},{"$f":"IF(ISERROR(('A6-FinPos'!I6+'A6-FinPos'!I7)/'A6-FinPos'!I34),0,(('A6-FinPos'!I6+'A6-FinPos'!I7)/'A6-FinPos'!I34))","v":9.3372679148765375E-2},{"$f":"IF(ISERROR(('A6-FinPos'!J6+'A6-FinPos'!J7)/'A6-FinPos'!J34),0,(('A6-FinPos'!J6+'A6-FinPos'!J7)/'A6-FinPos'!J34))","v":7.4271308650479886E-2},{"$f":"IF(ISERROR(('A6-FinPos'!K6+'A6-FinPos'!K7)/'A6-FinPos'!K34),0,(('A6-FinPos'!K6+'A6-FinPos'!K7)/'A6-FinPos'!K34))","v":7.4636162037245046E-2},{"$f":"IF(ISERROR(('A6-FinPos'!L6+'A6-FinPos'!L7)/'A6-FinPos'!L34),0,(('A6-FinPos'!L6+'A6-FinPos'!L7)/'A6-FinPos'!L34))","v":7.4706953142038263E-2}]
["Revenue Management"]
["Annual Debtors Collection Rate (Payment Level %)","Last 12 Mths Receipts/Last 12 Mths Billing",null,{"$f":"IF(ISERROR(('A7-CFlow'!C6+'A7-CFlow'!C7+'A7-CFlow'!C22+'A7-CFlow'!C23)/SUM('A4-FinPerf RE'!C5:C10)),0,('A7-CFlow'!C6+'A7-CFlow'!C7+'A7-CFlow'!C22+'A7-CFlow'!C23)/(SUM('A4-FinPerf RE'!C5:C10)))","v":0.55730129331841827},{"$f":"IF(ISERROR(('A7-CFlow'!D6+'A7-CFlow'!D7+'A7-CFlow'!D22+'A7-CFlow'!D23)/SUM('A4-FinPerf RE'!D5:D10)),0,('A7-CFlow'!D6+'A7-CFlow'!D7+'A7-CFlow'!D22+'A7-CFlow'!D23)/(SUM('A4-FinPerf RE'!D5:D10)))","v":0.59013586942369034},{"$f":"IF(ISERROR(('A7-CFlow'!E6+'A7-CFlow'!E7+'A7-CFlow'!E22+'A7-CFlow'!E23)/SUM('A4-FinPerf RE'!E5:E10)),0,('A7-CFlow'!E6+'A7-CFlow'!E7+'A7-CFlow'!E22+'A7-CFlow'!E23)/(SUM('A4-FinPerf RE'!E5:E10)))","v":0.12499514963348696},{"$f":"IF(ISERROR(('A7-CFlow'!F6+'A7-CFlow'!F7+'A7-CFlow'!F22+'A7-CFlow'!F23)/SUM('A4-FinPerf RE'!F5:F10)),0,('A7-CFlow'!F6+'A7-CFlow'!F7+'A7-CFlow'!F22+'A7-CFlow'!F23)/(SUM('A4-FinPerf RE'!F5:F10)))","v":0.7},{"$f":"IF(ISERROR(('A7-CFlow'!G6+'A7-CFlow'!G7+'A7-CFlow'!G22+'A7-CFlow'!G23)/SUM('A4-FinPerf RE'!G5:G10)),0,('A7-CFlow'!G6+'A7-CFlow'!G7+'A7-CFlow'!G22+'A7-CFlow'!G23)/(SUM('A4-FinPerf RE'!G5:G10)))","v":0.59537678672802452},{"$f":"IF(ISERROR(('A7-CFlow'!H6+'A7-CFlow'!H7+'A7-CFlow'!H22+'A7-CFlow'!H23)/SUM('A4-FinPerf RE'!H5:H10)),0,('A7-CFlow'!H6+'A7-CFlow'!H7+'A7-CFlow'!H22+'A7-CFlow'!H23)/(SUM('A4-FinPerf RE'!H5:H10)))","v":0.59537678672802452},{"$f":"IF(ISERROR(('A7-CFlow'!I6+'A7-CFlow'!I7+'A7-CFlow'!I22+'A7-CFlow'!I23)/SUM('A4-FinPerf RE'!I5:I10)),0,('A7-CFlow'!I6+'A7-CFlow'!I7+'A7-CFlow'!I22+'A7-CFlow'!I23)/(SUM('A4-FinPerf RE'!I5:I10)))","v":0.59537678672802452},{"$f":"IF(ISERROR(('A7-CFlow'!J6+'A7-CFlow'!J7+'A7-CFlow'!J22+'A7-CFlow'!J23)/SUM('A4-FinPerf RE'!J5:J10)),0,('A7-CFlow'!J6+'A7-CFlow'!J7+'A7-CFlow'!J22+'A7-CFlow'!J23)/(SUM('A4-FinPerf RE'!J5:J10)))","v":0.74304007818154993},{"$f":"IF(ISERROR(('A7-CFlow'!K6+'A7-CFlow'!K7+'A7-CFlow'!K22+'A7-CFlow'!K23)/SUM('A4-FinPerf RE'!K5:K10)),0,('A7-CFlow'!K6+'A7-CFlow'!K7+'A7-CFlow'!K22+'A7-CFlow'!K23)/(SUM('A4-FinPerf RE'!K5:K10)))","v":0.74304007818154993}]
["Current Debtors Collection Rate (Cash receipts % of Ratepayer & Other revenue)",null,{"$f":"IF(ISERROR(('A7-CFlow'!C6+'A7-CFlow'!C7)/SUM('A4-FinPerf RE'!C5:C10)),0,(('A7-CFlow'!C6+'A7-CFlow'!C7)/SUM('A4-FinPerf RE'!C5:C10)))","v":0.55504260798095573},{"$f":"IF(ISERROR(('A7-CFlow'!D6+'A7-CFlow'!D7)/SUM('A4-FinPerf RE'!D5:D10)),0,(('A7-CFlow'!D6+'A7-CFlow'!D7)/SUM('A4-FinPerf RE'!D5:D10)))","v":0.59227125058760355},{"$f":"IF(ISERROR(('A7-CFlow'!E6+'A7-CFlow'!E7)/SUM('A4-FinPerf RE'!E5:E10)),0,(('A7-CFlow'!E6+'A7-CFlow'!E7)/SUM('A4-FinPerf RE'!E5:E10)))","v":0.12499514963348696},{"$f":"IF(ISERROR(('A7-CFlow'!F6+'A7-CFlow'!F7)/SUM('A4-FinPerf RE'!F5:F10)),0,(('A7-CFlow'!F6+'A7-CFlow'!F7)/SUM('A4-FinPerf RE'!F5:F10)))","v":0.7},{"$f":"IF(ISERROR(('A7-CFlow'!G6+'A7-CFlow'!G7)/SUM('A4-FinPerf RE'!G5:G10)),0,(('A7-CFlow'!G6+'A7-CFlow'!G7)/SUM('A4-FinPerf RE'!G5:G10)))","v":0.59537678672802452},{"$f":"IF(ISERROR(('A7-CFlow'!H6+'A7-CFlow'!H7)/SUM('A4-FinPerf RE'!H5:H10)),0,(('A7-CFlow'!H6+'A7-CFlow'!H7)/SUM('A4-FinPerf RE'!H5:H10)))","v":0.59537678672802452},{"$f":"IF(ISERROR(('A7-CFlow'!I6+'A7-CFlow'!I7)/SUM('A4-FinPerf RE'!I5:I10)),0,(('A7-CFlow'!I6+'A7-CFlow'!I7)/SUM('A4-FinPerf RE'!I5:I10)))","v":0.59537678672802452},{"$f":"IF(ISERROR(('A7-CFlow'!J6+'A7-CFlow'!J7)/SUM('A4-FinPerf RE'!J5:J10)),0,(('A7-CFlow'!J6+'A7-CFlow'!J7)/SUM('A4-FinPerf RE'!J5:J10)))","v":0.74304007818154993},{"$f":"IF(ISERROR(('A7-CFlow'!K6+'A7-CFlow'!K7)/SUM('A4-FinPerf RE'!K5:K10)),0,(('A7-CFlow'!K6+'A7-CFlow'!K7)/SUM('A4-FinPerf RE'!K5:K10)))","v":0.74304007818154993},{"$f":"IF(ISERROR(('A7-CFlow'!L6+'A7-CFlow'!L7)/SUM('A4-FinPerf RE'!L5:L10)),0,(('A7-CFlow'!L6+'A7-CFlow'!L7)/SUM('A4-FinPerf RE'!L5:L10)))","v":0.74304007818154993}]
["Outstanding Debtors to Revenue","Total Outstanding Debtors to Annual Revenue",{"$f":"IF(ISERROR(('A6-FinPos'!C8+'A6-FinPos'!C9+'A6-FinPos'!C10+'A6-FinPos'!C15)/'A4-FinPerf RE'!C21),0,(('A6-FinPos'!C8+'A6-FinPos'!C9+'A6-FinPos'!C10+'A6-FinPos'!C15)/'A4-FinPerf RE'!C21))","v":9.1084347308046487E-2},{"$f":"IF(ISERROR(('A6-FinPos'!D8+'A6-FinPos'!D9+'A6-FinPos'!D10+'A6-FinPos'!D15)/'A4-FinPerf RE'!D21),0,(('A6-FinPos'!D8+'A6-FinPos'!D9+'A6-FinPos'!D10+'A6-FinPos'!D15)/'A4-FinPerf RE'!D21))","v":8.8429630253256133E-2},{"$f":"IF(ISERROR(('A6-FinPos'!E8+'A6-FinPos'!E9+'A6-FinPos'!E10+'A6-FinPos'!E15)/'A4-FinPerf RE'!E21),0,(('A6-FinPos'!E8+'A6-FinPos'!E9+'A6-FinPos'!E10+'A6-FinPos'!E15)/'A4-FinPerf RE'!E21))","v":1.1663046763765357},{"$f":"IF(ISERROR(('A6-FinPos'!F8+'A6-FinPos'!F9+'A6-FinPos'!F10+'A6-FinPos'!F15)/'A4-FinPerf RE'!F21),0,(('A6-FinPos'!F8+'A6-FinPos'!F9+'A6-FinPos'!F10+'A6-FinPos'!F15)/'A4-FinPerf RE'!F21))","v":1.1694291664227485},{"$f":"IF(ISERROR(('A6-FinPos'!G8+'A6-FinPos'!G9+'A6-FinPos'!G10+'A6-FinPos'!G15)/'A4-FinPerf RE'!G21),0,(('A6-FinPos'!G8+'A6-FinPos'!G9+'A6-FinPos'!G10+'A6-FinPos'!G15)/'A4-FinPerf RE'!G21))","v":1.1506237519667701},{"$f":"IF(ISERROR(('A6-FinPos'!H8+'A6-FinPos'!H9+'A6-FinPos'!H10+'A6-FinPos'!H15)/'A4-FinPerf RE'!H21),0,(('A6-FinPos'!H8+'A6-FinPos'!H9+'A6-FinPos'!H10+'A6-FinPos'!H15)/'A4-FinPerf RE'!H21))","v":1.1506237519667701},{"$f":"IF(ISERROR(('A6-FinPos'!I8+'A6-FinPos'!I9+'A6-FinPos'!I10+'A6-FinPos'!I15)/'A4-FinPerf RE'!I21),0,(('A6-FinPos'!I8+'A6-FinPos'!I9+'A6-FinPos'!I10+'A6-FinPos'!I15)/'A4-FinPerf RE'!I21))","v":1.1506237519667701},{"$f":"IF(ISERROR(('A6-FinPos'!J8+'A6-FinPos'!J9+'A6-FinPos'!J10+'A6-FinPos'!J15)/'A4-FinPerf RE'!J21),0,(('A6-FinPos'!J8+'A6-FinPos'!J9+'A6-FinPos'!J10+'A6-FinPos'!J15)/'A4-FinPerf RE'!J21))","v":0.91045793239044026},{"$f":"IF(ISERROR(('A6-FinPos'!K8+'A6-FinPos'!K9+'A6-FinPos'!K10+'A6-FinPos'!K15)/'A4-FinPerf RE'!K21),0,(('A6-FinPos'!K8+'A6-FinPos'!K9+'A6-FinPos'!K10+'A6-FinPos'!K15)/'A4-FinPerf RE'!K21))","v":0.91011389103517359},{"$f":"IF(ISERROR(('A6-FinPos'!L8+'A6-FinPos'!L9+'A6-FinPos'!L10+'A6-FinPos'!L15)/'A4-FinPerf RE'!L21),0,(('A6-FinPos'!L8+'A6-FinPos'!L9+'A6-FinPos'!L10+'A6-FinPos'!L15)/'A4-FinPerf RE'!L21))","v":0.90978932371888466}]
["Longstanding Debtors Recovered","Debtors > 12 Mths Recovered/Total Debtors > 12 Months Old"]
["Creditors Management"]
["Creditors System Efficiency","% of Creditors Paid Within Terms (within`MFMA' s 65(e))"]
["Creditors to Cash and Investments",null,{"$f":"IF(ISERROR('SA3'!C35/'A7-CFlow'!C40), 0, ('SA3'!C35/'A7-CFlow'!C40))","v":67.324826110876273},{"$f":"IF(ISERROR('SA3'!D35/'A7-CFlow'!D40), 0, ('SA3'!D35/'A7-CFlow'!D40))","v":65.039523612981455},{"$f":"IF(ISERROR('SA3'!E35/'A7-CFlow'!E40), 0, ('SA3'!E35/'A7-CFlow'!E40))","v":11.848643610702984},{"$f":"IF(ISERROR('SA3'!F35/'A7-CFlow'!F40), 0, ('SA3'!F35/'A7-CFlow'!F40))","v":22.781132277046435},{"$f":"IF(ISERROR('SA3'!G35/'A7-CFlow'!G40), 0, ('SA3'!G35/'A7-CFlow'!G40))","v":144.28124516574883},{"$f":"IF(ISERROR('SA3'!H35/'A7-CFlow'!H40), 0, ('SA3'!H35/'A7-CFlow'!H40))","v":144.28124516574883},{"$f":"IF(ISERROR('SA3'!I35/'A7-CFlow'!I40), 0, ('SA3'!I35/'A7-CFlow'!I40))","v":144.28124516574883},{"$f":"IF(ISERROR('SA3'!J35/'A7-CFlow'!J40), 0, ('SA3'!J35/'A7-CFlow'!J40))","v":16.090270340056644},{"$f":"IF(ISERROR('SA3'!K35/'A7-CFlow'!K40), 0, ('SA3'!K35/'A7-CFlow'!K40))","v":7.519160775314953},{"$f":"IF(ISERROR('SA3'!L35/'A7-CFlow'!L40), 0, ('SA3'!L35/'A7-CFlow'!L40))","v":5.0043106736764633}]
[]
["Other Indicators"]
["Electricity Distribution Losses (2)","Total Volume Losses (kW)"]
[null,"Total Cost of Losses (Rand '000)"]
[null,"% Volume (units purchased and generated less units sold)/units purchased and generated"]
["Water Distribution Losses (2)","Total Volume Losses (kℓ)"]
[null,"Total Cost of Losses (Rand '000)"]
[null,"% Volume (units purchased and generated less units sold)/units purchased and generated"]
["Employee costs","Employee costs/(Total Revenue - capital revenue)",{"$f":"IF(ISERROR('A4-FinPerf RE'!C24/'A4-FinPerf RE'!C21),0,('A4-FinPerf RE'!C24/'A4-FinPerf RE'!C21))","v":0.31602028565845491},{"$f":"IF(ISERROR('A4-FinPerf RE'!D24/'A4-FinPerf RE'!D21),0,('A4-FinPerf RE'!D24/'A4-FinPerf RE'!D21))","v":0.30266894706386116},{"$f":"IF(ISERROR('A4-FinPerf RE'!E24/'A4-FinPerf RE'!E21),0,('A4-FinPerf RE'!E24/'A4-FinPerf RE'!E21))","v":0.29396060708490118},{"$f":"IF(ISERROR('A4-FinPerf RE'!F24/'A4-FinPerf RE'!F21),0,('A4-FinPerf RE'!F24/'A4-FinPerf RE'!F21))","v":0.3081559043549178},{"$f":"IF(ISERROR('A4-FinPerf RE'!G24/'A4-FinPerf RE'!G21),0,('A4-FinPerf RE'!G24/'A4-FinPerf RE'!G21))","v":0.31736444330871755},{"$f":"IF(ISERROR('A4-FinPerf RE'!H24/'A4-FinPerf RE'!H21),0,('A4-FinPerf RE'!H24/'A4-FinPerf RE'!H21))","v":0.31736444330871755},{"$f":"IF(ISERROR('A4-FinPerf RE'!I24/'A4-FinPerf RE'!I21),0,('A4-FinPerf RE'!I24/'A4-FinPerf RE'!I21))","v":0.31736444330871755},{"$f":"IF(ISERROR('A4-FinPerf RE'!J24/'A4-FinPerf RE'!J21),0,('A4-FinPerf RE'!J24/'A4-FinPerf RE'!J21))","v":0.31623349582986254},{"$f":"IF(ISERROR('A4-FinPerf RE'!K24/'A4-FinPerf RE'!K21),0,('A4-FinPerf RE'!K24/'A4-FinPerf RE'!K21))","v":0.31325016096354302},{"$f":"IF(ISERROR('A4-FinPerf RE'!L24/'A4-FinPerf RE'!L21),0,('A4-FinPerf RE'!L24/'A4-FinPerf RE'!L21))","v":0.30733978056800443}]
["Remuneration","Total remuneration/(Total Revenue - capital revenue)",{"$f":"IF(ISERROR('SA22'!C102/'A4-FinPerf RE'!C21),0,('SA22'!C102/'A4-FinPerf RE'!C21))","v":0.32570552714781315},{"$f":"IF(ISERROR('SA22'!D102/'A4-FinPerf RE'!D21),0,('SA22'!D102/'A4-FinPerf RE'!D21))","v":0.2904284769232538},{"$f":"IF(ISERROR('SA22'!E102/'A4-FinPerf RE'!E21),0,('SA22'!E102/'A4-FinPerf RE'!E21))","v":0.2806614222355312},{"$f":"IF(ISERROR('SA22'!F102/'A4-FinPerf RE'!F21),0,('SA22'!F102/'A4-FinPerf RE'!F21))","v":0.33796255425224814},{"$f":"IF(ISERROR('SA22'!G102/'A4-FinPerf RE'!G21),0,('SA22'!G102/'A4-FinPerf RE'!G21))","v":0.37311614218691458},{"$f":"IF(ISERROR('SA22'!H102/'A4-FinPerf RE'!H21),0,('SA22'!H102/'A4-FinPerf RE'!H21))","v":0.37311614218691458},null,{"$f":"IF(ISERROR('SA22'!I102/'A4-FinPerf RE'!J21),0,('SA22'!I102/'A4-FinPerf RE'!J21))","v":0.34663494089624008},{"$f":"IF(ISERROR('SA22'!J102/'A4-FinPerf RE'!K21),0,('SA22'!J102/'A4-FinPerf RE'!K21))","v":0.34663494089624003},{"$f":"IF(ISERROR('SA22'!K102/'A4-FinPerf RE'!L21),0,('SA22'!K102/'A4-FinPerf RE'!L21))","v":0.34663494089624003}]
["Repairs & Maintenance","R&M/(Total Revenue excluding capital revenue)",{"$f":"IF(ISERROR('A9-Asset'!C169/'A4-FinPerf RE'!C21),0,('A9-Asset'!C169/'A4-FinPerf RE'!C21))","v":6.5083232370925531E-2},{"$f":"IF(ISERROR('A9-Asset'!D169/'A4-FinPerf RE'!D21),0,('A9-Asset'!D169/'A4-FinPerf RE'!D21))","v":6.9018078545070458E-2},{"$f":"IF(ISERROR('A9-Asset'!E169/'A4-FinPerf RE'!E21),0,('A9-Asset'!E169/'A4-FinPerf RE'!E21))","v":3.2632363923757818E-2},{"$f":"IF(ISERROR('A9-Asset'!F169/'A4-FinPerf RE'!F21),0,('A9-Asset'!F169/'A4-FinPerf RE'!F21))","v":3.3544545198628414E-2},{"$f":"IF(ISERROR('A9-Asset'!G169/'A4-FinPerf RE'!G21),0,('A9-Asset'!G169/'A4-FinPerf RE'!G21))","v":2.8362332602687734E-2},{"$f":"IF(ISERROR('A9-Asset'!H169/'A4-FinPerf RE'!H21),0,('A9-Asset'!H169/'A4-FinPerf RE'!H21))","v":2.8362332602687734E-2},null,{"$f":"IF(ISERROR('A9-Asset'!I169/'A4-FinPerf RE'!J21),0,('A9-Asset'!I169/'A4-FinPerf RE'!J21))","v":2.7130718913436724E-2},{"$f":"IF(ISERROR('A9-Asset'!J169/'A4-FinPerf RE'!K21),0,('A9-Asset'!J169/'A4-FinPerf RE'!K21))","v":2.7130718913436717E-2},{"$f":"IF(ISERROR('A9-Asset'!K169/'A4-FinPerf RE'!L21),0,('A9-Asset'!K169/'A4-FinPerf RE'!L21))","v":2.7130718913436717E-2}]
["Finance charges & Depreciation","FC&D/(Total Revenue - capital revenue)",{"$f":"IF(ISERROR(('A4-FinPerf RE'!C28+'A4-FinPerf RE'!C27)/'A4-FinPerf RE'!C21),0,(('A4-FinPerf RE'!C28+'A4-FinPerf RE'!C27)/'A4-FinPerf RE'!C21))","v":0.27611577883523314},{"$f":"IF(ISERROR(('A4-FinPerf RE'!D28+'A4-FinPerf RE'!D27)/'A4-FinPerf RE'!D21),0,(('A4-FinPerf RE'!D28+'A4-FinPerf RE'!D27)/'A4-FinPerf RE'!D21))","v":0.2573283538358126},{"$f":"IF(ISERROR(('A4-FinPerf RE'!E28+'A4-FinPerf RE'!E27)/'A4-FinPerf RE'!E21),0,(('A4-FinPerf RE'!E28+'A4-FinPerf RE'!E27)/'A4-FinPerf RE'!E21))","v":0.25957273091826377},{"$f":"IF(ISERROR(('A4-FinPerf RE'!F28+'A4-FinPerf RE'!F27)/'A4-FinPerf RE'!F21),0,(('A4-FinPerf RE'!F28+'A4-FinPerf RE'!F27)/'A4-FinPerf RE'!F21))","v":0.25520386954289259},{"$f":"IF(ISERROR(('A4-FinPerf RE'!G28+'A4-FinPerf RE'!G27)/'A4-FinPerf RE'!G21),0,(('A4-FinPerf RE'!G28+'A4-FinPerf RE'!G27)/'A4-FinPerf RE'!G21))","v":0.24850825551026304},{"$f":"IF(ISERROR(('A4-FinPerf RE'!H28+'A4-FinPerf RE'!H27)/'A4-FinPerf RE'!H21),0,(('A4-FinPerf RE'!H28+'A4-FinPerf RE'!H27)/'A4-FinPerf RE'!H21))","v":0.24850825551026304},{"$f":"IF(ISERROR(('A4-FinPerf RE'!I28+'A4-FinPerf RE'!I27)/'A4-FinPerf RE'!I21),0,(('A4-FinPerf RE'!I28+'A4-FinPerf RE'!I27)/'A4-FinPerf RE'!I21))","v":0.24850825551026304},{"$f":"IF(ISERROR(('A4-FinPerf RE'!J28+'A4-FinPerf RE'!J27)/'A4-FinPerf RE'!J21),0,(('A4-FinPerf RE'!J28+'A4-FinPerf RE'!J27)/'A4-FinPerf RE'!J21))","v":0.23101076924427702},{"$f":"IF(ISERROR(('A4-FinPerf RE'!K28+'A4-FinPerf RE'!K27)/'A4-FinPerf RE'!K21),0,(('A4-FinPerf RE'!K28+'A4-FinPerf RE'!K27)/'A4-FinPerf RE'!K21))","v":0.22883142236461398},{"$f":"IF(ISERROR(('A4-FinPerf RE'!L28+'A4-FinPerf RE'!L27)/'A4-FinPerf RE'!L21),0,(('A4-FinPerf RE'!L28+'A4-FinPerf RE'!L27)/'A4-FinPerf RE'!L21))","v":0.22451384835773444}]
["IDP regulation financial viability indicators"]
["i. Debt coverage","(Total Operating Revenue - Operating Grants)/Debt service payments due within financial year)",{"$f":"IF(ISERROR(('A4-FinPerf RE'!C21-'A4-FinPerf RE'!C18)/('A7-CFlow'!D11-'A7-CFlow'!D35)),0,(('A4-FinPerf RE'!C21-'A4-FinPerf RE'!C18)/('A7-CFlow'!D11-'A7-CFlow'!D35)))","v":189.21601456540594},{"$f":"IF(ISERROR(('A4-FinPerf RE'!D21-'A4-FinPerf RE'!D18)/('A7-CFlow'!E11-'A7-CFlow'!E35)),0,(('A4-FinPerf RE'!D21-'A4-FinPerf RE'!D18)/('A7-CFlow'!E11-'A7-CFlow'!E35)))","v":3.896023215968853},{"$f":"IF(ISERROR(('A4-FinPerf RE'!E21-'A4-FinPerf RE'!E18)/('A7-CFlow'!F11-'A7-CFlow'!F35)),0,(('A4-FinPerf RE'!E21-'A4-FinPerf RE'!E18)/('A7-CFlow'!F11-'A7-CFlow'!F35)))","v":7.1937140966956346},{"$f":"IF(ISERROR(('A4-FinPerf RE'!F21-'A4-FinPerf RE'!F18)/('A7-CFlow'!G11-'A7-CFlow'!G35)),0,(('A4-FinPerf RE'!F21-'A4-FinPerf RE'!F18)/('A7-CFlow'!G11-'A7-CFlow'!G35)))","v":34.898325522023093},{"$f":"F37","v":34.898325522023093},{"$f":"G37","v":34.898325522023093},{"$f":"IF(ISERROR(('A4-FinPerf RE'!I21-'A4-FinPerf RE'!I18)/('A7-CFlow'!J11-'A7-CFlow'!J35)),0,(('A4-FinPerf RE'!I21-'A4-FinPerf RE'!I18)/('A7-CFlow'!J11-'A7-CFlow'!J35)))","v":6.4346692577454192},{"$f":"IF(ISERROR(('A4-FinPerf RE'!J21-'A4-FinPerf RE'!J18)/('A7-CFlow'!K11-'A7-CFlow'!K35)),0,(('A4-FinPerf RE'!J21-'A4-FinPerf RE'!J18)/('A7-CFlow'!K11-'A7-CFlow'!K35)))","v":6.4901854421430425},{"$f":"IF(ISERROR(('A4-FinPerf RE'!K21-'A4-FinPerf RE'!K18)/('A7-CFlow'!L11-'A7-CFlow'!L35)),0,(('A4-FinPerf RE'!K21-'A4-FinPerf RE'!K18)/('A7-CFlow'!L11-'A7-CFlow'!L35)))","v":6.4901854421430443},{"$f":"IF(ISERROR(('A4-FinPerf RE'!L21-'A4-FinPerf RE'!L18)/('A7-CFlow'!L11-'A7-CFlow'!L35)),0,(('A4-FinPerf RE'!L21-'A4-FinPerf RE'!L18)/('A7-CFlow'!L11-'A7-CFlow'!L35)))","v":6.8795965686716265}]
["ii.O/S Service Debtors to Revenue","Total outstanding service debtors/annual revenue received for services",{"$f":"IF(ISERROR(('A6-FinPos'!C8+'A6-FinPos'!C9+'A6-FinPos'!C10)/SUM('A4-FinPerf RE'!C5:C11)),0,(('A6-FinPos'!C8+'A6-FinPos'!C9+'A6-FinPos'!C10)/SUM('A4-FinPerf RE'!C5:C11)))","v":0.15331993945985087},{"$f":"IF(ISERROR(('A6-FinPos'!D8+'A6-FinPos'!D9+'A6-FinPos'!D10)/SUM('A4-FinPerf RE'!D5:D11)),0,(('A6-FinPos'!D8+'A6-FinPos'!D9+'A6-FinPos'!D10)/SUM('A4-FinPerf RE'!D5:D11)))","v":0.14860430226558904},{"$f":"IF(ISERROR(('A6-FinPos'!E8+'A6-FinPos'!E9+'A6-FinPos'!E10)/SUM('A4-FinPerf RE'!E5:E11)),0,(('A6-FinPos'!E8+'A6-FinPos'!E9+'A6-FinPos'!E10)/SUM('A4-FinPerf RE'!E5:E11)))","v":2.1684370476495345},{"$f":"IF(ISERROR(('A6-FinPos'!F8+'A6-FinPos'!F9+'A6-FinPos'!F10)/SUM('A4-FinPerf RE'!F5:F11)),0,(('A6-FinPos'!F8+'A6-FinPos'!F9+'A6-FinPos'!F10)/SUM('A4-FinPerf RE'!F5:F11)))","v":2.1612847889140876},{"$f":"IF(ISERROR(('A6-FinPos'!G8+'A6-FinPos'!G9+'A6-FinPos'!G10)/SUM('A4-FinPerf RE'!G5:G11)),0,(('A6-FinPos'!G8+'A6-FinPos'!G9+'A6-FinPos'!G10)/SUM('A4-FinPerf RE'!G5:G11)))","v":2.1401049784779165},{"$f":"IF(ISERROR(('A6-FinPos'!H8+'A6-FinPos'!H9+'A6-FinPos'!H10)/SUM('A4-FinPerf RE'!H5:H11)),0,(('A6-FinPos'!H8+'A6-FinPos'!H9+'A6-FinPos'!H10)/SUM('A4-FinPerf RE'!H5:H11)))","v":2.1401049784779165},{"$f":"IF(ISERROR(('A6-FinPos'!I8+'A6-FinPos'!I9+'A6-FinPos'!I10)/SUM('A4-FinPerf RE'!I5:I11)),0,(('A6-FinPos'!I8+'A6-FinPos'!I9+'A6-FinPos'!I10)/SUM('A4-FinPerf RE'!I5:I11)))","v":2.1401049784779165},{"$f":"IF(ISERROR(('A6-FinPos'!J8+'A6-FinPos'!J9+'A6-FinPos'!J10)/SUM('A4-FinPerf RE'!J5:J11)),0,(('A6-FinPos'!J8+'A6-FinPos'!J9+'A6-FinPos'!J10)/SUM('A4-FinPerf RE'!J5:J11)))","v":1.696890230366165},{"$f":"IF(ISERROR(('A6-FinPos'!K8+'A6-FinPos'!K9+'A6-FinPos'!K10)/SUM('A4-FinPerf RE'!K5:K11)),0,(('A6-FinPos'!K8+'A6-FinPos'!K9+'A6-FinPos'!K10)/SUM('A4-FinPerf RE'!K5:K11)))","v":1.6968902303661648},{"$f":"IF(ISERROR(('A6-FinPos'!L8+'A6-FinPos'!L9+'A6-FinPos'!L10)/SUM('A4-FinPerf RE'!L5:L11)),0,(('A6-FinPos'!L8+'A6-FinPos'!L9+'A6-FinPos'!L10)/SUM('A4-FinPerf RE'!L5:L11)))","v":1.6968902303661648}]
["iii. Cost coverage","(Available cash + Investments)/monthly fixed operational expenditure",{"$f":"IF(ISERROR('A7-CFlow'!C40/'SA8'!C46),0,('A7-CFlow'!C40/'SA8'!C46))","v":7.6059966589693453E-2},{"$f":"IF(ISERROR('A7-CFlow'!D40/'SA8'!D46),0,('A7-CFlow'!D40/'SA8'!D46))","v":0.11444250259713146},{"$f":"IF(ISERROR('A7-CFlow'!E40/'SA8'!E46),0,('A7-CFlow'!E40/'SA8'!E46))","v":0.60324008529584039},{"$f":"IF(ISERROR('A7-CFlow'!F40/'SA8'!F46),0,('A7-CFlow'!F40/'SA8'!F46))","v":0.30974773148625201},{"$f":"IF(ISERROR('A7-CFlow'!G40/'SA8'!G46),0,('A7-CFlow'!G40/'SA8'!G46))","v":4.794563963759705E-2},{"$f":"IF(ISERROR('A7-CFlow'!H40/'SA8'!H46),0,('A7-CFlow'!H40/'SA8'!H46))","v":4.794563963759705E-2},{"$f":"IF(ISERROR('A7-CFlow'!I40/'SA8'!I46),0,('A7-CFlow'!I40/'SA8'!I46))","v":4.794563963759705E-2},{"$f":"IF(ISERROR('A7-CFlow'!J40/'SA8'!J46),0,('A7-CFlow'!J40/'SA8'!J46))","v":0.56880749006580789},{"$f":"IF(ISERROR('A7-CFlow'!K40/'SA8'!K46),0,('A7-CFlow'!K40/'SA8'!K46))","v":1.2288903219694187},{"$f":"IF(ISERROR('A7-CFlow'!L40/'SA8'!L46),0,('A7-CFlow'!L40/'SA8'!L46))","v":1.8822909930355494}]
[{"$f":"head27a","v":"References"}]
["1. Consumer debtors > 12 months old are excluded from current assets"]
["2. Only include if services provided by the municipality"]
[]
["Calculation data"]
["Debtors > 90 days"]
["Monthly fixed operational expenditure",null,{"$f":"(('A4-FinPerf RE'!C24+'A4-FinPerf RE'!C25+'A4-FinPerf RE'!C26+'A4-FinPerf RE'!C28+'A4-FinPerf RE'!C29+'A4-FinPerf RE'!C31+'SA1'!C91+'A7-CFlow'!C35)+(('A4-FinPerf RE'!C30+'A4-FinPerf RE'!C33)*'SA8'!C47))/12","v":22487901.016666666},{"$f":"(('A4-FinPerf RE'!D24+'A4-FinPerf RE'!D25+'A4-FinPerf RE'!D26+'A4-FinPerf RE'!D28+'A4-FinPerf RE'!D29+'A4-FinPerf RE'!D31+'SA1'!D91+'A7-CFlow'!D35)+(('A4-FinPerf RE'!D30+'A4-FinPerf RE'!D33)*'SA8'!D47))/12","v":22081140.683333334},{"$f":"(('A4-FinPerf RE'!E24+'A4-FinPerf RE'!E25+'A4-FinPerf RE'!E26+'A4-FinPerf RE'!E28+'A4-FinPerf RE'!E29+'A4-FinPerf RE'!E31+'SA1'!E91+'A7-CFlow'!E35)+(('A4-FinPerf RE'!E30+'A4-FinPerf RE'!E33)*'SA8'!E47))/12","v":19282922.338119049},{"$f":"(('A4-FinPerf RE'!F24+'A4-FinPerf RE'!F25+'A4-FinPerf RE'!F26+'A4-FinPerf RE'!F28+'A4-FinPerf RE'!F29+'A4-FinPerf RE'!F31+'SA1'!F91+'A7-CFlow'!F35)+(('A4-FinPerf RE'!F30+'A4-FinPerf RE'!F33)*'SA8'!F47))/12","v":20703992.738979597},{"$f":"(('A4-FinPerf RE'!G24+'A4-FinPerf RE'!G25+'A4-FinPerf RE'!G26+'A4-FinPerf RE'!G28+'A4-FinPerf RE'!G29+'A4-FinPerf RE'!G31+'SA1'!G91+'A7-CFlow'!G35)+(('A4-FinPerf RE'!G30+'A4-FinPerf RE'!G33)*'SA8'!G47))/12","v":21119252.775677282},{"$f":"(('A4-FinPerf RE'!H24+'A4-FinPerf RE'!H25+'A4-FinPerf RE'!H26+'A4-FinPerf RE'!H28+'A4-FinPerf RE'!H29+'A4-FinPerf RE'!H31+'SA1'!H91+'A7-CFlow'!H35)+(('A4-FinPerf RE'!H30+'A4-FinPerf RE'!H33)*'SA8'!H47))/12","v":21119252.775677282},{"$f":"(('A4-FinPerf RE'!I24+'A4-FinPerf RE'!I25+'A4-FinPerf RE'!I26+'A4-FinPerf RE'!I28+'A4-FinPerf RE'!I29+'A4-FinPerf RE'!I31+'SA1'!I91+'A7-CFlow'!I35)+(('A4-FinPerf RE'!I30+'A4-FinPerf RE'!I33)*'SA8'!I47))/12","v":21119252.775677282},{"$f":"(('A4-FinPerf RE'!J24+'A4-FinPerf RE'!J25+'A4-FinPerf RE'!J26+'A4-FinPerf RE'!J28+'A4-FinPerf RE'!J29+'A4-FinPerf RE'!J31+'SA1'!J91+'A7-CFlow'!J35)+(('A4-FinPerf RE'!J30+'A4-FinPerf RE'!J33)*'SA8'!J47))/12","v":22189737.125237104},{"$f":"(('A4-FinPerf RE'!K24+'A4-FinPerf RE'!K25+'A4-FinPerf RE'!K26+'A4-FinPerf RE'!K28+'A4-FinPerf RE'!K29+'A4-FinPerf RE'!K31+'SA1'!K91+'A7-CFlow'!K35)+(('A4-FinPerf RE'!K30+'A4-FinPerf RE'!K33)*'SA8'!K47))/12","v":23297223.981498957},{"$f":"(('A4-FinPerf RE'!L24+'A4-FinPerf RE'!L25+'A4-FinPerf RE'!L26+'A4-FinPerf RE'!L28+'A4-FinPerf RE'!L29+'A4-FinPerf RE'!L31+'SA1'!L91+'A7-CFlow'!L35)+(('A4-FinPerf RE'!L30+'A4-FinPerf RE'!L33)*'SA8'!L47))/12","v":24224872.940758914}]
["Fixed operational expenditure % assumption",null,0.4,{"$f":"$C$47","v":0.4},{"$f":"$C$47","v":0.4},0.4,0.4,0.4,0.4,0.4,0.4,0.4]
["Own capex",null,{"$f":"'A5-Capex'!C40-'A5-Capex'!C70-'A5-Capex'!C71","v":1422301},{"$f":"'A5-Capex'!D40-'A5-Capex'!D70-'A5-Capex'!D71","v":1541380},{"$f":"'A5-Capex'!E40-'A5-Capex'!E70-'A5-Capex'!E71","v":0},{"$f":"'A5-Capex'!F40-'A5-Capex'!F70-'A5-Capex'!F71","v":0},{"$f":"'A5-Capex'!G40-'A5-Capex'!G70-'A5-Capex'!G71","v":0},{"$f":"'A5-Capex'!H40-'A5-Capex'!H70-'A5-Capex'!H71","v":0},{"$f":"'A5-Capex'!I40-'A5-Capex'!I70-'A5-Capex'!I71","v":0},{"$f":"'A5-Capex'!J40-'A5-Capex'!J70-'A5-Capex'!J71","v":0},{"$f":"'A5-Capex'!K40-'A5-Capex'!K70-'A5-Capex'!K71","v":0},{"$f":"'A5-Capex'!L40-'A5-Capex'!L70-'A5-Capex'!L71","v":0}]
["Borrowing",null,{"$f":"'A7-CFlow'!C31+'A7-CFlow'!C32","v":0},{"$f":"'A7-CFlow'!D31+'A7-CFlow'!D32","v":0},{"$f":"'A7-CFlow'!E31+'A7-CFlow'!E32","v":0},{"$f":"'A7-CFlow'!F31+'A7-CFlow'!F32","v":0},{"$f":"'A7-CFlow'!G31+'A7-CFlow'!G32","v":0},{"$f":"'A7-CFlow'!H31+'A7-CFlow'!H32","v":0},{"$f":"'A7-CFlow'!I31+'A7-CFlow'!I32","v":0},{"$f":"'A7-CFlow'!J31+'A7-CFlow'!J32","v":0},{"$f":"'A7-CFlow'!K31+'A7-CFlow'!K32","v":0},{"$f":"'A7-CFlow'!L31+'A7-CFlow'!L32","v":0}]

{"sheet":"SA9","index":27,"n_rows":310,"n_cols":13,"rows_kept":310,"cut":false,"hidden":false,"merged":[[108,10,108,12],[1,0,2,0],[1,1,2,1],[1,2,2,2],[1,3,2,3],[1,4,2,4],[1,5,2,5],[1,10,1,12],[62,0,63,0],[62,7,62,9],[62,10,62,12],[108,0,109,0],[108,7,108,9],[246,7,246,9],[246,10,246,12],[246,0,247,0],[154,0,155,0],[154,7,154,9],[154,10,154,12],[200,0,201,0],[200,7,200,9],[200,10,200,12]]}
[{"$f":"muni&\" - \"&TableA9","v":"FS193 Nketoana - Supporting Table SA9 Social, economic and demographic statistics and assumptions"}]
["Description of economic indicator","Ref.","Basis of calculation",{"$f":"Head44","v":"2001 Census"},"2007 Survey",{"$f":"Head45","v":"2011 Census"},{"$f":"head1b","v":"2014/15"},{"$f":"head1A","v":"2015/16"},{"$f":"Head1","v":"2016/17"},{"$f":"Head2","v":"Current Year 2017/18"},{"$f":"Head3","v":"2018/19 Medium Term Revenue & Expenditure Framework"}]
[null,null,null,null,null,null,{"$f":"Head5A","v":"Outcome"},"Outcome","Outcome",{"$f":"Head6","v":"Original Budget"},"Outcome","Outcome","Outcome"]
["Demographics"]
["Population",null,null,null,null,60324,59123,59123,60896.69,62723.590700000001,62723.590700000001,{"$f":"K5*1.06","v":66487.006141999998},70476.226510520006]
["Females aged 5 - 14",null,null,null,null,6259,5781,5781,5954.43,6133.0629000000008,6133.0629000000008,6501.0466740000011,6891.1094744400016]
["Males aged 5 - 14",null,null,null,null,6105,5123,5123,5276.6900000000005,5434.9907000000003,5434.9907000000003,5761.0901420000009,6106.7555505200016]
["Females aged 15 - 34",null,null,null,null,10658,10442,10442,10755.26,11077.917800000001,11077.917800000001,11742.592868000002,12447.148440080002]
["Males aged 15 - 34",null,null,null,null,10470,10005,10005,10305.15,10614.3045,10614.3045,11251.162770000001,11926.232536200001]
["Unemployment",null,null,null,null,5855,6005,6005,6185.1500000000005,6370.7045000000007,6370.7045000000007,6752.9467700000014,7158.1235762000015]
[]
["Monthly household income (no. of households)","1, 12"]
["No income"]
["R1 - R1 600"]
["R1 601 - R3 200"]
["R3 201 - R6 400"]
["R6 401 - R12 800"]
["R12 801 - R25 600"]
["R25 601 - R51 200"]
["R52 201 - R102 400"]
["R102 401 - R204 800"]
["R204 801 - R409 600"]
["R409 601 - R819 200"]
[" > R819 200"]
[]
[]
["Poverty profiles (no. of households)"]
["< R2 060 per household per month",13]
["Insert description",2,null,null,null,null,2500,2500,3000,3500,4000,4500,4500]
[]
["Household/demographics (000)"]
["Number of people in municipal area",null,null,null,null,null,59456,59456,61239.68,63076.8704,63076.8704,{"$f":"K32*1.06","v":66861.482623999997},70873.171581439994]
["Number of poor people in municipal area",null,null,null,null,null,3452,3452,3555.56,3662.2267999999999,3662.2267999999999,3881.9604079999999,4114.87803248]
["Number of households in municipal area",null,null,null,null,null,14998,14998,15447.94,15911.378200000001,15911.378200000001,16866.060892000001,17878.024545520002]
["Number of poor households in municipal area"]
["Definition of poor household (R per month)"]
[]
["Housing statistics",3]
["Formal"]
["Informal"]
["Total number of households",null,null,{"$f":"SUM(D39:D40)","v":0},{"$f":"SUM(E39:E40)","v":0},0,0,0,0,0,0,0,0]
["Dwellings provided by municipality",4,null,null,null,null,14725,14725,15166.75,15621.752500000001,{"$f":"J42*1.06","v":16559.057650000002},{"$f":"K42*1.06","v":17552.601109000003},18605.757175540002]
["Dwellings provided by province/s",null,null,null,null,null,2583,2583,2660.4900000000002,2740.3047000000001,{"$f":"J43*1.06","v":2904.7229820000002},3079.0063609200006,3263.7467425752006]
["Dwellings provided by private sector",5]
["Total new housing dwellings",null,null,{"$f":"SUM(D42:D44)","v":0},{"$f":"SUM(E42:E44)","v":0},0,17308,17308,17827.240000000002,18362.057199999999,19463.780632000002,20631.607469920003,21869.503918115202]
[]
["Economic",6]
["Inflation/inflation outlook (CPIX)",null,null,null,null,null,5.6000000000000001E-2,5.7000000000000002E-2,0.06,6.1800000000000001E-2,5.2999999999999999E-2,5.2999999999999999E-2,5.2999999999999999E-2]
["Interest rate - borrowing",null,null,null,null,null,9.9000000000000005E-2,9.8900000000000002E-2,9.9000000000000005E-2,0.10197000000000001,0.10197000000000001,0.10197000000000001,0.10197000000000001]
["Interest rate - investment",null,null,null,null,null,5.5E-2,5.5399999999999998E-2,5.5E-2,5.6649999999999999E-2,5.6649999999999999E-2,5.6649999999999999E-2,5.6649999999999999E-2]
["Remuneration increases",null,null,null,null,null,6.7900000000000002E-2,6.7900000000000002E-2,7.0000000000000007E-2,7.2100000000000011E-2,7.0000000000000007E-2,7.0000000000000007E-2,7.0000000000000007E-2]
["Consumption growth (electricity)"]
["Consumption growth (water)"]
[]
["Collection rates",7]
["Property tax/service charges",null,null,null,null,null,0.3483,0.44,0.56000000000000005,0.57680000000000009,0.75,{"$f":"K56*1.06","v":0.79500000000000004},{"$f":"L56*1.06","v":0.84270000000000012}]
["Rental of facilities & equipment",null,null,null,null,null,0.04,1,1,1.03,1,1.06,1.1236000000000002]
["Interest - external investments",null,null,null,null,null,5.5399999999999998E-2,5.5399999999999998E-2,5.5E-2,5.6649999999999999E-2,1,1.06,1.1236000000000002]
["Interest - debtors",null,null,null,null,null,0.10249999999999999,0.115,0.123,0.12669,0.75,0.79500000000000004,0.84270000000000012]
["Revenue from agency services",null,null,null,null,null,0,0,0,0,1,1.06,1.1236000000000002]
[]
["Detail on the provision of municipal services for A10"]
["Total municipal services",null,null,null,{"$f":"head1b","v":"2014/15"},{"$f":"head1A","v":"2015/16"},{"$f":"Head1","v":"2016/17"},{"$f":"Head2","v":"Current Year 2017/18"},null,null,{"$f":"Head3","v":"2018/19 Medium Term Revenue & Expenditure Framework"}]
[null,"Ref.",null,null,{"$f":"Head5A","v":"Outcome"},{"$f":"Head5A","v":"Outcome"},{"$f":"Head5A","v":"Outcome"},{"$f":"Head6","v":"Original Budget"},{"$f":"Head7","v":"Adjusted Budget"},{"$f":"Head8","v":"Full Year Forecast"},{"$f":"Head9","v":"Budget Year 2018/19"},{"$f":"Head10","v":"Budget Year +1 2019/20"},{"$f":"Head11","v":"Budget Year +2 2020/21"}]
[null,null,"Household service targets (000)"]
[null,null,"Water:"]
[null,null,"Piped water inside dwelling",null,{"$f":"E113+E159+E205","v":7992},{"$f":"F113+F159+F205","v":8202},8366.0400000000009,8533.3608000000004,8533.3608000000004,8533.3608000000004,9045.3624480000017,9588.0841948800025,10163.369246572804]
[null,null,"Piped water inside yard (but not in dwelling)",null,{"$f":"E114+E160+E206","v":2232},2232,2254.3200000000002,2299.4064000000003,2299.4064000000003,2299.4064000000003,2437.3707840000006,2583.6130310400008,2738.6298129024008]
[null,8,"Using public tap (at least min.service level)",null,1691,1083,1093.83,1115.7066,1115.7066,1115.7066,1182.6489960000001,1253.6079357600001,1328.8244119056003]
[null,10,"Other water supply (at least min.service level)",null,0,0,0,0,0,0,0,0,0]
[null,null,"Minimum Service Level and Above sub-total",null,{"$f":"SUM(E67:E70)","v":11915},{"$f":"SUM(F67:F70)","v":11517},11714.19,11948.4738,11948.4738,11948.4738,12665.382228000002,13425.305161680004,14230.823471380805]
[null,9,"Using public tap (< min.service level)",null,{"$f":"E118+E164+E210","v":0},0,0,0,0,0,0,0,0]
[null,10,"Other water supply (< min.service level)",null,0,0,0,0,0,0,0,0,0]
[null,null,"No water supply",null,7873,7873,7005,7145.1,7145.1,7145.1,7573.8060000000005,8028.2343600000013,8509.9284216000015]
[null,null,"Below Minimum Service Level sub-total",null,{"$f":"SUM(E72:E74)","v":7873},{"$f":"SUM(F72:F74)","v":7873},7005,7145.1,7145.1,7145.1,7573.8060000000005,8028.2343600000013,8509.9284216000015]
[null,null,"Total number of households",null,{"$f":"E71+E75","v":19788},{"$f":"F71+F75","v":19390},18719.190000000002,19093.573799999998,19093.573799999998,19093.573799999998,20239.188228000003,21453.539521680006,22740.751892980807]
[null,null,"Sanitation/sewerage:"]
[null,null,"Flush toilet (connected to sewerage)",null,{"$f":"E124+E170+E216","v":15597},14322,15597,15908.94,15908.94,15908.94,16863.476400000003,17875.284984000005,18947.802083040006]
[null,null,"Flush toilet (with septic tank)",null,{"$f":"E125+E171+E217","v":0},0,0,0,0,0,0,0,0]
[null,null,"Chemical toilet",null,{"$f":"E126+E172+E218","v":0},0,0,0,0,0,0,0,0]
[null,null,"Pit toilet (ventilated)",null,{"$f":"E127+E173+E219","v":0},0,0,0,0,0,0,0,0]
[null,null,"Other toilet provisions (> min.service level)",null,{"$f":"E128+E174+E220","v":0},0,0,0,0,0,0,0,0]
[null,null,"Minimum Service Level and Above sub-total",null,{"$f":"SUM(E78:E82)","v":15597},{"$f":"SUM(F78:F82)","v":14322},15597,15908.94,15908.94,15908.94,16863.476400000003,17875.284984000005,18947.802083040006]
[null,null,"Bucket toilet",null,{"$f":"E130+E176+E222","v":0},0,0,0,0,0,0,0,0]
[null,null,"Other toilet provisions (< min.service level)",null,{"$f":"E131+E177+E223","v":0},0,0,0,0,0,0,0,0]
[null,null,"No toilet provisions",null,{"$f":"E132+E178+E224","v":4191},4191,4191,4274.82,4274.82,4274.82,4531.3091999999997,4803.1877519999998,5091.3790171199998]
[null,null,"Below Minimum Service Level sub-total",null,{"$f":"SUM(E84:E86)","v":4191},{"$f":"SUM(F84:F86)","v":4191},4191,4274.82,4274.82,4274.82,4531.3091999999997,4803.1877519999998,5091.3790171199998]
[null,null,"Total number of households",null,{"$f":"E83+E87","v":19788},{"$f":"F83+F87","v":18513},19788,20183.760000000002,20183.760000000002,20183.760000000002,21394.785600000003,22678.472736000003,24039.181100160007]
[null,null,"Energy:"]
[null,null,"Electricity (at least min.service level)",null,{"$f":"E136+E182+E228","v":3498},3498,3637.92,3710.6784000000002,3710.6784000000002,3710.6784000000002,3933.3191040000006,4169.3182502400005,4419.4773452544005]
[null,null,"Electricity - prepaid (min.service level)",null,{"$f":"E137+E183+E229","v":2486},2486,2585.44,2637.1487999999999,2637.1487999999999,2637.1487999999999,2795.3777279999999,2963.10039168,3140.8864151808002]
[null,null,"Minimum Service Level and Above sub-total",null,{"$f":"SUM(E90:E91)","v":5984},{"$f":"SUM(F90:F91)","v":5984},6223.3600000000006,6347.8271999999997,6347.8271999999997,6347.8271999999997,6728.6968320000005,7132.4186419200005,7560.3637604352007]
[null,null,"Electricity (< min.service level)",null,{"$f":"E139+E185+E231","v":0},0,0,0,0,0,0,0,0]
[null,null,"Electricity - prepaid (< min. service level)",null,{"$f":"E140+E186+E232","v":0},0,0,0,0,0,0,0,0]
[null,null,"Other energy sources",null,{"$f":"E141+E187+E233","v":13804},13804,12835,13091.7,13091.7,13091.7,13877.202000000001,14709.834120000001,15592.424167200003]
[null,null,"Below Minimum Service Level sub-total",null,{"$f":"SUM(E93:E95)","v":13804},{"$f":"SUM(F93:F95)","v":13804},12835,13091.7,13091.7,13091.7,13877.202000000001,14709.834120000001,15592.424167200003]
[null,null,"Total number of households",null,{"$f":"E92+E96","v":19788},{"$f":"F92+F96","v":19788},19058.36,19439.5272,19439.5272,19439.5272,20605.898832000003,21842.252761920001,23152.787927635203]
[null,null,"Refuse:"]
[null,null,"Removed at least once a week",null,{"$f":"E145+E191+E237","v":14402},14402,14975,15274.5,15274.5,15274.5,16190.970000000001,17162.428200000002,18192.173892000003]
[null,null,"Minimum Service Level and Above sub-total",null,{"$f":"SUM(E99)","v":14402},{"$f":"SUM(F99)","v":14402},14975,15274.5,15274.5,15274.5,16190.970000000001,17162.428200000002,18192.173892000003]
[null,null,"Removed less frequently than once a week",null,{"$f":"E147+E193+E239","v":0},0,0,0,0,0,0,0,0]
[null,null,"Using communal refuse dump",null,{"$f":"E148+E194+E240","v":0},0,0,0,0,0,0,0,0]
[null,null,"Using own refuse dump",null,{"$f":"E149+E195+E241","v":0},0,0,0,0,0,0,0,0]
[null,null,"Other rubbish disposal",null,{"$f":"E150+E196+E242","v":0},0,0,0,0,0,0,0,0]
[null,null,"No rubbish disposal",null,{"$f":"E151+E197+E243","v":4813},4813,4701,4795.0200000000004,4795.0200000000004,4795.0200000000004,5082.7212000000009,5387.6844720000008,5710.9455403200009]
[null,null,"Below Minimum Service Level sub-total",null,{"$f":"SUM(E101:E105)","v":4813},4813,4701,4795.0200000000004,4795.0200000000004,4795.0200000000004,5082.7212000000009,5387.6844720000008,5710.9455403200009]
[null,null,"Total number of households",null,{"$f":"E100+E106","v":19215},{"$f":"F100+F106","v":19215},19676,20069.52,20069.52,20069.52,21273.691200000001,22550.112672000003,23903.119432320003]
[]
["Municipal in-house services",null,null,null,{"$f":"head1b","v":"2014/15"},{"$f":"head1A","v":"2015/16"},{"$f":"Head1","v":"2016/17"},{"$f":"Head2","v":"Current Year 2017/18"},null,null,{"$f":"Head3","v":"2018/19 Medium Term Revenue & Expenditure Framework"}]
[null,"Ref.",null,null,{"$f":"Head5A","v":"Outcome"},{"$f":"Head5A","v":"Outcome"},{"$f":"Head5A","v":"Outcome"},{"$f":"Head6","v":"Original Budget"},{"$f":"Head7","v":"Adjusted Budget"},{"$f":"Head8","v":"Full Year Forecast"},{"$f":"Head9","v":"Budget Year 2018/19"},{"$f":"Head10","v":"Budget Year +1 2019/20"},{"$f":"Head11","v":"Budget Year +2 2020/21"}]
[null,null,"Household service targets (000)"]
[null,null,"Water:"]
[null,null,"Piped water inside dwelling",null,7992,8202,8366.0400000000009,8533.3608000000004,8533.3608000000004,8533.3608000000004,{"$f":"J113*1.06","v":9045.3624480000017},{"$f":"K113*1.06","v":9588.0841948800025},{"$f":"L113*1.06","v":10163.369246572804}]
[null,null,"Piped water inside yard (but not in dwelling)",null,2232,2232,2254.3200000000002,2299.4064000000003,2299.4064000000003,2299.4064000000003,{"$f":"J114*1.06","v":2437.3707840000006},2583.6130310400008,2738.6298129024008]
[null,8,"Using public tap (at least min.service level)",null,1691,1083,1093.83,1115.7066,1115.7066,1115.7066,1182.6489960000001,1253.6079357600001,1328.8244119056003]
[null,10,"Other water supply (at least min.service level)"]
[null,null,"Minimum Service Level and Above sub-total",null,{"$f":"SUM(E113:E116)","v":11915},{"$f":"SUM(F113:F116)","v":11517},11714.19,11948.4738,11948.4738,11948.4738,12665.382228000002,13425.305161680004,14230.823471380805]
[null,9,"Using public tap (< min.service level)"]
[null,10,"Other water supply (< min.service level)"]
[null,null,"No water supply",null,7873,7873,7005,7145.1,7145.1,7145.1,{"$f":"J120*1.06","v":7573.8060000000005},8028.2343600000013,{"$f":"L120*1.06","v":8509.9284216000015}]
[null,null,"Below Minimum Service Level sub-total",null,{"$f":"SUM(E118:E120)","v":7873},{"$f":"SUM(F118:F120)","v":7873},7005,7145.1,7145.1,7145.1,7573.8060000000005,8028.2343600000013,8509.9284216000015]
[null,null,"Total number of households",null,{"$f":"E117+E121","v":19788},{"$f":"F117+F121","v":19390},18719.190000000002,19093.573799999998,19093.573799999998,19093.573799999998,20239.188228000003,21453.539521680006,22740.751892980807]
[null,null,"Sanitation/sewerage:"]
[null,null,"Flush toilet (connected to sewerage)",null,15597,14322,15597,15908.94,15908.94,15908.94,{"$f":"J124*1.06","v":16863.476400000003},17875.284984000005,18947.802083040006]
[null,null,"Flush toilet (with septic tank)"]
[null,null,"Chemical toilet"]
[null,null,"Pit toilet (ventilated)"]
[null,null,"Other toilet provisions (> min.service level)"]
[null,null,"Minimum Service Level and Above sub-total",null,{"$f":"SUM(E124:E128)","v":15597},{"$f":"SUM(F124:F128)","v":14322},15597,15908.94,15908.94,15908.94,16863.476400000003,17875.284984000005,18947.802083040006]
[null,null,"Bucket toilet"]
[null,null,"Other toilet provisions (< min.service level)"]
[null,null,"No toilet provisions",null,4191,4191,4191,4274.82,4274.82,4274.82,{"$f":"J132*1.06","v":4531.3091999999997},4803.1877519999998,5091.3790171199998]
[null,null,"Below Minimum Service Level sub-total",null,{"$f":"SUM(E130:E132)","v":4191},{"$f":"SUM(F130:F132)","v":4191},4191,4274.82,4274.82,4274.82,4531.3091999999997,4803.1877519999998,5091.3790171199998]
[null,null,"Total number of households",null,{"$f":"E129+E133","v":19788},{"$f":"F129+F133","v":18513},19788,20183.760000000002,20183.760000000002,20183.760000000002,21394.785600000003,22678.472736000003,24039.181100160007]
[null,null,"Energy:"]
[null,null,"Electricity (at least min.service level)",null,3498,3498,3637.92,3710.6784000000002,3710.6784000000002,3710.6784000000002,{"$f":"J136*1.06","v":3933.3191040000006},4169.3182502400005,4419.4773452544005]
[null,null,"Electricity - prepaid (min.service level)",null,2486,2486,2585.44,2637.1487999999999,2637.1487999999999,2637.1487999999999,{"$f":"J137*1.06","v":2795.3777279999999},2963.10039168,3140.8864151808002]
[null,null,"Minimum Service Level and Above sub-total",null,{"$f":"SUM(E136:E137)","v":5984},{"$f":"SUM(F136:F137)","v":5984},6223.3600000000006,6347.8271999999997,6347.8271999999997,6347.8271999999997,6728.6968320000005,7132.4186419200005,7560.3637604352007]
[null,null,"Electricity (< min.service level)"]
[null,null,"Electricity - prepaid (< min. service level)"]
[null,null,"Other energy sources",null,13804,13804,12835,13091.7,13091.7,13091.7,{"$f":"J141*1.06","v":13877.202000000001},14709.834120000001,15592.424167200003]
[null,null,"Below Minimum Service Level sub-total",null,{"$f":"SUM(E139:E141)","v":13804},{"$f":"SUM(F139:F141)","v":13804},12835,13091.7,13091.7,13091.7,13877.202000000001,14709.834120000001,15592.424167200003]
[null,null,"Total number of households",null,{"$f":"E138+E142","v":19788},{"$f":"F138+F142","v":19788},19058.36,19439.5272,19439.5272,19439.5272,20605.898832000003,21842.252761920001,23152.787927635203]
[null,null,"Refuse:"]
[null,null,"Removed at least once a week",null,14402,14402,14975,15274.5,15274.5,15274.5,{"$f":"J145*1.06","v":16190.970000000001},17162.428200000002,18192.173892000003]
[null,null,"Minimum Service Level and Above sub-total",null,{"$f":"SUM(E145)","v":14402},{"$f":"SUM(F145)","v":14402},14975,15274.5,15274.5,15274.5,16190.970000000001,17162.428200000002,18192.173892000003]
[null,null,"Removed less frequently than once a week"]
[null,null,"Using communal refuse dump"]
[null,null,"Using own refuse dump"]
[null,null,"Other rubbish disposal"]
[null,null,"No rubbish disposal",null,4813,4813,4701,4795.0200000000004,4795.0200000000004,4795.0200000000004,{"$f":"J151*1.06","v":5082.7212000000009},5387.6844720000008,5710.9455403200009]
[null,null,"Below Minimum Service Level sub-total",null,{"$f":"SUM(E147:E151)","v":4813},4813,4701,4795.0200000000004,4795.0200000000004,4795.0200000000004,5082.7212000000009,5387.6844720000008,5710.9455403200009]
[null,null,"Total number of households",null,{"$f":"E146+E152","v":19215},{"$f":"F146+F152","v":19215},19676,20069.52,20069.52,20069.52,21273.691200000001,22550.112672000003,23903.119432320003]
[]
["Municipal entity services",null,null,null,{"$f":"head1b","v":"2014/15"},{"$f":"head1A","v":"2015/16"},{"$f":"Head1","v":"2016/17"},{"$f":"Head2","v":"Current Year 2017/18"},null,null,{"$f":"Head3","v":"2018/19 Medium Term Revenue & Expenditure Framework"}]
[null,"Ref.",null,null,{"$f":"Head5A","v":"Outcome"},{"$f":"Head5A","v":"Outcome"},{"$f":"Head5A","v":"Outcome"},{"$f":"Head6","v":"Original Budget"},{"$f":"Head7","v":"Adjusted Budget"},{"$f":"Head8","v":"Full Year Forecast"},{"$f":"Head9","v":"Budget Year 2018/19"},{"$f":"Head10","v":"Budget Year +1 2019/20"},{"$f":"Head11","v":"Budget Year +2 2020/21"}]
[null,null,"Household service targets (000)"]
["Name of municipal entity",null,"Water:"]
[null,null,"Piped water inside dwelling"]
[null,null,"Piped water inside yard (but not in dwelling)"]
[null,8,"Using public tap (at least min.service level)"]
[null,10,"Other water supply (at least min.service level)"]
[null,null,"Minimum Service Level and Above sub-total",null,{"$f":"SUM(E159:E162)","v":0},{"$f":"SUM(F159:F162)","v":0},0,0,0,0,0,0,0]
[null,9,"Using public tap (< min.service level)"]
[null,10,"Other water supply (< min.service level)"]
[null,null,"No water supply"]
[null,null,"Below Minimum Service Level sub-total",null,{"$f":"SUM(E164:E166)","v":0},{"$f":"SUM(F164:F166)","v":0},0,0,0,0,0,0,0]
[null,null,"Total number of households",null,{"$f":"E163+E167","v":0},{"$f":"F163+F167","v":0},0,0,0,0,0,0,0]
["Name of municipal entity",null,"Sanitation/sewerage:"]
[null,null,"Flush toilet (connected to sewerage)"]
[null,null,"Flush toilet (with septic tank)"]
[null,null,"Chemical toilet"]
[null,null,"Pit toilet (ventilated)"]
[null,null,"Other toilet provisions (> min.service level)"]
[null,null,"Minimum Service Level and Above sub-total",null,{"$f":"SUM(E170:E174)","v":0},{"$f":"SUM(F170:F174)","v":0},0,0,0,0,0,0,0]
[null,null,"Bucket toilet"]
[null,null,"Other toilet provisions (< min.service level)"]
[null,null,"No toilet provisions"]
[null,null,"Below Minimum Service Level sub-total",null,{"$f":"SUM(E176:E178)","v":0},{"$f":"SUM(F176:F178)","v":0},0,0,0,0,0,0,0]
[null,null,"Total number of households",null,{"$f":"E175+E179","v":0},{"$f":"F175+F179","v":0},0,0,0,0,0,0,0]
["Name of municipal entity",null,"Energy:"]
[null,null,"Electricity (at least min.service level)"]
[null,null,"Electricity - prepaid (min.service level)"]
[null,null,"Minimum Service Level and Above sub-total",null,{"$f":"SUM(E182:E183)","v":0},{"$f":"SUM(F182:F183)","v":0},0,0,0,0,0,0,0]
[null,null,"Electricity (< min.service level)"]
[null,null,"Electricity - prepaid (< min. service level)"]
[null,null,"Other energy sources"]
[null,null,"Below Minimum Service Level sub-total",null,{"$f":"SUM(E185:E187)","v":0},{"$f":"SUM(F185:F187)","v":0},0,0,0,0,0,0,0]
[null,null,"Total number of households",null,{"$f":"E184+E188","v":0},{"$f":"F184+F188","v":0},0,0,0,0,0,0,0]
["Name of municipal entity",null,"Refuse:"]
[null,null,"Removed at least once a week"]
[null,null,"Minimum Service Level and Above sub-total",null,{"$f":"SUM(E191)","v":0},{"$f":"SUM(F191)","v":0},0,0,0,0,0,0,0]
[null,null,"Removed less frequently than once a week"]
[null,null,"Using communal refuse dump"]
[null,null,"Using own refuse dump"]
[null,null,"Other rubbish disposal"]
[null,null,"No rubbish disposal"]
[null,null,"Below Minimum Service Level sub-total",null,{"$f":"SUM(E193:E197)","v":0},0,0,0,0,0,0,0,0]
[null,null,"Total number of households",null,{"$f":"E192+E198","v":0},{"$f":"F192+F198","v":0},0,0,0,0,0,0,0]
[]
["Services provided by 'external mechanisms'",null,null,null,{"$f":"head1b","v":"2014/15"},{"$f":"head1A","v":"2015/16"},{"$f":"Head1","v":"2016/17"},{"$f":"Head2","v":"Current Year 2017/18"},null,null,{"$f":"Head3","v":"2018/19 Medium Term Revenue & Expenditure Framework"}]
[null,"Ref.",null,null,{"$f":"Head5A","v":"Outcome"},{"$f":"Head5A","v":"Outcome"},{"$f":"Head5A","v":"Outcome"},{"$f":"Head6","v":"Original Budget"},{"$f":"Head7","v":"Adjusted Budget"},{"$f":"Head8","v":"Full Year Forecast"},{"$f":"Head9","v":"Budget Year 2018/19"},{"$f":"Head10","v":"Budget Year +1 2019/20"},{"$f":"Head11","v":"Budget Year +2 2020/21"}]
["Names of service providers",null,"Household service targets (000)"]
[null,null,"Water:"]
[null,null,"Piped water inside dwelling"]
[null,null,"Piped water inside yard (but not in dwelling)"]
[null,8,"Using public tap (at least min.service level)"]
[null,10,"Other water supply (at least min.service level)"]
[null,null,"Minimum Service Level and Above sub-total",null,{"$f":"SUM(E205:E208)","v":0},{"$f":"SUM(F205:F208)","v":0},0,0,0,0,0,0,0]
[null,9,"Using public tap (< min.service level)"]
[null,10,"Other water supply (< min.service level)"]
[null,null,"No water supply"]
[null,null,"Below Minimum Service Level sub-total",null,{"$f":"SUM(E210:E212)","v":0},{"$f":"SUM(F210:F212)","v":0},0,0,0,0,0,0,0]
[null,null,"Total number of households",null,{"$f":"E209+E213","v":0},{"$f":"F209+F213","v":0},0,0,0,0,0,0,0]
["Names of service providers",null,"Sanitation/sewerage:"]
[null,null,"Flush toilet (connected to sewerage)"]
[null,null,"Flush toilet (with septic tank)"]
[null,null,"Chemical toilet"]
[null,null,"Pit toilet (ventilated)"]
[null,null,"Other toilet provisions (> min.service level)"]
[null,null,"Minimum Service Level and Above sub-total",null,{"$f":"SUM(E216:E220)","v":0},{"$f":"SUM(F216:F220)","v":0},0,0,0,0,0,0,0]
[null,null,"Bucket toilet"]
[null,null,"Other toilet provisions (< min.service level)"]
[null,null,"No toilet provisions"]
[null,null,"Below Minimum Service Level sub-total",null,{"$f":"SUM(E222:E224)","v":0},{"$f":"SUM(F222:F224)","v":0},0,0,0,0,0,0,0]
[null,null,"Total number of households",null,{"$f":"E221+E225","v":0},{"$f":"F221+F225","v":0},0,0,0,0,0,0,0]
["Names of service providers",null,"Energy:"]
[null,null,"Electricity (at least min.service level)"]
[null,null,"Electricity - prepaid (min.service level)"]
[null,null,"Minimum Service Level and Above sub-total",null,{"$f":"SUM(E228:E229)","v":0},{"$f":"SUM(F228:F229)","v":0},0,0,0,0,0,0,0]
[null,null,"Electricity (< min.service level)"]
[null,null,"Electricity - prepaid (< min. service level)"]
[null,null,"Other energy sources"]
[null,null,"Below Minimum Service Level sub-total",null,{"$f":"SUM(E231:E233)","v":0},{"$f":"SUM(F231:F233)","v":0},0,0,0,0,0,0,0]
[null,null,"Total number of households",null,{"$f":"E230+E234","v":0},{"$f":"F230+F234","v":0},0,0,0,0,0,0,0]
["Names of service providers",null,"Refuse:"]
[null,null,"Removed at least once a week"]
[null,null,"Minimum Service Level and Above sub-total",null,{"$f":"SUM(E237)","v":0},{"$f":"SUM(F237)","v":0},0,0,0,0,0,0,0]
[null,null,"Removed less frequently than once a week"]
[null,null,"Using communal refuse dump"]
[null,null,"Using own refuse dump"]
[null,null,"Other rubbish disposal"]
[null,null,"No rubbish disposal"]
[null,null,"Below Minimum Service Level sub-total",null,{"$f":"SUM(E239:E243)","v":0},0,0,0,0,0,0,0,0]
[null,null,"Total number of households",null,{"$f":"E238+E244","v":0},{"$f":"F238+F244","v":0},0,0,0,0,0,0,0]
[]
["Detail of Free Basic Services (FBS) provided",null,null,null,{"$f":"head1b","v":"2014/15"},{"$f":"head1A","v":"2015/16"},{"$f":"Head1","v":"2016/17"},{"$f":"Head2","v":"Current Year 2017/18"},null,null,{"$f":"Head3","v":"2018/19 Medium Term Revenue & Expenditure Framework"}]
[null,null,null,null,{"$f":"Head5A","v":"Outcome"},{"$f":"Head5A","v":"Outcome"},{"$f":"Head5A","v":"Outcome"},{"$f":"Head6","v":"Original Budget"},{"$f":"Head7","v":"Adjusted Budget"},{"$f":"Head8","v":"Full Year Forecast"},{"$f":"Head9","v":"Budget Year 2018/19"},{"$f":"Head10","v":"Budget Year +1 2019/20"},{"$f":"Head11","v":"Budget Year +2 2020/21"}]
["Electricity","Ref.","Location of households for each type of FBS"]
["List type of FBS service",null,"Formal settlements -  (50 kwh per indigent household per month Rands)",null,2944888.46,2368567.5499999998,2034013.2600000002,2329143.4224685715,2329143.4224685715,2329143.4224685715,2866961.1780000003,{"$f":"K250*1.06","v":3038978.8486800003},3221317.5796008003]
[null,null,"Number of HH receiving this type of FBS",null,5925,4773,6181,6500,6500,6500,7000,7200,7600]
[null,null,"Informal settlements (Rands)"]
[null,null,"Number of HH receiving this type of FBS"]
[null,null,"Informal settlements targeted for upgrading (Rands)"]
[null,null,"Number of HH receiving this type of FBS"]
[null,null,"Living in informal backyard rental agreement (Rands)"]
[null,null,"Number of HH receiving this type of FBS"]
[null,null,"Other (Rands)"]
[null,null,"Number of HH receiving this type of FBS"]
[null,null,"Total cost of FBS - Electricity for informal settlements",null,{"$f":"E252+E254+E256+E258","v":0},{"$f":"F252+F254+F256+F258","v":0},0,0,0,0,0,0,0]
["Water","Ref.","Location of households for each type of FBS"]
["List type of FBS service",null,"Formal settlements -  (6 kilolitre per indigent household per month Rands)",null,9229924.3599999994,6894786.9500000002,28174505.759999998,31143728.607648004,33338437.268571422,33338437.268571422,35005359.131999992,{"$f":"K262*1.06","v":37105680.679919995},39332021.520715199]
[null,null,"Number of HH receiving this type of FBS",null,5925,4773,6181,6500,6500,6500,7000,7200,7600]
[null,null,"Informal settlements (Rands)"]
[null,null,"Number of HH receiving this type of FBS"]
[null,null,"Informal settlements targeted for upgrading (Rands)"]
[null,null,"Number of HH receiving this type of FBS"]
[null,null,"Living in informal backyard rental agreement (Rands)"]
[null,null,"Number of HH receiving this type of FBS"]
[null,null,"Other (Rands)"]
[null,null,"Number of HH receiving this type of FBS"]
[null,null,"Total cost of FBS - Water  for informal settlements",null,{"$f":"E264+E266+E268+E270","v":0},{"$f":"F264+F266+F268+F270","v":0},0,0,0,0,0,0,0]
["Sanitation","Ref.","Location of households for each type of FBS"]
["List type of FBS service",null,"Formal settlements -  (free sanitation service to indigent households)",null,6648454.6799999997,5021895.76,6041176.7000000002,6815403.9012137139,7387838.5371428579,7387838.5371428579,7757230.4640000015,{"$f":"K274*1.06","v":8222664.2918400019},8716024.1493504029]
[null,null,"Number of HH receiving this type of FBS",null,5925,4773,6181,6500,6500,6500,7000,7200,7600]
[null,null,"Informal settlements (Rands)"]
[null,null,"Number of HH receiving this type of FBS"]
[null,null,"Informal settlements targeted for upgrading (Rands)"]
[null,null,"Number of HH receiving this type of FBS"]
[null,null,"Living in informal backyard rental agreement (Rands)"]
[null,null,"Number of HH receiving this type of FBS"]
[null,null,"Other (Rands)"]
[null,null,"Number of HH receiving this type of FBS"]
[null,null,"Total cost of FBS - Sanitation for informal settlements",null,{"$f":"E276+E278+E280+E282","v":0},{"$f":"F276+F278+F280+F282","v":0},0,0,0,0,0,0,0]
["Refuse Removal","Ref.","Location of households for each type of FBS"]
["List type of FBS service",null,"Formal settlements -  (removed once a week to indigent households)",null,7706172.1799999997,5817667.8399999999,7030439.6399999997,7931405.7653759997,8617022.5371428579,8617022.5371428579,9134043.8893714305,{"$f":"K286*1.06","v":9682086.5227337163},10263011.71409774]
[null,null,"Number of HH receiving this type of FBS",null,5925,4773,6181,6500,6500,6500,7000,7200,7600]
[null,null,"Informal settlements (Rands)"]
[null,null,"Number of HH receiving this type of FBS"]
[null,null,"Informal settlements targeted for upgrading (Rands)"]
[null,null,"Number of HH receiving this type of FBS"]
[null,null,"Living in informal backyard rental agreement (Rands)"]
[null,null,"Number of HH receiving this type of FBS"]
[null,null,"Other (Rands)"]
[null,null,"Number of HH receiving this type of FBS"]
[null,null,"Total cost of FBS - Refuse Removal for informal settlements",null,{"$f":"E288+E290+E292+E294","v":0},{"$f":"F288+F290+F292+F294","v":0},0,0,0,0,0,0,0]
[{"$f":"head27a","v":"References"}]
["1. Monthly household income threshold. Should include all sources of income."]
["2. Show the poverty analysis the municipality uses to determine its indigents policy and the provision of services"]
["3. Include total of all housing units within the municipality"]
["4. Number of subsidised dwellings to be constructed by the municipality under agency agreement with province"]
["5. Provide estimate based on building approval information. Include any non-subsidised dwellings constructed by the municipality"]
["6. Insert actual or estimated % increases assumed as a basis for budget calculations"]
["7. Insert actual or estimated % collection rate assumed as a basis for budget calculations for each revenue group"]
["8. Stand distance <= 200m from dwelling"]
["9. Stand distance > 200m from dwelling"]
["10. Borehole, spring, rain-water tank etc."]
["11. Must agree to total number of households in municipal area"]
["12. Household income categories assume an average 4 person household. Stats SA - Census 2011 Questionnaire"]
["13. Based on National poverty line of R515 per capita per month (2008 prices), assuming an average household size of 4 persons"]

{"sheet":"SA10","index":28,"n_rows":138,"n_cols":13,"rows_kept":138,"cut":false,"hidden":false,"merged":[[1,0,2,0],[1,10,1,12],[1,1,2,1],[1,2,2,2],[1,6,1,9]]}
[{"$f":"muni &\" \" & TableA10","v":"FS193 Nketoana Supporting Table SA10 Funding measurement"}]
[{"$f":"desc","v":"Description"},"MFMA section",{"$f":"head27","v":"Ref"},{"$f":"head1b","v":"2014/15"},{"$f":"head1A","v":"2015/16"},{"$f":"Head1","v":"2016/17"},{"$f":"Head2","v":"Current Year 2017/18"},null,null,null,{"$f":"Head3","v":"2018/19 Medium Term Revenue & Expenditure Framework"}]
[null,null,null,{"$f":"Head5","v":"Audited Outcome"},{"$f":"Head5","v":"Audited Outcome"},{"$f":"Head5","v":"Audited Outcome"},{"$f":"Head6","v":"Original Budget"},{"$f":"Head7","v":"Adjusted Budget"},{"$f":"Head8","v":"Full Year Forecast"},{"$f":"Head5b","v":"Pre-audit outcome"},{"$f":"Head9","v":"Budget Year 2018/19"},{"$f":"Head10","v":"Budget Year +1 2019/20"},{"$f":"Head11","v":"Budget Year +2 2020/21"}]
["Funding measures"]
[{"$f":"LEFT('A7-CFlow'!A40,37)&\" - R'000\"","v":"Cash/cash equivalents at the year end - R'000"},"18(1)b",1,{"$f":"'A7-CFlow'!C40","v":1710429},{"$f":"'A7-CFlow'!D40","v":2527021},{"$f":"'A7-CFlow'!E40","v":11632231.716},{"$f":"'A7-CFlow'!F40","v":6413014.7836067639},{"$f":"'A7-CFlow'!G40","v":1012576.0829979442},{"$f":"'A7-CFlow'!H40","v":1012576.0829979442},{"$f":"'A7-CFlow'!I40","v":1012576.0829979442},{"$f":"'A7-CFlow'!J40","v":12621688.679426193},{"$f":"'A7-CFlow'!K40","v":28629733.079617918},{"$f":"'A7-CFlow'!L40","v":45598260.143821105}]
["Cash + investments at the yr end less applications - R'000","18(1)b",2,{"$f":"'A8-ResRecon'!C8-'A8-ResRecon'!C18","v":-104149270},{"$f":"'A8-ResRecon'!D8-'A8-ResRecon'!D18","v":-150809079},{"$f":"'A8-ResRecon'!E8-'A8-ResRecon'!E18","v":-62222251.480000004},{"$f":"'A8-ResRecon'!F8-'A8-ResRecon'!F18","v":64436503.189999983},{"$f":"'A8-ResRecon'!G8-'A8-ResRecon'!G18","v":39195503.189999983},{"$f":"'A8-ResRecon'!H8-'A8-ResRecon'!H18","v":39195503.189999983},{"$f":"'A8-ResRecon'!I8-'A8-ResRecon'!I18","v":39195503.189999983},{"$f":"'A8-ResRecon'!J8-'A8-ResRecon'!J18","v":5327149.2699999996},{"$f":"'A8-ResRecon'!K8-'A8-ResRecon'!K18","v":5569898.2261999808},{"$f":"'A8-ResRecon'!L8-'A8-ResRecon'!L18","v":5826912.1197719611}]
["Cash year end/monthly employee/supplier payments","18(1)b",3,{"$f":"IF(ISERROR('SA8'!C39),0,('SA8'!C39))","v":7.6059966589693453E-2},{"$f":"IF(ISERROR('SA8'!D39),0,('SA8'!D39))","v":0.11444250259713146},{"$f":"IF(ISERROR('SA8'!E39),0,('SA8'!E39))","v":0.60324008529584039},{"$f":"IF(ISERROR('SA8'!F39),0,('SA8'!F39))","v":0.30974773148625201},{"$f":"IF(ISERROR('SA8'!G39),0,('SA8'!G39))","v":4.794563963759705E-2},{"$f":"IF(ISERROR('SA8'!H39),0,('SA8'!H39))","v":4.794563963759705E-2},{"$f":"IF(ISERROR('SA8'!I39),0,('SA8'!I39))","v":4.794563963759705E-2},{"$f":"IF(ISERROR('SA8'!J39),0,('SA8'!J39))","v":0.56880749006580789},{"$f":"IF(ISERROR('SA8'!K39),0,('SA8'!K39))","v":1.2288903219694187},{"$f":"IF(ISERROR('SA8'!L39),0,('SA8'!L39))","v":1.8822909930355494}]
["Surplus/(Deficit) excluding depreciation offsets: R'000","18(1)",4,{"$f":"'A4-FinPerf RE'!C41+'SA3'!C60","v":-64064412},{"$f":"'A4-FinPerf RE'!D41+'SA3'!D60","v":-41299752},{"$f":"'A4-FinPerf RE'!E41+'SA3'!E60","v":21181763.429257154},{"$f":"'A4-FinPerf RE'!F41+'SA3'!F60","v":65554186.245084643},{"$f":"'A4-FinPerf RE'!G41+'SA3'!G60","v":61228867.842614889},{"$f":"'A4-FinPerf RE'!H41+'SA3'!H60","v":61228867.842614889},{"$f":"'A4-FinPerf RE'!I41+'SA3'!I60","v":61228867.842614889},{"$f":"'A4-FinPerf RE'!J41+'SA3'!J60","v":40032629.861239195},{"$f":"'A4-FinPerf RE'!K41+'SA3'!K60","v":46004490.164404035},{"$f":"'A4-FinPerf RE'!L41+'SA3'!L60","v":56261554.848398104}]
["Service charge rev % change - macro CPIX target exclusive","18(1)a,(2)",5,"N.A.",{"$f":"IF(ISERROR(E36-E61),0,(E36-E61))","v":8.0632357931589349E-2},{"$f":"IF(ISERROR(F36-F61),0,(F36-F61))","v":1.8255516454226905E-2},-1.7764860560550655E-2,-5.1212571713321997E-2,-0.06,-0.06,{"$f":"IF(ISERROR(K36-K61),0,(K36-K61))","v":1.3233860839863498E-2},5.5511151231257827E-17,5.5511151231257827E-17]
["Cash receipts % of Ratepayer & Other revenue","18(1)a,(2)",6,{"$f":"IF(ISERROR(D53/D54),0,(D53/D54))","v":0.46417160072904312},{"$f":"IF(ISERROR(E53/E54),0,(E53/E54))","v":0.48224448861521213},0.17453968243349866,0.58256204323401661,0.50690798732711562,0.50690798732711562,0.50690798732711562,0.63567830769952227,0.63567830769952238,0.63567830769952216]
["Debt impairment expense as a % of total billable revenue","18(1)a,(2)",7,{"$f":"IF(ISERROR('A4-FinPerf RE'!C26/'SA10'!D43),0,('A4-FinPerf RE'!C26/'SA10'!D43))","v":0.85425459465403708},{"$f":"IF(ISERROR('A4-FinPerf RE'!D26/'SA10'!E43),0,('A4-FinPerf RE'!D26/'SA10'!E43))","v":0.57544910776527236},{"$f":"IF(ISERROR('A4-FinPerf RE'!E26/'SA10'!F43),0,('A4-FinPerf RE'!E26/'SA10'!F43))","v":0.25808243633775807},{"$f":"IF(ISERROR('A4-FinPerf RE'!F26/'SA10'!G43),0,('A4-FinPerf RE'!F26/'SA10'!G43))","v":0.30649379847726527},{"$f":"IF(ISERROR('A4-FinPerf RE'!G26/'SA10'!H43),0,('A4-FinPerf RE'!G26/'SA10'!H43))","v":0.33446214170142835},{"$f":"IF(ISERROR('A4-FinPerf RE'!H26/'SA10'!I43),0,('A4-FinPerf RE'!H26/'SA10'!I43))","v":0.33446214170142835},{"$f":"IF(ISERROR('A4-FinPerf RE'!I26/'SA10'!J43),0,('A4-FinPerf RE'!I26/'SA10'!J43))","v":0.33446214170142835},{"$f":"IF(ISERROR('A4-FinPerf RE'!J26/'SA10'!K43),0,('A4-FinPerf RE'!J26/'SA10'!K43))","v":0.31198603852149909},{"$f":"IF(ISERROR('A4-FinPerf RE'!K26/'SA10'!L43),0,('A4-FinPerf RE'!K26/'SA10'!L43))","v":0.30904277400714536},{"$f":"IF(ISERROR('A4-FinPerf RE'!L26/'SA10'!M43),0,('A4-FinPerf RE'!L26/'SA10'!M43))","v":0.30321177827116147}]
["Capital payments % of capital expenditure","18(1)c;19",8,{"$f":"IF(ISERROR(-'A7-CFlow'!C26/'A5-Capex'!C40),0,(-'A7-CFlow'!C26/'A5-Capex'!C40))","v":0.99956870878502657},{"$f":"IF(ISERROR(-'A7-CFlow'!D26/'A5-Capex'!D40),0,(-'A7-CFlow'!D26/'A5-Capex'!D40))","v":0.99953701614889279},{"$f":"IF(ISERROR(-'A7-CFlow'!E26/'A5-Capex'!E40),0,(-'A7-CFlow'!E26/'A5-Capex'!E40))","v":0},{"$f":"IF(ISERROR(-'A7-CFlow'!F26/'A5-Capex'!F40),0,(-'A7-CFlow'!F26/'A5-Capex'!F40))","v":1},{"$f":"IF(ISERROR(-'A7-CFlow'!G26/'A5-Capex'!G40),0,(-'A7-CFlow'!G26/'A5-Capex'!G40))","v":0.99999999989874555},{"$f":"IF(ISERROR(-'A7-CFlow'!H26/'A5-Capex'!H40),0,(-'A7-CFlow'!H26/'A5-Capex'!H40))","v":0.99999999989874555},{"$f":"IF(ISERROR(-'A7-CFlow'!I26/'A5-Capex'!I40),0,(-'A7-CFlow'!I26/'A5-Capex'!I40))","v":0.99999999989874555},{"$f":"IF(ISERROR(-'A7-CFlow'!J26/'A5-Capex'!J40),0,(-'A7-CFlow'!J26/'A5-Capex'!J40))","v":1},{"$f":"IF(ISERROR(-'A7-CFlow'!K26/'A5-Capex'!K40),0,(-'A7-CFlow'!K26/'A5-Capex'!K40))","v":1},{"$f":"IF(ISERROR(-'A7-CFlow'!L26/'A5-Capex'!L40),0,(-'A7-CFlow'!L26/'A5-Capex'!L40))","v":1}]
["Borrowing receipts % of capital expenditure (excl. transfers)","18(1)c",9,{"$f":"IF(ISERROR('A7-CFlow'!C32/'SA10'!D52),0,('A7-CFlow'!C32/'SA10'!D52))","v":0},{"$f":"IF(ISERROR('A7-CFlow'!D32/'SA10'!E52),0,('A7-CFlow'!D32/'SA10'!E52))","v":0},{"$f":"IF(ISERROR('A7-CFlow'!E32/'SA10'!F52),0,('A7-CFlow'!E32/'SA10'!F52))","v":0},{"$f":"IF(ISERROR('A7-CFlow'!F32/'SA10'!G52),0,('A7-CFlow'!F32/'SA10'!G52))","v":0},{"$f":"IF(ISERROR('A7-CFlow'!G32/'SA10'!H52),0,('A7-CFlow'!G32/'SA10'!H52))","v":0},{"$f":"IF(ISERROR('A7-CFlow'!H32/'SA10'!I52),0,('A7-CFlow'!H32/'SA10'!I52))","v":0},{"$f":"IF(ISERROR('A7-CFlow'!I32/'SA10'!J52),0,('A7-CFlow'!I32/'SA10'!J52))","v":0},{"$f":"IF(ISERROR('A7-CFlow'!J32/'SA10'!K52),0,('A7-CFlow'!J32/'SA10'!K52))","v":0},{"$f":"IF(ISERROR('A7-CFlow'!K32/'SA10'!L52),0,('A7-CFlow'!K32/'SA10'!L52))","v":0},{"$f":"IF(ISERROR('A7-CFlow'!L32/'SA10'!M52),0,('A7-CFlow'!L32/'SA10'!M52))","v":0}]
["Grants % of Govt. legislated/gazetted allocations","18(1)a",10,null,null,null,null,null,null,null,{"$f":"IF(ISERROR(K56/K68),0,(K56/K68))","v":0},{"$f":"IF(ISERROR(L56/L68),0,(L56/L68))","v":0},{"$f":"IF(ISERROR(M56/M68),0,(M56/M68))","v":0}]
["Current consumer debtors % change - incr(decr)","18(1)a",11,"N.A.",{"$f":"IF(ISERROR(ROUND((SUM('A6-FinPos'!D8:D10)-SUM('A6-FinPos'!C8:C10))/SUM('A6-FinPos'!C8:C10),3)),0,(ROUND((SUM('A6-FinPos'!D8:D10)-SUM('A6-FinPos'!C8:C10))/SUM('A6-FinPos'!C8:C10),3)))","v":0.105},{"$f":"IF(ISERROR(ROUND((SUM('A6-FinPos'!E8:E10)-SUM('A6-FinPos'!D8:D10))/SUM('A6-FinPos'!D8:D10),3)),0,(ROUND((SUM('A6-FinPos'!E8:E10)-SUM('A6-FinPos'!D8:D10))/SUM('A6-FinPos'!D8:D10),3)))","v":14.734},{"$f":"IF(ISERROR(ROUND((SUM('A6-FinPos'!F8:F10)-SUM('A6-FinPos'!E8:E10))/SUM('A6-FinPos'!E8:E10),3)),0,(ROUND((SUM('A6-FinPos'!F8:F10)-SUM('A6-FinPos'!E8:E10))/SUM('A6-FinPos'!E8:E10),3)))","v":3.9E-2},{"$f":"IF(ISERROR(ROUND((SUM('A6-FinPos'!G8:G10)-SUM('A6-FinPos'!F8:F10))/SUM('A6-FinPos'!F8:F10),3)),0,(ROUND((SUM('A6-FinPos'!G8:G10)-SUM('A6-FinPos'!F8:F10))/SUM('A6-FinPos'!F8:F10),3)))","v":0},{"$f":"IF(ISERROR(ROUND((SUM('A6-FinPos'!H8:H10)-SUM('A6-FinPos'!G8:G10))/SUM('A6-FinPos'!G8:G10),3)),0,(ROUND((SUM('A6-FinPos'!H8:H10)-SUM('A6-FinPos'!G8:G10))/SUM('A6-FinPos'!G8:G10),3)))","v":0},{"$f":"IF(ISERROR(ROUND((SUM('A6-FinPos'!I8:I10)-SUM('A6-FinPos'!H8:H10))/SUM('A6-FinPos'!H8:H10),3)),0,(ROUND((SUM('A6-FinPos'!I8:I10)-SUM('A6-FinPos'!H8:H10))/SUM('A6-FinPos'!H8:H10),3)))","v":0},{"$f":"IF(ISERROR(ROUND((SUM('A6-FinPos'!J8:J10)-SUM('A6-FinPos'!G8:G10))/SUM('A6-FinPos'!G8:G10),3)),0,(ROUND((SUM('A6-FinPos'!J8:J10)-SUM('A6-FinPos'!G8:G10))/SUM('A6-FinPos'!G8:G10),3)))","v":-0.14899999999999999},{"$f":"IF(ISERROR(ROUND((SUM('A6-FinPos'!K8:K10)-SUM('A6-FinPos'!J8:J10))/SUM('A6-FinPos'!J8:J10),3)),0,(ROUND((SUM('A6-FinPos'!K8:K10)-SUM('A6-FinPos'!J8:J10))/SUM('A6-FinPos'!J8:J10),3)))","v":0.06},{"$f":"IF(ISERROR(ROUND((SUM('A6-FinPos'!L8:L10)-SUM('A6-FinPos'!K8:K10))/SUM('A6-FinPos'!K8:K10),3)),0,(ROUND((SUM('A6-FinPos'!L8:L10)-SUM('A6-FinPos'!K8:K10))/SUM('A6-FinPos'!K8:K10),3)))","v":0.06}]
["Long term receivables % change - incr(decr)","18(1)a",12,"N.A.",{"$f":"IF(ISERROR(ROUND(('A6-FinPos'!D15-'A6-FinPos'!C15)/'A6-FinPos'!C15,3)),0,(ROUND(('A6-FinPos'!D15-'A6-FinPos'!C15)/'A6-FinPos'!C15,3)))","v":0},{"$f":"IF(ISERROR(ROUND(('A6-FinPos'!E15-'A6-FinPos'!D15)/'A6-FinPos'!D15,3)),0,(ROUND(('A6-FinPos'!E15-'A6-FinPos'!D15)/'A6-FinPos'!D15,3)))","v":0.04},{"$f":"IF(ISERROR(ROUND(('A6-FinPos'!F15-'A6-FinPos'!E15)/'A6-FinPos'!E15,3)),0,(ROUND(('A6-FinPos'!F15-'A6-FinPos'!E15)/'A6-FinPos'!E15,3)))","v":0.06},{"$f":"IF(ISERROR(ROUND(('A6-FinPos'!G15-'A6-FinPos'!F15)/'A6-FinPos'!F15,3)),0,(ROUND(('A6-FinPos'!G15-'A6-FinPos'!F15)/'A6-FinPos'!F15,3)))","v":0},{"$f":"IF(ISERROR(ROUND(('A6-FinPos'!H15-'A6-FinPos'!G15)/'A6-FinPos'!G15,3)),0,(ROUND(('A6-FinPos'!H15-'A6-FinPos'!G15)/'A6-FinPos'!G15,3)))","v":0},{"$f":"IF(ISERROR(ROUND(('A6-FinPos'!I15-'A6-FinPos'!H15)/'A6-FinPos'!H15,3)),0,(ROUND(('A6-FinPos'!I15-'A6-FinPos'!H15)/'A6-FinPos'!H15,3)))","v":0},{"$f":"IF(ISERROR(ROUND(('A6-FinPos'!J15-'A6-FinPos'!G15)/'A6-FinPos'!G15,3)),0,(ROUND(('A6-FinPos'!J15-'A6-FinPos'!G15)/'A6-FinPos'!G15,3)))","v":-9.2999999999999999E-2},{"$f":"IF(ISERROR(ROUND(('A6-FinPos'!K15-'A6-FinPos'!J15)/'A6-FinPos'!J15,3)),0,(ROUND(('A6-FinPos'!K15-'A6-FinPos'!J15)/'A6-FinPos'!J15,3)))","v":0},{"$f":"IF(ISERROR(ROUND(('A6-FinPos'!L15-'A6-FinPos'!K15)/'A6-FinPos'!K15,3)),0,(ROUND(('A6-FinPos'!L15-'A6-FinPos'!K15)/'A6-FinPos'!K15,3)))","v":0}]
["R&M % of Property Plant & Equipment","20(1)(vi)",13,{"$f":"IF(ISERROR('A9-Asset'!C169/'A6-FinPos'!C19),0,('A9-Asset'!C169/'A6-FinPos'!C19))","v":1.5335880824300895E-2},{"$f":"IF(ISERROR('A9-Asset'!D169/'A6-FinPos'!D19),0,('A9-Asset'!D169/'A6-FinPos'!D19))","v":1.8336190025555848E-2},{"$f":"IF(ISERROR('A9-Asset'!E169/'A6-FinPos'!E19),0,('A9-Asset'!E169/'A6-FinPos'!E19))","v":9.5061401208509332E-3},{"$f":"IF(ISERROR('A9-Asset'!F169/'A6-FinPos'!F19),0,('A9-Asset'!F169/'A6-FinPos'!F19))","v":9.9275321492796002E-3},{"$f":"IF(ISERROR('A9-Asset'!G169/'A6-FinPos'!G19),0,('A9-Asset'!G169/'A6-FinPos'!G19))","v":8.5310389782651611E-3},{"$f":"IF(ISERROR('A9-Asset'!H169/'A6-FinPos'!H19),0,('A9-Asset'!H169/'A6-FinPos'!H19))","v":8.5310389782651611E-3},{"$f":"IF(ISERROR('A9-Asset'!I169/'A6-FinPos'!I19),0,('A9-Asset'!I169/'A6-FinPos'!I19))","v":8.7797610948126738E-3},{"$f":"IF(ISERROR('A9-Asset'!I169/'A6-FinPos'!J19),0,('A9-Asset'!I169/'A6-FinPos'!J19))","v":9.1326548422876672E-3},{"$f":"IF(ISERROR('A9-Asset'!J169/'A6-FinPos'!K19),0,('A9-Asset'!J169/'A6-FinPos'!K19))","v":9.1326548422876654E-3},{"$f":"IF(ISERROR('A9-Asset'!K169/'A6-FinPos'!L19),0,('A9-Asset'!K169/'A6-FinPos'!L19))","v":9.1326548422876654E-3}]
["Asset renewal % of capital budget",{"$f":"B17","v":"20(1)(vi)"},14,{"$f":"IF(ISERROR(D58/D57),0,(D58/D57))","v":0},0,0.12188808885359245,0.47260698291835851,0.54656112468013063,0.54656112468013063,0,0.63134671831441469,0.63134671831441458,{"$f":"IF(ISERROR(M58/M57),0,((M58/M57)))","v":0.63134671831441469}]
[]
[{"$f":"head27a","v":"References"}]
["1. Positive cash balances indicative of minimum compliance - subject to 2"]
["2. Deduct cash and investment applications (defined) from cash balances"]
["3. Indicative of sufficient liquidity to meet average monthly operating payments"]
["4. Indicative of funded operational requirements"]
["5. Indicative of adherence to macro-economic targets (prior to 2003/04 revenue not available for high capacity municipalities and later for other capacity classifications)"]
["6. Realistic average cash collection forecasts as % of annual billed revenue"]
["7. Realistic average increase in debt impairment (doubtful debt) provision"]
["8. Indicative of planned capital expenditure level & cash payment timing"]
["9. Indicative of compliance with borrowing 'only' for the capital budget - should not exceed 100% unless refinancing"]
["10. Substantiation of National/Province allocations included in budget"]
["11. Indicative of realistic current arrear debtor collection targets (prior to 2003/04 revenue not available for high capacity municipalities and later for other capacity classifications)"]
["12. Indicative of realistic long term arrear debtor collection targets (prior to 2003/04 revenue not available for high capacity municipalities and later for other capacity classifications)"]
["13. Indicative of a credible allowance for repairs & maintenance of assets - functioning assets revenue protection"]
["14. Indicative of a credible allowance for asset renewal (requires analysis of asset renewal projects as % of total capital projects - detailed capital plan) - functioning assets revenue protection"]
["Supporting indicators"]
["% incr total service charges (incl prop rates)","18(1)a",null,null,{"$f":"IF(ISERROR((E44/D44)-1),0,((E44/D44)-1))","v":0.14063235793158935},{"$f":"IF(ISERROR((F44/E44)-1),0,((F44/E44)-1))","v":7.8255516454226903E-2},{"$f":"IF(ISERROR((G44/F44)-1),0,((G44/F44)-1))","v":4.2235139439449343E-2},{"$f":"IF(ISERROR((H44/G44)-1),0,((H44/G44)-1))","v":8.7874282866780007E-3},{"$f":"IF(ISERROR((I44/H44)-1),0,((I44/H44)-1))","v":0},{"$f":"IF(ISERROR((J44/I44)-1),0,((J44/I44)-1))","v":0},{"$f":"IF(ISERROR((K44/H44)-1),0,((K44/H44)-1))","v":7.3233860839863496E-2},{"$f":"IF(ISERROR((L44/K44)-1),0,((L44/K44)-1))","v":6.0000000000000053E-2},{"$f":"IF(ISERROR((M44/L44)-1),0,((M44/L44)-1))","v":6.0000000000000053E-2}]
["% incr Property Tax","18(1)a",null,null,4.9126245756330844E-2,{"$f":"IF(ISERROR((F45/E45)-1),0,((F45/E45)-1))","v":0.17605333987119431},4.1096459251829254E-2,-2.2854139907766746E-2,0,0,{"$f":"IF(ISERROR((K45/H45)-1),0,((K45/H45)-1))","v":7.0278671001858362E-2},6.0000000000000053E-2,6.0000000000000053E-2]
[{"$f":"\"% incr \"&'A4-FinPerf RE'!A6","v":"% incr Service charges - electricity revenue"},"18(1)a",null,null,0.10300315469644805,7.4636456243743154E-2,8.4106248560220642E-3,1.2467216451414131E-2,0,0,6.2587874830322576E-2,6.0000000000000275E-2,{"$f":"IF(ISERROR((M46/L46)-1),0,((M46/L46)-1))","v":6.0000000000000053E-2}]
[{"$f":"\"% incr \"&'A4-FinPerf RE'!A7","v":"% incr Service charges - water revenue"},"18(1)a",null,null,0.14261892631582485,7.3905517374712071E-2,7.9793728012580223E-2,1.4414094840792924E-2,0,0,8.2806668583201848E-2,6.0000000000000053E-2,6.0000000000000053E-2]
[{"$f":"\"% incr \"&'A4-FinPerf RE'!A8","v":"% incr Service charges - sanitation revenue"},"18(1)a",null,null,0.22628073820103722,4.167655728754327E-2,4.0457747329295524E-2,2.1140838663777917E-3,0,0,7.6976345935828805E-2,6.0000000000000053E-2,5.9999999999999831E-2]
[{"$f":"\"% incr \"&'A4-FinPerf RE'!A9","v":"% incr Service charges - refuse revenue"},"18(1)a",null,null,0.2472737465960797,4.8421943223830866E-2,3.9567501203498834E-2,2.4261178791496807E-2,0,0,7.4171110414140262E-2,6.0000000000000053E-2,5.9999999999999831E-2]
[{"$f":"\"% incr in \"&'A4-FinPerf RE'!A10","v":"% incr in Service charges - other"},"18(1)a",null,null,0,0,0,0,{"$f":"IF(ISERROR((I50/H50)-1),0,((I50/H50)-1))","v":0},0,0,{"$f":"IF(ISERROR((L50/K50)-1),0,((L50/K50)-1))","v":0},0]
["Total billable revenue","18(1)a",null,{"$f":"SUM(D45:D50)","v":127090744},{"$f":"SUM(E45:E50)","v":144963815},156308033.21000001,162909724.78813043,164341282.31190857,164341282.31190857,164341282.31190857,176376628.91098362,186959226.64564264,198176780.24438119]
["Service charges",null,null,{"$f":"SUM(D45:D50)","v":127090744},{"$f":"SUM(E45:E50)","v":144963815},156308033.21000001,162909724.78813043,164341282.31190857,164341282.31190857,{"$f":"SUM(J45:J50)","v":164341282.31190857},176376628.91098362,186959226.64564264,198176780.24438119]
["Property rates",null,null,{"$f":"'A4-FinPerf RE'!C5","v":15835059},{"$f":"'A4-FinPerf RE'!D5","v":16612976},{"$f":"'A4-FinPerf RE'!E5","v":19537745.909999993},{"$f":"'A4-FinPerf RE'!F5","v":20340678.0886629},{"$f":"'A4-FinPerf RE'!G5","v":19875809.385805752},{"$f":"'A4-FinPerf RE'!H5","v":19875809.385805752},{"$f":"'A4-FinPerf RE'!I5","v":19875809.385805752},{"$f":"'A4-FinPerf RE'!J5","v":21272654.854526442},{"$f":"'A4-FinPerf RE'!K5","v":22549014.145798028},{"$f":"'A4-FinPerf RE'!L5","v":23901954.994545911}]
["Service charges - electricity revenue",null,null,{"$f":"'A4-FinPerf RE'!C6","v":41780565},{"$f":"'A4-FinPerf RE'!D6","v":46084095},{"$f":"'A4-FinPerf RE'!E6","v":49523648.539999999},{"$f":"'A4-FinPerf RE'!F6","v":49940173.369371429},{"$f":"'A4-FinPerf RE'!G6","v":50562788.320388526},{"$f":"'A4-FinPerf RE'!H6","v":50562788.320388526},{"$f":"'A4-FinPerf RE'!I6","v":50562788.320388526},{"$f":"'A4-FinPerf RE'!J6","v":53727405.786857098},{"$f":"'A4-FinPerf RE'!K6","v":56951050.134068534},{"$f":"'A4-FinPerf RE'!L6","v":60368113.142112643}]
["Service charges - water revenue",null,null,{"$f":"'A4-FinPerf RE'!C7","v":38736065},{"$f":"'A4-FinPerf RE'!D7","v":44260561},{"$f":"'A4-FinPerf RE'!E7","v":47531660.660000004},{"$f":"'A4-FinPerf RE'!F7","v":51324389.062690303},{"$f":"'A4-FinPerf RE'!G7","v":52064183.67428568},{"$f":"'A4-FinPerf RE'!H7","v":52064183.67428568},{"$f":"'A4-FinPerf RE'!I7","v":52064183.67428568},{"$f":"'A4-FinPerf RE'!J7","v":56375445.276857205},{"$f":"'A4-FinPerf RE'!K7","v":59757971.993468635},{"$f":"'A4-FinPerf RE'!L7","v":63343450.313076757}]
["Service charges - sanitation revenue",null,null,{"$f":"'A4-FinPerf RE'!C8","v":15902118},{"$f":"'A4-FinPerf RE'!D8","v":19500461},{"$f":"'A4-FinPerf RE'!E8","v":20313173.080000002},{"$f":"'A4-FinPerf RE'!F8","v":21134998.303926889},{"$f":"'A4-FinPerf RE'!G8","v":21179679.462857142},{"$f":"'A4-FinPerf RE'!H8","v":21179679.462857142},{"$f":"'A4-FinPerf RE'!I8","v":21179679.462857142},{"$f":"'A4-FinPerf RE'!J8","v":22810013.796},{"$f":"'A4-FinPerf RE'!K8","v":24178614.62376},{"$f":"'A4-FinPerf RE'!L8","v":25629331.501185596}]
["Service charges - refuse removal",null,null,{"$f":"'A4-FinPerf RE'!C9","v":14836937},{"$f":"'A4-FinPerf RE'!D9","v":18505722},{"$f":"'A4-FinPerf RE'!E9","v":19401805.02},{"$f":"'A4-FinPerf RE'!F9","v":20169485.9634789},{"$f":"'A4-FinPerf RE'!G9","v":20658821.468571447},{"$f":"'A4-FinPerf RE'!H9","v":20658821.468571447},{"$f":"'A4-FinPerf RE'!I9","v":20658821.468571447},{"$f":"'A4-FinPerf RE'!J9","v":22191109.19674287},{"$f":"'A4-FinPerf RE'!K9","v":23522575.748547442},{"$f":"'A4-FinPerf RE'!L9","v":24933930.293460287}]
["Service charges - other",null,null,{"$f":"'A4-FinPerf RE'!C10","v":0},{"$f":"'A4-FinPerf RE'!D10","v":0},{"$f":"'A4-FinPerf RE'!E10","v":0},{"$f":"'A4-FinPerf RE'!F10","v":0},{"$f":"'A4-FinPerf RE'!G10","v":0},{"$f":"'A4-FinPerf RE'!H10","v":0},{"$f":"'A4-FinPerf RE'!I10","v":0},{"$f":"'A4-FinPerf RE'!J10","v":0},{"$f":"'A4-FinPerf RE'!K10","v":0},{"$f":"'A4-FinPerf RE'!L10","v":0}]
[{"$f":"'A4-FinPerf RE'!A11","v":"Rental of facilities and equipment"},null,null,{"$f":"'A4-FinPerf RE'!C11","v":356580},{"$f":"'A4-FinPerf RE'!D11","v":331864},{"$f":"'A4-FinPerf RE'!E11","v":362559.74},{"$f":"'A4-FinPerf RE'!F11","v":393185.59700800001},{"$f":"'A4-FinPerf RE'!G11","v":577775.281154286},{"$f":"'A4-FinPerf RE'!H11","v":577775.281154286},{"$f":"'A4-FinPerf RE'!I11","v":577775.281154286},{"$f":"'A4-FinPerf RE'!J11","v":618219.55083508603},{"$f":"'A4-FinPerf RE'!K11","v":655312.72388519126},{"$f":"'A4-FinPerf RE'!L11","v":694631.48731830274}]
["Capital expenditure excluding capital grant funding",null,null,{"$f":"'A5-Capex'!C40-'A5-Capex'!C70","v":1422301},{"$f":"'A5-Capex'!D40-'A5-Capex'!D70","v":1541380},{"$f":"'A5-Capex'!E40-'A5-Capex'!E70","v":0},{"$f":"'A5-Capex'!F40-'A5-Capex'!F70","v":0},{"$f":"'A5-Capex'!G40-'A5-Capex'!G70","v":0},{"$f":"'A5-Capex'!H40-'A5-Capex'!H70","v":0},{"$f":"'A5-Capex'!I40-'A5-Capex'!I70","v":0},{"$f":"'A5-Capex'!J40-'A5-Capex'!J70","v":0},{"$f":"'A5-Capex'!K40-'A5-Capex'!K70","v":0},{"$f":"'A5-Capex'!L40-'A5-Capex'!L70","v":0}]
["Cash receipts from ratepayers","18(1)a",null,{"$f":"'A7-CFlow'!C6+'A7-CFlow'!C7+'A7-CFlow'!C8","v":71123944},{"$f":"'A7-CFlow'!D6+'A7-CFlow'!D7+'A7-CFlow'!D8","v":86959472},{"$f":"'A7-CFlow'!E6+'A7-CFlow'!E7+'A7-CFlow'!E8","v":36685303},{"$f":"'A7-CFlow'!F6+'A7-CFlow'!F7+'A7-CFlow'!F8","v":128063356.42180558},{"$f":"'A7-CFlow'!G6+'A7-CFlow'!G7+'A7-CFlow'!G8","v":113948659.87078156},{"$f":"'A7-CFlow'!H6+'A7-CFlow'!H7+'A7-CFlow'!H8","v":113948659.87078156},{"$f":"'A7-CFlow'!I6+'A7-CFlow'!I7+'A7-CFlow'!I8","v":113948659.87078156},{"$f":"'A7-CFlow'!J6+'A7-CFlow'!J7+'A7-CFlow'!J8","v":152774970.12188974},{"$f":"'A7-CFlow'!K6+'A7-CFlow'!K7+'A7-CFlow'!K8","v":161941468.32920313},{"$f":"'A7-CFlow'!L6+'A7-CFlow'!L7+'A7-CFlow'!L8","v":171657956.42895532}]
["Ratepayer & Other revenue","18(1)a",null,{"$f":"SUM('A4-FinPerf RE'!C5:C11)+'A4-FinPerf RE'!C13+SUM('A4-FinPerf RE'!C15:C17)+'A4-FinPerf RE'!C19","v":153227694},{"$f":"SUM('A4-FinPerf RE'!D5:D11)+'A4-FinPerf RE'!D13+SUM('A4-FinPerf RE'!D15:D17)+'A4-FinPerf RE'!D19","v":180322376},{"$f":"SUM('A4-FinPerf RE'!E5:E11)+'A4-FinPerf RE'!E13+SUM('A4-FinPerf RE'!E15:E17)+'A4-FinPerf RE'!E19","v":210183165.73354292},{"$f":"SUM('A4-FinPerf RE'!F5:F11)+'A4-FinPerf RE'!F13+SUM('A4-FinPerf RE'!F15:F17)+'A4-FinPerf RE'!F19","v":219827841.3589713},{"$f":"SUM('A4-FinPerf RE'!G5:G11)+'A4-FinPerf RE'!G13+SUM('A4-FinPerf RE'!G15:G17)+'A4-FinPerf RE'!G19","v":224791604.6295177},{"$f":"SUM('A4-FinPerf RE'!H5:H11)+'A4-FinPerf RE'!H13+SUM('A4-FinPerf RE'!H15:H17)+'A4-FinPerf RE'!H19","v":224791604.6295177},{"$f":"SUM('A4-FinPerf RE'!I5:I11)+'A4-FinPerf RE'!I13+SUM('A4-FinPerf RE'!I15:I17)+'A4-FinPerf RE'!I19","v":224791604.6295177},{"$f":"SUM('A4-FinPerf RE'!J5:J11)+'A4-FinPerf RE'!J13+SUM('A4-FinPerf RE'!J15:J17)+'A4-FinPerf RE'!J19","v":240333779.32113531},{"$f":"SUM('A4-FinPerf RE'!K5:K11)+'A4-FinPerf RE'!K13+SUM('A4-FinPerf RE'!K15:K17)+'A4-FinPerf RE'!K19","v":254753806.08040342},{"$f":"SUM('A4-FinPerf RE'!L5:L11)+'A4-FinPerf RE'!L13+SUM('A4-FinPerf RE'!L15:L17)+'A4-FinPerf RE'!L19","v":270039034.44522768}]
["Change in consumer debtors (current and non-current)",null,null,{"$f":"D84","v":105559332.08153333},{"$f":"(SUM('A6-FinPos'!D8:D10)+'A6-FinPos'!D15)-(SUM('A6-FinPos'!C8:C10)+'A6-FinPos'!C15)","v":2051347},{"$f":"(SUM('A6-FinPos'!E8:E10)+'A6-FinPos'!E15)-(SUM('A6-FinPos'!D8:D10)+'A6-FinPos'!D15)","v":318219495.03000003},{"$f":"(SUM('A6-FinPos'!F8:F10)+'A6-FinPos'!F15)-(SUM('A6-FinPos'!E8:E10)+'A6-FinPos'!E15)","v":13339732.570800006},{"$f":"(SUM('A6-FinPos'!G8:G10)+'A6-FinPos'!G15)-(SUM('A6-FinPos'!E8:E10)+'A6-FinPos'!E15)","v":13339732.570800006},{"$f":"(SUM('A6-FinPos'!H8:H10)+'A6-FinPos'!H15)-(SUM('A6-FinPos'!E8:E10)+'A6-FinPos'!E15)","v":13339732.570800006},{"$f":"(SUM('A6-FinPos'!I8:I10)+'A6-FinPos'!I15)-(SUM('A6-FinPos'!E8:E10)+'A6-FinPos'!E15)","v":13339732.570800006},{"$f":"(SUM('A6-FinPos'!J8:J10)+'A6-FinPos'!J15)-(SUM('A6-FinPos'!F8:F10)+'A6-FinPos'!F15)","v":-52809961.42080003},{"$f":"(SUM('A6-FinPos'!K8:K10)+'A6-FinPos'!K15)-(SUM('A6-FinPos'!J8:J10)+'A6-FinPos'!J15)","v":18020449.750799954},{"$f":"(SUM('A6-FinPos'!L8:L10)+'A6-FinPos'!L15)-(SUM('A6-FinPos'!K8:K10)+'A6-FinPos'!K15)","v":19101676.73584801}]
["Operating and Capital Grant Revenue","18(1)a",null,{"$f":"'A4-FinPerf RE'!C18+'A4-FinPerf RE'!C38","v":145035655},{"$f":"'A4-FinPerf RE'!D18+'A4-FinPerf RE'!D38","v":145433408},{"$f":"'A4-FinPerf RE'!E18+'A4-FinPerf RE'!E38","v":145920000},{"$f":"'A4-FinPerf RE'!F18+'A4-FinPerf RE'!F38","v":181341000.00440001},{"$f":"'A4-FinPerf RE'!G18+'A4-FinPerf RE'!G38","v":181341000.00440001},{"$f":"'A4-FinPerf RE'!H18+'A4-FinPerf RE'!H38","v":181341000.00440001},{"$f":"'A4-FinPerf RE'!I18+'A4-FinPerf RE'!I38","v":181341000.00440001},{"$f":"'A4-FinPerf RE'!J18+'A4-FinPerf RE'!J38","v":155293999.9974286},{"$f":"'A4-FinPerf RE'!K18+'A4-FinPerf RE'!K38","v":164611639.99727431},{"$f":"'A4-FinPerf RE'!L18+'A4-FinPerf RE'!L38","v":174488338.39711076}]
["Capital expenditure - total",{"$f":"B17","v":"20(1)(vi)"},null,{"$f":"'A5-Capex'!C40","v":45597961},{"$f":"'A5-Capex'!D40","v":59576592},{"$f":"'A5-Capex'!E40","v":64218000},{"$f":"'A5-Capex'!F40","v":98761000},{"$f":"'A5-Capex'!G40","v":98761000.00999999},{"$f":"'A5-Capex'!H40","v":98761000.00999999},{"$f":"'A5-Capex'!I40","v":98761000.00999999},{"$f":"'A5-Capex'!J40","v":64927000},{"$f":"'A5-Capex'!K40","v":68822620},{"$f":"'A5-Capex'!L40","v":72951977.200000003}]
["Capital expenditure - renewal",{"$f":"B18","v":"20(1)(vi)"},null,{"$f":"'A9-Asset'!C37","v":0},{"$f":"'A9-Asset'!D37","v":0},{"$f":"'A9-Asset'!E37","v":7827409.29},{"$f":"'A9-Asset'!F37","v":46675138.240000002},{"$f":"'A9-Asset'!G37","v":53978923.239999987},{"$f":"'A9-Asset'!H37","v":53978923.239999987},null,{"$f":"'A9-Asset'!I37","v":40991448.380000003},{"$f":"'A9-Asset'!J37","v":43450935.282799996},{"$f":"'A9-Asset'!K37","v":46057991.399768002}]
[]
["Supporting benchmarks"]
["Growth guideline maximum",null,null,0.06,0.06,0.06,0.06,0.06,0.06,0.06,0.06,0.06,0.06]
["CPI guideline",null,null,4.2999999999999997E-2,3.9E-2,4.5999999999999999E-2,0.05,0.05,0.05,0.05,5.3999999999999999E-2,5.6000000000000001E-2,5.3999999999999999E-2]
["DoRA operating grants total MFY"]
["DoRA capital grants total MFY"]
["Provincial operating grants"]
["Provincial capital grants"]
["District Municipality grants"]
["Total gazetted/advised national, provincial and district grants",null,null,null,null,null,null,null,null,null,{"$f":"SUM(K63:K67)","v":0},{"$f":"SUM(L63:L67)","v":0},{"$f":"SUM(M63:M67)","v":0}]
["Average annual collection rate (arrears inclusive)"]
[]
["DoRA operating"]
["List operating grants"]
[]
[]
[]
[null,null,null,null,null,null,null,null,null,null,{"$f":"SUM(K72:K75)","v":0},{"$f":"SUM(L72:L75)","v":0},{"$f":"SUM(M72:M75)","v":0}]
["DoRA capital"]
["List capital grants"]
[]
[]
[]
[null,null,null,null,null,null,null,null,null,null,{"$f":"SUM(K78:K81)","v":0},{"$f":"SUM(L78:L81)","v":0},{"$f":"SUM(M78:M81)","v":0}]
["Trend"]
[{"$f":"A55","v":"Change in consumer debtors (current and non-current)"},null,null,{"$f":"TREND(E84:G84)","v":105559332.08153333},{"$f":"E55","v":2051347},{"$f":"F55","v":318219495.03000003},{"$f":"J55","v":13339732.570800006},{"$f":"K55","v":-52809961.42080003},18020449.750799954,19101676.73584801,0,0,0]
[]
["Total Operating Revenue",null,null,{"$f":"'A1-Sum'!B10","v":236689581},{"$f":"'A1-Sum'!C10","v":266992669},{"$f":"'A1-Sum'!D10","v":293087702.51354289},{"$f":"'A1-Sum'!E10","v":303711674.72011411},{"$f":"'A1-Sum'!F10","v":308675437.99066055},{"$f":"'A1-Sum'!G10","v":308675437.99066055},{"$f":"'A1-Sum'!H10","v":308675437.99066055},{"$f":"'A1-Sum'!I10","v":332095881.0102787},{"$f":"'A1-Sum'!J10","v":352021633.8708955},{"$f":"'A1-Sum'!K10","v":373142931.90314925}]
["Total Operating Expenditure",null,null,{"$f":"'A1-Sum'!B18","v":362910927},{"$f":"'A1-Sum'!C18","v":368157108},{"$f":"'A1-Sum'!D18","v":336123939.08428574},{"$f":"'A1-Sum'!E18","v":336918488.47502953},{"$f":"'A1-Sum'!F18","v":346207570.14804578},{"$f":"'A1-Sum'!G18","v":346207570.14804578},{"$f":"'A1-Sum'!H18","v":346207570.14804578},{"$f":"'A1-Sum'!I18","v":356990251.14903951},{"$f":"'A1-Sum'!J18","v":374839763.70649147},{"$f":"'A1-Sum'!K18","v":389833354.25475121}]
["Operating Performance Surplus/(Deficit)",null,null,{"$f":"D86-D87","v":-126221346},{"$f":"E86-E87","v":-101164439},-43036236.570742846,-33206813.754915416,-37532132.15738523,-37532132.15738523,-37532132.15738523,{"$f":"K86-K87","v":-24894370.138760805},-22818129.835595965,-16690422.351601958]
["Cash and Cash Equivalents (30 June 2012)",null,null,null,null,null,null,null,null,null,{"$f":"'A7-CFlow'!J40","v":12621688.679426193}]
["Revenue"]
["% Increase in Total Operating Revenue",null,null,null,{"$f":"IF(ISERROR(('A1-Sum'!C10-'A1-Sum'!B10)/'A1-Sum'!B10),0,(('A1-Sum'!C10-'A1-Sum'!B10)/'A1-Sum'!B10))","v":0.12802882100670077},{"$f":"IF(ISERROR(('A1-Sum'!D10-'A1-Sum'!C10)/'A1-Sum'!C10),0,(('A1-Sum'!D10-'A1-Sum'!C10)/'A1-Sum'!C10))","v":9.773689147076503E-2},{"$f":"IF(ISERROR(('A1-Sum'!E10-'A1-Sum'!D10)/'A1-Sum'!D10),0,(('A1-Sum'!E10-'A1-Sum'!D10)/'A1-Sum'!D10))","v":3.6248440707198598E-2},{"$f":"IF(ISERROR(('A1-Sum'!F10-'A1-Sum'!E10)/'A1-Sum'!E10),0,(('A1-Sum'!F10-'A1-Sum'!E10)/'A1-Sum'!E10))","v":1.6343669617313192E-2},{"$f":"IF(ISERROR(('A1-Sum'!G10-'A1-Sum'!F10)/'A1-Sum'!F10),0,(('A1-Sum'!G10-'A1-Sum'!F10)/'A1-Sum'!F10))","v":0},{"$f":"IF(ISERROR(('A1-Sum'!H10-'A1-Sum'!G10)/'A1-Sum'!G10),0,(('A1-Sum'!H10-'A1-Sum'!G10)/'A1-Sum'!G10))","v":0},{"$f":"IF(ISERROR(('A1-Sum'!I10-'A1-Sum'!F10)/'A1-Sum'!F10),0,(('A1-Sum'!I10-'A1-Sum'!F10)/'A1-Sum'!F10))","v":7.5874009192551217E-2},{"$f":"IF(ISERROR(('A1-Sum'!J10-'A1-Sum'!I10)/'A1-Sum'!I10),0,(('A1-Sum'!J10-'A1-Sum'!I10)/'A1-Sum'!I10))","v":6.0000000000000241E-2},{"$f":"IF(ISERROR(('A1-Sum'!K10-'A1-Sum'!J10)/'A1-Sum'!J10),0,(('A1-Sum'!K10-'A1-Sum'!J10)/'A1-Sum'!J10))","v":6.0000000000000032E-2}]
["% Increase in Property Rates Revenue",null,null,null,{"$f":"IF(ISERROR(('A4-FinPerf RE'!D5-'A4-FinPerf RE'!C5)/'A4-FinPerf RE'!C5),0,(('A4-FinPerf RE'!D5-'A4-FinPerf RE'!C5)/'A4-FinPerf RE'!C5))","v":4.9126245756330934E-2},{"$f":"IF(ISERROR(('A4-FinPerf RE'!E5-'A4-FinPerf RE'!D5)/'A4-FinPerf RE'!D5),0,(('A4-FinPerf RE'!E5-'A4-FinPerf RE'!D5)/'A4-FinPerf RE'!D5))","v":0.17605333987119423},{"$f":"IF(ISERROR(('A4-FinPerf RE'!F5-'A4-FinPerf RE'!E5)/'A4-FinPerf RE'!E5),0,(('A4-FinPerf RE'!F5-'A4-FinPerf RE'!E5)/'A4-FinPerf RE'!E5))","v":4.1096459251829198E-2},{"$f":"IF(ISERROR(('A4-FinPerf RE'!G5-'A4-FinPerf RE'!F5)/'A4-FinPerf RE'!F5),0,(('A4-FinPerf RE'!G5-'A4-FinPerf RE'!F5)/'A4-FinPerf RE'!F5))","v":-2.285413990776677E-2},{"$f":"IF(ISERROR(('A4-FinPerf RE'!H5-'A4-FinPerf RE'!G5)/'A4-FinPerf RE'!G5),0,(('A4-FinPerf RE'!H5-'A4-FinPerf RE'!G5)/'A4-FinPerf RE'!G5))","v":0},{"$f":"IF(ISERROR(('A4-FinPerf RE'!I5-'A4-FinPerf RE'!H5)/'A4-FinPerf RE'!H5),0,(('A4-FinPerf RE'!I5-'A4-FinPerf RE'!H5)/'A4-FinPerf RE'!H5))","v":0},{"$f":"IF(ISERROR(('A4-FinPerf RE'!J5-'A4-FinPerf RE'!G5)/'A4-FinPerf RE'!G5),0,(('A4-FinPerf RE'!J5-'A4-FinPerf RE'!G5)/'A4-FinPerf RE'!G5))","v":7.0278671001858278E-2},{"$f":"IF(ISERROR(('A4-FinPerf RE'!K5-'A4-FinPerf RE'!J5)/'A4-FinPerf RE'!J5),0,(('A4-FinPerf RE'!K5-'A4-FinPerf RE'!J5)/'A4-FinPerf RE'!J5))","v":5.9999999999999977E-2},{"$f":"IF(ISERROR(('A4-FinPerf RE'!L5-'A4-FinPerf RE'!K5)/'A4-FinPerf RE'!K5),0,(('A4-FinPerf RE'!L5-'A4-FinPerf RE'!K5)/'A4-FinPerf RE'!K5))","v":6.000000000000006E-2}]
["% Increase in Electricity Revenue",null,null,null,{"$f":"IF(ISERROR(('A4-FinPerf RE'!D6-'A4-FinPerf RE'!C6)/'A4-FinPerf RE'!C6),0,(('A4-FinPerf RE'!D6-'A4-FinPerf RE'!C6)/'A4-FinPerf RE'!C6))","v":0.10300315469644798},{"$f":"IF(ISERROR(('A4-FinPerf RE'!E6-'A4-FinPerf RE'!D6)/'A4-FinPerf RE'!D6),0,(('A4-FinPerf RE'!E6-'A4-FinPerf RE'!D6)/'A4-FinPerf RE'!D6))","v":7.4636456243743071E-2},{"$f":"IF(ISERROR(('A4-FinPerf RE'!F6-'A4-FinPerf RE'!E6)/'A4-FinPerf RE'!E6),0,(('A4-FinPerf RE'!F6-'A4-FinPerf RE'!E6)/'A4-FinPerf RE'!E6))","v":8.4106248560221683E-3},{"$f":"IF(ISERROR(('A4-FinPerf RE'!G6-'A4-FinPerf RE'!F6)/'A4-FinPerf RE'!F6),0,(('A4-FinPerf RE'!G6-'A4-FinPerf RE'!F6)/'A4-FinPerf RE'!F6))","v":1.2467216451414036E-2},{"$f":"IF(ISERROR(('A4-FinPerf RE'!H6-'A4-FinPerf RE'!G6)/'A4-FinPerf RE'!G6),0,(('A4-FinPerf RE'!H6-'A4-FinPerf RE'!G6)/'A4-FinPerf RE'!G6))","v":0},{"$f":"IF(ISERROR(('A4-FinPerf RE'!I6-'A4-FinPerf RE'!H6)/'A4-FinPerf RE'!H6),0,(('A4-FinPerf RE'!I6-'A4-FinPerf RE'!H6)/'A4-FinPerf RE'!H6))","v":0},{"$f":"IF(ISERROR(('A4-FinPerf RE'!J6-'A4-FinPerf RE'!G6)/'A4-FinPerf RE'!G6),0,(('A4-FinPerf RE'!J6-'A4-FinPerf RE'!G6)/'A4-FinPerf RE'!G6))","v":6.2587874830322562E-2},{"$f":"IF(ISERROR(('A4-FinPerf RE'!K6-'A4-FinPerf RE'!J6)/'A4-FinPerf RE'!J6),0,(('A4-FinPerf RE'!K6-'A4-FinPerf RE'!J6)/'A4-FinPerf RE'!J6))","v":6.0000000000000178E-2},{"$f":"IF(ISERROR(('A4-FinPerf RE'!L6-'A4-FinPerf RE'!K6)/'A4-FinPerf RE'!K6),0,(('A4-FinPerf RE'!L6-'A4-FinPerf RE'!K6)/'A4-FinPerf RE'!K6))","v":5.9999999999999942E-2}]
["% Increase in Property Rates & Services Charges",null,null,null,{"$f":"IF(ISERROR((('A1-Sum'!C5+'A1-Sum'!C6)-('A1-Sum'!B5+'A1-Sum'!B6))/('A1-Sum'!B5+'A1-Sum'!B6)),0,((('A1-Sum'!C5+'A1-Sum'!C6)-('A1-Sum'!B5+'A1-Sum'!B6))/('A1-Sum'!B5+'A1-Sum'!B6)))","v":0.1406323579315894},{"$f":"IF(ISERROR((('A1-Sum'!D5+'A1-Sum'!D6)-('A1-Sum'!C5+'A1-Sum'!C6))/('A1-Sum'!C5+'A1-Sum'!C6)),0,((('A1-Sum'!D5+'A1-Sum'!D6)-('A1-Sum'!C5+'A1-Sum'!C6))/('A1-Sum'!C5+'A1-Sum'!C6)))","v":7.8255516454226931E-2},{"$f":"IF(ISERROR((('A1-Sum'!E5+'A1-Sum'!E6)-('A1-Sum'!D5+'A1-Sum'!D6))/('A1-Sum'!D5+'A1-Sum'!D6)),0,((('A1-Sum'!E5+'A1-Sum'!E6)-('A1-Sum'!D5+'A1-Sum'!D6))/('A1-Sum'!D5+'A1-Sum'!D6)))","v":4.2235139439449121E-2},{"$f":"IF(ISERROR((('A1-Sum'!F5+'A1-Sum'!F6)-('A1-Sum'!E5+'A1-Sum'!E6))/('A1-Sum'!E5+'A1-Sum'!E6)),0,((('A1-Sum'!F5+'A1-Sum'!F6)-('A1-Sum'!E5+'A1-Sum'!E6))/('A1-Sum'!E5+'A1-Sum'!E6)))","v":8.7874282866779712E-3},{"$f":"IF(ISERROR((('A1-Sum'!G5+'A1-Sum'!G6)-('A1-Sum'!F5+'A1-Sum'!F6))/('A1-Sum'!F5+'A1-Sum'!F6)),0,((('A1-Sum'!G5+'A1-Sum'!G6)-('A1-Sum'!F5+'A1-Sum'!F6))/('A1-Sum'!F5+'A1-Sum'!F6)))","v":0},{"$f":"IF(ISERROR((('A1-Sum'!H5+'A1-Sum'!H6)-('A1-Sum'!G5+'A1-Sum'!G6))/('A1-Sum'!G5+'A1-Sum'!G6)),0,((('A1-Sum'!H5+'A1-Sum'!H6)-('A1-Sum'!G5+'A1-Sum'!G6))/('A1-Sum'!G5+'A1-Sum'!G6)))","v":0},{"$f":"IF(ISERROR((('A1-Sum'!I5+'A1-Sum'!I6)-('A1-Sum'!F5+'A1-Sum'!F6))/('A1-Sum'!F5+'A1-Sum'!F6)),0,((('A1-Sum'!I5+'A1-Sum'!I6)-('A1-Sum'!F5+'A1-Sum'!F6))/('A1-Sum'!F5+'A1-Sum'!F6)))","v":7.3233860839863607E-2},{"$f":"IF(ISERROR((('A1-Sum'!J5+'A1-Sum'!J6)-('A1-Sum'!I5+'A1-Sum'!I6))/('A1-Sum'!I5+'A1-Sum'!I6)),0,((('A1-Sum'!J5+'A1-Sum'!J6)-('A1-Sum'!I5+'A1-Sum'!I6))/('A1-Sum'!I5+'A1-Sum'!I6)))","v":6.0000000000000171E-2},{"$f":"IF(ISERROR((('A1-Sum'!K5+'A1-Sum'!K6)-('A1-Sum'!J5+'A1-Sum'!J6))/('A1-Sum'!J5+'A1-Sum'!J6)),0,((('A1-Sum'!K5+'A1-Sum'!K6)-('A1-Sum'!J5+'A1-Sum'!J6))/('A1-Sum'!J5+'A1-Sum'!J6)))","v":5.9999999999999963E-2}]
["Expenditure"]
["% Increase in Total Operating Expenditure",null,null,null,{"$f":"IF(ISERROR(('A1-Sum'!C18-'A1-Sum'!B18)/'A1-Sum'!B18),0,(('A1-Sum'!C18-'A1-Sum'!B18)/'A1-Sum'!B18))","v":1.445583643173136E-2},{"$f":"IF(ISERROR(('A1-Sum'!D18-'A1-Sum'!C18)/'A1-Sum'!C18),0,(('A1-Sum'!D18-'A1-Sum'!C18)/'A1-Sum'!C18))","v":-8.7009508222544663E-2},{"$f":"IF(ISERROR(('A1-Sum'!E18-'A1-Sum'!D18)/'A1-Sum'!D18),0,(('A1-Sum'!E18-'A1-Sum'!D18)/'A1-Sum'!D18))","v":2.363858381846919E-3},{"$f":"IF(ISERROR(('A1-Sum'!F18-'A1-Sum'!E18)/'A1-Sum'!E18),0,(('A1-Sum'!F18-'A1-Sum'!E18)/'A1-Sum'!E18))","v":2.7570709209401856E-2},{"$f":"IF(ISERROR(('A1-Sum'!G18-'A1-Sum'!F18)/'A1-Sum'!F18),0,(('A1-Sum'!G18-'A1-Sum'!F18)/'A1-Sum'!F18))","v":0},{"$f":"IF(ISERROR(('A1-Sum'!H18-'A1-Sum'!G18)/'A1-Sum'!G18),0,(('A1-Sum'!H18-'A1-Sum'!G18)/'A1-Sum'!G18))","v":0},{"$f":"IF(ISERROR(('A1-Sum'!I18-'A1-Sum'!F18)/'A1-Sum'!F18),0,(('A1-Sum'!I18-'A1-Sum'!F18)/'A1-Sum'!F18))","v":3.1145133528948609E-2},{"$f":"IF(ISERROR(('A1-Sum'!J18-'A1-Sum'!I18)/'A1-Sum'!I18),0,(('A1-Sum'!J18-'A1-Sum'!I18)/'A1-Sum'!I18))","v":4.9999999999999968E-2},{"$f":"IF(ISERROR(('A1-Sum'!K18-'A1-Sum'!J18)/'A1-Sum'!J18),0,(('A1-Sum'!K18-'A1-Sum'!J18)/'A1-Sum'!J18))","v":4.0000000000000202E-2}]
["% Increase in Employee Costs",null,null,null,{"$f":"IF(ISERROR(('A1-Sum'!C11-'A1-Sum'!B11)/'A1-Sum'!B11),0,(('A1-Sum'!C11-'A1-Sum'!B11)/'A1-Sum'!B11))","v":8.0371454004640644E-2},{"$f":"IF(ISERROR(('A1-Sum'!D11-'A1-Sum'!C11)/'A1-Sum'!C11),0,(('A1-Sum'!D11-'A1-Sum'!C11)/'A1-Sum'!C11))","v":6.6152990475605841E-2},{"$f":"IF(ISERROR(('A1-Sum'!E11-'A1-Sum'!D11)/'A1-Sum'!D11),0,(('A1-Sum'!E11-'A1-Sum'!D11)/'A1-Sum'!D11))","v":8.6288664828729988E-2},{"$f":"IF(ISERROR(('A1-Sum'!F11-'A1-Sum'!E11)/'A1-Sum'!E11),0,(('A1-Sum'!F11-'A1-Sum'!E11)/'A1-Sum'!E11))","v":4.6714790663040642E-2},{"$f":"IF(ISERROR(('A1-Sum'!G11-'A1-Sum'!F11)/'A1-Sum'!F11),0,(('A1-Sum'!G11-'A1-Sum'!F11)/'A1-Sum'!F11))","v":0},{"$f":"IF(ISERROR(('A1-Sum'!H11-'A1-Sum'!G11)/'A1-Sum'!G11),0,(('A1-Sum'!H11-'A1-Sum'!G11)/'A1-Sum'!G11))","v":0},{"$f":"IF(ISERROR(('A1-Sum'!I11-'A1-Sum'!F11)/'A1-Sum'!F11),0,(('A1-Sum'!I11-'A1-Sum'!F11)/'A1-Sum'!F11))","v":7.2040066783702297E-2},{"$f":"IF(ISERROR(('A1-Sum'!J11-'A1-Sum'!I11)/'A1-Sum'!I11),0,(('A1-Sum'!J11-'A1-Sum'!I11)/'A1-Sum'!I11))","v":5.0000000000000079E-2},{"$f":"IF(ISERROR(('A1-Sum'!K11-'A1-Sum'!J11)/'A1-Sum'!J11),0,(('A1-Sum'!K11-'A1-Sum'!J11)/'A1-Sum'!J11))","v":3.999999999999989E-2}]
["% Increase in Electricity Bulk Purchases",null,null,null,{"$f":"IF(ISERROR(('SA1'!D86-'SA1'!C86)/'SA1'!C86),0,(('SA1'!D86-'SA1'!C86)/'SA1'!C86))","v":0.14007805314600102},{"$f":"IF(ISERROR(('SA1'!E86-'SA1'!D86)/'SA1'!D86),0,(('SA1'!E86-'SA1'!D86)/'SA1'!D86))","v":0.25613461791189207},{"$f":"IF(ISERROR(('SA1'!F86-'SA1'!E86)/'SA1'!E86),0,(('SA1'!F86-'SA1'!E86)/'SA1'!E86))","v":-9.0923398931002902E-2},{"$f":"IF(ISERROR(('SA1'!G86-'SA1'!F86)/'SA1'!F86),0,(('SA1'!G86-'SA1'!F86)/'SA1'!F86))","v":0},{"$f":"IF(ISERROR(('SA1'!H86-'SA1'!G86)/'SA1'!G86),0,(('SA1'!H86-'SA1'!G86)/'SA1'!G86))","v":0},{"$f":"IF(ISERROR(('SA1'!I86-'SA1'!H86)/'SA1'!H86),0,(('SA1'!I86-'SA1'!H86)/'SA1'!H86))","v":0},{"$f":"IF(ISERROR(('SA1'!J86-'SA1'!G86)/'SA1'!G86),0,(('SA1'!J86-'SA1'!G86)/'SA1'!G86))","v":6.8001529613959277E-2},{"$f":"IF(ISERROR(('SA1'!K86-'SA1'!J86)/'SA1'!J86),0,(('SA1'!K86-'SA1'!J86)/'SA1'!J86))","v":5.0000000000000093E-2},{"$f":"IF(ISERROR(('SA1'!L86-'SA1'!K86)/'SA1'!K86),0,(('SA1'!L86-'SA1'!K86)/'SA1'!K86))","v":3.9999999999999973E-2}]
["Average Cost Per Budgeted Employee Position (Remuneration)",null,null,null,null,{"$f":"IF(ISERROR('A1-Sum'!D11/('SA24'!D36+'SA24'!E36-'SA24'!C5)),0,('A1-Sum'!D11/('SA24'!D36+'SA24'!E36-'SA24'!C5)))","v":127450.05763313608},{"$f":"IF(ISERROR('A1-Sum'!E11/('SA24'!F36-'SA24'!F5)),0,('A1-Sum'!E11/('SA24'!F36-'SA24'!F5)))","v":132564.51244550056},null,null,null,{"$f":"IF(ISERROR('A1-Sum'!I11/('SA24'!I36-'SA24'!I5)),0,('A1-Sum'!I11/('SA24'!I36-'SA24'!I5)))","v":134640.82231099808}]
["Average Cost Per Councillor (Remuneration)",null,null,null,null,{"$f":"IF(ISERROR('A1-Sum'!D12/'SA24'!C5),0,('A1-Sum'!D12/'SA24'!C5))","v":486087.53777777764},{"$f":"IF(ISERROR('A1-Sum'!E12/'SA24'!F5),0,('A1-Sum'!E12/'SA24'!F5))","v":504615.83289752371},null,null,null,{"$f":"IF(ISERROR('A1-Sum'!I12/'SA24'!I5),0,('A1-Sum'!I12/'SA24'!I5))","v":564788.593990964}]
["R&M % of PPE",null,null,{"$f":"'A9-Asset'!C205","v":1.4999999999999999E-2},{"$f":"'A9-Asset'!D205","v":1.7999999999999999E-2},{"$f":"'A9-Asset'!E205","v":0.01},{"$f":"'A9-Asset'!F205","v":0.01},{"$f":"'A9-Asset'!G205","v":8.9999999999999993E-3},{"$f":"'A9-Asset'!H205","v":8.9999999999999993E-3},null,{"$f":"'A9-Asset'!I205","v":8.9999999999999993E-3},{"$f":"'A9-Asset'!J205","v":8.9999999999999993E-3},{"$f":"'A9-Asset'!K205","v":8.9999999999999993E-3}]
["Asset Renewal and R&M as a % of PPE",null,null,{"$f":"'A9-Asset'!C206","v":0.02},{"$f":"'A9-Asset'!D206","v":0.02},{"$f":"'A9-Asset'!E206","v":0.03},{"$f":"'A9-Asset'!F206","v":0.05},{"$f":"'A9-Asset'!G206","v":0.06},{"$f":"'A9-Asset'!H206","v":0.06},null,{"$f":"'A9-Asset'!I206","v":0.05},{"$f":"'A9-Asset'!J206","v":0.05},{"$f":"'A9-Asset'!K206","v":0.05}]
["Debt Impairment % of Total Billable Revenue",null,null,{"$f":"'SA10'!D11","v":0.85425459465403708},{"$f":"'SA10'!E11","v":0.57544910776527236},{"$f":"'SA10'!F11","v":0.25808243633775807},{"$f":"'SA10'!G11","v":0.30649379847726527},{"$f":"'SA10'!H11","v":0.33446214170142835},{"$f":"'SA10'!I11","v":0.33446214170142835},{"$f":"'SA10'!J11","v":0.33446214170142835},{"$f":"'SA10'!K11","v":0.31198603852149909},{"$f":"'SA10'!L11","v":0.30904277400714536},{"$f":"'SA10'!M11","v":0.30321177827116147}]
["Capital Revenue"]
["Internally Funded & Other (R'000)",null,null,{"$f":"'A1-Sum'!B29+'A1-Sum'!B31","v":1422301},{"$f":"'A1-Sum'!C29+'A1-Sum'!C31","v":1541380},{"$f":"'A1-Sum'!D29+'A1-Sum'!D31","v":0},{"$f":"'A1-Sum'!E29+'A1-Sum'!E31","v":0},{"$f":"'A1-Sum'!F29+'A1-Sum'!F31","v":0},{"$f":"'A1-Sum'!G29+'A1-Sum'!G31","v":0},{"$f":"'A1-Sum'!H29+'A1-Sum'!H31","v":0},{"$f":"'A1-Sum'!I29+'A1-Sum'!I31","v":0},{"$f":"'A1-Sum'!J29+'A1-Sum'!J31","v":0},{"$f":"'A1-Sum'!K29+'A1-Sum'!K31","v":0}]
["Borrowing (R'000)",null,null,{"$f":"'A1-Sum'!B30","v":0},{"$f":"'A1-Sum'!C30","v":0},{"$f":"'A1-Sum'!D30","v":0},{"$f":"'A1-Sum'!E30","v":0},{"$f":"'A1-Sum'!F30","v":0},{"$f":"'A1-Sum'!G30","v":0},{"$f":"'A1-Sum'!H30","v":0},{"$f":"'A1-Sum'!I30","v":0},{"$f":"'A1-Sum'!J30","v":0},{"$f":"'A1-Sum'!K30","v":0}]
["Grant Funding and Other (R'000)",null,null,{"$f":"'A1-Sum'!B28","v":44175660},{"$f":"'A1-Sum'!C28","v":58035212},{"$f":"'A1-Sum'!D28","v":64218000},{"$f":"'A1-Sum'!E28","v":98761000},{"$f":"'A1-Sum'!F28","v":98761000.00999999},{"$f":"'A1-Sum'!G28","v":98761000.00999999},{"$f":"'A1-Sum'!H28","v":98761000.00999999},{"$f":"'A1-Sum'!I28","v":64927000},{"$f":"'A1-Sum'!J28","v":68822620},{"$f":"'A1-Sum'!K28","v":72951977.200000003}]
["Internally Generated funds % of Non Grant Funding",null,null,{"$f":"IF(ISERROR(('A1-Sum'!B29+'A1-Sum'!B31)/('A1-Sum'!B32-'A1-Sum'!B28)),0,(('A1-Sum'!B29+'A1-Sum'!B31)/('A1-Sum'!B32-'A1-Sum'!B28)))","v":1},{"$f":"IF(ISERROR(('A1-Sum'!C29+'A1-Sum'!C31)/('A1-Sum'!C32-'A1-Sum'!C28)),0,(('A1-Sum'!C29+'A1-Sum'!C31)/('A1-Sum'!C32-'A1-Sum'!C28)))","v":1},{"$f":"IF(ISERROR(('A1-Sum'!D29+'A1-Sum'!D31)/('A1-Sum'!D32-'A1-Sum'!D28)),0,(('A1-Sum'!D29+'A1-Sum'!D31)/('A1-Sum'!D32-'A1-Sum'!D28)))","v":0},{"$f":"IF(ISERROR(('A1-Sum'!E29+'A1-Sum'!E31)/('A1-Sum'!E32-'A1-Sum'!E28)),0,(('A1-Sum'!E29+'A1-Sum'!E31)/('A1-Sum'!E32-'A1-Sum'!E28)))","v":0},{"$f":"IF(ISERROR(('A1-Sum'!F29+'A1-Sum'!F31)/('A1-Sum'!F32-'A1-Sum'!F28)),0,(('A1-Sum'!F29+'A1-Sum'!F31)/('A1-Sum'!F32-'A1-Sum'!F28)))","v":0},{"$f":"IF(ISERROR(('A1-Sum'!G29+'A1-Sum'!G31)/('A1-Sum'!G32-'A1-Sum'!G28)),0,(('A1-Sum'!G29+'A1-Sum'!G31)/('A1-Sum'!G32-'A1-Sum'!G28)))","v":0},{"$f":"IF(ISERROR(('A1-Sum'!H29+'A1-Sum'!H31)/('A1-Sum'!H32-'A1-Sum'!H28)),0,(('A1-Sum'!H29+'A1-Sum'!H31)/('A1-Sum'!H32-'A1-Sum'!H28)))","v":0},{"$f":"IF(ISERROR(('A1-Sum'!I29+'A1-Sum'!I31)/('A1-Sum'!I32-'A1-Sum'!I28)),0,(('A1-Sum'!I29+'A1-Sum'!I31)/('A1-Sum'!I32-'A1-Sum'!I28)))","v":0},{"$f":"IF(ISERROR(('A1-Sum'!J29+'A1-Sum'!J31)/('A1-Sum'!J32-'A1-Sum'!J28)),0,(('A1-Sum'!J29+'A1-Sum'!J31)/('A1-Sum'!J32-'A1-Sum'!J28)))","v":0},{"$f":"IF(ISERROR(('A1-Sum'!K29+'A1-Sum'!K31)/('A1-Sum'!K32-'A1-Sum'!K28)),0,(('A1-Sum'!K29+'A1-Sum'!K31)/('A1-Sum'!K32-'A1-Sum'!K28)))","v":0}]
["Borrowing % of Non Grant Funding",null,null,{"$f":"IF(ISERROR('A1-Sum'!B30/('A1-Sum'!B32-'A1-Sum'!B28)),0,('A1-Sum'!B30/('A1-Sum'!B32-'A1-Sum'!B28)))","v":0},{"$f":"IF(ISERROR('A1-Sum'!C30/('A1-Sum'!C32-'A1-Sum'!C28)),0,('A1-Sum'!C30/('A1-Sum'!C32-'A1-Sum'!C28)))","v":0},{"$f":"IF(ISERROR('A1-Sum'!D30/('A1-Sum'!D32-'A1-Sum'!D28)),0,('A1-Sum'!D30/('A1-Sum'!D32-'A1-Sum'!D28)))","v":0},{"$f":"IF(ISERROR('A1-Sum'!E30/('A1-Sum'!E32-'A1-Sum'!E28)),0,('A1-Sum'!E30/('A1-Sum'!E32-'A1-Sum'!E28)))","v":0},{"$f":"IF(ISERROR('A1-Sum'!F30/('A1-Sum'!F32-'A1-Sum'!F28)),0,('A1-Sum'!F30/('A1-Sum'!F32-'A1-Sum'!F28)))","v":0},{"$f":"IF(ISERROR('A1-Sum'!G30/('A1-Sum'!G32-'A1-Sum'!G28)),0,('A1-Sum'!G30/('A1-Sum'!G32-'A1-Sum'!G28)))","v":0},{"$f":"IF(ISERROR('A1-Sum'!H30/('A1-Sum'!H32-'A1-Sum'!H28)),0,('A1-Sum'!H30/('A1-Sum'!H32-'A1-Sum'!H28)))","v":0},{"$f":"IF(ISERROR('A1-Sum'!I30/('A1-Sum'!I32-'A1-Sum'!I28)),0,('A1-Sum'!I30/('A1-Sum'!I32-'A1-Sum'!I28)))","v":0},{"$f":"IF(ISERROR('A1-Sum'!J30/('A1-Sum'!J32-'A1-Sum'!J28)),0,('A1-Sum'!J30/('A1-Sum'!J32-'A1-Sum'!J28)))","v":0},{"$f":"IF(ISERROR('A1-Sum'!K30/('A1-Sum'!K32-'A1-Sum'!K28)),0,('A1-Sum'!K30/('A1-Sum'!K32-'A1-Sum'!K28)))","v":0}]
["Grant Funding % of Total Funding",null,null,{"$f":"IF(ISERROR('A1-Sum'!B28/'A1-Sum'!B32),0,('A1-Sum'!B28/'A1-Sum'!B32))","v":0.96880779383972893},{"$f":"IF(ISERROR('A1-Sum'!C28/'A1-Sum'!C32),0,('A1-Sum'!C28/'A1-Sum'!C32))","v":0.97412775809666996},{"$f":"IF(ISERROR('A1-Sum'!D28/'A1-Sum'!D32),0,('A1-Sum'!D28/'A1-Sum'!D32))","v":1},{"$f":"IF(ISERROR('A1-Sum'!E28/'A1-Sum'!E32),0,('A1-Sum'!E28/'A1-Sum'!E32))","v":1},{"$f":"IF(ISERROR('A1-Sum'!F28/'A1-Sum'!F32),0,('A1-Sum'!F28/'A1-Sum'!F32))","v":1},{"$f":"IF(ISERROR('A1-Sum'!G28/'A1-Sum'!G32),0,('A1-Sum'!G28/'A1-Sum'!G32))","v":1},{"$f":"IF(ISERROR('A1-Sum'!H28/'A1-Sum'!H32),0,('A1-Sum'!H28/'A1-Sum'!H32))","v":1},{"$f":"IF(ISERROR('A1-Sum'!I28/'A1-Sum'!I32),0,('A1-Sum'!I28/'A1-Sum'!I32))","v":1},{"$f":"IF(ISERROR('A1-Sum'!J28/'A1-Sum'!J32),0,('A1-Sum'!J28/'A1-Sum'!J32))","v":1},{"$f":"IF(ISERROR('A1-Sum'!K28/'A1-Sum'!K32),0,('A1-Sum'!K28/'A1-Sum'!K32))","v":1}]
["Capital Expenditure"]
["Total Capital Programme (R'000)",null,null,{"$f":"'A1-Sum'!B27","v":45597961},{"$f":"'A1-Sum'!C27","v":59576592},{"$f":"'A1-Sum'!D27","v":64218000},{"$f":"'A1-Sum'!E27","v":98761000},{"$f":"'A1-Sum'!F27","v":98761000.00999999},{"$f":"'A1-Sum'!G27","v":98761000.00999999},{"$f":"'A1-Sum'!H27","v":98761000.00999999},{"$f":"'A1-Sum'!I27","v":64927000},{"$f":"'A1-Sum'!J27","v":68822620},{"$f":"'A1-Sum'!K27","v":72951977.200000003}]
["Asset Renewal",null,null,{"$f":"'A1-Sum'!B55","v":0},{"$f":"'A1-Sum'!C55","v":0},{"$f":"'A1-Sum'!D55","v":7827409.29},{"$f":"'A1-Sum'!E55","v":46675138.240000002},{"$f":"'A1-Sum'!F55","v":53978923.239999987},{"$f":"'A1-Sum'!G55","v":53978923.239999987},{"$f":"'A1-Sum'!H55","v":53978923.239999987},{"$f":"'A1-Sum'!I55","v":40991448.380000003},{"$f":"'A1-Sum'!J55","v":43450935.282799996},{"$f":"'A1-Sum'!K55","v":46057991.399768002}]
["Asset Renewal % of Total Capital Expenditure",null,null,{"$f":"IF(ISERROR('A1-Sum'!B55/'A1-Sum'!B32),0,('A1-Sum'!B55/'A1-Sum'!B32))","v":0},{"$f":"IF(ISERROR('A1-Sum'!C55/'A1-Sum'!C32),0,('A1-Sum'!C55/'A1-Sum'!C32))","v":0},{"$f":"IF(ISERROR('A1-Sum'!D55/'A1-Sum'!D32),0,('A1-Sum'!D55/'A1-Sum'!D32))","v":0.12188808885359245},{"$f":"IF(ISERROR('A1-Sum'!E55/'A1-Sum'!E32),0,('A1-Sum'!E55/'A1-Sum'!E32))","v":0.47260698291835851},{"$f":"IF(ISERROR('A1-Sum'!F55/'A1-Sum'!F32),0,('A1-Sum'!F55/'A1-Sum'!F32))","v":0.54656112468013063},{"$f":"IF(ISERROR('A1-Sum'!G55/'A1-Sum'!G32),0,('A1-Sum'!G55/'A1-Sum'!G32))","v":0.54656112468013063},{"$f":"IF(ISERROR('A1-Sum'!H55/'A1-Sum'!H32),0,('A1-Sum'!H55/'A1-Sum'!H32))","v":0.54656112468013063},{"$f":"IF(ISERROR('A1-Sum'!I55/'A1-Sum'!I32),0,('A1-Sum'!I55/'A1-Sum'!I32))","v":0.63134671831441469},{"$f":"IF(ISERROR('A1-Sum'!J55/'A1-Sum'!J32),0,('A1-Sum'!J55/'A1-Sum'!J32))","v":0.63134671831441458},{"$f":"IF(ISERROR('A1-Sum'!K55/'A1-Sum'!K32),0,('A1-Sum'!K55/'A1-Sum'!K32))","v":0.63134671831441469}]
["Cash"]
["Cash Receipts % of Rate Payer & Other",null,null,{"$f":"'SA10'!D10","v":0.46417160072904312},{"$f":"'SA10'!E10","v":0.48224448861521213},{"$f":"'SA10'!F10","v":0.17453968243349866},{"$f":"'SA10'!G10","v":0.58256204323401661},{"$f":"'SA10'!H10","v":0.50690798732711562},{"$f":"'SA10'!I10","v":0.50690798732711562},{"$f":"'SA10'!J10","v":0.50690798732711562},{"$f":"'SA10'!K10","v":0.63567830769952227},{"$f":"'SA10'!L10","v":0.63567830769952238},{"$f":"'SA10'!M10","v":0.63567830769952216}]
["Cash Coverage Ratio",null,null,{"$f":"'SA10'!D7","v":7.6059966589693453E-2},{"$f":"'SA10'!E7","v":0.11444250259713146},{"$f":"'SA10'!F7","v":0.60324008529584039},{"$f":"'SA10'!G7","v":0.30974773148625201},{"$f":"'SA10'!H7","v":4.794563963759705E-2},{"$f":"'SA10'!I7","v":4.794563963759705E-2},{"$f":"'SA10'!J7","v":4.794563963759705E-2},{"$f":"'SA10'!K7","v":0.56880749006580789},{"$f":"'SA10'!L7","v":1.2288903219694187},{"$f":"'SA10'!M7","v":1.8822909930355494}]
["Borrowing"]
[]
["Credit Rating (2009/10)",null,null,null,null,null,null,null,null,null,{"$f":"'SA8'!F6","v":0}]
["Capital Charges to Operating",null,null,{"$f":"'SA8'!C7","v":2.6694032279716947E-2},{"$f":"'SA8'!D7","v":2.9919639633848926E-2},{"$f":"'SA8'!E7","v":7.7982144596452599E-2},{"$f":"'SA8'!F7","v":5.438052057295556E-2},{"$f":"'SA8'!G7","v":6.3071419219943636E-2},{"$f":"'SA8'!H7","v":6.3071419219943636E-2},{"$f":"'SA8'!I7","v":6.3071419219943636E-2},{"$f":"'SA8'!J7","v":5.671060498116582E-2},{"$f":"'SA8'!K7","v":5.6774632339850195E-2},{"$f":"'SA8'!L7","v":5.6905149647937567E-2}]
["Borrowing Receipts % of Capital Expenditure",null,null,{"$f":"'SA10'!D13","v":0},{"$f":"'SA10'!E13","v":0},{"$f":"'SA10'!F13","v":0},{"$f":"'SA10'!G13","v":0},{"$f":"'SA10'!H13","v":0},{"$f":"'SA10'!I13","v":0},{"$f":"'SA10'!J13","v":0},{"$f":"'SA10'!K13","v":0},{"$f":"'SA10'!L13","v":0},{"$f":"'SA10'!M13","v":0}]
["Reserves"]
["Surplus/(Deficit)",null,null,{"$f":"'A8-ResRecon'!C19","v":-104149270},{"$f":"'A8-ResRecon'!D19","v":-150809079},{"$f":"'A8-ResRecon'!E19","v":-62222251.480000004},{"$f":"'A8-ResRecon'!F19","v":64436503.189999983},{"$f":"'A8-ResRecon'!G19","v":39195503.189999983},{"$f":"'A8-ResRecon'!H19","v":39195503.189999983},{"$f":"'A8-ResRecon'!I19","v":39195503.189999983},{"$f":"'A8-ResRecon'!J19","v":5327149.2699999996},{"$f":"'A8-ResRecon'!K19","v":5569898.2261999808},{"$f":"'A8-ResRecon'!L19","v":5826912.1197719611}]
["Free Services"]
["Free Basic Services as a % of Equitable Share",null,null,{"$f":"IF(ISERROR('A10-SerDel'!C60/'SA18'!C8),0,('A10-SerDel'!C60/'SA18'!C8))","v":0.33576893951475112},{"$f":"IF(ISERROR('A10-SerDel'!D60/'SA18'!D8),0,('A10-SerDel'!D60/'SA18'!D8))","v":0.24964816019869607},{"$f":"IF(ISERROR('A10-SerDel'!E60/'SA18'!E8),0,('A10-SerDel'!E60/'SA18'!E8))","v":0.54747559086194242},{"$f":"IF(ISERROR('A10-SerDel'!F60/'SA18'!F8),0,('A10-SerDel'!F60/'SA18'!F8))","v":0.60365149842326271},{"$f":"IF(ISERROR('A10-SerDel'!G60/'SA18'!G8),0,('A10-SerDel'!G60/'SA18'!G8))","v":0.64687583578467023},{"$f":"IF(ISERROR('A10-SerDel'!H60/'SA18'!H8),0,('A10-SerDel'!H60/'SA18'!H8))","v":0.64687583578467023},null,{"$f":"IF(ISERROR('A10-SerDel'!I60/'SA18'!I8),0,('A10-SerDel'!I60/'SA18'!I8))","v":0.62556223414061007},{"$f":"IF(ISERROR('A10-SerDel'!J60/'SA18'!J8),0,('A10-SerDel'!J60/'SA18'!J8))","v":0.6042218973402903},{"$f":"IF(ISERROR('A10-SerDel'!K60/'SA18'!K8),0,('A10-SerDel'!K60/'SA18'!K8))","v":0.58984255141645081}]
["Free Services as a % of Operating Revenue \n(excl operational transfers)",null,null,{"$f":"IF(ISERROR('A10-SerDel'!C79/('A1-Sum'!B10-'A1-Sum'!B8)),0,('A10-SerDel'!C79/('A1-Sum'!B10-'A1-Sum'!B8)))","v":9.4411278891490501E-3},{"$f":"IF(ISERROR('A10-SerDel'!D79/('A1-Sum'!C10-'A1-Sum'!C8)),0,('A10-SerDel'!D79/('A1-Sum'!C10-'A1-Sum'!C8)))","v":1.0371072952287423E-2},{"$f":"IF(ISERROR('A10-SerDel'!E79/('A1-Sum'!D10-'A1-Sum'!D8)),0,('A10-SerDel'!E79/('A1-Sum'!D10-'A1-Sum'!D8)))","v":0.10577227160653185},{"$f":"IF(ISERROR('A10-SerDel'!F79/('A1-Sum'!E10-'A1-Sum'!E8)),0,('A10-SerDel'!F79/('A1-Sum'!E10-'A1-Sum'!E8)))","v":0.10597769039703589},{"$f":"IF(ISERROR('A10-SerDel'!G79/('A1-Sum'!F10-'A1-Sum'!F8)),0,('A10-SerDel'!G79/('A1-Sum'!F10-'A1-Sum'!F8)))","v":0.10570709907162967},{"$f":"IF(ISERROR('A10-SerDel'!H79/('A1-Sum'!G10-'A1-Sum'!G8)),0,('A10-SerDel'!H79/('A1-Sum'!G10-'A1-Sum'!G8)))","v":0.10570709907162967},null,{"$f":"IF(ISERROR('A10-SerDel'!I79/('A1-Sum'!I10-'A1-Sum'!I8)),0,('A10-SerDel'!I79/('A1-Sum'!I10-'A1-Sum'!I8)))","v":0.10573448420581635},{"$f":"IF(ISERROR('A10-SerDel'!J79/('A1-Sum'!J10-'A1-Sum'!J8)),0,('A10-SerDel'!J79/('A1-Sum'!J10-'A1-Sum'!J8)))","v":0.10573448420581633},{"$f":"IF(ISERROR('A10-SerDel'!K79/('A1-Sum'!K10-'A1-Sum'!K8)),0,('A10-SerDel'!K79/('A1-Sum'!K10-'A1-Sum'!K8)))","v":0.10573448420581631}]
[]
["High Level Outcome of Funding Compliance"]
["Total Operating Revenue",null,null,{"$f":"D86","v":236689581},{"$f":"E86","v":266992669},293087702.51354289,303711674.72011411,308675437.99066055,308675437.99066055,{"$f":"J86","v":308675437.99066055},332095881.0102787,352021633.8708955,373142931.90314925]
["Total Operating Expenditure",null,null,{"$f":"D87","v":362910927},368157108,336123939.08428574,336918488.47502953,346207570.14804578,346207570.14804578,346207570.14804578,356990251.14903951,374839763.70649147,389833354.25475121]
["Surplus/(Deficit) Budgeted Operating Statement",null,null,-126221346,-101164439,-43036236.570742846,-33206813.754915416,-37532132.15738523,-37532132.15738523,-37532132.15738523,-24894370.138760805,-22818129.835595965,-16690422.351601958]
["Surplus/(Deficit) Considering Reserves and Cash Backing",null,null,{"$f":"'A8-ResRecon'!C19","v":-104149270},{"$f":"'A8-ResRecon'!D19","v":-150809079},{"$f":"'A8-ResRecon'!E19","v":-62222251.480000004},{"$f":"'A8-ResRecon'!F19","v":64436503.189999983},{"$f":"'A8-ResRecon'!G19","v":39195503.189999983},{"$f":"'A8-ResRecon'!H19","v":39195503.189999983},{"$f":"'A8-ResRecon'!I19","v":39195503.189999983},{"$f":"'A8-ResRecon'!J19","v":5327149.2699999996},{"$f":"'A8-ResRecon'!K19","v":5569898.2261999808},{"$f":"'A8-ResRecon'!L19","v":5826912.1197719611}]
["MTREF Funded (1) / Unfunded (0)",null,15,{"$f":"IF(D133>=0,1,0)","v":0},{"$f":"IF(E133>=0,1,0)","v":0},0,1,1,1,1,1,1,1]
["MTREF Funded ü / Unfunded û",null,15,{"$f":"IF(D134=1,\"ü\",\"û\")","v":"û"},{"$f":"IF(E134=1,\"ü\",\"û\")","v":"û"},"û","ü","ü","ü","ü","ü","ü","ü"]
[]
[{"$f":"head27a","v":"References"}]
["15. Subject to figures provided in Schedule."]

{"sheet":"SA11","index":29,"n_rows":73,"n_cols":11,"rows_kept":73,"cut":false,"hidden":false,"merged":[[1,5,1,7],[1,8,1,10],[1,1,3,1],[1,0,2,0]]}
[{"$f":"muni&\" - \"&TableA11","v":"FS193 Nketoana - Supporting Table SA11 Property rates summary"}]
[{"$f":"desc","v":"Description"},{"$f":"head27","v":"Ref"},{"$f":"head1b","v":"2014/15"},{"$f":"head1A","v":"2015/16"},{"$f":"Head1","v":"2016/17"},{"$f":"Head2","v":"Current Year 2017/18"},null,null,{"$f":"Head3","v":"2018/19 Medium Term Revenue & Expenditure Framework"}]
[null,null,{"$f":"Head5","v":"Audited Outcome"},{"$f":"Head5","v":"Audited Outcome"},{"$f":"Head5","v":"Audited Outcome"},{"$f":"Head6","v":"Original Budget"},{"$f":"Head7","v":"Adjusted Budget"},{"$f":"Head8","v":"Full Year Forecast"},{"$f":"Head9","v":"Budget Year 2018/19"},{"$f":"Head10","v":"Budget Year +1 2019/20"},{"$f":"Head11","v":"Budget Year +2 2020/21"}]
[]
["Valuation:",1]
["Date of valuation:"]
["Financial year valuation used"]
["Municipal by-laws s6 in place? (Y/N)","2","Yes","Yes","Yes",null,null,null,"Yes"]
["Municipal/assistant valuer appointed? (Y/N)",null,"Yes","Yes","Yes",null,null,null,"Yes"]
["Municipal partnership s38 used? (Y/N)",null,"No","No","No","No","No","No","No","No","No"]
["No. of assistant valuers (FTE)",3,"None","None","None","None","None","None","None","None","None"]
["No. of data collectors (FTE)",3,"Valuer","Valuer","Valuer","Valuer","Valuer","Valuer","Valuer","Valuer","Valuer"]
["No. of internal valuers (FTE)",3,"None","None","None","None","None","None","None","None","None"]
["No. of external valuers (FTE)",3,1,1,1,1,1,1,1,1,1]
["No. of additional valuers (FTE)",4,"None","None","None","None","None","None","None","None","None"]
["Valuation appeal board established? (Y/N)"]
["Implementation time of new valuation roll (mths)",null,12,12,12]
["No. of properties",5,17317,17317,17317,17317,17317,17317,17317,17317,17317]
["No. of sectional title values",5]
["No. of unreasonably difficult properties s7(2)"]
["No. of supplementary valuations",null,1,1,1,1,1,1,1,1,1]
["No. of valuation roll amendments"]
["No. of objections by rate payers"]
["No. of appeals by rate payers"]
["No. of successful objections",8]
["No. of successful objections > 10%",8]
["Supplementary valuation"]
["Public service infrastructure value (Rm)",5,394000000,394000000,394000000,394000000,394000000,394000000,394000000,394000000,394000000]
["Municipality owned property value (Rm)",null,104524436.61,112294189.93000001,112294189.93000001,112294189.93000001,112294189.93000001,112294189.93000001,112294189.93000001,112294189.93000001,112294189.93000001]
["Valuation reductions:"]
["Valuation reductions-public infrastructure (Rm)"]
["Valuation reductions-nature reserves/park (Rm)"]
["Valuation reductions-mineral rights (Rm)"]
["Valuation reductions-R15,000 threshold (Rm)",null,null,null,null,20300]
["Valuation reductions-public worship (Rm)"]
["Valuation reductions-other (Rm)"]
["Total valuation reductions:",null,{"$f":"SUM(C31:C36)","v":0},{"$f":"SUM(D31:D36)","v":0},0,20300,0,0,0,0,0]
["Total value used for rating (Rm)",5]
["Total land value (Rm)",5]
["Total value of improvements (Rm)",5]
["Total market value (Rm)",5,1026698139,1026698139,1026698139,1026698139,1026698139,1026698139,1026698139,1026698139,1026698139]
[]
["Rating:"]
["Residential rate used to determine rate for other categories? (Y/N)",null,"Yes","Yes","Yes","Yes",null,null,"Yes"]
["Differential rates used? (Y/N)",5,"Yes","Yes","Yes","Yes",null,null,"Yes"]
["Limit on annual rate increase (s20)? (Y/N)",null,"No","No","No","No","No","No","No","No","No"]
["Special rating area used? (Y/N)",null,"No","No","No","No"]
["Phasing-in properties s21 (number)",null,"None","None","None","None","None","None","None","None","None"]
["Rates policy accompanying budget? (Y/N)",null,"Yes","Yes","Yes","Yes",null,null,"Yes"]
["Fixed amount minimum value (R'000)"]
["Non-residential prescribed ratio s19? (%)"]
[]
["Rate revenue:"]
["Rate revenue budget (R '000)",6,52065955,37549087,41116491.859999999,42803531.763428599,42803531.763428599,42803531.763428599,45525836.383582599,{"$f":"I54*1.06","v":48257386.566597559},51152829.760593414]
["Rate revenue expected to collect (R'000)",6,18013480.960000001,18796007.600000001,8406496.5,8910886.2899999991,8910886.2899999991,8910886.2899999991,15801268.46518695,16749344.573098168,17754305.247484058]
["Expected cash collection rate (%)",null,0.75,0.75,0.6,0.65,0.65,0.65,0.75,0.7,0.75]
["Special rating areas (R'000)",7]
["Rebates, exemptions - indigent (R'000)",null,null,null,null,null,null,null,4000,4000,4000]
["Rebates, exemptions - pensioners (R'000)",null,null,null,null,null,null,null,4000,4000,4000]
["Rebates, exemptions - bona fide farm. (R'000)",null,null,null,null,null,null,null,4000,4000,4000]
["Rebates, exemptions - other (R'000)",null,null,null,null,null,null,null,4000,4000,4000]
["Phase-in reductions/discounts (R'000)",null,null,null,null,null,null,null,4000,4000,4000]
["Total rebates,exemptns,reductns,discs (R'000)",null,{"$f":"SUM(C58:C62)","v":0},{"$f":"SUM(D58:D62)","v":0},0,0,0,0,20000,20000,20000]
[]
[{"$f":"head27a","v":"References"}]
["1. All numbers to be expressed as whole numbers except FTEs and Rates in the Rand"]
["2. To give effect to rates policy"]
["3. Full Time Equivalent (FTE)  should be expressed to one decimal place and takes into account full time and part time staff"]
["4. Required to implement new system (FTE)"]
["5. Provide relevant information for historical comparisons. Must reconcile to the total of Table SA12"]
[{"$f":"\"6. Current and budget year must reconcile to \"&'Template names'!F103","v":"6. Current and budget year must reconcile to Table A4 Budgeted Financial Performance (revenue and expenditure)"}]
["7. Included in rate revenue budget"]
["8. In favour of the rate-payer"]

{"sheet":"SA12a","index":30,"n_rows":56,"n_cols":19,"rows_kept":56,"cut":false,"hidden":false,"merged":[]}
[{"$f":"muni&\" - \"&TableA12a","v":"FS193 Nketoana - Supporting Table SA12a Property rates by category (current year)"}]
[{"$f":"desc","v":"Description"},{"$f":"head27","v":"Ref"},"Resi.","Indust.","Bus. & Comm.","Farm props.","State-owned ","Muni props.","Public service infra.","Private owned towns","Formal & Informal Settle.","Comm. Land","State trust land","Section 8(2)(n) (note 1)","Protect. Areas","National Monum/ts","Public benefit organs.","Mining Props."]
[{"$f":"Head2","v":"Current Year 2017/18"}]
["Valuation:"]
["No. of properties",null,12167,null,535,3261,89,46,48]
["No. of sectional title property values"]
["No. of unreasonably difficult properties s7(2)"]
["No. of supplementary valuations"]
["Supplementary valuation (Rm)"]
["No. of valuation roll amendments"]
["No. of objections by rate-payers"]
["No. of appeals by rate-payers"]
["No. of appeals by rate-payers finalised"]
["No. of successful objections",5]
["No. of successful objections > 10%",5]
["Estimated no. of properties not valued"]
["Years since last valuation (select)"]
["Frequency of valuation (select)"]
["Method of valuation used (select)",null,"Market",null,"Market","Market","Market","Market","Market"]
["Base of valuation (select)"]
["Phasing-in properties s21 (number)"]
["Combination of rating types used? (Y/N)"]
["Flat rate used? (Y/N)",null,"No",null,"No","No","No","No","No"]
["Is balance rated by uniform rate/variable rate?"]
["Valuation reductions:"]
["Valuation reductions-public infrastructure (Rm)"]
["Valuation reductions-nature reserves/park (Rm)"]
["Valuation reductions-mineral rights (Rm)"]
["Valuation reductions-R15,000 threshold (Rm)"]
["Valuation reductions-public worship (Rm)"]
["Valuation reductions-other (Rm)",2]
["Total valuation reductions:"]
["Total value used for rating (Rm)",6]
["Total land value (Rm)",6]
["Total value of improvements (Rm)",6]
["Total market value (Rm)",6]
["Rating:"]
["Average rate",3]
["Rate revenue budget (R '000)",null,null,null,null,null,null,null,null,null,null,null,null,null,null,null,null,null,{"$f":"SUM(C39:R39)","v":0}]
["Rate revenue expected to collect (R'000)",null,null,null,null,null,null,null,null,null,null,null,null,null,null,null,null,null,{"$f":"SUM(C40:R40)","v":0}]
["Expected cash collection rate (%)",4]
["Special rating areas (R'000)"]
["Rebates, exemptions - indigent (R'000)"]
["Rebates, exemptions - pensioners (R'000)"]
["Rebates, exemptions - bona fide farm. (R'000)"]
["Rebates, exemptions - other (R'000)"]
["Phase-in reductions/discounts (R'000)"]
["Total rebates,exemptns,reductns,discs (R'000)"]
[]
[{"$f":"head27a","v":"References"}]
["1. Land & Assistance Act, Restitution of Land Rights, Communual Property Associations"]
["2. Include value of additional reductions is 'free' value greater than MPRA minimum."]
["3. Average rate - cents in  the Rand. Eg 10.26 cents in the Rand is 0.1026, expressed to 6 decimal places maximum"]
["4. Include arrears collections"]
["5. In favour of the rate-payer"]
["6. Provide relevant information for historical comparisons."]

{"sheet":"SA12b","index":31,"n_rows":56,"n_cols":19,"rows_kept":56,"cut":false,"hidden":false,"merged":[]}
[{"$f":"muni&\" - \"&TableA12b","v":"FS193 Nketoana - Supporting Table SA12b Property rates by category (budget year)"}]
[{"$f":"desc","v":"Description"},{"$f":"head27","v":"Ref"},"Resi.","Indust.","Bus. & Comm.","Farm props.","State-owned ","Muni props.","Public service infra.","Private owned towns","Formal & Informal Settle.","Comm. Land","State trust land","Section 8(2)(n) (note 1)","Protect. Areas","National Monum/ts","Public benefit organs.","Mining Props."]
[{"$f":"Head9","v":"Budget Year 2018/19"}]
["Valuation:"]
["No. of properties",null,11907,1,568,3298,30,37,null,null,null,367]
["No. of sectional title property values",null,21]
["No. of unreasonably difficult properties s7(2)"]
["No. of supplementary valuations"]
["Supplementary valuation (Rm)"]
["No. of valuation roll amendments"]
["No. of objections by rate-payers"]
["No. of appeals by rate-payers"]
["No. of appeals by rate-payers finalised"]
["No. of successful objections",5]
["No. of successful objections > 10%",5]
["Estimated no. of properties not valued"]
["Years since last valuation (select)",null,4,4,4,4,4,4,null,null,null,4]
["Frequency of valuation (select)",null,4,4,4,4,4,4,null,null,null,4]
["Method of valuation used (select)",null,"Market","Market","Market","Market","Market","Market",null,null,null,"Market"]
["Base of valuation (select)",null,"Land & impr.","Land & impr.","Land & impr.","Land & impr.","Land & impr.","Land & impr.",null,null,null,"Land & impr."]
["Phasing-in properties s21 (number)"]
["Combination of rating types used? (Y/N)",null,"Yes","Yes","Yes","Yes","Yes","Yes",null,null,null,"Yes"]
["Flat rate used? (Y/N)",null,"No","No","No","Yes","Yes","No",null,null,null,"Yes"]
["Is balance rated by uniform rate/variable rate?",null,"Uniform","Uniform","Uniform","Uniform","Uniform","Uniform",null,null,null,"Uniform"]
["Valuation reductions:"]
["Valuation reductions-public infrastructure (Rm)"]
["Valuation reductions-nature reserves/park (Rm)"]
["Valuation reductions-mineral rights (Rm)"]
["Valuation reductions-R15,000 threshold (Rm)"]
["Valuation reductions-public worship (Rm)"]
["Valuation reductions-other (Rm)",2]
["Total valuation reductions:"]
["Total value used for rating (Rm)",6]
["Total land value (Rm)",6]
["Total value of improvements (Rm)",6]
["Total market value (Rm)",6]
["Rating:"]
["Average rate",3]
["Rate revenue budget (R '000)",null,null,null,null,null,null,null,null,null,null,null,null,null,null,null,null,null,{"$f":"SUM(C39:R39)","v":0}]
["Rate revenue expected to collect (R'000)",null,null,null,null,null,null,null,null,null,null,null,null,null,null,null,null,null,{"$f":"SUM(C40:R40)","v":0}]
["Expected cash collection rate (%)",4]
["Special rating areas (R'000)"]
["Rebates, exemptions - indigent (R'000)"]
["Rebates, exemptions - pensioners (R'000)"]
["Rebates, exemptions - bona fide farm. (R'000)"]
["Rebates, exemptions - other (R'000)"]
["Phase-in reductions/discounts (R'000)"]
["Total rebates,exemptns,reductns,discs (R'000)"]
[]
[{"$f":"head27a","v":"References"}]
["1. Land & Assistance Act, Restitution of Land Rights, Communual Property Associations"]
["2. Include value of additional reductions is 'free' value greater than MPRA minimum."]
["3. Average rate - cents in  the Rand. Eg 10.26 cents in the Rand is 0.1026, expressed to 6 decimal places maximum"]
["4. Include arrears collections"]
["5. In favour of the rate-payer"]
["6. Provide relevant information for historical comparisons."]

{"sheet":"SA13a","index":32,"n_rows":90,"n_cols":19,"rows_kept":90,"cut":false,"hidden":false,"merged":[[93,6,94,6],[93,0,94,0],[93,1,94,1],[93,2,94,2],[93,3,94,3],[93,4,94,4],[93,5,94,5],[1,6,2,6],[1,0,2,0],[1,1,2,1],[1,2,2,2],[1,3,2,3],[1,4,2,4],[1,5,2,5]]}
[{"$f":"muni&\" - \"&TableA13a","v":"FS193 Nketoana - Supporting Table SA13a Service Tariffs by category"}]
[{"$f":"desc","v":"Description"},{"$f":"head27","v":"Ref"},"Provide description of tariff structure where appropriate",{"$f":"head1b","v":"2014/15"},{"$f":"head1A","v":"2015/16"},{"$f":"Head1","v":"2016/17"},{"$f":"Head2","v":"Current Year 2017/18"},{"$f":"Head3","v":"2018/19 Medium Term Revenue & Expenditure Framework"}]
[null,null,null,null,null,null,null,{"$f":"Head9","v":"Budget Year 2018/19"},{"$f":"Head10","v":"Budget Year +1 2019/20"},{"$f":"Head11","v":"Budget Year +2 2020/21"}]
["Property rates (rate in the Rand)",1]
["Residential properties",null,null,4.0927000000000003E-3,4.3382620000000007E-3,4.6004000000000001E-3,4.8910259909920014E-3,{"$f":"G5*1.07","v":5.2333978103614419E-3},{"$f":"H5*1.06","v":5.5474016789831288E-3},5.8802457797221168E-3]
["Residential properties - vacant land",null,null,8.1852999999999995E-3,8.676418E-3,9.2008000000000003E-3,9.7620487999999991E-3,{"$f":"G6*1.07","v":1.0445392216E-2},{"$f":"H6*1.06","v":1.107211574896E-2},1.1736442693897601E-2]
["Formal/informal settlements",null,null,null,null,null,null,0,{"$f":"H7*1.06","v":0},0]
["Small holdings",null,null,null,null,null,null,0,{"$f":"H8*1.06","v":0},0]
["Farm properties - used",null,null,1.609E-3,1.70554E-3,1.8125999999999999E-3,1.9231685999999998E-3,2.057790402E-3,{"$f":"H9*1.06","v":2.1812578261199999E-3},2.3121332956872001E-3]
["Farm properties - not used",null,null,null,null,null,null,0,{"$f":"H10*1.06","v":0},0]
["Industrial properties",null,null,4.9092700000000003E-3,4.3382620000000007E-3,4.6004000000000001E-3,4.8810243999999996E-3,5.2226961080000002E-3,{"$f":"H11*1.06","v":5.5360578744800002E-3},5.8682213469488003E-3]
["Business and commercial properties",null,null,4.9092700000000003E-3,4.3382620000000007E-3,4.6004000000000001E-3,4.8810243999999996E-3,5.2226961080000002E-3,{"$f":"H12*1.06","v":5.5360578744800002E-3},5.8682213469488003E-3]
["Communal land - residential",null,null,null,null,null,null,0,{"$f":"H13*1.06","v":0},0]
["Communal land - small holdings",null,null,null,null,null,null,0,{"$f":"H14*1.06","v":0},0]
["Communal land - farm property",null,null,null,null,null,null,0,{"$f":"H15*1.06","v":0},0]
["Communal land - business and commercial",null,null,null,null,null,null,0,{"$f":"H16*1.06","v":0},0]
["Communal land - other",null,null,null,null,null,null,0,{"$f":"H17*1.06","v":0},0]
["State-owned properties",null,null,2.7841999999999999E-2,2.9512519999999997E-2,3.1280599999999999E-2,3.3188716599999994E-2,3.5511926761999997E-2,{"$f":"H18*1.06","v":3.7642642367719997E-2},3.9901200909783198E-2]
["Municipal properties",null,null,1.609E-3,1.70554E-3,1.8125999999999999E-3,1.9231685999999998E-3,2.057790402E-3,{"$f":"H19*1.06","v":2.1812578261199999E-3},2.3121332956872001E-3]
["Public service infrastructure",null,null,1.609E-3,1.70554E-3,1.8125999999999999E-3,1.9231685999999998E-3,2.057790402E-3,{"$f":"H20*1.06","v":2.1812578261199999E-3},2.3121332956872001E-3]
["Privately owned towns serviced by the owner"]
["State trust land"]
["Restitution and redistribution properties"]
["Protected areas",null,null,0,0,0]
["National monuments properties"]
[]
["Exemptions, reductions and rebates (Rands)"]
["Residential properties"]
["R15 000 threshhold rebate",null,null,15000,15000,15000,15000,15000,15000,15000]
["General residential rebate",null,null,20000,20000,20000,20000,20000,20000,20000]
["Indigent rebate or exemption",null,null,60000,60000,60000,60000,{"$f":"G31*1.06","v":63600},{"$f":"H31*1.06","v":67416},71460.960000000006]
["Pensioners/social grants rebate or exemption "]
["Temporary relief rebate or exemption"]
[" Bona fide farmers rebate or exemption"]
["Other rebates or exemptions",2]
[]
["Water tariffs"]
["Domestic"]
["Basic charge/fixed fee (Rands/month)",null,null,117.43,129.16999999999999,142.08699999999999,150.75430699999998,{"$f":"G39*1.07","v":161.30710848999999},{"$f":"H39*1.06","v":170.98553499939999},181.24466709936399,null,null,null,null,null,null,null,null,{"$f":"SUM(C39:R39)","v":1052.9786175887641}]
["Service point - vacant land (Rands/month)",null,null,9.41,10.82,11.902000000000001,12.628022,{"$f":"G40*1.07","v":13.511983540000001},{"$f":"H40*1.06","v":14.322702552400003},15.182064705544004,null,null,null,null,null,null,null,null,{"$f":"SUM(C40:R40)","v":87.77677279794402}]
["Water usage - flat rate tariff (c/kl)",null,null,null,null,0,0,0,{"$f":"H41*1.06","v":0},0]
["Water usage - life line tariff",null,"(describe structure)",139.13,160,176,186.73599999999999,199.80752000000001,{"$f":"H42*1.06","v":211.79597120000003},224.50372947200003]
["Water usage - Block 1 (c/kl)",null," (fill in thresholds)",5.89,6.48,7.128000000000001,7.5628080000000004,8.0922045600000008,{"$f":"H43*1.06","v":8.5777368336000013},9.0924010436160021]
["Water usage - Block 2 (c/kl)",null," (fill in thresholds)",9.2200000000000006,10.37,11.407,12.102827,12.95002489,{"$f":"H44*1.06","v":13.7270263834},14.550647966404]
["Water usage - Block 3 (c/kl)",null," (fill in thresholds)",12.57,14.2,15.620000000000001,16.57282,17.732917400000002,{"$f":"H45*1.06","v":18.796892444000001},19.924705990640003]
["Water usage - Block 4 (c/kl)",null," (fill in thresholds)",15.37,17.440000000000001,19.184000000000005,20.354224000000002,21.779019680000005,{"$f":"H46*1.06","v":23.085760860800008},24.470906512448011]
["Other",2,null,17.43,19.440000000000001,21.384000000000004,22.688424000000001,24.276613680000004,{"$f":"H47*1.06","v":25.733210500800006},27.277203130848008]
[]
["Waste water tariffs"]
["Domestic"]
["Basic charge/fixed fee (Rands/month)",null,null,54.27,59.7,63.282000000000004,67.142201999999997,{"$f":"G51*1.07","v":71.84215614},{"$f":"H51*1.06","v":76.152685508399998},80.721846638903997]
["Service point - vacant land (Rands/month)",null,null,102.58,112.84,119.61040000000001,126.9066344,{"$f":"G52*1.07","v":135.79009880800001},{"$f":"H52*1.06","v":143.93750473648001},152.57375502066881]
["Waste water - flat rate tariff (c/kl)",null,null,102.58,112.84,119.61040000000001,126.9066344,135.79009880800001,{"$f":"H53*1.06","v":143.93750473648001},152.57375502066881]
["Volumetric charge - Block 1 (c/kl)",null,"(fill in structure)",102.58,112.84,119.61040000000001,126.9066344,135.79009880800001,{"$f":"H54*1.06","v":143.93750473648001},152.57375502066881]
["Volumetric charge - Block 2 (c/kl)",null,"(fill in structure)",102.58,112.84,119.61040000000001,126.9066344,135.79009880800001,{"$f":"H55*1.06","v":143.93750473648001},152.57375502066881]
["Volumetric charge - Block 3 (c/kl)",null,"(fill in structure)",102.58,112.84,119.61040000000001,126.9066344,135.79009880800001,{"$f":"H56*1.06","v":143.93750473648001},152.57375502066881]
["Volumetric charge - Block 4 (c/kl)",null,"(fill in structure)",102.58,112.84,119.61040000000001,126.9066344,135.79009880800001,{"$f":"H57*1.06","v":143.93750473648001},152.57375502066881]
["Other",2]
[]
["Electricity tariffs"]
["Domestic"]
["Basic charge/fixed fee (Rands/month)",null,null,77.33,86.76,93.700800000000015,95.462375040000012,{"$f":"G62*1.068","v":101.95381654272002},{"$f":"H62*1.068","v":108.88667606762499},116.2909700402235]
["Service point - vacant land (Rands/month)"]
["FBE",null,"(how is this targeted?)"]
["Life-line tariff - meter",null,"(describe structure)"]
["Life-line tariff - prepaid",null,"(describe structure)"]
["Flat rate tariff - meter (c/kwh)"]
["Flat rate tariff - prepaid(c/kwh)"]
["Meter - IBT Block 1 (c/kwh)",null,"(fill in thresholds)",136.29,152.91999999999999,165.15360000000001,168.25848768,{"$f":"G69*1.068","v":179.70006484224001},{"$f":"H69*1.068","v":191.91966925151235},204.97020676061518]
["Meter - IBT Block 2 (c/kwh)",null,"(fill in thresholds)",0.74,0.78659999999999997,0.84166200000000002,0.85748524559999995,{"$f":"G70*1.068","v":0.91579424230079998},0.97806825077725446,1.0445768918301077]
["Meter - IBT Block 3 (c/kwh)",null,"(fill in thresholds)",0.93,0.99790000000000001,1.0677530000000002,1.0878267564000001,1.1617989758352003,1.240801306191994,1.3251757950130496]
["Meter - IBT Block 4 (c/kwh)",null,"(fill in thresholds)",1.26,1.4137,1.526796,1.5554997648,1.6612737488064,1.7742403637252353,1.8948887084585515]
["Meter - IBT Block 5 (c/kwh)",null,"(fill in thresholds)",1.48,1.6606000000000001,1.7934480000000002,1.8271648224000001,1.9514120303232003,2.0841080483851782,2.2258273956753705]
["Prepaid - IBT Block 1 (c/kwh)",null,"(fill in thresholds)",77.33,86.76,93.700800000000015,95.462375040000012,101.95381654272002,108.88667606762499,116.2909700402235]
["Prepaid - IBT Block 2 (c/kwh)",null,"(fill in thresholds)",0.74,0.79,0.85320000000000007,0.86924016000000004,0.92834849088000004,0.99147618825984007,1.0588965690615093]
["Prepaid - IBT Block 3 (c/kwh)",null,"(fill in thresholds)",0.93,0.99360000000000004,1.073088,1.0932620544,1.1676038740992001,1.2470009375379458,1.3317970012905263]
["Prepaid - IBT Block 4 (c/kwh)",null,"(fill in thresholds)",1.26,1.4092,1.5219360000000002,1.5505483968,1.6559856877824002,1.7685927145516036,1.8888570191411127]
["Prepaid - IBT Block 5 (c/kwh)",null,"(fill in thresholds)",1.48,1.6628000000000001,1.7958240000000001,1.8295854912,1.9539973046016001,2.0868691213145092,2.228776221563896]
["Other",2]
[]
["Waste management tariffs"]
["Domestic"]
["Street cleaning charge"]
["Basic charge/fixed fee",null,null,122.11,134.30000000000001,142.35800000000003,151.04183800000001,{"$f":"G84*1.07","v":161.61476666000002},{"$f":"H84*1.06","v":171.31165265960001},181.59035181917602]
["80l bin - once a week"]
["250l bin - once a week"]
[]
[{"$f":"head27a","v":"References"}]
["1. If properties are not rated or zero rated this must be indicated as such"]
["2.Please provide detailed descriptions on Sheet SA13b"]

{"sheet":"SA13b","index":33,"n_rows":50,"n_cols":19,"rows_kept":50,"cut":false,"hidden":false,"merged":[[94,5,95,5],[94,6,95,6],[1,6,2,6],[1,5,2,5],[94,0,95,0],[1,0,2,0],[1,1,2,1],[1,2,2,2],[1,3,2,3],[1,4,2,4],[94,1,95,1],[94,2,95,2],[94,3,95,3],[94,4,95,4]]}
[{"$f":"muni&\" - \"&TableA13b","v":"FS193 Nketoana - Supporting Table SA13b Service Tariffs by category - explanatory"}]
[{"$f":"desc","v":"Description"},{"$f":"head27","v":"Ref"},"Provide description of tariff structure where appropriate",{"$f":"head1b","v":"2014/15"},{"$f":"head1A","v":"2015/16"},{"$f":"Head1","v":"2016/17"},{"$f":"Head2","v":"Current Year 2017/18"},{"$f":"Head3","v":"2018/19 Medium Term Revenue & Expenditure Framework"}]
[null,null,null,null,null,null,null,{"$f":"Head9","v":"Budget Year 2018/19"},{"$f":"Head10","v":"Budget Year +1 2019/20"},{"$f":"Head11","v":"Budget Year +2 2020/21"}]
["Exemptions, reductions and rebates (Rands)"]
["[Insert lines as applicable]"]
["Residential property",null,null,-0.4,-0.42400000000000004,-0.44944000000000006,-0.47640640000000006,{"$f":"G6*1.07","v":-0.50975484800000015},{"$f":"H6*1.06","v":-0.54034013888000021},-0.57276054721280023]
["Public Service Infrastructure",null,null,-0.85,-0.90100000000000002,-0.95506000000000002,-1.0123636,{"$f":"G7*1.07","v":-1.0832290520000001},-1.1482227951200001,-1.2171161628272003]
["Farming(bona fide)",null,null,0.1,0.10600000000000001,0.11236000000000002,0.1191016,0.12743871200000001,0.13508503472000002,0.14319013680320003]
["Business",null,null,0.1,0.10600000000000001,0.11236000000000002,0.11910160000000002,0.12743871200000004,0.13508503472000005,0.14319013680320006]
["Industries",null,null,null,0,0,0,0,0,0]
["State owned",null,null,-0.21,-0.22259999999999999,-0.235956,-0.25011336000000001,-0.2676212952,-0.28367857291199999,-0.30069928728672002]
["Vacant"]
[]
["Water tariffs"]
["Residential",null," (fill in thresholds)"]
["Service fee per month",null," (fill in thresholds)",126.3,129.16999999999999,142.08699999999999,150.61222000000001,{"$f":"G16*1.07","v":161.15507540000002},{"$f":"H16*1.06","v":170.82437992400003},181.07384271944005]
["Consumption per kilolitre",null," (fill in thresholds)",10.82,7,7.7000000000000011,8.1620000000000008,{"$f":"G17*1.07","v":8.7333400000000019},{"$f":"H17*1.06","v":9.2573404000000021},9.8127808240000025]
["Business/Industries",null," (fill in thresholds)",null,0,0,0,0,0,0]
["Service fee per month",null," (fill in thresholds)",160,129.16999999999999,142.08699999999999,150.61222000000001,161.15507540000002,170.82437992400003,181.07384271944005]
["Consumption 6kl per month",null," (fill in thresholds)",10.37,7,7.7000000000000011,8.1620000000000008,8.7333400000000019,9.2573404000000021,9.8127808240000025]
["Additional availability charger:Farms and small holdings",null," (fill in thresholds)",160,7.55,8.3049999999999997,8.8033000000000001,9.419531000000001,9.9847028600000023,10.583785031600003]
["Departmental",null," (fill in thresholds)",null,0,0,0,0,0,0]
["Service fee per month",null," (fill in thresholds)",99.81,102.58,112.83800000000001,119.60828000000001,127.98085960000002,135.65971117600003,143.79929384656003]
["Consumption min of 6 kl per month",null," (fill in thresholds)",8.7200000000000006,8.92,9.8120000000000012,10.400720000000002,11.128770400000002,11.796496624000003,12.504286421440003]
[]
["Waste water tariffs"]
["Waterborne",null,"(fill in structure)"]
["Residential including churches and old age",null,"(fill in structure)"]
["Per toilet/urinal per month",null,"(fill in structure)",54.27,59.7,63.282000000000004,67.078920000000011,{"$f":"G29*1.07","v":71.774444400000021},{"$f":"H29*1.06","v":76.08091106400002},80.645765727840029]
["Minimum per month",null,"(fill in structure)",102.58,112.84,119.61040000000001,126.78702400000002,{"$f":"G30*1.07","v":135.66211568000003},{"$f":"H30*1.06","v":143.80184262080004},152.42995317804807]
["Additional Availability Charg: Farms/Small holdings",null,"(fill in structure)",102.58,112.84,119.61040000000001,126.78702400000002,135.66211568000003,143.80184262080004,152.42995317804807]
["Business including the schools and Industries",null,"(fill in structure)",null,null,null,0,0,0,0]
["Per toilet/urinal per month",null,"(fill in structure)",102.58,115.4,122.32400000000001,129.66344000000001,138.73988080000001,147.06427364800001,155.88813006688002]
["Minimum per month",null,"(fill in structure)",102.58,115.4,122.32400000000001,129.66344000000001,138.73988080000001,147.06427364800001,155.88813006688002]
["Additional Availability Charg: Farms/Small holdings",null,"(fill in structure)",102.58,115.4,122.32400000000001,129.66344000000001,138.73988080000001,147.06427364800001,155.88813006688002]
[]
["Electricity tariffs"]
["Domestic Prepaid",null,"(fill in thresholds)"]
["Block 1 (0-50kWh)",null,"(fill in thresholds)",0.77829999999999999,0.79,0.84530000000000005,0.86119164000000004,{"$f":"G39*1.068","v":0.91975267152000006},{"$f":"H39*1.068","v":0.9822958531833601},1.0490919711998286,null,null,null,null,null,null,null,null,{"$f":"SUM(C39:R39)","v":6.2259321359031894}]
["Block 2(51 - 350kWh)",null,"(fill in thresholds)",0.92600000000000005,0.99,1.0593000000000001,1.0792148400000001,{"$f":"G40*1.068","v":1.1526014491200003},1.2309783476601603,1.3146848753010514,null,null,null,null,null,null,null,null,{"$f":"SUM(C40:R40)","v":7.7527795120812115}]
["Block 3(351 - 600kWh)",null,"(fill in thresholds)",1.256,1.4092,1.5219360000000002,1.5505483968,1.6559856877824002,1.7685927145516036,1.8888570191411127]
["Block 4 (>600kWh)",null,"(fill in thresholds)",1.482,1.6628000000000001,1.7958240000000001,1.8295854912,1.9539973046016001,2.0868691213145092,2.228776221563896]
["Basic charge per month",null,"(fill in thresholds)",77.33,86.76,93.700800000000015,95.462375040000012,101.95381654272002,108.88667606762499,116.2909700402235]
[null,null,"(fill in thresholds)",null,null,null,null,0,0,0]
["Domestic Conventional",null,"(fill in thresholds)",null,null,null,null,0,0,0]
["Block 1 (0-50kWh)",null,"(fill in thresholds)",0.74,0.78659999999999997,0.84952800000000006,0.86549912640000004,0.92435306699520015,0.98720907555087378,1.0543392926883333]
["Block 2(51- 350kWh)",null,"(fill in thresholds)",0.93,0.99790000000000001,1.0677530000000002,1.0878267564000001,1.1617989758352003,1.240801306191994,1.3251757950130496]
["Block 3( 351kWh - 600kWh)",null,"(fill in thresholds)",1.26,1.4137,1.526796,1.5554997648,1.6612737488064,1.7742403637252353,1.8948887084585515]
["Block 4(> 600kWh)",null,"(fill in thresholds)",1.48,1.6606000000000001,1.7934480000000002,1.8271648224000001,1.9514120303232003,2.0841080483851782,2.2258273956753705]
["Basic charge per month",null,"(fill in thresholds)",136.29,152.91999999999999,165.15360000000001,168.25848768,179.70006484224001,191.91966925151235,204.97020676061518]

{"sheet":"SA14","index":34,"n_rows":54,"n_cols":12,"rows_kept":54,"cut":false,"hidden":false,"merged":[[1,1,3,1],[1,5,1,7],[1,0,2,0]]}
[{"$f":"muni&\" - \"&TableA14","v":"FS193 Nketoana - Supporting Table SA14 Household bills"}]
[{"$f":"desc","v":"Description"},{"$f":"head27","v":"Ref"},{"$f":"head1b","v":"2014/15"},{"$f":"head1A","v":"2015/16"},{"$f":"Head1","v":"2016/17"},{"$f":"Head2","v":"Current Year 2017/18"},null,null,{"$f":"Head3","v":"2018/19 Medium Term Revenue & Expenditure Framework"}]
[null,null,{"$f":"Head5","v":"Audited Outcome"},{"$f":"Head5","v":"Audited Outcome"},{"$f":"Head5","v":"Audited Outcome"},{"$f":"Head6","v":"Original Budget"},{"$f":"Head7","v":"Adjusted Budget"},{"$f":"Head8","v":"Full Year Forecast"},{"$f":"Head9","v":"Budget Year 2018/19"},{"$f":"Head9","v":"Budget Year 2018/19"},{"$f":"Head10","v":"Budget Year +1 2019/20"},{"$f":"Head11","v":"Budget Year +2 2020/21"}]
["Rand/cent",null,null,null,null,null,null,null,"% incr."]
["Monthly Account for Household - 'Middle Income Range'",1]
["Rates and services charges:"]
["Property rates",null,327.42,347.0652,367.88911200000001,390.33034783200003,390.33034783200003,390.33034783200003,7.0000000000000007E-2,{"$f":"H7*I7+H7","v":417.65347218024004},{"$f":"J7*1.06","v":442.71268051105449},{"$f":"K7*1.06","v":469.27544134171779}]
["Electricity: Basic levy",null,77.33,86.764259999999993,93.393049463999986,95.14883879392319,95.14883879392319,95.14883879392319,6.8000000000000005E-2,{"$f":"H8*I8+H8","v":101.61895983190996},{"$f":"J8*1.06","v":107.71609742182457},114.17906326713405]
["Electricity: Consumption",null,927.12,1040.22864,1119.7021080960001,1140.7525077282048,1140.7525077282048,1140.7525077282048,6.8000000000000005E-2,1218.3236782537228,1291.4230989489463,1368.9084848858831]
["Water: Basic levy",null,117.44,129.16999999999999,142.08699999999999,150.75430699999998,150.75430699999998,150.75430699999998,7.0000000000000007E-2,161.30710848999999,170.98553499939999,181.24466709936399]
["Water: Consumption",null,332.15,372.05,409.255,434.21955500000001,434.21955500000001,434.21955500000001,7.0000000000000007E-2,464.61492385000003,492.49181928100006,522.0413284378601]
["Sanitation",null,102.58,112.83799999999999,119.60827999999999,126.90438508,126.90438508,126.90438508,7.0000000000000007E-2,135.7876920356,143.93495355773601,152.57105077120016]
["Refuse removal",null,122.11,134.321,142.38025999999999,151.06545585999999,151.06545585999999,151.06545585999999,7.0000000000000007E-2,161.6400377702,171.33844003641201,181.61874643859673]
["Other"]
["sub-total",null,{"$f":"SUM(C7:C14)","v":2006.1499999999999},{"$f":"SUM(D7:D14)","v":2222.4371000000001},{"$f":"SUM(E7:E14)","v":2394.31480956},{"$f":"SUM(F7:F14)","v":2489.1753972941278},{"$f":"SUM(G7:G14)","v":2489.1753972941278},2489.1753972941278,{"$f":"IF(ISERROR(ROUND((J15-F15)/F15,3)),0,(ROUND((J15-F15)/F15,3)))","v":6.9000000000000006E-2},2660.9458724116726,2820.6026247563736,2989.8387822417558]
["VAT on Services"]
["Total large household bill:",null,{"$f":"SUM(C15:C16)","v":2006.1499999999999},{"$f":"SUM(D15:D16)","v":2222.4371000000001},{"$f":"SUM(E15:E16)","v":2394.31480956},{"$f":"SUM(F15:F16)","v":2489.1753972941278},{"$f":"SUM(G15:G16)","v":2489.1753972941278},2489.1753972941278,{"$f":"IF(ISERROR(ROUND((J17-F17)/F17,3)),0,(ROUND((J17-F17)/F17,3)))","v":6.9000000000000006E-2},2660.9458724116726,2820.6026247563736,2989.8387822417558]
["% increase/-decrease",null,null,{"$f":"IF(ISERROR((D17/C17)-1),0,((D17/C17)-1))","v":0.10781202801385747},{"$f":"IF(ISERROR((E17/D17)-1),0,((E17/D17)-1))","v":7.7337491153292914E-2},{"$f":"IF(ISERROR((F17/E17)-1),0,((F17/E17)-1))","v":3.9619095766091128E-2},{"$f":"IF(ISERROR((G17/F17)-1),0,((G17/F17)-1))","v":0},{"$f":"IF(ISERROR((H17/G17)-1),0,((H17/G17)-1))","v":0},null,{"$f":"IF(ISERROR((J17/H17)-1),0,((J17/H17)-1))","v":6.9006979300964E-2},{"$f":"IF(ISERROR((K17/J17)-1),0,((K17/J17)-1))","v":6.0000000000000275E-2},{"$f":"IF(ISERROR((L17/K17)-1),0,((L17/K17)-1))","v":5.9999999999999831E-2}]
[]
["Monthly Account for Household - 'Affordable Range' ",2]
[{"$f":"A6","v":"Rates and services charges:"}]
[{"$f":"A7","v":"Property rates"},null,167.12,177.1472,187.77603199999999,199.23036995199999,199.23036995199999,199.23036995199999,7.0000000000000007E-2,{"$f":"H22*I22+H22","v":213.17649584864},{"$f":"J22*1.06","v":225.9670855995584},{"$f":"K22*1.06","v":239.52511073553191}]
["Electricity: Basic levy",null,77.33,86.764259999999993,93.393049463999986,95.14883879392319,95.14883879392319,95.14883879392319,6.8000000000000005E-2,{"$f":"H23*I23+H23","v":101.61895983190996},{"$f":"J23*1.06","v":107.71609742182457},114.17906326713405]
["Electricity: Consumption",null,316.72000000000003,355.35984000000002,382.50933177600001,389.70050721338879,389.70050721338879,389.70050721338879,6.8000000000000005E-2,416.20014170389925,{"$f":"J24*1.06","v":441.17215020613321},467.64247921850125]
["Water: Basic levy",null,117.44,129.16999999999999,142.08699999999999,150.75430699999998,150.75430699999998,150.75430699999998,7.0000000000000007E-2,161.30710848999999,{"$f":"J25*1.06","v":170.98553499939999},181.24466709936399]
["Water: Consumption",null,105,274.85000000000002,302.33500000000004,320.77743500000003,320.77743500000003,320.77743500000003,7.0000000000000007E-2,343.23185545000001,{"$f":"J26*1.06","v":363.82576677700001},385.65531278362005]
["Sanitation",null,102.58,112.83799999999999,119.60827999999999,126.90438508,126.90438508,126.90438508,7.0000000000000007E-2,135.7876920356,{"$f":"J27*1.06","v":143.93495355773601},152.57105077120016]
["Refuse removal",null,122.11,134.321,142.38025999999999,151.06545585999999,151.06545585999999,151.06545585999999,7.0000000000000007E-2,161.6400377702,{"$f":"J28*1.06","v":171.33844003641201},181.61874643859673]
["Other"]
["sub-total",null,{"$f":"SUM(C22:C29)","v":1008.3000000000002},1270.4503,1370.0889532399999,1433.5812988993116,1433.5812988993116,1433.5812988993116,{"$f":"IF(ISERROR(ROUND((J30-F30)/F30,3)),0,(ROUND((J30-F30)/F30,3)))","v":6.9000000000000006E-2},{"$f":"SUM(J22:J29)","v":1532.9622911302492},{"$f":"SUM(K22:K29)","v":1624.9400285980644},{"$f":"SUM(L22:L29)","v":1722.436430313948}]
["VAT on Services"]
["Total small household bill:",null,{"$f":"SUM(C30:C31)","v":1008.3000000000002},1270.4503,1370.0889532399999,1433.5812988993116,1433.5812988993116,1433.5812988993116,{"$f":"IF(ISERROR(ROUND((J32-F32)/F32,3)),0,(ROUND((J32-F32)/F32,3)))","v":6.9000000000000006E-2},{"$f":"SUM(J30:J31)","v":1532.9622911302492},{"$f":"SUM(K30:K31)","v":1624.9400285980644},{"$f":"SUM(L30:L31)","v":1722.436430313948}]
["% increase/-decrease",null,null,{"$f":"IF(ISERROR((D32/C32)-1),0,((D32/C32)-1))","v":0.25999236338391318},{"$f":"IF(ISERROR((E32/D32)-1),0,((E32/D32)-1))","v":7.8427824559528236E-2},{"$f":"IF(ISERROR((F32/E32)-1),0,((F32/E32)-1))","v":4.6341768911547288E-2},{"$f":"IF(ISERROR((G32/F32)-1),0,((G32/F32)-1))","v":0},{"$f":"IF(ISERROR((H32/G32)-1),0,((H32/G32)-1))","v":0},null,{"$f":"IF(ISERROR((J32/H32)-1),0,((J32/H32)-1))","v":6.932358304844044E-2},{"$f":"IF(ISERROR((K32/J32)-1),0,((K32/J32)-1))","v":6.0000000000000053E-2},{"$f":"IF(ISERROR((L32/K32)-1),0,((L32/K32)-1))","v":5.9999999999999831E-2}]
[null,null,null,null,{"$f":"IF(ISERROR((E33/D33)-1),0,((E33/D33)-1))","v":-0.69834566085420302},{"$f":"IF(ISERROR((F33/E33)-1),0,((F33/E33)-1))","v":-0.40911571662461466},{"$f":"IF(ISERROR((G33/F33)-1),0,((G33/F33)-1))","v":-1},{"$f":"IF(ISERROR((H33/G33)-1),0,((H33/G33)-1))","v":0}]
["Monthly Account for Household - 'Indigent' Household receiving free basic services",3]
[{"$f":"A6","v":"Rates and services charges:"}]
[{"$f":"A7","v":"Property rates"},null,13.64,14.458400000000001,15.325904000000001,16.260784144000002,16.260784144000002,16.260784144000002,7.0000000000000007E-2,{"$f":"H37*I37+H37","v":17.399039034080001},{"$f":"J37*1.06","v":18.442981376124802},{"$f":"K37*1.06","v":19.549560258692292}]
["Electricity: Basic levy",null,77.33,86.764259999999993,93.393049463999986,95.14883879392319,95.14883879392319,95.14883879392319,6.8000000000000005E-2,{"$f":"H38*I38+H38","v":101.61895983190996},{"$f":"J38*1.06","v":107.71609742182457},114.17906326713405]
["Electricity: Consumption",null,38.92,43.668240000000004,47.004493536000005,47.888178014476807,47.888178014476807,47.888178014476807,6.8000000000000005E-2,51.144574119461232,{"$f":"J39*1.06","v":54.213248566628906},57.466043480626645]
["Water: Basic levy",null,117.44,129.16999999999999,142.08699999999999,150.75430699999998,150.75430699999998,150.75430699999998,7.0000000000000007E-2,161.30710848999999,{"$f":"J40*1.06","v":170.98553499939999},181.24466709936399]
["Water: Consumption",null,35.340000000000003,38.880000000000003,42.768000000000001,45.376848000000003,45.376848000000003,45.376848000000003,7.0000000000000007E-2,48.553227360000001,{"$f":"J41*1.06","v":51.466421001600004},54.554406261696009]
["Sanitation",null,102.58,112.83799999999999,119.60827999999999,126.90438508,126.90438508,126.90438508,7.0000000000000007E-2,135.7876920356,{"$f":"J42*1.06","v":143.93495355773601},152.57105077120016]
["Refuse removal",null,122.11,134.321,142.38025999999999,151.06545585999999,151.06545585999999,151.06545585999999,7.0000000000000007E-2,161.6400377702,{"$f":"J43*1.06","v":171.33844003641201},181.61874643859673]
["Other",null,null,null,null,null,null,null,{"$f":"IF(J44>0,ROUND((J44-F44)/F44,3),\"\")","v":""}]
["sub-total",null,{"$f":"SUM(C37:C44)","v":507.35999999999996},{"$f":"SUM(D37:D44)","v":560.09989999999993},{"$f":"SUM(E37:E44)","v":602.56698699999993},{"$f":"SUM(F37:F44)","v":633.39879689240001},{"$f":"SUM(G37:G44)","v":633.39879689240001},633.39879689240001,{"$f":"IF(ISERROR(ROUND((J45-F45)/F45,3)),0,(ROUND((J45-F45)/F45,3)))","v":7.0000000000000007E-2},677.4506386412512,718.09767695972619,761.18353757730995]
["VAT on Services",null,null,null,null,null,null,null,{"$f":"IF(J46>0,I13ROUND((J46-F46)/F46,3),\"\")","v":""}]
["Total small household bill:",null,{"$f":"SUM(C45:C46)","v":507.35999999999996},{"$f":"SUM(D45:D46)","v":560.09989999999993},{"$f":"SUM(E45:E46)","v":602.56698699999993},{"$f":"SUM(F45:F46)","v":633.39879689240001},{"$f":"SUM(G45:G46)","v":633.39879689240001},633.39879689240001,{"$f":"IF(ISERROR(ROUND((J47-F47)/F47,3)),0,(ROUND((J47-F47)/F47,3)))","v":7.0000000000000007E-2},677.4506386412512,718.09767695972619,761.18353757730995]
[{"$f":"A18","v":"% increase/-decrease"},null,null,{"$f":"IF(ISERROR((D47/C47)-1),0,((D47/C47)-1))","v":0.10394966099022396},{"$f":"IF(ISERROR((E47/D47)-1),0,((E47/D47)-1))","v":7.582055808258481E-2},{"$f":"IF(ISERROR((F47/E47)-1),0,((F47/E47)-1))","v":5.1167439567013862E-2},{"$f":"IF(ISERROR((G47/F47)-1),0,((G47/F47)-1))","v":0},{"$f":"IF(ISERROR((H47/G47)-1),0,((H47/G47)-1))","v":0},null,{"$f":"IF(ISERROR((J47/H47)-1),0,((J47/H47)-1))","v":6.9548350841491358E-2},{"$f":"IF(ISERROR((K47/J47)-1),0,((K47/J47)-1))","v":5.9999999999999831E-2},{"$f":"IF(ISERROR((L47/K47)-1),0,((L47/K47)-1))","v":6.0000000000000275E-2}]
[]
[{"$f":"head27a","v":"References"}]
["1. Use as basis property value of R700 000, 1 000 kWh electricity and 30kl water"]
["2. Use as basis property value  of R500 000 and R700 000, 500 kWh electricity and 25kl water"]
["3. Use as basis property value of R 300 000, 350kWh electricity and 20kl water (50 kWh electricity and 6 kl water free)"]
["4. Note this is for a SINGLE household."]

{"sheet":"SA15","index":35,"n_rows":36,"n_cols":11,"rows_kept":36,"cut":false,"hidden":false,"merged":[[1,5,1,7],[1,8,1,10],[1,1,3,1],[1,0,2,0]]}
[{"$f":"muni&\" - \"&TableA15","v":"FS193 Nketoana - Supporting Table SA15 Investment particulars by type"}]
["Investment type",{"$f":"head27","v":"Ref"},{"$f":"head1b","v":"2014/15"},{"$f":"head1A","v":"2015/16"},{"$f":"Head1","v":"2016/17"},{"$f":"Head2","v":"Current Year 2017/18"},null,null,{"$f":"Head3","v":"2018/19 Medium Term Revenue & Expenditure Framework"}]
[null,null,{"$f":"Head5","v":"Audited Outcome"},{"$f":"Head5","v":"Audited Outcome"},{"$f":"Head5","v":"Audited Outcome"},{"$f":"Head6","v":"Original Budget"},{"$f":"Head7","v":"Adjusted Budget"},{"$f":"Head8","v":"Full Year Forecast"},{"$f":"Head9","v":"Budget Year 2018/19"},{"$f":"Head10","v":"Budget Year +1 2019/20"},{"$f":"Head11","v":"Budget Year +2 2020/21"}]
["R thousand"]
["Parent municipality"]
["Securities - National Government"]
["Listed Corporate Bonds"]
["Deposits - Bank",null,8219000,7987827.2199999997,21355670.199999999,16167241.27,16167241.27,16167241.27,16167241.27,{"$f":"I8*1.06","v":17137275.746199999},18165512.290971998]
["Deposits - Public Investment Commissioners"]
["Deposits - Corporation for Public Deposits"]
["Bankers Acceptance Certificates"]
["Negotiable Certificates of Deposit - Banks"]
["Guaranteed Endowment Policies (sinking)"]
["Repurchase Agreements - Banks"]
["Municipal Bonds"]
[]
["Municipality sub-total",1,{"$f":"SUM(C6:C15)","v":8219000},7987827.2199999997,21355670.199999999,16167241.27,16167241.27,16167241.27,16167241.27,17137275.746199999,18165512.290971998]
[]
["Entities"]
[{"$f":"A6","v":"Securities - National Government"}]
[{"$f":"A7","v":"Listed Corporate Bonds"}]
["Deposits - Bank"]
["Deposits - Public Investment Commissioners"]
["Deposits - Corporation for Public Deposits"]
["Bankers Acceptance Certificates"]
["Negotiable Certificates of Deposit - Banks"]
["Guaranteed Endowment Policies (sinking)"]
["Repurchase Agreements - Banks"]
[]
["Entities sub-total",null,{"$f":"SUM(C20:C29)","v":0},0,0,0,0,0,0,0,0]
[]
["Consolidated total:",null,{"$f":"C17+C30","v":8219000},7987827.2199999997,21355670.199999999,16167241.27,16167241.27,16167241.27,16167241.27,17137275.746199999,18165512.290971998]
[]
[{"$f":"head27a","v":"References"}]
["1. Total investments must reconcile to Budgeted Financial Position ('current' call investment deposits plus 'non-current' investments)"]
["check investment balance",null,{"$f":"C17-'A6-FinPos'!C7-'A6-FinPos'!C16","v":8219000},{"$f":"D17-'A6-FinPos'!D7-'A6-FinPos'!D16","v":7987827.2199999997},{"$f":"E17-'A6-FinPos'!E7-'A6-FinPos'!E16","v":4478037.1999999993},{"$f":"F17-'A6-FinPos'!F7-'A6-FinPos'!F16","v":0},{"$f":"G17-'A6-FinPos'!G7-'A6-FinPos'!G16","v":0},{"$f":"H17-'A6-FinPos'!H7-'A6-FinPos'!H16","v":0},{"$f":"I17-'A6-FinPos'!J7-'A6-FinPos'!J16","v":0},{"$f":"J17-'A6-FinPos'!K7-'A6-FinPos'!K16","v":0},{"$f":"K17-'A6-FinPos'!L7-'A6-FinPos'!L16","v":0}]

{"sheet":"SA16","index":36,"n_rows":32,"n_cols":15,"rows_kept":32,"cut":false,"hidden":false,"merged":[[1,3,2,3],[1,9,2,9],[2,10,2,14]]}
[{"$f":"muni&\" - \"&TableA16","v":"FS193 Nketoana - Supporting Table SA16 Investment particulars by maturity"}]
["Investments by Maturity",{"$f":"head27","v":"Ref"},"Period of Investment","Type of Investment","Capital Guarantee\n(Yes/ No)","Variable or Fixed interest rate","Interest Rate ᶟ","Commission Paid (Rands)","Commission Recipient","Expiry date of investment","Opening balance","Interest to be realised","Partial / Premature Withdrawal (4)","Investment Top Up","Closing Balance"]
["Name of institution & investment ID",1,"Yrs/Months"]
["Parent municipality"]
["STANDARD BANK",null,72,"SECURITY","YES","VARIABLE RATE",5.6800000000000003E-2,0,0,"2016-11-03",5130229.5199999996,284258.57,null,null,{"$f":"SUM(K5:N5)","v":5414488.0899999999}]
[null,null,"Continued","SHARES","NO","VARIABLE RATE",null,null,null,"INFINITY",6000,null,null,null,{"$f":"SUM(K6:N6)","v":6000}]
["VKB",null,"Continued","LONG TERM","NO","VARIABLE RATE",5.5E-2,0,0,"CALL ACCOUNT",1064058.82,41808.49,-15843.6,5281.2,1095304.9099999999]
["VKB",null,"Continued","LONG TERM","NO","VARIABLE RATE",5.5E-2,0,0,"FD",145099.20000000001,null,null,null,145099.20000000001]
[null,null,"Continued","SHORT TERM","NO","VARIABLE RATE",5.5E-2,0,0,"SHORT TERM",30000000,235304.1,-30235304.100000001,null,0]
["VKB LISTED SHARES",null,"Continued","LONG TERM","NO","VARIABLE RATE",5.5E-2,0,0,"CALL ACCOUNT",2246424.35,544620.62,-35040000,41755304.100000001,9506349.0700000003]
["ABSA",null,"continued","LONG TERM","NO","VARIABLE RATE",0.05,0,0,"CALL ACCOUNT",null,null,null,null,0]
["Municipality sub-total",null,null,null,null,null,null,null,null,null,{"$f":"SUM(K5:K11)","v":38591811.890000001},{"$f":"SUM(L5:L11)","v":1105991.78},{"$f":"SUM(M5:M11)","v":-65291147.700000003},{"$f":"SUM(N5:N11)","v":41760585.300000004},{"$f":"SUM(O5:O11)","v":16167241.27}]
[]
["Entities"]
[null,null,null,null,null,null,null,null,null,null,null,null,null,null,{"$f":"SUM(K15:N15)","v":0}]
[null,null,null,null,null,null,null,null,null,null,null,null,null,null,{"$f":"SUM(K16:N16)","v":0}]
[null,null,null,null,null,null,null,null,null,null,null,null,null,null,0]
[null,null,null,null,null,null,null,null,null,null,null,null,null,null,0]
[null,null,null,null,null,null,null,null,null,null,null,null,null,null,0]
[null,null,null,null,null,null,null,null,null,null,null,null,null,null,0]
[null,null,null,null,null,null,null,null,null,null,null,null,null,null,0]
["Entities sub-total",null,null,null,null,null,null,null,null,null,{"$f":"SUM(K15:K21)","v":0},null,{"$f":"SUM(M15:M21)","v":0},{"$f":"SUM(N15:N21)","v":0},{"$f":"SUM(O15:O21)","v":0}]
[]
["TOTAL INVESTMENTS AND INTEREST",1,null,null,null,null,null,null,null,null,{"$f":"K12+K22","v":38591811.890000001},null,{"$f":"M12+M22","v":-65291147.700000003},{"$f":"N12+N22","v":41760585.300000004},{"$f":"O12+O22","v":16167241.27}]
[]
[{"$f":"head27a","v":"References"}]
["1. Total investments must reconcile to all items in Table SA15 for the Current Year (30 June)"]
["2. List investments in expiry date order"]
["3. If 'variable' is selected in column F, input interest rate range"]
["4. Withdrawals to be entered as negative"]
["check"]
[null,null,null,null,null,null,null,null,null,null,null,null,"`"]

{"sheet":"SA17","index":37,"n_rows":71,"n_cols":45,"rows_kept":71,"cut":false,"hidden":false,"merged":[[1,5,1,7],[1,8,1,10]]}
[{"$f":"muni&\" - \"&TableA17","v":"FS193 Nketoana - Supporting Table SA17 Borrowing"}]
["Borrowing - Categorised by type",{"$f":"head27","v":"Ref"},{"$f":"head1b","v":"2014/15"},{"$f":"head1A","v":"2015/16"},{"$f":"Head1","v":"2016/17"},{"$f":"Head2","v":"Current Year 2017/18"},null,null,{"$f":"Head3","v":"2018/19 Medium Term Revenue & Expenditure Framework"}]
["R thousand",null,{"$f":"Head5","v":"Audited Outcome"},{"$f":"Head5","v":"Audited Outcome"},{"$f":"Head5","v":"Audited Outcome"},{"$f":"Head6","v":"Original Budget"},{"$f":"Head7","v":"Adjusted Budget"},{"$f":"Head8","v":"Full Year Forecast"},{"$f":"Head9","v":"Budget Year 2018/19"},{"$f":"Head10","v":"Budget Year +1 2019/20"},{"$f":"Head11","v":"Budget Year +2 2020/21"}]
["Parent municipality"]
["Annuity and Bullet Loans",null,8569848,8273764,7829433,7986021.6600000001,7986021.6600000001,7986021.6600000001,6902519,6298484,5298484]
["Long-Term Loans (non-annuity)"]
["Local registered stock"]
["Instalment Credit"]
["Financial Leases"]
["PPP liabilities"]
["Finance Granted By Cap Equipment Supplier"]
["Marketable Bonds"]
["Non-Marketable Bonds"]
["Bankers Acceptances"]
["Financial derivatives"]
["Other Securities"]
["Municipality sub-total",1,{"$f":"SUM(C5:C16)","v":8569848},{"$f":"SUM(D5:D16)","v":8273764},7829433,7986021.6600000001,7986021.6600000001,7986021.6600000001,6902519,6298484,5298484]
[]
["Entities"]
[{"$f":"A5","v":"Annuity and Bullet Loans"}]
["Long-Term Loans (non-annuity)"]
["Local registered stock"]
["Instalment Credit"]
["Financial Leases"]
["PPP liabilities"]
["Finance Granted By Cap Equipment Supplier"]
["Marketable Bonds"]
["Non-Marketable Bonds"]
["Bankers Acceptances"]
["Financial derivatives"]
["Other Securities"]
["Entities sub-total",1,{"$f":"SUM(C20:C31)","v":0},{"$f":"SUM(D20:D31)","v":0},0,0,0,0,0,0,0]
[]
["Total Borrowing",1,{"$f":"C17+C32","v":8569848},{"$f":"D17+D32","v":8273764},7829433,7986021.6600000001,7986021.6600000001,7986021.6600000001,6902519,6298484,5298484]
[]
["Unspent Borrowing - Categorised by type"]
["Parent municipality"]
["Long-Term Loans (annuity/reducing balance)"]
["Long-Term Loans (non-annuity)"]
["Local registered stock"]
["Instalment Credit",null,null,null,null,null,null,null,null,null,null,null,null,null,null,null,null,null,null,null,null,null,null,null,null,null,null,null,null,null,null,null,null,null,null,null,null,null,null,null,null,null,439005000,null,539442200]
["Financial Leases"]
["PPP liabilities",null,null,null,null,null,null,null,null,null,null,null,null,null,null,null,null,null,null,null,null,null,0,null,0,null,null,0,null,0,null,null,0,null,0,null,null,0,null,0,null,null,1834701353,null,1241876995]
["Finance Granted By Cap Equipment Supplier",null,null,null,null,null,null,null,null,null,null,null,null,null,null,null,null,null,null,null,null,null,null,null,null,null,null,null,null,null,null,null,null,null,null,null,null,null,null,null,null,null,839041298,null,440387617]
["Marketable Bonds",null,null,null,null,null,null,null,null,null,null,null,null,null,null,null,null,null,null,null,null,null,null,null,null,null,null,null,null,null,null,null,null,null,null,null,null,null,null,null,null,null,976543638,null,782372961]
["Non-Marketable Bonds",null,null,null,null,null,null,null,null,null,null,null,null,null,null,null,null,null,null,null,null,null,null,null,null,null,null,null,null,null,null,null,null,null,null,null,null,null,null,null,null,null,19116417,null,19116417]
["Bankers Acceptances",null,null,null,null,null,null,null,null,null,null,null,null,null,null,null,null,null,null,null,null,null,null,null,null,null,null,null,null,null,null,null,null,null,null,null,null,null,null,null,null,null,2273706353,null,1781319195]
["Financial derivatives",null,null,null,null,null,null,null,null,null,null,null,null,null,null,null,null,null,null,null,null,null,null,null,null,null,null,null,null,null,null,null,null,null,null,null,null,null,null,null,null,null,180259232,null,140396729]
["Other Securities",null,null,null,null,null,null,null,null,null,null,null,null,null,null,null,null,null,null,null,null,null,null,null,null,null,null,null,null,null,null,null,null,null,null,null,null,null,null,null,null,null,125005000,null,100442200]
["Municipality sub-total",1,{"$f":"SUM(C38:C49)","v":0},{"$f":"SUM(D38:D49)","v":0},0,0,0,0,0,0,0,null,null,null,null,null,null,null,null,null,null,null,null,null,null,null,null,null,null,null,null,null,null,null,null,null,null,null,null,null,null,null,40341797,null,38954529]
[null,null,null,null,null,null,null,null,null,null,null,null,null,null,null,null,null,null,null,null,null,null,null,null,null,null,null,null,null,null,null,null,null,null,null,null,null,null,null,null,null,null,14912435,null,1000000]
["Entities"]
[{"$f":"A38","v":"Long-Term Loans (annuity/reducing balance)"}]
["Long-Term Loans (non-annuity)"]
["Local registered stock"]
["Instalment Credit"]
["Financial Leases"]
["PPP liabilities"]
["Finance Granted By Cap Equipment Supplier"]
["Marketable Bonds"]
["Non-Marketable Bonds"]
["Bankers Acceptances"]
["Financial derivatives"]
["Other Securities"]
["Entities sub-total",1,{"$f":"SUM(C53:C64)","v":0},{"$f":"SUM(D53:D64)","v":0},0,0,0,0,0,0,0]
[]
["Total Unspent Borrowing",1,{"$f":"C50+C65","v":0},{"$f":"D50+D65","v":0},0,0,0,0,0,0,0]
[]
[{"$f":"head27a","v":"References"}]
["1. Total borrowing must reconcile to Budgeted Financial Position (Borrowing - non-current)"]
["check borrowing balance",null,{"$f":"C34-'A6-FinPos'!C37","v":0},{"$f":"D34-'A6-FinPos'!D37","v":0},{"$f":"E34-'A6-FinPos'!E37","v":0},{"$f":"F34-'A6-FinPos'!F37","v":0},{"$f":"G34-'A6-FinPos'!G37","v":0},{"$f":"H34-'A6-FinPos'!H37","v":0},{"$f":"I34-'A6-FinPos'!J37","v":0},{"$f":"J34-'A6-FinPos'!K37","v":0},{"$f":"K34-'A6-FinPos'!L37","v":0}]

{"sheet":"SA18","index":38,"n_rows":53,"n_cols":11,"rows_kept":53,"cut":false,"hidden":false,"merged":[[1,5,1,7],[1,8,1,10]]}
[{"$f":"muni&\" - \"& TableA18","v":"FS193 Nketoana - Supporting Table SA18 Transfers and grant receipts"}]
[{"$f":"desc","v":"Description"},{"$f":"head27","v":"Ref"},{"$f":"head1b","v":"2014/15"},{"$f":"head1A","v":"2015/16"},{"$f":"Head1","v":"2016/17"},{"$f":"Head2","v":"Current Year 2017/18"},null,null,{"$f":"Head3","v":"2018/19 Medium Term Revenue & Expenditure Framework"}]
["R thousand",null,{"$f":"Head5","v":"Audited Outcome"},{"$f":"Head5","v":"Audited Outcome"},{"$f":"Head5","v":"Audited Outcome"},{"$f":"Head6","v":"Original Budget"},{"$f":"Head7","v":"Adjusted Budget"},{"$f":"Head8","v":"Full Year Forecast"},{"$f":"Head9","v":"Budget Year 2018/19"},{"$f":"Head10","v":"Budget Year +1 2019/20"},{"$f":"Head11","v":"Budget Year +2 2020/21"}]
["RECEIPTS:","1, 2"]
[]
["Operating Transfers and Grants"]
["National Government:",null,{"$f":"SUM(C8:C14)","v":82649000},{"$f":"SUM(D8:D14)","v":84163000},81702000,82580000.0044,82580000.0044,82580000.0044,90367000,99425240,108171274.40000001]
["Local Government Equitable Share",{"$f":"IF(A8=\"  Levy replacement\",3,\"\")","v":""},79011000,80525000,79054000,79880000.0044,79880000.0044,79880000.0044,87543000,96073000,104320000]
["Finance Management ","",1600000,1600000,1625000,1700000,1700000,1700000,1770000,2235000,2667000]
["Municipal Systems Improvement","",934000,930000,null,0,0,0]
["EPWP Incentive","",1104000,1108000,1023000,1000000,1000000,1000000,1054000,{"$f":"I11*1.06","v":1117240},{"$f":"J11*1.06","v":1184274.4000000001}]
[null,""]
[null,""]
["  Other transfers/grants [insert description]"]
["Provincial Government:",null,{"$f":"SUM(C16:C20)","v":0},{"$f":"SUM(D16:D20)","v":0},0,0,0,0,0,0,0]
[null,{"$f":"IF(A16=\"  Housing\",4,\"\")","v":""}]
[null,{"$f":"IF(A17=\"  Housing\",4,\"\")","v":""}]
[null,{"$f":"IF(A18=\"  Housing\",4,\"\")","v":""}]
[null,{"$f":"IF(A19=\"  Housing\",4,\"\")","v":""}]
[{"$f":"A14","v":"  Other transfers/grants [insert description]"}]
["District Municipality:",null,{"$f":"SUM(C22:C23)","v":0},{"$f":"SUM(D22:D23)","v":0},0,0,0,0,0,0,0]
["  [insert description]"]
[]
["Other grant providers:",null,{"$f":"SUM(C25:C26)","v":0},{"$f":"SUM(D25:D26)","v":0},0,0,0,0,0,0,0]
["  [insert description]"]
[]
["Total Operating Transfers and Grants",5,{"$f":"C7+C15+C21+C24","v":82649000},{"$f":"D7+D15+D21+D24","v":84163000},81702000,82580000.0044,82580000.0044,82580000.0044,90367000,99425240,108171274.40000001]
[]
["Capital Transfers and Grants"]
[{"$f":"A7","v":"National Government:"},null,{"$f":"SUM(C31:C36)","v":0},{"$f":"SUM(D31:D36)","v":62773000},64218000,98761000,98761000,98761000,64927000,38572000,76516000]
[" Municipal Infrastructure Grant (MIG)",null,null,24633000,24218000,25755000,25755000,25755000,24927000,25372000,26602000]
["Regional Bulk Infrastructure",null,null,30000000,40000000,68006000,68006000,68006000,40000000,10000000,45000000]
["Integrated National Electrification Programme",null,null,3240000,null,5000000,5000000,5000000,0,3200000,4914000]
[null,null,null,0]
[null,null,null,0]
["ACIP",null,null,4900000]
[{"$f":"A15","v":"Provincial Government:"},null,{"$f":"SUM(C38)","v":0},{"$f":"SUM(D38)","v":0},0,0,0,0,0,0,0]
["Other capital transfers/grants [insert description]"]
[{"$f":"A21","v":"District Municipality:"},null,{"$f":"SUM(C40:C41)","v":0},0,0,0,0,0,0,0,0]
[{"$f":"A22","v":"  [insert description]"}]
[]
[{"$f":"A24","v":"Other grant providers:"},null,{"$f":"SUM(C43:C44)","v":0},{"$f":"SUM(D43:D44)","v":0},0,0,0,0,0,0,0]
[{"$f":"LEFT(A25,22)","v":"  [insert description]"}]
[]
["Total Capital Transfers and Grants",5,{"$f":"C30+C37+C39+C42","v":0},62773000,64218000,98761000,98761000,98761000,64927000,38572000,76516000]
["TOTAL RECEIPTS OF TRANSFERS & GRANTS",null,{"$f":"C27+C45","v":82649000},146936000,145920000,181341000.00440001,181341000.00440001,181341000.00440001,155294000,137997240,184687274.40000001]
[{"$f":"head27a","v":"References"}]
["1. Each transfer/grant is listed by name as gazetted together with the name of the transferring department or municipality, donor or other organisation"]
["2. Amounts actually RECEIVED; not revenue recognised (objective is to confirm grants transferred)"]
["3. Replacement of RSC levies"]
["4. Housing subsidies for housing where ownership transferred to organisations or persons outside the control of the municipality"]
["5. Total transfers and grants must reconcile to Budgeted Cash Flows"]
["6. Motor vehicle licensing refunds to be included under 'agency' services (Not Grant Receipts)"]

{"sheet":"SA19","index":39,"n_rows":49,"n_cols":11,"rows_kept":49,"cut":false,"hidden":false,"merged":[[1,5,1,7],[1,8,1,10]]}
[{"$f":"muni&\" - \"& TableA19","v":"FS193 Nketoana - Supporting Table SA19 Expenditure on transfers and grant programme"}]
[{"$f":"desc","v":"Description"},{"$f":"head27","v":"Ref"},{"$f":"head1b","v":"2014/15"},{"$f":"head1A","v":"2015/16"},{"$f":"Head1","v":"2016/17"},{"$f":"Head2","v":"Current Year 2017/18"},null,null,{"$f":"Head3","v":"2018/19 Medium Term Revenue & Expenditure Framework"}]
["R thousand",null,{"$f":"Head5","v":"Audited Outcome"},{"$f":"Head5","v":"Audited Outcome"},{"$f":"Head5","v":"Audited Outcome"},{"$f":"Head6","v":"Original Budget"},{"$f":"Head7","v":"Adjusted Budget"},{"$f":"Head8","v":"Full Year Forecast"},{"$f":"Head9","v":"Budget Year 2018/19"},{"$f":"Head10","v":"Budget Year +1 2019/20"},{"$f":"Head11","v":"Budget Year +2 2020/21"}]
["EXPENDITURE:",1]
[]
["Operating expenditure of Transfers and Grants"]
[{"$f":"'SA18'!A7","v":"National Government:"},null,{"$f":"SUM(C8:C14)","v":81545000},{"$f":"SUM(D8:D14)","v":83055000},81702000,82580000.0044,82580000.0044,82580000.0044,90367000,99425240,108171274.40000001]
[{"$f":"IF('SA18'!A8=\"\",\"\",'SA18'!A8)","v":"Local Government Equitable Share"},null,79011000,80525000,79054000,79880000.0044,79880000.0044,79880000.0044,87543000,96073000,104320000]
[{"$f":"IF('SA18'!A9=\"\",\"\",'SA18'!A9)","v":"Finance Management "},null,1600000,1600000,1625000,1700000,1700000,1700000,1770000,2235000,2667000]
[{"$f":"IF('SA18'!A10=\"\",\"\",'SA18'!A10)","v":"Municipal Systems Improvement"},null,934000,930000,0,0,0,0]
[{"$f":"IF('SA18'!A11=\"\",\"\",'SA18'!A11)","v":"EPWP Incentive"},null,null,null,1023000,1000000,1000000,1000000,1054000,{"$f":"I11*1.06","v":1117240},{"$f":"J11*1.06","v":1184274.4000000001}]
[{"$f":"IF('SA18'!A12=\"\",\"\",'SA18'!A12)","v":""}]
[{"$f":"IF('SA18'!A13=\"\",\"\",'SA18'!A13)","v":""}]
[{"$f":"'SA18'!A14","v":"  Other transfers/grants [insert description]"}]
[{"$f":"'SA18'!A15","v":"Provincial Government:"},null,{"$f":"SUM(C16:C20)","v":0},{"$f":"SUM(D16:D20)","v":0},0,0,0,0,0,0,0]
[{"$f":"IF('SA18'!A16=\"\",\"\",'SA18'!A16)","v":""}]
[{"$f":"IF('SA18'!A17=\"\",\"\",'SA18'!A17)","v":""}]
[{"$f":"IF('SA18'!A18=\"\",\"\",'SA18'!A18)","v":""}]
[{"$f":"IF('SA18'!A19=\"\",\"\",'SA18'!A19)","v":""}]
[{"$f":"'SA18'!A20","v":"  Other transfers/grants [insert description]"}]
[{"$f":"'SA18'!A21","v":"District Municipality:"},null,{"$f":"SUM(C22:C23)","v":0},{"$f":"SUM(D22:D23)","v":0},0,0,0,0,0,0,0]
[{"$f":"'SA18'!A22","v":"  [insert description]"}]
[]
[{"$f":"'SA18'!A24","v":"Other grant providers:"},null,{"$f":"SUM(C25:C26)","v":0},{"$f":"SUM(D25:D26)","v":0},0,0,0,0,0,0,0]
[{"$f":"'SA18'!A25","v":"  [insert description]"}]
[]
["Total operating expenditure of Transfers and Grants:",null,{"$f":"C7+C15+C21+C24","v":81545000},83055000,81702000,82580000.0044,82580000.0044,82580000.0044,90367000,99425240,108171274.40000001]
[]
["Capital expenditure of Transfers and Grants"]
[{"$f":"'SA18'!A30","v":"National Government:"},null,{"$f":"SUM(C31:C36)","v":51875000},{"$f":"SUM(D31:D36)","v":57873000},64218000,98761000,98761000,98761000,64927000,38572000,76516000]
[{"$f":"IF('SA18'!A31=\"\",\"\",'SA18'!A31)","v":" Municipal Infrastructure Grant (MIG)"},null,26575000,24633000,24218000,25755000,25755000,25755000,24927000,25372000,26602000]
[{"$f":"IF('SA18'!A32=\"\",\"\",'SA18'!A32)","v":"Regional Bulk Infrastructure"},null,20000000,30000000,40000000,68006000,68006000,68006000,40000000,10000000,45000000]
[{"$f":"IF('SA18'!A33=\"\",\"\",'SA18'!A33)","v":"Integrated National Electrification Programme"},null,5300000,3240000,null,5000000,5000000,5000000,0,3200000,4914000]
[{"$f":"IF('SA18'!A34=\"\",\"\",'SA18'!A34)","v":""}]
[{"$f":"IF('SA18'!A35=\"\",\"\",'SA18'!A35)","v":""}]
[{"$f":"'SA18'!A36","v":"ACIP"}]
[{"$f":"'SA18'!A37","v":"Provincial Government:"},null,{"$f":"SUM(C38)","v":0},{"$f":"SUM(D38)","v":0},0,0,0,0,0,0,0]
[{"$f":"'SA18'!A38","v":"Other capital transfers/grants [insert description]"}]
[{"$f":"'SA18'!A39","v":"District Municipality:"},null,{"$f":"SUM(C40:C41)","v":0},{"$f":"SUM(D40:D41)","v":0},0,0,0,0,0,0,0]
[{"$f":"'SA18'!A40","v":"  [insert description]"}]
[]
[{"$f":"'SA18'!A42","v":"Other grant providers:"},null,{"$f":"SUM(C43:C44)","v":0},{"$f":"SUM(D43:D44)","v":0},0,0,0,0,0,0,0]
[{"$f":"'SA18'!A43","v":"  [insert description]"}]
[]
["Total capital expenditure of Transfers and Grants",null,{"$f":"C30+C37+C39+C42","v":51875000},{"$f":"D30+D37+D39+D42","v":57873000},64218000,98761000,98761000,98761000,64927000,38572000,76516000]
[]
["TOTAL EXPENDITURE OF TRANSFERS AND GRANTS",null,{"$f":"C27+C45","v":133420000},140928000,145920000,181341000.00440001,181341000.00440001,181341000.00440001,155294000,137997240,184687274.40000001]
[{"$f":"head27a","v":"References"}]
["1. Expenditure must be separately listed for each transfer or grant received or recognised"]

{"sheet":"SA20","index":40,"n_rows":60,"n_cols":11,"rows_kept":60,"cut":false,"hidden":false,"merged":[[56,0,56,10],[1,5,1,7],[1,8,1,10],[54,0,54,10],[55,0,55,10]]}
[{"$f":"muni&\" - \"& TableA20","v":"FS193 Nketoana - Supporting Table SA20 Reconciliation of transfers, grant receipts and unspent funds"}]
[{"$f":"desc","v":"Description"},{"$f":"head27","v":"Ref"},{"$f":"head1b","v":"2014/15"},{"$f":"head1A","v":"2015/16"},{"$f":"Head1","v":"2016/17"},{"$f":"Head2","v":"Current Year 2017/18"},null,null,{"$f":"Head3","v":"2018/19 Medium Term Revenue & Expenditure Framework"}]
["R thousand",null,{"$f":"Head5","v":"Audited Outcome"},{"$f":"Head5","v":"Audited Outcome"},{"$f":"Head5","v":"Audited Outcome"},{"$f":"Head6","v":"Original Budget"},{"$f":"Head7","v":"Adjusted Budget"},{"$f":"Head8","v":"Full Year Forecast"},{"$f":"Head9","v":"Budget Year 2018/19"},{"$f":"Head10","v":"Budget Year +1 2019/20"},{"$f":"Head11","v":"Budget Year +2 2020/21"}]
["Operating transfers and grants:","1,3"]
[{"$f":"'SA18'!A7","v":"National Government:"}]
["Balance unspent at beginning of the year"]
["Current year receipts",null,82878721,85568721,81702000,82580000.0044,82580000.0044,82580000.0044,90366999.997428596,95789019.997274309,101536361.19711077]
["Conditions met - transferred to revenue",null,{"$f":"C6+C7-C9","v":82878721},{"$f":"D6+D7-D9","v":85568721},81702000,82580000.0044,82580000.0044,82580000.0044,90366999.997428596,95789019.997274309,101536361.19711077]
["Conditions still to be met - transferred to liabilities"]
["Provincial Government:"]
["Balance unspent at beginning of the year"]
[{"$f":"A7","v":"Current year receipts"}]
[{"$f":"A8","v":"Conditions met - transferred to revenue"},null,{"$f":"C11+C12-C14","v":0},0,0,0,0,0,0,0,0]
[{"$f":"A9","v":"Conditions still to be met - transferred to liabilities"}]
["District Municipality:"]
[{"$f":"A11","v":"Balance unspent at beginning of the year"}]
[{"$f":"A12","v":"Current year receipts"}]
[{"$f":"A13","v":"Conditions met - transferred to revenue"},null,{"$f":"C16+C17-C19","v":0},0,0,0,0,0,0,0,0]
[{"$f":"A14","v":"Conditions still to be met - transferred to liabilities"}]
["Other grant providers:"]
[{"$f":"A11","v":"Balance unspent at beginning of the year"}]
[{"$f":"A12","v":"Current year receipts"}]
[{"$f":"A13","v":"Conditions met - transferred to revenue"},null,{"$f":"C21+C22-C24","v":0},0,0,0,0,0,0,0,0]
[{"$f":"A14","v":"Conditions still to be met - transferred to liabilities"}]
["Total operating transfers and grants revenue",null,{"$f":"C8+C13+C18+C23","v":82878721},85568721,81702000,82580000.0044,82580000.0044,82580000.0044,90366999.997428596,95789019.997274309,101536361.19711077]
["Total operating transfers and grants - CTBM",2,0,0,0,0,0,0,0,0,0]
[]
["Capital transfers and grants:","1,3"]
[{"$f":"A5","v":"National Government:"}]
["Balance unspent at beginning of the year"]
["Current year receipts",null,44175660,58035212,64218000,98761000,98761000,98761000,64927000,68822620,72951977.200000003]
["Conditions met - transferred to revenue",null,{"$f":"C30+C31-C33","v":44175660},58035212,64218000,98761000,98761000,98761000,64927000,68822620,72951977.200000003]
["Conditions still to be met - transferred to liabilities"]
["Provincial Government:"]
["Balance unspent at beginning of the year"]
[{"$f":"A31","v":"Current year receipts"}]
[{"$f":"A32","v":"Conditions met - transferred to revenue"},null,{"$f":"C35+C36-C38","v":0},0,0,0,0,0,0,0,0]
[{"$f":"A33","v":"Conditions still to be met - transferred to liabilities"}]
["District Municipality:"]
[{"$f":"A35","v":"Balance unspent at beginning of the year"}]
[{"$f":"A36","v":"Current year receipts"}]
[{"$f":"A37","v":"Conditions met - transferred to revenue"},null,{"$f":"C40+C41-C43","v":0},0,0,0,0,0,0,0,0]
[{"$f":"A38","v":"Conditions still to be met - transferred to liabilities"}]
["Other grant providers:"]
[{"$f":"A35","v":"Balance unspent at beginning of the year"}]
[{"$f":"A36","v":"Current year receipts"}]
[{"$f":"A37","v":"Conditions met - transferred to revenue"},null,{"$f":"C45+C46-C48","v":0},0,0,0,0,0,0,0,0]
[{"$f":"A38","v":"Conditions still to be met - transferred to liabilities"}]
["Total capital transfers and grants revenue",null,{"$f":"C32+C37+C42+C47","v":44175660},58035212,64218000,98761000,98761000,98761000,64927000,68822620,72951977.200000003]
["Total capital transfers and grants - CTBM",2,0,0,0,0,0,0,0,0,0]
[]
["TOTAL TRANSFERS AND GRANTS REVENUE",null,{"$f":"C25+C49","v":127054381},143603933,145920000,181341000.00440001,181341000.00440001,181341000.00440001,155293999.9974286,164611639.99727431,174488338.39711076]
["TOTAL TRANSFERS AND GRANTS - CTBM",null,{"$f":"C26+C50","v":0},{"$f":"D26+D50","v":0},0,0,0,0,0,0,0]
[{"$f":"head27a","v":"References"}]
["1. Total capital transfers and grants revenue must reconcile to Budgeted Financial Performance and Financial Position; total recurrent grants revenue must reconcile to Budgeted Financial Performance"]
["2. CTBM = conditions to be met"]
["3. National Treasury database will require this reconciliation for each transfer/grant"]
[]
["Check opex",null,{"$f":"C25-'A4-FinPerf RE'!C18","v":0},{"$f":"D25-'A4-FinPerf RE'!D18","v":0},{"$f":"E25-'A4-FinPerf RE'!E18","v":0},{"$f":"F25-'A4-FinPerf RE'!F18","v":0},{"$f":"G25-'A4-FinPerf RE'!G18","v":0},{"$f":"H25-'A4-FinPerf RE'!H18","v":0},{"$f":"I25-'A4-FinPerf RE'!J18","v":0},{"$f":"J25-'A4-FinPerf RE'!K18","v":0},{"$f":"K25-'A4-FinPerf RE'!L18","v":0}]
["Check capex",null,{"$f":"C49-'A5-Capex'!C70","v":0},{"$f":"D49-'A5-Capex'!D70","v":0},{"$f":"E49-'A5-Capex'!E70","v":0},{"$f":"F49-'A5-Capex'!F70","v":0},{"$f":"G49-'A5-Capex'!G70","v":-9.9999904632568359E-3},{"$f":"H49-'A5-Capex'!H70","v":-9.9999904632568359E-3},{"$f":"I49-'A5-Capex'!J70","v":0},{"$f":"J49-'A5-Capex'!K70","v":0},{"$f":"K49-'A5-Capex'!L70","v":0}]

{"sheet":"SA21","index":41,"n_rows":71,"n_cols":12,"rows_kept":71,"cut":false,"hidden":false,"merged":[[1,9,1,11],[1,5,1,8]]}
[{"$f":"muni&\" - \"& TableA21","v":"FS193 Nketoana - Supporting Table SA21 Transfers and grants made by the municipality"}]
[{"$f":"desc","v":"Description"},{"$f":"head27","v":"Ref"},{"$f":"head1b","v":"2014/15"},{"$f":"head1A","v":"2015/16"},{"$f":"Head1","v":"2016/17"},{"$f":"Head2","v":"Current Year 2017/18"},null,null,null,{"$f":"Head3","v":"2018/19 Medium Term Revenue & Expenditure Framework"}]
["R thousand",null,{"$f":"Head5","v":"Audited Outcome"},{"$f":"Head5","v":"Audited Outcome"},{"$f":"Head5","v":"Audited Outcome"},{"$f":"Head6","v":"Original Budget"},{"$f":"Head7","v":"Adjusted Budget"},{"$f":"Head8","v":"Full Year Forecast"},{"$f":"Head5b","v":"Pre-audit outcome"},{"$f":"Head9","v":"Budget Year 2018/19"},{"$f":"Head10","v":"Budget Year +1 2019/20"},{"$f":"Head11","v":"Budget Year +2 2020/21"}]
[]
["Cash Transfers to other municipalities"]
["Insert description",1]
[]
[]
["Total Cash Transfers To Municipalities:",null,{"$f":"SUM(C6:C8)","v":0},{"$f":"SUM(D6:D8)","v":0},0,0,0,0,0,0,0,0]
[]
["Cash Transfers to Entities/Other External Mechanisms"]
[{"$f":"$A$6","v":"Insert description"},2]
[]
[]
["Total Cash Transfers To Entities/Ems'",null,{"$f":"SUM(C12:C14)","v":0},{"$f":"SUM(D12:D14)","v":0},0,0,0,0,0,0,0,0]
[]
["Cash Transfers to other Organs of State"]
[{"$f":"$A$6","v":"Insert description"},3]
[]
[]
["Total Cash Transfers To Other Organs Of State:",null,{"$f":"SUM(C18:C20)","v":0},{"$f":"SUM(D18:D20)","v":0},0,0,0,0,0,0,{"$f":"SUM(K18:K20)","v":0},0]
[]
["Cash Transfers to Organisations"]
[{"$f":"$A$6","v":"Insert description"}]
[]
["Total Cash Transfers To Organisations",null,{"$f":"SUM(C24:C25)","v":0},0,0,0,0,0,0,0,0,0]
[]
["Cash Transfers to Groups of Individuals"]
[{"$f":"$A$6","v":"Insert description"}]
[]
["Total Cash Transfers To Groups Of Individuals:",null,{"$f":"SUM(C29:C30)","v":0},0,0,0,0,0,0,0,0,0]
["TOTAL CASH TRANSFERS AND GRANTS",6,{"$f":"C9+C15+C21+C26+C31","v":0},0,0,0,0,0,0,0,0,0]
[]
["Non-Cash Transfers to other municipalities"]
["Insert description",1]
[]
[]
["Total Non-Cash Transfers To Municipalities:",null,{"$f":"SUM(C35:C37)","v":0},{"$f":"SUM(D35:D37)","v":0},0,0,0,0,0,0,0,0]
[]
["Non-Cash Transfers to Entities/Other External Mechanisms"]
[{"$f":"$A$6","v":"Insert description"},2]
[]
[]
["Total Non-Cash Transfers To Entities/Ems'",null,{"$f":"SUM(C41:C43)","v":0},{"$f":"SUM(D41:D43)","v":0},0,0,0,0,0,0,0,0]
[]
["Non-Cash Transfers to other Organs of State"]
[{"$f":"$A$6","v":"Insert description"},3]
[]
[]
["Total Non-Cash Transfers To Other Organs Of State:",null,{"$f":"SUM(C47:C49)","v":0},{"$f":"SUM(D47:D49)","v":0},0,0,0,0,0,0,{"$f":"SUM(K47:K49)","v":0},{"$f":"SUM(L47:L49)","v":0}]
[]
["Non-Cash Grants to Organisations"]
[{"$f":"$A$6","v":"Insert description"},4]
[]
[]
["Total Non-Cash Grants To Organisations",null,{"$f":"SUM(C53:C55)","v":0},{"$f":"SUM(D53:D55)","v":0},0,0,0,0,0,0,{"$f":"SUM(K53:K55)","v":0},{"$f":"SUM(L53:L55)","v":0}]
[]
["Groups of Individuals"]
[{"$f":"$A$6","v":"Insert description"},5]
[]
[]
["Total Non-Cash Grants To Groups Of Individuals:",null,{"$f":"SUM(C59:C61)","v":0},0,0,0,0,0,0,0,0,0]
["TOTAL NON-CASH TRANSFERS AND GRANTS",null,{"$f":"C38+C44+C50+C56+C62","v":0},0,0,0,0,0,0,0,0,0]
["TOTAL TRANSFERS AND GRANTS",6,{"$f":"C32+C63","v":0},{"$f":"D32+D63","v":0},0,0,0,0,0,0,0,0]
[{"$f":"head27a","v":"References"}]
["1. Insert description listed by municipal name and demarcation code of recipient"]
["2. Insert description of each entity or external mechanism (an external mechanism may be provided with resources to ensure a minimum level of service)"]
["3. Insert description of each Organ of State (e.g. transfer to electricity provider to compensate for FBS provided)"]
["4. Insert description of each other organisation (e.g. charity)"]
["5 Insert description of each other organisation (e.g. the aged, child-headed households)"]
["6. All descriptions should separate transfers for 'capital purposes' and 'operating purposes'"]

{"sheet":"SA22","index":42,"n_rows":120,"n_cols":11,"rows_kept":120,"cut":false,"hidden":false,"merged":[[1,5,1,7],[1,8,1,10]]}
[{"$f":"muni&\" - \"&TableA22","v":"FS193 Nketoana - Supporting Table SA22 Summary councillor and staff benefits"}]
["Summary of Employee and Councillor remuneration",{"$f":"head27","v":"Ref"},{"$f":"head1b","v":"2014/15"},{"$f":"head1A","v":"2015/16"},{"$f":"Head1","v":"2016/17"},{"$f":"Head2","v":"Current Year 2017/18"},null,null,{"$f":"Head3","v":"2018/19 Medium Term Revenue & Expenditure Framework"}]
["R thousand",null,{"$f":"Head5","v":"Audited Outcome"},{"$f":"Head5","v":"Audited Outcome"},{"$f":"Head5","v":"Audited Outcome"},{"$f":"Head6","v":"Original Budget"},{"$f":"Head7","v":"Adjusted Budget"},{"$f":"Head8","v":"Full Year Forecast"},{"$f":"Head9","v":"Budget Year 2018/19"},{"$f":"Head10","v":"Budget Year +1 2019/20"},{"$f":"Head11","v":"Budget Year +2 2020/21"}]
[null,1,"A","B","C","D","E","F","G","H","I"]
["Councillors (Political Office Bearers plus Other)"]
["Basic Salaries and Wages",null,3755287.33,4331983.0025200006,4591901.9826712012,6701314.4214857146,6727167.4799131472,6727167.4799131472,{"$f":"H6*1.07","v":7198069.2035070676},{"$f":"I6*1.06","v":7629953.3557174923},8087750.5570605425]
["Pension and UIF Contributions",null,530498.28,612837.60432000004,649607.86057920009,445481.48880000005,897171.79142857145,897171.79142857145,{"$f":"H7*1.07","v":959973.81682857149},1017572.2458382859,1078626.5805885831]
["Medical Aid Contributions",null,0,41528.99,44020.729399999997,14668.416000000003,14717.767680000003,14717.767680000003,15748.011417600004,16692.892102656006,17694.465628815367]
["Motor Vehicle Allowance",null,1340860.2,1036707.7387999999,1098910.203128,1176253.1766857144,1180210.6640091431,1180210.6640091431,1262825.4104897832,1338594.9351191702,1418910.6312263205]
["Cellphone Allowance",null,359488.8,340433.78719999996,360859.81443199998,502182.30514285719,503871.89046857151,503871.89046857151,539142.92280137155,571491.49816945381,605780.98805962107]
["Housing Allowances",null,0,0,0,null,0,0,0,0,0]
["Other benefits and allowances",null,268699.89,299444.29515999998,317410.95286959998,212727.75,177976.93295314291,177976.93295314291,190435.31825986292,201861.43735545472,213973.12359678201]
["Sub Total - Councillors",null,{"$f":"SUM(C6:C12)","v":6254834.5},6662935.4180000005,7062711.5430800002,9052627.5581142865,9501116.5264525767,9501116.5264525767,10166194.683304258,10776166.364302514,11422736.346160665]
["% increase",4,null,{"$f":"IF(ISERROR((D13/C13)-1),0,((D13/C13)-1))","v":6.5245678043120092E-2},{"$f":"IF(ISERROR((E13/D13)-1),0,((E13/D13)-1))","v":6.0000000000000053E-2},0.2817495805819783,4.9542408042213992E-2,0,7.0000000000000062E-2,6.0000000000000053E-2,6.0000000000000053E-2]
[]
["Senior Managers of the Municipality",2]
["Basic Salaries and Wages",null,4661478.47,4949315.4425655594,5246274.3691194933,5613513.5749578597,5613513.5749578578,5613513.5749578578,5714000,{"$f":"I17*1.06","v":6056840},6420250.4000000004]
["Pension and UIF Contributions",null,147133.22,156218.40206856001,165591.50619267361,177182.91162616079,177182.91162616079,177182.91162616079,{"$f":"H18*1.07","v":189585.71543999205},{"$f":"I18*1.06","v":200960.85836639159},213018.50986837511]
["Medical Aid Contributions",null,0,0,0,0,0,0,0,{"$f":"I19*1.06","v":0},0]
["Overtime",null,0,0,0,0,0,0,0,{"$f":"I20*1.06","v":0},0]
["Performance Bonus",null,0,0,0,0,0,0,0,{"$f":"I21*1.06","v":0},0]
["Motor Vehicle Allowance",3,918466.32,975179.77832735993,1033690.5650270015,1106048.9045788918,1106048.9045788918,1106048.9045788918,1183472.3278994143,{"$f":"I22*1.06","v":1254480.6675733794},1329749.5076277822]
["Cellphone Allowance",3,119400,126772.71120000001,134379.07387200001,143785.60904304002,143785.60904304002,143785.60904304002,153850.60167605284,{"$f":"I23*1.06","v":163081.63777661603},172866.53604321301]
["Housing Allowances",3,268125,284681.1825,301762.05345000001,322885.3971915,322885.3971915,322885.3971915,345487.37499490503,{"$f":"I24*1.06","v":366216.61749459937},388189.61454427533]
["Other benefits and allowances",3,220714.7,234343.39129560001,248403.99477333602,265792.27440746955,265792.27440746955,265792.27440746955,284397.73361599242,{"$f":"I25*1.06","v":301461.59763295198},319549.29349092912]
["Payments in lieu of leave",null,65481.32,69524.660547360007,73696.140180201604,78854.869992815715,78854.869992815715,78854.869992815715,84374.710892312825,{"$f":"I26*1.06","v":89437.193545851595},94803.425158602695]
["Long service awards"]
["Post-retirement benefit obligations",6]
["Sub Total - Senior Managers of Municipality",null,{"$f":"SUM(C17:C28)","v":6400799.0300000003},{"$f":"SUM(D17:D28)","v":6796035.5685044387},7203797.7026147051,7708063.5417977385,7708063.5417977367,7708063.5417977367,7955168.4645186691,8432478.5723897889,8938427.2867331784]
[{"$f":"$A$14","v":"% increase"},{"$f":"$B$14","v":4},null,{"$f":"IF(ISERROR((D29/C29)-1),0,((D29/C29)-1))","v":6.1747999999999692E-2},{"$f":"IF(ISERROR((E29/D29)-1),0,((E29/D29)-1))","v":6.0000000000000053E-2},7.0000000000000506E-2,-2.2204460492503131E-16,0,3.205797686811751E-2,6.0000000000000053E-2,6.0000000000000275E-2]
[]
["Other Municipal Staff"]
["Basic Salaries and Wages",null,40592303.810000002,41156848.377640009,43278574.892909631,55429994.774746649,65513397.629238851,65513397.629238851,65811656.423063412,{"$f":"I33*1.06","v":69760355.808447227},73945977.156954065]
["Pension and UIF Contributions",null,8360013.7400000002,8727854.344560001,8065407.5828713188,8864550.8406538405,10123100.366656,10123100.366656,10112365,{"$f":"I34*1.06","v":10719106.9},11362253.314000001]
["Medical Aid Contributions",null,2152038.88,2246728.5907199997,2456039.3287974433,2695782.3695271844,2854983.8790034284,2854983.8790034284,3001253,{"$f":"I35*1.06","v":3181328.18},3372207.8708000001]
["Overtime",null,4336984.6100000003,2562000,3401780.7109607588,7414304.1305828579,5047536.518571428,5047536.518571428,3125410,{"$f":"I36*1.06","v":3312934.6},3511710.6760000004]
["Performance Bonus",null,3227120.24,3369113.5305600003,3622872.7842054479,3496443.2798571433,2776006.2242194288,2776006.2242194288,{"$f":"H37*1.06","v":2942566.5976725947},{"$f":"I37*1.06","v":3119120.5935329506},3306267.8291449277]
["Motor Vehicle Allowance",3,2293876.38,2394806.9407199998,2593733.289858521,1989084.2661639655,3475300.5207908577,3475300.5207908577,3683818.5520383092,{"$f":"I38*1.06","v":3904847.665160608},4139138.5250702449]
["Cellphone Allowance",3,302834.88,316159.61472000001,339702.8830864341,248695.1884998171,980415.31323428568,980415.31323428568,1039240.2320283429,{"$f":"I39*1.06","v":1101594.6459500436},1167690.3247070462]
["Housing Allowances",3,201023.52,209868.55487999998,225277.04881095921,683656.99469421408,1255700.1257142858,1255700.1257142858,1331042.133257143,{"$f":"I40*1.06","v":1410904.6612525715},1495558.940927726]
["Other benefits and allowances",3,2192487.42,2288956.8664799999,4008513.66,5059970.4000000004,5936167.9652525755,5936167.9652525755,5947321,{"$f":"I41*1.06","v":6304160.2600000007},6682409.8756000008]
["Payments in lieu of leave",null,432880.33,451927.06452000001]
["Long service awards",null,343907.41,359039.33603999997]
["Post-retirement benefit obligations",6]
["Sub Total - Other Municipal Staff",null,{"$f":"SUM(C33:C44)","v":64435471.220000014},64083303.220840007,67991902.181500524,85882482.244725689,97962608.542681143,97962608.542681143,96994672.938059807,102814353.31434342,108983214.51320401]
[{"$f":"$A$14","v":"% increase"},{"$f":"$B$14","v":4},null,{"$f":"IF(ISERROR((D45/C45)-1),0,((D45/C45)-1))","v":-5.4654368547660814E-3},{"$f":"IF(ISERROR((E45/D45)-1),0,((E45/D45)-1))","v":6.0992470178869107E-2},0.26312810039447454,0.14065879306483753,0,-9.8806638473659669E-3,6.0000000000000275E-2,5.9999999999999831E-2]
[]
["Total Parent Municipality",null,{"$f":"C13+C29+C45","v":77091104.750000015},77542274.207344443,82258411.427195221,102643173.34463772,115171788.61093146,115171788.61093146,115116036.08588274,122022998.25103572,129344378.14609785]
[null,null,null,{"$f":"IF(ISERROR((D48/C48)-1),0,((D48/C48)-1))","v":5.85241914495227E-3},{"$f":"IF(ISERROR((E48/D48)-1),0,((E48/D48)-1))","v":6.0820207661694825E-2},0.24781370760465671,0.1220598979751657,0,-4.8408143800782177E-4,6.0000000000000053E-2,5.9999999999999831E-2]
[]
["Board Members of Entities"]
["Basic Salaries and Wages"]
["Pension and UIF Contributions"]
["Medical Aid Contributions"]
["Overtime"]
["Performance Bonus"]
["Motor Vehicle Allowance",3]
["Cellphone Allowance",3]
["Housing Allowances",3]
["Other benefits and allowances",3]
["Board Fees"]
["Payments in lieu of leave"]
["Long service awards"]
["Post-retirement benefit obligations",6]
["Sub Total - Board Members of Entities",null,{"$f":"SUM(C52:C64)","v":0},{"$f":"SUM(D52:D64)","v":0},0,0,0,0,0,0,0]
[{"$f":"$A$14","v":"% increase"},{"$f":"$B$14","v":4},null,{"$f":"IF(ISERROR((D65/C65)-1),0,((D65/C65)-1))","v":0},{"$f":"IF(ISERROR((E65/D65)-1),0,((E65/D65)-1))","v":0},0,0,0,0,0,0]
[]
["Senior Managers of Entities"]
["Basic Salaries and Wages"]
["Pension and UIF Contributions"]
["Medical Aid Contributions"]
["Overtime"]
["Performance Bonus"]
["Motor Vehicle Allowance",3]
["Cellphone Allowance",3]
["Housing Allowances",3]
["Other benefits and allowances",3]
["Payments in lieu of leave"]
["Long service awards"]
["Post-retirement benefit obligations",6]
["Sub Total - Senior Managers of Entities",null,{"$f":"SUM(C69:C80)","v":0},{"$f":"SUM(D69:D80)","v":0},0,0,0,0,0,0,0]
[{"$f":"$A$14","v":"% increase"},{"$f":"$B$14","v":4},null,{"$f":"IF(ISERROR((D81/C81)-1),0,((D81/C81)-1))","v":0},{"$f":"IF(ISERROR((E81/D81)-1),0,((E81/D81)-1))","v":0},0,0,0,0,0,0]
[]
["Other Staff of Entities"]
["Basic Salaries and Wages"]
["Pension and UIF Contributions"]
["Medical Aid Contributions"]
["Overtime"]
["Performance Bonus"]
["Motor Vehicle Allowance",3]
["Cellphone Allowance",3]
["Housing Allowances",3]
["Other benefits and allowances",3]
["Payments in lieu of leave"]
["Long service awards"]
["Post-retirement benefit obligations",6]
["Sub Total - Other Staff of Entities",null,{"$f":"SUM(C85:C96)","v":0},{"$f":"SUM(D85:D96)","v":0},0,0,0,0,0,0,0]
[{"$f":"$A$14","v":"% increase"},{"$f":"$B$14","v":4},null,{"$f":"IF(ISERROR((D97/C97)-1),0,((D97/C97)-1))","v":0},{"$f":"IF(ISERROR((E97/D97)-1),0,((E97/D97)-1))","v":0},0,0,0,0,0,0]
[]
["Total Municipal Entities",null,{"$f":"C65+C81+C97","v":0},{"$f":"D65+D81+D97","v":0},0,0,0,0,0,0,0]
[]
["TOTAL SALARY, ALLOWANCES & BENEFITS",null,{"$f":"C48+C100","v":77091104.750000015},{"$f":"D48+D100","v":77542274.207344443},{"$f":"E48+E100","v":82258411.427195221},102643173.34463772,115171788.61093146,115171788.61093146,115116036.08588274,122022998.25103572,129344378.14609785]
[{"$f":"$A$14","v":"% increase"},{"$f":"$B$14","v":4},null,{"$f":"IF(ISERROR((D102/C102)-1),0,((D102/C102)-1))","v":5.85241914495227E-3},{"$f":"IF(ISERROR((E102/D102)-1),0,((E102/D102)-1))","v":6.0820207661694825E-2},0.24781370760465671,0.1220598979751657,0,-4.8408143800782177E-4,6.0000000000000053E-2,5.9999999999999831E-2]
["TOTAL MANAGERS AND STAFF","5,7",{"$f":"C29+C45+C81+C97","v":70836270.250000015},70879338.789344445,75195699.884115234,93590545.786523432,105670672.08447888,105670672.08447888,104949841.40257847,111246831.8867332,117921641.79993719]
[{"$f":"head27a","v":"References"}]
["1. Include 'Loans and advances' where applicable if any reportable amounts until phased compliance with s164 of MFMA achieved"]
["2. s57 of the Systems Act"]
["3. In kind benefits (e.g. provision of living quarters) must be shown as the cost (full market value) to the municipality, as part of the relevant allowance"]
["4. B/A, C/B, D/C, E/C, F/C, G/D, H/D, I/D"]
["5. Must agree to the sub-total appearing on Table A1 (Employee costs)"]
["6. Includes pension payments and employer contributions to medical aid"]
["7. Correct as at 30 June"]
[]
["Column Definitions:"]
["A, B and C. Audited actual as per the audited financial statements. If audited amounts are unavailable, unaudited amounts must be provided with a note stating these are unaudited"]
["D. The original budget approved by council for the budget year."]
["E. The budget for the budget year as adjusted by council resolution in terms of section 28 of the MFMA."]
["F. An estimate of final actual amounts (pre audit) for the current year at the point in time of preparing the budget for the budget year. This may differ from E."]
["G. The amount to be appropriated for the budget year."]
["H and I. The indicative projection"]

{"sheet":"SA23","index":43,"n_rows":70,"n_cols":9,"rows_kept":70,"cut":false,"hidden":false,"merged":[[1,2,2,2],[1,5,2,5],[1,3,2,3],[1,6,2,6]]}
[{"$f":"muni&\" - \"&TableA23","v":"FS193 Nketoana - Supporting Table SA23 Salaries, allowances & benefits (political office bearers/councillors/senior managers)"}]
["Disclosure of Salaries, Allowances & Benefits 1.",{"$f":"head27","v":"Ref"},"No.","Salary","\nContributions\n","Allowances","Performance  Bonuses","In-kind benefits","Total Package"]
["Rand per annum",null,null,null,"1.",null,null,null,"2."]
["Councillors",3]
["Speaker",4,null,433340.76,25418.52,171848.7,null,null,{"$f":"SUM(D5:F5)","v":630607.98}]
["Chief Whip",null,null,237849.85000000003,null,133905.28999999998,null,null,371755.14]
["Executive Mayor",null,null,518983.52,54465.119999999995,205431.36,null,null,778880]
["Deputy Executive Mayor",null,null,null,null,null,null,null,0]
["Executive Committee",null,null,664848.59999999986,48699.96,328556.41000000003,null,null,1042104.9699999999]
["Total for all other councillors",null,null,null,150786.71999999997,859068.48999999976,null,null,1009855.2099999997]
[{"$f":"\"Total \"&A4","v":"Total Councillors"},8,{"$f":"SUM(C5:C10)","v":0},1855022.73,279370.31999999995,1698810.2499999998,null,null,3833203.3]
[]
["Senior Managers of the Municipality",5]
["Municipal Manager (MM)",null,null,940970,255487,322651,null,null,{"$f":"SUM(D14:H14)","v":1519108}]
["Chief Finance Officer",null,null,607587,160942,150040,null,null,918569]
["Director Coporate Services",null,null,926645,0,158312,null,null,1084957]
["Director Community Services",null,null,878770,35296,112400,null,null,1026466]
["Director Infrustructure Services",null,null,732131,3569,255996,null,null,991696]
[null,null,null,null,null,null,null,null,0]
[]
["List of each offical with packages >= senior manager"]
["Manager IDP and PMS",null,null,339549.76396000001,159684,71796,28295.813663333334,null,{"$f":"SUM(D22:H22)","v":599325.57762333332}]
["Manager Internal Audit and Risk management",null,null,339549.76396000001,99384,119820,28295.813663333334,null,{"$f":"SUM(D23:H23)","v":587049.57762333332}]
["Manager Budget and Treasury",null,null,339549.76396000001,92544,118548,28295.813663333334,null,578937.57762333332]
["Manager Income",null,null,339549.76396000001,94332,90060,28295.813663333334,null,552237.57762333332]
["Manager Expenditure ",null,null,339549.76396000001,53220,76944,28295.813663333334,null,498009.57762333332]
["Manager Supply Chain",null,null,339549.76396000001,59136,81456,28295.813663333334,null,508437.57762333332]
["Manager LED",null,null,339549.76396000001,71268,124800,28295.813663333334,null,563913.57762333332]
["Manager Tourism",null,null,339549.76396000001,79356,118896,28295.813663333334,null,566097.57762333332]
["Manager Records",null,null,339549.76396000001,92544,118548,28295.813663333334,null,578937.57762333332]
["Manager Human Resources",null,null,339549.76396000001,80554,134148,28295.813663333334,null,582547.57762333332]
["Manager Parks and Cemetery and Solid waste",null,null,339549.76396000001,63396,58956,28295.813663333334,null,490197.57762333332]
["    Manager Waste Water and Water",null,null,339549.76396000001,94644,118896,28295.813663333334,null,{"$f":"SUM(D33:H33)","v":581385.57762333332}]
["    Manager Electricity",null,null,339549.76396000001,59988,126084,28295.813663333334,null,{"$f":"SUM(D34:H34)","v":553917.57762333332}]
[{"$f":"\"Total \"&A13","v":"Total Senior Managers of the Municipality"},"8,10",{"$f":"SUM(C14:C34)","v":0},{"$f":"SUM(D14:D34)","v":8500249.9314800017},{"$f":"SUM(E14:E34)","v":1555344},{"$f":"SUM(F14:F34)","v":2358351},{"$f":"SUM(G14:G34)","v":367845.57762333332},null,{"$f":"SUM(I14:I34)","v":12781790.509103339}]
[]
["A Heading for Each Entity","6,7"]
["List each member of board by designation"]
["Manager Urban and Planning",null,null,339549.76396000001,83916,133332,28295.813663333334,null,{"$f":"SUM(D39:G39)","v":585093.57762333332}]
["Manager Roads",null,null,339549.76396000001,108108,135168,28295.813663333334,null,{"$f":"SUM(D40:G40)","v":611121.57762333332}]
["Manager Traffic, Fire and Safety",null,null,339549.76396000001,90876,135168,28295.813663333334,null,593889.57762333332]
[null,null,null,null,null,null,null,null,0]
[null,null,null,null,null,null,null,null,0]
[null,null,null,null,null,null,null,null,0]
[null,null,null,null,null,null,null,null,0]
[null,null,null,null,null,null,null,null,0]
[null,null,null,null,null,null,null,null,0]
[null,null,null,null,null,null,null,null,0]
[null,null,null,null,null,null,null,null,0]
[null,null,null,null,null,null,null,null,0]
[null,null,null,null,null,null,null,null,0]
[null,null,null,null,null,null,null,null,0]
[null,null,null,null,null,null,null,null,0]
[null,null,null,null,null,null,null,null,0]
["Total for municipal entities","8,10",{"$f":"SUM(C38:C54)","v":0},{"$f":"SUM(D39:D54)","v":1018649.29188},282900,403668,84887.440990000003,null,1790104.7328699999]
[]
["TOTAL COST OF COUNCILLOR, DIRECTOR and EXECUTIVE REMUNERATION",10,{"$f":"C11+C35+C55","v":0},11373921.953360002,2117614.3199999998,4460829.25,452733.01861333335,null,18405098.541973341]
[]
[{"$f":"head27a","v":"References"}]
["1. Pension and medical aid"]
["2. Total package must equal the total cost to the municipality"]
["3. List each political office bearer by designation. Provide a total for all other councillors"]
["4. Political office bearer is defined in MFMA s 1: speaker, executive mayor, deputy executive mayor, member of executive committee,"]
["    mayor, deputy mayor, member of mayoral committee, the councillor designated to exercise powers and duties of mayor (MSA s 57)"]
["5. Also list each senior manager reporting to MM by designation and each official with package >= senior manager by designation"]
["6. List each entity where municipality has an interest and state percentage ownership and control"]
["7. List each senior manager reporting to the CEO of an Entity by designation"]
["8. Must reconcile to relevant section of Table SA24"]
["9. Must reconcile to totals shown for the budget year of Table SA22"]
["10. Correct as at 30 June"]

{"sheet":"SA24","index":44,"n_rows":53,"n_cols":11,"rows_kept":53,"cut":false,"hidden":false,"merged":[[1,5,1,7],[1,8,1,10],[1,2,1,4]]}
[{"$f":"muni&\" - \"&TableA24","v":"FS193 Nketoana - Supporting Table SA24 Summary of personnel numbers"}]
["Summary of Personnel Numbers",{"$f":"head27","v":"Ref"},{"$f":"Head1","v":"2016/17"},null,null,{"$f":"Head2","v":"Current Year 2017/18"},null,null,{"$f":"Head9","v":"Budget Year 2018/19"}]
["Number","1,2","Positions","Permanent employees","Contract employees","Positions","Permanent employees","Contract employees","Positions","Permanent employees","Contract employees"]
["Municipal Council and Boards of Municipal Entities"]
["Councillors (Political Office Bearers plus Other Councillors)",null,18,0,18,18,0,18,18,0,18]
["Board Members of municipal entities",4]
["Municipal employees",5]
["Municipal Manager and Senior Managers",3,5,0,4,5,0,3,5,0,3]
["Other Managers",7,18,13,1,16,13,1,16,13,1]
["Professionals",null,{"$f":"SUM(C11:C19)","v":10},{"$f":"SUM(D11:D19)","v":5},1,8,3,1,8,3,1]
["Finance",null,3,1,0,3,1,0,3,1,0]
["Spatial/town planning",null,1,1,0,0,0,0,0,0,0]
["Information Technology",null,2,1,0,1,0,0,1,0,0]
["Roads",null,1,1,0,0,0,0,0,0,0]
["Electricity",null,1,1,0,1,1,0,1,1,0]
["Water",null,2,0,1,3,1,1,3,1,1]
["Sanitation",null,0,0,0,0,0,0,0,0,0]
["Refuse",null,0,0,0,0,0,0,0,0,0]
["Other"]
["Technicians",null,{"$f":"SUM(C21:C29)","v":17},{"$f":"SUM(D21:D29)","v":10},4,30,19,6,30,19,6]
["Finance",null,3,2,0,3,2,0,3,2,0]
["Spatial/town planning",null,1,0,0,1,0,0,1,0,0]
["Information Technology",null,0,0,0,0,0,0,0,0,0]
["Roads",null,0,0,0,0,0,0,0,0,0]
["Electricity",null,6,2,4,6,1,6,6,1,6]
["Water",null,4,4,0,4,5,0,4,5,0]
["Sanitation",null,0,0,0,5,3,0,5,3,0]
["Refuse",null,0,0,0,8,6,0,8,6,0]
["Other",null,3,2,0,3,2,0,3,2,0]
["Clerks (Clerical and administrative)",null,61,27,34,61,59,16,61,59,16]
["Service and sales workers",null,22,18,87,14,65,0,14,65,0]
["Skilled agricultural and fishery workers"]
["Craft and related trades"]
["Plant and Machine Operators",null,57,41,14,56,41,null,56,41]
["Elementary Occupations",null,516,262,155,516,291,208,590,467,208]
["TOTAL PERSONNEL NUMBERS",9,{"$f":"SUM(C5:C9)+SUM(C11:C19)+SUM(C21:C35)","v":724},{"$f":"SUM(D5:D9)+SUM(D11:D19)+SUM(D21:D35)","v":376},318,724,491,{"$f":"SUM(H5:H9)+SUM(H11:H19)+SUM(H21:H35)","v":253},798,667,253]
["% increase",null,null,null,null,{"$f":"IF(ISERROR((F36/C36)-1),0,((F36/C36)-1))","v":0},0.30585106382978733,-0.20440251572327039,0.10220994475138112,0.35845213849287161,0]
[]
["Total municipal employees headcount","6, 10"]
["Finance personnel headcount","8, 10"]
["Human Resources personnel headcount","8, 10"]
[]
[{"$f":"head27a","v":"References"}]
["1. Positions must be funded and aligned to the municipality's current organisational structure"]
["2. Full Time Equivalent (FTE). E.g. One full time person = 1FTE. A person working half time (say 4 hours out of 8) = 0.5FTE."]
["3. s57 of the Systems Act"]
["4. Include only in Consolidated Statements"]
["5. Include municipal entity employees in Consolidated Statements"]
["6.  Include headcount (number fo persons, Not FTE) of managers and staff only (exclude councillors)"]
["7. Managers who provide the direction of a critical technical function"]
["8. Total number of employees working on these functions"]
["9. Correct as at 30 June"]
["10. Must account for all budgeted positions, as per the municipal organogram"]

{"sheet":"SA25","index":45,"n_rows":48,"n_cols":17,"rows_kept":48,"cut":false,"hidden":false,"merged":[[1,2,1,13],[1,14,1,16]]}
[{"$f":"muni&\" - \"& TableA25","v":"FS193 Nketoana - Supporting Table SA25 Budgeted monthly revenue and expenditure"}]
[{"$f":"desc","v":"Description"},{"$f":"head27","v":"Ref"},{"$f":"Head9","v":"Budget Year 2018/19"},null,null,null,null,null,null,null,null,null,null,null,"Medium Term Revenue and Expenditure Framework"]
["R thousand",null,"July","August","Sept.","October","November","December","January","February","March","April","May","June",{"$f":"Head9","v":"Budget Year 2018/19"},{"$f":"Head10","v":"Budget Year +1 2019/20"},{"$f":"Head11","v":"Budget Year +2 2020/21"}]
[{"$f":"'A4-FinPerf RE'!A4","v":"Revenue By Source"}]
[{"$f":"'A4-FinPerf RE'!A5","v":"Property rates"},null,1200000,1300000,1344000,1377222,1356444,1345111,1344555,1455222,2355666,2499111,2455999,{"$f":"O5-SUM(C5:M5)","v":3239324.8545264415},{"$f":"'A4-FinPerf RE'!J5","v":21272654.854526442},{"$f":"'A4-FinPerf RE'!K5","v":22549014.145798028},{"$f":"'A4-FinPerf RE'!L5","v":23901954.994545911}]
[{"$f":"'A4-FinPerf RE'!A6","v":"Service charges - electricity revenue"},null,3566444,3599444,4789444,3011222,3011222,4300222,3622111,3644555,4125000,5500000,6622111,7935630.7868570983,{"$f":"'A4-FinPerf RE'!J6","v":53727405.786857098},{"$f":"'A4-FinPerf RE'!K6","v":56951050.134068534},{"$f":"'A4-FinPerf RE'!L6","v":60368113.142112643}]
[{"$f":"'A4-FinPerf RE'!A7","v":"Service charges - water revenue"},null,2155666,4222222,2344555,3648999,2655555,5899444,4899000,3655444,6655111,5522111,5922444,8794894.2768572047,{"$f":"'A4-FinPerf RE'!J7","v":56375445.276857205},{"$f":"'A4-FinPerf RE'!K7","v":59757971.993468635},{"$f":"'A4-FinPerf RE'!L7","v":63343450.313076757}]
[{"$f":"'A4-FinPerf RE'!A8","v":"Service charges - sanitation revenue"},null,1255666,1333555,1456222,1524111,1555666,1589444,1569988,1564444,1564555,1523633,4562444,3310285.7960000001,{"$f":"'A4-FinPerf RE'!J8","v":22810013.796},{"$f":"'A4-FinPerf RE'!K8","v":24178614.62376},{"$f":"'A4-FinPerf RE'!L8","v":25629331.501185596}]
[{"$f":"'A4-FinPerf RE'!A9","v":"Service charges - refuse revenue"},null,1588666,1588999,1256444,1356444,1698444,1665222,1666555,2689555,1589444,1542111,2456111,3093114.1967428699,{"$f":"'A4-FinPerf RE'!J9","v":22191109.19674287},{"$f":"'A4-FinPerf RE'!K9","v":23522575.748547442},{"$f":"'A4-FinPerf RE'!L9","v":24933930.293460287}]
[{"$f":"'A4-FinPerf RE'!A10","v":"Service charges - other"},null,null,null,null,null,null,null,null,null,null,null,null,0,{"$f":"'A4-FinPerf RE'!J10","v":0},{"$f":"'A4-FinPerf RE'!K10","v":0},{"$f":"'A4-FinPerf RE'!L10","v":0}]
[{"$f":"'A4-FinPerf RE'!A11","v":"Rental of facilities and equipment"},null,26555,21666,33222,44555,33222,15000,74222,71222,72111,89555,74555,62334.550835086033,{"$f":"'A4-FinPerf RE'!J11","v":618219.55083508603},{"$f":"'A4-FinPerf RE'!K11","v":655312.72388519126},{"$f":"'A4-FinPerf RE'!L11","v":694631.48731830274}]
[{"$f":"'A4-FinPerf RE'!A12","v":"Interest earned - external investments"},null,15000,31555,64222,111222,149555,128555,128555,155444,144111,135888,155444,175550.69171486003,{"$f":"'A4-FinPerf RE'!J12","v":1395101.69171486},{"$f":"'A4-FinPerf RE'!K12","v":1478807.7932177517},{"$f":"'A4-FinPerf RE'!L12","v":1567536.2608108169}]
[{"$f":"'A4-FinPerf RE'!A13","v":"Interest earned - outstanding debtors"},null,2352444,2355222,2465552,2556662,2593444,2496555,2589444,3558222,3659444,4689555,5469555,7414982.0186856985,{"$f":"'A4-FinPerf RE'!J13","v":42201081.018685699},{"$f":"'A4-FinPerf RE'!K13","v":44733145.879806846},{"$f":"'A4-FinPerf RE'!L13","v":47417134.632595256}]
[{"$f":"'A4-FinPerf RE'!A14","v":"Dividends received"},null,null,null,null,null,null,null,null,null,null,null,null,0,{"$f":"'A4-FinPerf RE'!J14","v":0},{"$f":"'A4-FinPerf RE'!K14","v":0},{"$f":"'A4-FinPerf RE'!L14","v":0}]
[{"$f":"'A4-FinPerf RE'!A15","v":"Fines, penalties and forfeits"},null,34555,25888,37888,35622,61555,64555,65888,67888,65622,66555,67555,56429,{"$f":"'A4-FinPerf RE'!J15","v":650000},{"$f":"'A4-FinPerf RE'!K15","v":689000},{"$f":"'A4-FinPerf RE'!L15","v":730340}]
[{"$f":"'A4-FinPerf RE'!A16","v":"Licences and permits"},null,null,null,null,null,null,null,null,null,null,null,null,0,{"$f":"'A4-FinPerf RE'!J16","v":0},{"$f":"'A4-FinPerf RE'!K16","v":0},{"$f":"'A4-FinPerf RE'!L16","v":0}]
[{"$f":"'A4-FinPerf RE'!A17","v":"Agency services"},null,null,null,null,null,null,null,null,null,null,null,null,0,{"$f":"'A4-FinPerf RE'!J17","v":0},{"$f":"'A4-FinPerf RE'!K17","v":0},{"$f":"'A4-FinPerf RE'!L17","v":0}]
[{"$f":"'A4-FinPerf RE'!A18","v":"Transfers and subsidies"},null,22591749.999357149,null,22591749.999357149,null,null,22591749.999357149,null,null,22591749.999357149,null,null,0,{"$f":"'A4-FinPerf RE'!J18","v":90366999.997428596},{"$f":"'A4-FinPerf RE'!K18","v":95789019.997274309},{"$f":"'A4-FinPerf RE'!L18","v":101536361.19711077}]
[{"$f":"'A4-FinPerf RE'!A19","v":"Other revenue"},null,1152444,1177555,1142555,2148999,1168555,1169888,2120444,1234555,1145222,1142444,1135666,5749522.8406309076,{"$f":"'A4-FinPerf RE'!J19","v":20487849.840630908},{"$f":"'A4-FinPerf RE'!K19","v":21717120.831068758},{"$f":"'A4-FinPerf RE'!L19","v":23020148.080932889}]
[{"$f":"'A4-FinPerf RE'!A20","v":"Gains on disposal of PPE"},null,null,null,null,null,null,null,null,null,null,null,null,0,{"$f":"'A4-FinPerf RE'!J20","v":0},{"$f":"'A4-FinPerf RE'!K20","v":0},{"$f":"'A4-FinPerf RE'!L20","v":0}]
[{"$f":"'A4-FinPerf RE'!A21","v":"Total Revenue (excluding capital transfers and contributions)"},null,{"$f":"SUM(C5:C20)","v":35939189.999357149},15656106,37525853.999357149,15815058,14283662,41265745.999357149,18080762,18096551,43968035.999357149,22710963,28921884,39832069.012850165,332095881.0102787,352021633.8708955,373142931.90314925]
[]
[{"$f":"'A4-FinPerf RE'!A23","v":"Expenditure By Type"}]
[{"$f":"'A4-FinPerf RE'!A24","v":"Employee related costs"},null,7895555,7985111,7288555,8300555,8144222,8522111,8422111,9644222,9644222,9644555,9688999,{"$f":"O24-SUM(C24:M24)","v":9839623.402578488},{"$f":"'A4-FinPerf RE'!J24","v":105019841.40257849},{"$f":"'A4-FinPerf RE'!K24","v":110270833.47270742},{"$f":"'A4-FinPerf RE'!L24","v":114681666.81161571}]
[{"$f":"'A4-FinPerf RE'!A25","v":"Remuneration of councillors"},null,820444,830555,833555,840000,850444,855888,857222,858444,859444,859444,860444,840310.69183735177,{"$f":"'A4-FinPerf RE'!J25","v":10166194.691837352},{"$f":"'A4-FinPerf RE'!K25","v":10674504.42642922},{"$f":"'A4-FinPerf RE'!L25","v":11101484.603486389}]
[{"$f":"'A4-FinPerf RE'!A26","v":"Debt impairment"},null,3359666.66,3359666.66,3359666.66,3359666.66,3359666.66,3359666.66,3359666.66,3359666.66,6359666.6600000001,6359666.6600000001,7359666.6600000001,8070712.4817142785,{"$f":"'A4-FinPerf RE'!J26","v":55027045.741714284},{"$f":"'A4-FinPerf RE'!K26","v":57778398.028800003},{"$f":"'A4-FinPerf RE'!L26","v":60089533.949952006}]
[{"$f":"'A4-FinPerf RE'!A27","v":"Depreciation & asset impairment"},null,4855111,4855777,4855111,4958222,4014111,5124888,5248777,5322444,5241555,5214555,4585444,4596596.8200000077,{"$f":"'A4-FinPerf RE'!J27","v":58872591.820000008},{"$f":"'A4-FinPerf RE'!K27","v":61816221.411000013},{"$f":"'A4-FinPerf RE'!L27","v":64288870.267440014}]
[{"$f":"'A4-FinPerf RE'!A28","v":"Finance charges"},null,1100000,1100000,1100000,1100000,1100000,1100000,1100000,1100000,2100000,2100000,2100000,2745133.1150403582,{"$f":"'A4-FinPerf RE'!J28","v":17845133.115040358},{"$f":"'A4-FinPerf RE'!K28","v":18737389.770792376},{"$f":"'A4-FinPerf RE'!L28","v":19486885.361624073}]
[{"$f":"'A4-FinPerf RE'!A29","v":"Bulk purchases"},null,1533000,2699555,3500555,3855111,4944555,4122555,4988555,4256222,5588444,5855111,5988555,6529203.3342118785,{"$f":"'A4-FinPerf RE'!J29","v":53861421.334211878},{"$f":"'A4-FinPerf RE'!K29","v":56554492.400922477},{"$f":"'A4-FinPerf RE'!L29","v":58816672.096959375}]
[{"$f":"'A4-FinPerf RE'!A30","v":"Other materials"},null,295444,486555,505555,858222,854777,895222,895777,689555,785444,925888,997444,820117,{"$f":"'A4-FinPerf RE'!J30","v":9010000},{"$f":"'A4-FinPerf RE'!K30","v":9460500},{"$f":"'A4-FinPerf RE'!L30","v":9838920}]
[{"$f":"'A4-FinPerf RE'!A31","v":"Contracted services"},null,289555,489555,689555,487555,700000,856111,889456,689555,889444,448111,458555,242548,{"$f":"'A4-FinPerf RE'!J31","v":7130000},{"$f":"'A4-FinPerf RE'!K31","v":7486500},{"$f":"'A4-FinPerf RE'!L31","v":7785960}]
[{"$f":"'A4-FinPerf RE'!A32","v":"Transfers and subsidies"},null,null,null,null,null,null,null,null,null,null,null,null,0,{"$f":"'A4-FinPerf RE'!J32","v":0},{"$f":"'A4-FinPerf RE'!K32","v":0},{"$f":"'A4-FinPerf RE'!L32","v":0}]
[{"$f":"'A4-FinPerf RE'!A33","v":"Other expenditure"},null,1569888,1458222,3895222,3148555,4182222,3589444,3485777,3485444,2015888,3582444,3048555,6596362.0436571389,{"$f":"'A4-FinPerf RE'!J33","v":40058023.043657139},{"$f":"'A4-FinPerf RE'!K33","v":42060924.195840001},{"$f":"'A4-FinPerf RE'!L33","v":43743361.163673602}]
[{"$f":"'A4-FinPerf RE'!A34","v":"Loss on disposal of PPE"},null,null,null,null,null,null,null,null,null,null,null,null,0,{"$f":"'A4-FinPerf RE'!J34","v":0},{"$f":"'A4-FinPerf RE'!K34","v":0},{"$f":"'A4-FinPerf RE'!L34","v":0}]
[{"$f":"'A4-FinPerf RE'!A35","v":"Total Expenditure"},null,{"$f":"SUM(C24:C34)","v":21718663.66},{"$f":"SUM(D24:D34)","v":23264996.66},26027774.66,26907886.66,28149997.66,28425885.66,29247341.66,29405552.66,33484107.66,34989774.659999996,35087662.659999996,40280606.889039502,356990251.14903951,374839763.70649147,389833354.25475115]
[]
[{"$f":"'A4-FinPerf RE'!A37","v":"Surplus/(Deficit)"},null,{"$f":"C21-C35","v":14220526.339357149},-7608890.6600000001,11498079.339357149,-11092828.66,-13866335.66,12839860.339357149,-11166579.66,-11309001.66,10483928.339357149,-12278811.659999996,-6165778.6599999964,-448537.87618933618,-24894370.138760805,-22818129.835595965,-16690422.351601899]
[{"$f":"'A4-FinPerf RE'!A38","v":"Transfers and subsidies - capital (monetary allocations) (National / Provincial and District)"},null,16231750,null,16231750,null,null,16231750,null,null,16231750,null,null,{"$f":"O38-SUM(C38:M38)","v":0},{"$f":"'A4-FinPerf RE'!J38","v":64927000},{"$f":"'A4-FinPerf RE'!K38","v":68822620},{"$f":"'A4-FinPerf RE'!L38","v":72951977.200000003}]
[{"$f":"'A4-FinPerf RE'!A39","v":"Transfers and subsidies - capital (monetary allocations) (National / Provincial Departmental Agencies, Households, Non-profit Institutions, Private Enterprises, Public Corporatons, Higher Educational Institutions)"},null,null,null,null,null,null,null,null,null,null,null,null,{"$f":"O39-SUM(C39:M39)","v":0},{"$f":"'A4-FinPerf RE'!J39","v":0},{"$f":"'A4-FinPerf RE'!K39","v":0},{"$f":"'A4-FinPerf RE'!L39","v":0}]
[{"$f":"'A4-FinPerf RE'!A40","v":"Transfers and subsidies - capital (in-kind - all) "},null,null,null,null,null,null,null,null,null,null,null,null,{"$f":"O40-SUM(C40:M40)","v":0},{"$f":"'A4-FinPerf RE'!J40","v":0},{"$f":"'A4-FinPerf RE'!K40","v":0},{"$f":"'A4-FinPerf RE'!L40","v":0}]
[{"$f":"'A4-FinPerf RE'!A41","v":"Surplus/(Deficit) after capital transfers & contributions"},null,{"$f":"C37+SUM(C38:C40)","v":30452276.339357149},-7608890.6600000001,27729829.339357149,-11092828.66,-13866335.66,29071610.339357149,-11166579.66,-11309001.66,26715678.339357149,-12278811.659999996,-6165778.6599999964,-448537.87618933618,{"$f":"O37+SUM(O38:O40)","v":40032629.861239195},{"$f":"P37+SUM(P38:P40)","v":46004490.164404035},{"$f":"Q37+SUM(Q38:Q40)","v":56261554.848398104}]
[{"$f":"'A4-FinPerf RE'!A42","v":"Taxation"},null,null,null,null,null,null,null,null,null,null,null,null,{"$f":"O42-SUM(C42:M42)","v":0},{"$f":"'A4-FinPerf RE'!J42","v":0},{"$f":"'A4-FinPerf RE'!K42","v":0},{"$f":"'A4-FinPerf RE'!L42","v":0}]
[{"$f":"'A4-FinPerf RE'!A44","v":"Attributable to minorities"},null,null,null,null,null,null,null,null,null,null,null,null,{"$f":"O43-SUM(C43:M43)","v":0},{"$f":"'A4-FinPerf RE'!J44","v":0},{"$f":"'A4-FinPerf RE'!K44","v":0},{"$f":"'A4-FinPerf RE'!L44","v":0}]
[{"$f":"'A4-FinPerf RE'!A46","v":"Share of surplus/ (deficit) of associate"},null,null,null,null,null,null,null,null,null,null,null,null,{"$f":"O44-SUM(C44:M44)","v":0},{"$f":"'A4-FinPerf RE'!J46","v":0},{"$f":"'A4-FinPerf RE'!K46","v":0},{"$f":"'A4-FinPerf RE'!L46","v":0}]
[{"$f":"'A4-FinPerf RE'!A37","v":"Surplus/(Deficit)"},1,{"$f":"C41-C42+SUM(C43:C44)","v":30452276.339357149},{"$f":"D41-D42+SUM(D43:D44)","v":-7608890.6600000001},27729829.339357149,-11092828.66,-13866335.66,29071610.339357149,-11166579.66,-11309001.66,26715678.339357149,-12278811.659999996,-6165778.6599999964,{"$f":"N41-N42+SUM(N43:N44)","v":-448537.87618933618},{"$f":"O41-O42+SUM(O43:O44)","v":40032629.861239195},{"$f":"P41-P42+SUM(P43:P44)","v":46004490.164404035},{"$f":"Q41-Q42+SUM(Q43:Q44)","v":56261554.848398104}]
[{"$f":"head27a","v":"References"}]
["1. Surplus (Deficit) must reconcile with Budgeted Financial Performance"]
["check",null,null,null,null,null,null,null,null,null,null,null,null,null,{"$f":"O45-'A4-FinPerf RE'!J47","v":0},{"$f":"P45-'A4-FinPerf RE'!K47","v":0},{"$f":"Q45-'A4-FinPerf RE'!L47","v":0}]

{"sheet":"SA26","index":46,"n_rows":48,"n_cols":17,"rows_kept":48,"cut":false,"hidden":false,"merged":[[1,2,1,13],[1,14,1,16]]}
[{"$f":"muni&\" - \"&TableA26","v":"FS193 Nketoana - Supporting Table SA26 Budgeted monthly revenue and expenditure (municipal vote)"}]
[{"$f":"desc","v":"Description"},{"$f":"head27","v":"Ref"},{"$f":"Head9","v":"Budget Year 2018/19"},null,null,null,null,null,null,null,null,null,null,null,"Medium Term Revenue and Expenditure Framework"]
["R thousand",null,"July","August","Sept.","October","November","December","January","February","March","April","May","June",{"$f":"Head9","v":"Budget Year 2018/19"},{"$f":"Head10","v":"Budget Year +1 2019/20"},{"$f":"Head11","v":"Budget Year +2 2020/21"}]
[{"$f":"'A3-FinPerf V'!A4","v":"Revenue by Vote"}]
[{"$f":"'A3-FinPerf V'!A5","v":"Vote 1 - EXECUTIVE AND COUNCIL"},null,798522,799222,588555,588999,985666,485655,955222,756444,265444,688555,729555,{"$f":"O5-SUM(C5:M5)","v":974503.63999999873},{"$f":"'A3-FinPerf V'!I5","v":8616342.6399999987},{"$f":"'A3-FinPerf V'!J5","v":9133323.1984000001},{"$f":"'A3-FinPerf V'!K5","v":9681322.5903040003}]
[{"$f":"'A3-FinPerf V'!A6","v":"Vote 2 - FINANCE AND ADMINISTRATION"},null,3088111,5099444,4155444,4155444,5499222,4599444,7699444,8790000,9789555,9955444,9977888,11438174.689747825,{"$f":"'A3-FinPerf V'!I6","v":84247614.689747825},{"$f":"'A3-FinPerf V'!J6","v":89302471.571132705},{"$f":"'A3-FinPerf V'!K6","v":94660619.865400672}]
[{"$f":"'A3-FinPerf V'!A7","v":"Vote 3 - COMMUNITY SERVICES"},null,978444,658999,456927,836547,856987,698745,836547,895423,987456,1874596,1987452,1730446.5511695482,{"$f":"'A3-FinPerf V'!I7","v":12798569.551169548},{"$f":"'A3-FinPerf V'!J7","v":13566483.724239722},{"$f":"'A3-FinPerf V'!K7","v":14380472.747694109}]
[{"$f":"'A3-FinPerf V'!A8","v":"Vote 4 - WASTE MANAGEMENT"},null,859444,890444,1598444,2830555,2894777,2844555,2899444,2894555,3879444,4988777,5988777,1062311.0164000019,{"$f":"'A3-FinPerf V'!I8","v":33631527.016400002},{"$f":"'A3-FinPerf V'!J8","v":35649418.637384005},{"$f":"'A3-FinPerf V'!K8","v":37788383.755627044}]
[{"$f":"'A3-FinPerf V'!A9","v":"Vote 5 - LOCAL ECONOMIC DEVELOPMENT"},null,300156,201456,320145,498555,478999,369777,367855,498725,365788,379458,349977,373029.75748571008,{"$f":"'A3-FinPerf V'!I9","v":4503920.7574857101},{"$f":"'A3-FinPerf V'!J9","v":4774156.0029348526},{"$f":"'A3-FinPerf V'!K9","v":5060605.3631109446}]
[{"$f":"'A3-FinPerf V'!A10","v":"Vote 6 - ROADS TRANSPORT"},null,758999,1469888,1400888,1125666,850444,869444,1414555,1423777,998555,2004888,3089444,1154492.8000000007,{"$f":"'A3-FinPerf V'!I10","v":16561040.800000001},{"$f":"'A3-FinPerf V'!J10","v":17554703.248000003},{"$f":"'A3-FinPerf V'!K10","v":18607985.442880005}]
[{"$f":"'A3-FinPerf V'!A11","v":"Vote 7 - WATER"},null,6214569,6958222,6005111,6156888,10355888,10258444,11036666,13325444,13203658,13355222,16488855,{"$f":"O11-SUM(C11:M11)","v":1925043.8726289868},{"$f":"'A3-FinPerf V'!I11","v":115284010.87262899},{"$f":"'A3-FinPerf V'!J11","v":122201051.52498673},{"$f":"'A3-FinPerf V'!K11","v":129533114.61648594}]
[{"$f":"'A3-FinPerf V'!A12","v":"Vote 8 - ELECTRICITY"},null,4948555,5087555,5089111,5098444,7122555,7258999,4236555,4288999,3388999,2058999,2125777,{"$f":"O12-SUM(C12:M12)","v":7916056.3059429005},{"$f":"'A3-FinPerf V'!I12","v":58620604.3059429},{"$f":"'A3-FinPerf V'!J12","v":62137840.564299479},{"$f":"'A3-FinPerf V'!K12","v":65866110.998157449}]
[{"$f":"'A3-FinPerf V'!A13","v":"Vote 9 - WASTE WATER"},null,1014000,1145111,1248555,2355444,2589555,2689777,2698444,7789444,9145888,9089555,9458444,{"$f":"O13-SUM(C13:M13)","v":9592488.5620297045},{"$f":"'A3-FinPerf V'!I13","v":58816705.562029704},{"$f":"'A3-FinPerf V'!J13","v":62345707.895751491},{"$f":"'A3-FinPerf V'!K13","v":66086450.369496584}]
[{"$f":"'A3-FinPerf V'!A14","v":"Vote 10 - HOUSING"},null,104111,147111,116445,120111,125444,145888,144111,154111,155444,157444,258444,{"$f":"O14-SUM(C14:M14)","v":233680.17999999993},{"$f":"'A3-FinPerf V'!I14","v":1862344.18},{"$f":"'A3-FinPerf V'!J14","v":1974084.8308000001},{"$f":"'A3-FinPerf V'!K14","v":2092529.9206480002}]
[{"$f":"'A3-FinPerf V'!A15","v":"Vote 11 - [NAME OF VOTE 11]"},null,null,null,null,null,null,null,null,null,null,null,null,0,{"$f":"'A3-FinPerf V'!I15","v":0},{"$f":"'A3-FinPerf V'!J15","v":0},{"$f":"'A3-FinPerf V'!K15","v":0}]
[{"$f":"'A3-FinPerf V'!A16","v":"Vote 12 - [NAME OF VOTE 12]"},null,null,null,null,null,null,null,null,null,null,null,null,0,{"$f":"'A3-FinPerf V'!I16","v":0},{"$f":"'A3-FinPerf V'!J16","v":0},{"$f":"'A3-FinPerf V'!K16","v":0}]
[{"$f":"'A3-FinPerf V'!A17","v":"Vote 13 - [NAME OF VOTE 13]"},null,null,null,null,null,null,null,null,null,null,null,null,0,{"$f":"'A3-FinPerf V'!I17","v":0},{"$f":"'A3-FinPerf V'!J17","v":0},{"$f":"'A3-FinPerf V'!K17","v":0}]
[{"$f":"'A3-FinPerf V'!A18","v":"Vote 14 - [NAME OF VOTE 14]"},null,null,null,null,null,null,null,null,null,null,null,null,0,{"$f":"'A3-FinPerf V'!I18","v":0},{"$f":"'A3-FinPerf V'!J18","v":0},{"$f":"'A3-FinPerf V'!K18","v":0}]
[{"$f":"'A3-FinPerf V'!A19","v":"Vote 15 - [NAME OF VOTE 15]"},null,null,null,null,null,null,null,null,null,null,null,null,0,{"$f":"'A3-FinPerf V'!I19","v":0},{"$f":"'A3-FinPerf V'!J19","v":0},{"$f":"'A3-FinPerf V'!K19","v":0}]
[{"$f":"'A3-FinPerf V'!A20","v":"Total Revenue by Vote"},null,{"$f":"SUM(C5:C19)","v":19064911},22457452,20979625,{"$f":"SUM(F5:F19)","v":23766653},31759537,30220728,32288843,40816922,42180231,44552938,50454613,36400227.375404678,394942680.37540472,418639241.19792897,443757595.66980469]
[]
[{"$f":"'A3-FinPerf V'!A22","v":"Expenditure by Vote to be appropriated"}]
[{"$f":"A5","v":"Vote 1 - EXECUTIVE AND COUNCIL"},null,2013654,2547896,2203654,2365478,1654789,2023654,2654789,2014569,2013654,2897456,3023654,{"$f":"O23-SUM(C23:M23)","v":4100390.12618725},{"$f":"'A3-FinPerf V'!I23","v":29513637.12618725},{"$f":"'A3-FinPerf V'!J23","v":30989318.982496612},{"$f":"'A3-FinPerf V'!K23","v":32228891.741796479}]
["Vote 2 - FINANCE AND ADMINISTRATION",null,2759111,2359444,2365487,5894111,2632147,3695847,3596321,5986444,5520367,7520369,9688891,11168813.610152617,{"$f":"'A3-FinPerf V'!I24","v":63187352.610152617},{"$f":"'A3-FinPerf V'!J24","v":66346720.24066025},{"$f":"'A3-FinPerf V'!K24","v":69000589.050286666}]
["Vote 3 - COMMUNITY SERVICES",null,1325666,1694555,1369444,1589444,1698555,1798555,2689555,2456555,2789555,3875444,3859444,4592948.1664000005,{"$f":"'A3-FinPerf V'!I25","v":29739720.1664},{"$f":"'A3-FinPerf V'!J25","v":31226706.174720004},{"$f":"'A3-FinPerf V'!K25","v":32475774.421708804}]
["Vote 4 - WASTE MANAGEMENT",null,956555,956111,1085222,1066222,1789555,1689555,1085666,2465222,2254895,3255666,3156222,4970474.3872570992,{"$f":"'A3-FinPerf V'!I26","v":24731365.387257099},{"$f":"'A3-FinPerf V'!J26","v":25967933.656619955},{"$f":"'A3-FinPerf V'!K26","v":27006651.002884753}]
["Vote 5 - LOCAL ECONOMIC DEVELOPMENT",null,215666,235666,195000,236555,103555,102555,236555,102555,215444,236555,325888,391187.1696000006,{"$f":"'A3-FinPerf V'!I27","v":2597181.1696000006},{"$f":"'A3-FinPerf V'!J27","v":2727040.2280800007},{"$f":"'A3-FinPerf V'!K27","v":2836121.8372032009}]
["Vote 6 - ROADS TRANSPORT",null,2487555,2854555,3958444,2999999,3014222,4089444,4099999,4158444,4698885,4521222,5592111,4765904.6248078868,{"$f":"'A3-FinPerf V'!I28","v":47240784.624807887},{"$f":"'A3-FinPerf V'!J28","v":49602823.856048286},{"$f":"'A3-FinPerf V'!K28","v":51586936.810290217}]
["Vote 7 - WATER",null,1055222,1125444,2248555,3355666,3689555,3485222,4344888,3985222,4158222,5895222,11985555,8869503.7106012926,{"$f":"'A3-FinPerf V'!I29","v":54198276.710601293},{"$f":"'A3-FinPerf V'!J29","v":56908190.546131358},{"$f":"'A3-FinPerf V'!K29","v":59184518.16797661}]
["Vote 8 - ELECTRICITY",null,3000000,3000000,5001444,5069888,5485111,5485111,6688811,7895444,7994111,9048555,9589444,{"$f":"O30-SUM(C30:M30)","v":7482712.3389613926},{"$f":"'A3-FinPerf V'!I30","v":75740631.338961393},{"$f":"'A3-FinPerf V'!J30","v":79527662.905909464},{"$f":"'A3-FinPerf V'!K30","v":82708769.422145844}]
["Vote 9 - WASTE WATER",null,1125222,1355022,1256661,1398555,1895111,2986555,2698555,2145666,2158555,2265555,3899555,{"$f":"O31-SUM(C31:M31)","v":3725052.9521003962},{"$f":"'A3-FinPerf V'!I31","v":26910064.952100396},{"$f":"'A3-FinPerf V'!J31","v":28255568.199705418},{"$f":"'A3-FinPerf V'!K31","v":29385790.927693635}]
[{"$f":"A14","v":"Vote 10 - HOUSING"},null,177555,168999,145695,130955,115222,170222,168999,168555,150666,389555,389000,{"$f":"O32-SUM(C32:M32)","v":507314.0680571436},{"$f":"'A3-FinPerf V'!I32","v":2682737.0680571436},{"$f":"'A3-FinPerf V'!J32","v":2816873.9214600008},{"$f":"'A3-FinPerf V'!K32","v":2929548.8783184011}]
["Vote 11 - [NAME OF VOTE 11]",null,null,null,null,null,null,null,null,null,null,null,null,0,{"$f":"'A3-FinPerf V'!I33","v":0},{"$f":"'A3-FinPerf V'!J33","v":0},{"$f":"'A3-FinPerf V'!K33","v":0}]
["Vote 12 - [NAME OF VOTE 12]",null,null,null,null,null,null,null,null,null,null,null,null,0,{"$f":"'A3-FinPerf V'!I34","v":0},{"$f":"'A3-FinPerf V'!J34","v":0},{"$f":"'A3-FinPerf V'!K34","v":0}]
["Vote 13 - [NAME OF VOTE 13]",null,null,null,null,null,null,null,null,null,null,null,null,0,{"$f":"'A3-FinPerf V'!I35","v":0},{"$f":"'A3-FinPerf V'!J35","v":0},{"$f":"'A3-FinPerf V'!K35","v":0}]
["Vote 14 - [NAME OF VOTE 14]",null,null,null,null,null,null,null,null,null,null,null,null,0,{"$f":"'A3-FinPerf V'!I36","v":0},{"$f":"'A3-FinPerf V'!J36","v":0},{"$f":"'A3-FinPerf V'!K36","v":0}]
["Vote 15 - [NAME OF VOTE 15]",null,null,null,null,null,null,null,null,null,null,null,null,0,{"$f":"'A3-FinPerf V'!I37","v":0},{"$f":"'A3-FinPerf V'!J37","v":0},{"$f":"'A3-FinPerf V'!K37","v":0}]
[{"$f":"'A3-FinPerf V'!A38","v":"Total Expenditure by Vote"},null,{"$f":"SUM(C23:C37)","v":15116206},{"$f":"SUM(D23:D37)","v":16297692},19829606,24106873,22077822,25526720,28264138,31378676,31954354,39905599,51509764,50574301.15412508,{"$f":"SUM(O23:O37)","v":356541751.15412509},{"$f":"SUM(P23:P37)","v":374368838.71183133},{"$f":"SUM(Q23:Q37)","v":389343592.26030469}]
[]
[{"$f":"'A4-FinPerf RE'!A37&\" before assoc.\"","v":"Surplus/(Deficit) before assoc."},null,{"$f":"C20-C38","v":3948705},6159760,1150019,-340220,9681715,4694008,4024705,9438246,10225877,4647339,-1055151,-14174073.778720401,38400929.221279621,44270402.486097634,54414003.409500003]
[]
[{"$f":"'SA25'!A42","v":"Taxation"},null,null,null,null,null,null,null,null,null,null,null,null,{"$f":"O42-SUM(C42:M42)","v":0},{"$f":"'SA25'!O42","v":0},{"$f":"'SA25'!P42","v":0},{"$f":"'SA25'!Q42","v":0}]
[{"$f":"'SA25'!A43","v":"Attributable to minorities"},null,null,null,null,null,null,null,null,null,null,null,null,{"$f":"O43-SUM(C43:M43)","v":0},{"$f":"'SA25'!O43","v":0},{"$f":"'SA25'!P43","v":0},{"$f":"'SA25'!Q43","v":0}]
[{"$f":"'A4-FinPerf RE'!A46","v":"Share of surplus/ (deficit) of associate"},null,null,null,null,null,null,null,null,null,null,null,null,{"$f":"O44-SUM(C44:M44)","v":0},{"$f":"'A4-FinPerf RE'!J46","v":0},{"$f":"'A4-FinPerf RE'!K46","v":0},{"$f":"'A4-FinPerf RE'!L46","v":0}]
[{"$f":"'A4-FinPerf RE'!A37","v":"Surplus/(Deficit)"},1,{"$f":"C40+C44","v":3948705},{"$f":"D40+D44","v":6159760},1150019,-340220,9681715,4694008,4024705,9438246,10225877,4647339,-1055151,-14174073.778720401,38400929.221279621,44270402.486097634,54414003.409500003]
[{"$f":"head27a","v":"References"}]
["1. Surplus (Deficit) must reconcile with Budgeted Financial Performance"]
["check",null,null,null,null,null,null,null,null,null,null,null,null,null,{"$f":"O45-'A4-FinPerf RE'!J47","v":-1631700.6399595737},{"$f":"P45-'A4-FinPerf RE'!K47","v":-1734087.6783064008},{"$f":"Q45-'A4-FinPerf RE'!L47","v":-1847551.4388981014}]

{"sheet":"SA27","index":47,"n_rows":56,"n_cols":17,"rows_kept":56,"cut":false,"hidden":false,"merged":[[1,2,1,13],[1,14,1,16]]}
[{"$f":"muni&\" - \"&TableA27","v":"FS193 Nketoana - Supporting Table SA27 Budgeted monthly revenue and expenditure (functional classification)"}]
[{"$f":"desc","v":"Description"},{"$f":"head27","v":"Ref"},{"$f":"Head9","v":"Budget Year 2018/19"},null,null,null,null,null,null,null,null,null,null,null,"Medium Term Revenue and Expenditure Framework"]
["R thousand",null,"July","August","Sept.","October","November","December","January","February","March","April","May","June",{"$f":"Head9","v":"Budget Year 2018/19"},{"$f":"Head10","v":"Budget Year +1 2019/20"},{"$f":"Head11","v":"Budget Year +2 2020/21"}]
[{"$f":"'A2-FinPerf SC'!A4","v":"Revenue - Functional"}]
[{"$f":"'A2-FinPerf SC'!A5","v":"Governance and administration"},null,{"$f":"SUM(C6:C8)","v":7091222},{"$f":"SUM(D6:D8)","v":7790888},{"$f":"SUM(E6:E8)","v":7880666},7588110,7441444,7173777,6944888,7325443,6244332,7645887,9593777,{"$f":"O5-SUM(C5:M5)","v":10143523.629747823},{"$f":"'A2-FinPerf SC'!I5","v":92863957.629747823},{"$f":"'A2-FinPerf SC'!J5","v":98435795.087532699},{"$f":"'A2-FinPerf SC'!K5","v":104341942.79278468}]
[{"$f":"'A2-FinPerf SC'!A6","v":"Executive and council"},null,566222,895444,985222,789555,456222,785222,356222,425888,985666,856888,698555,815236.93999999948,{"$f":"'A2-FinPerf SC'!I6","v":8616342.9399999995},{"$f":"'A2-FinPerf SC'!J6","v":9133323.5164000019},{"$f":"'A2-FinPerf SC'!K6","v":9681322.9273840003}]
[{"$f":"'A2-FinPerf SC'!A7","v":"Finance and administration"},null,6525000,6895444,6895444,6798555,6985222,6388555,6588666,6899555,5258666,6788999,8895222,9328286.6897478253,{"$f":"'A2-FinPerf SC'!I7","v":84247614.689747825},{"$f":"'A2-FinPerf SC'!J7","v":89302471.571132705},{"$f":"'A2-FinPerf SC'!K7","v":94660619.865400672}]
[{"$f":"'A2-FinPerf SC'!A8","v":"Internal audit"},null,null,null,null,null,null,null,null,null,null,null,null,0,{"$f":"'A2-FinPerf SC'!I8","v":0},{"$f":"'A2-FinPerf SC'!J8","v":0},{"$f":"'A2-FinPerf SC'!K8","v":0}]
[{"$f":"'A2-FinPerf SC'!A9","v":"Community and public safety"},null,{"$f":"SUM(C10:C14)","v":698783.66666666663},{"$f":"SUM(D10:D14)","v":756554.66666666663},750887.66666666663,728999.66666666663,686076.66666666663,757443.66666666663,1021665.6666666666,1002776.6666666666,1273443.6666666667,1329776.6666666667,1767999.6666666667,2024161.2178362142,{"$f":"'A2-FinPerf SC'!I9","v":12798569.551169548},{"$f":"'A2-FinPerf SC'!J9","v":13566483.724239722},{"$f":"'A2-FinPerf SC'!K9","v":14380472.747694109}]
[{"$f":"'A2-FinPerf SC'!A10","v":"Community and social services"},null,556222,555666,552999,556222,479855,556222,823555,844555,945222,923555,895222,845617.53116954863,{"$f":"'A2-FinPerf SC'!I10","v":8534912.5311695486},{"$f":"'A2-FinPerf SC'!J10","v":9047007.2830397226},{"$f":"'A2-FinPerf SC'!K10","v":9589827.7200221084}]
[{"$f":"'A2-FinPerf SC'!A11","v":"Sport and recreation"},null,125895,184222,181222,156111,189555,184555,181444,141555,311555,389555,856111,661877.01999999955,{"$f":"'A2-FinPerf SC'!I11","v":3563657.0199999996},{"$f":"'A2-FinPerf SC'!J11","v":3777476.4411999998},{"$f":"'A2-FinPerf SC'!K11","v":4004125.0276719998}]
[{"$f":"'A2-FinPerf SC'!A12","v":"Public safety"},null,16666.666666666668,16666.666666666668,16666.666666666668,16666.666666666668,16666.666666666668,16666.666666666668,16666.666666666668,16666.666666666668,16666.666666666668,16666.666666666668,16666.666666666668,516666.66666666669,{"$f":"'A2-FinPerf SC'!I12","v":700000},{"$f":"'A2-FinPerf SC'!J12","v":742000},{"$f":"'A2-FinPerf SC'!K12","v":786520}]
[{"$f":"'A2-FinPerf SC'!A13","v":"Housing"},null,null,null,null,null,null,null,null,null,null,null,null,0,{"$f":"'A2-FinPerf SC'!I13","v":0},{"$f":"'A2-FinPerf SC'!J13","v":0},{"$f":"'A2-FinPerf SC'!K13","v":0}]
[{"$f":"'A2-FinPerf SC'!A14","v":"Health"},null,null,null,null,null,null,null,null,null,null,null,null,0,{"$f":"'A2-FinPerf SC'!I14","v":0},{"$f":"'A2-FinPerf SC'!J14","v":0},{"$f":"'A2-FinPerf SC'!K14","v":0}]
[{"$f":"'A2-FinPerf SC'!A15","v":"Economic and environmental services"},null,{"$f":"SUM(C16:C18)","v":955554},{"$f":"SUM(D16:D18)","v":1242777},1540222,1706443,1853666,1664443,1696555,2345221,2411110,2490110,1819889,1499393.4574857093,{"$f":"'A2-FinPerf SC'!I15","v":21225383.457485709},{"$f":"'A2-FinPerf SC'!J15","v":22498906.464934856},{"$f":"'A2-FinPerf SC'!K15","v":23848840.852830946}]
[{"$f":"'A2-FinPerf SC'!A16","v":"Planning and development"},null,252666,200666,285000,339888,364222,358999,384111,455666,498666,589666,554445,380347.65748570953,{"$f":"'A2-FinPerf SC'!I16","v":4664342.6574857095},{"$f":"'A2-FinPerf SC'!J16","v":4944203.2169348523},{"$f":"'A2-FinPerf SC'!K16","v":5240855.4099509437}]
[{"$f":"'A2-FinPerf SC'!A17","v":"Road transport"},null,702888,1042111,1255222,1366555,1489444,1305444,1312444,1889555,1912444,1900444,1265444,1119045.8000000007,{"$f":"'A2-FinPerf SC'!I17","v":16561040.800000001},{"$f":"'A2-FinPerf SC'!J17","v":17554703.248000003},{"$f":"'A2-FinPerf SC'!K17","v":18607985.442880005}]
[{"$f":"'A2-FinPerf SC'!A18","v":"Environmental protection"},null,null,null,null,null,null,null,null,null,null,null,null,0,{"$f":"'A2-FinPerf SC'!I18","v":0},{"$f":"'A2-FinPerf SC'!J18","v":0},{"$f":"'A2-FinPerf SC'!K18","v":0}]
[{"$f":"'A2-FinPerf SC'!A19","v":"Trading services"},null,{"$f":"SUM(C20:C23)","v":8563775},{"$f":"SUM(D20:D23)","v":10144999},14857774,13720893,14986187,22263997,22999332,24040554,31842442,33405664,40464109,{"$f":"O19-SUM(C19:M19)","v":29063121.29700163},{"$f":"'A2-FinPerf SC'!I19","v":266352847.29700163},{"$f":"'A2-FinPerf SC'!J19","v":282334018.13482171},{"$f":"'A2-FinPerf SC'!K19","v":299274059.222911}]
[{"$f":"'A2-FinPerf SC'!A20","v":"Energy sources"},null,3256888,3256222,3562888,3789895,3652444,9322555,5415222,5005111,3598555,3985777,5894111,7880936.3059429005,{"$f":"'A2-FinPerf SC'!I20","v":58620604.3059429},{"$f":"'A2-FinPerf SC'!J20","v":62137840.564299479},{"$f":"'A2-FinPerf SC'!K20","v":65866110.998157449}]
[{"$f":"'A2-FinPerf SC'!A21","v":"Water management"},null,3256888,3258444,6658999,6115222,6236522,6592888,7000111,8152222,17258444,17359888,18985777,14408605.872629002,{"$f":"'A2-FinPerf SC'!I21","v":115284010.872629},{"$f":"'A2-FinPerf SC'!J21","v":122201051.52498674},{"$f":"'A2-FinPerf SC'!K21","v":129533114.61648595}]
[{"$f":"'A2-FinPerf SC'!A22","v":"Waste water management"},null,1048555,1485111,2478999,1458999,2548444,3658999,7794555,7895777,7985444,8014111,8125444,6322267.1020296961,{"$f":"'A2-FinPerf SC'!I22","v":58816705.102029696},{"$f":"'A2-FinPerf SC'!J22","v":62345707.408151478},{"$f":"'A2-FinPerf SC'!K22","v":66086449.852640569}]
[{"$f":"'A2-FinPerf SC'!A23","v":"Waste management"},null,1001444,2145222,2156888,2356777,2548777,2689555,2789444,2987444,2999999,4045888,7458777,451312.01640000194,{"$f":"'A2-FinPerf SC'!I23","v":33631527.016400002},{"$f":"'A2-FinPerf SC'!J23","v":35649418.637384005},{"$f":"'A2-FinPerf SC'!K23","v":37788383.755627044}]
[{"$f":"'A2-FinPerf SC'!A24","v":"Other"},null,123555,145666,165222,125888,130888,134562,178222,112555,109822,189222,148222,138098.28000000003,{"$f":"'A2-FinPerf SC'!I24","v":1701922.28},{"$f":"'A2-FinPerf SC'!J24","v":1804037.6168000002},{"$f":"'A2-FinPerf SC'!K24","v":1912279.8738080002}]
[{"$f":"'A2-FinPerf SC'!A25","v":"Total Revenue - Functional"},null,{"$f":"C5+C9+C15+C19+C24","v":17432889.666666668},20080884.666666664,25194771.666666664,23870333.666666668,25098261.666666668,31994222.666666668,32840662.666666668,34826549.666666672,41881149.666666672,45060659.666666664,53793996.666666664,42868297.882071376,394942680.21540469,418639241.02832901,443757595.49002874]
[null,null,null,{"$f":"D6+D10+D16+D20+D25","v":24988882.666666664},30580880.666666664,29345893.666666668,30051004.666666668,43017220.666666672,39819772.666666672,41557769.666666672,47909258.666666672,51416545.666666664,{"$f":"M6+M10+M16+M20+M25","v":61836329.666666664}]
[{"$f":"'A2-FinPerf SC'!A27","v":"Expenditure - Functional"}]
[{"$f":"'A2-FinPerf SC'!A28","v":"Governance and administration"},null,{"$f":"SUM(C29:C31)","v":2555110},{"$f":"SUM(D29:D31)","v":2650888},{"$f":"SUM(E29:E31)","v":2544777},3241110,3448554,3454551,11583666,11354777,10789555,10893443,13590666,{"$f":"O28-SUM(C28:M28)","v":16593892.734502524},{"$f":"'A2-FinPerf SC'!I28","v":92700989.734502524},{"$f":"'A2-FinPerf SC'!J28","v":97631175.592471153},{"$f":"'A2-FinPerf SC'!K28","v":102162111.72320622}]
[{"$f":"'A2-FinPerf SC'!A29","v":"Executive and council"},null,1568555,1695222,1489555,1985666,1789555,1995552,2895222,2665222,2489555,2548555,3895222,4495756.1243498996,{"$f":"'A2-FinPerf SC'!I29","v":29513637.1243499},{"$f":"'A2-FinPerf SC'!J29","v":31284455.351810895},{"$f":"'A2-FinPerf SC'!K29","v":33161522.672919549}]
[{"$f":"'A2-FinPerf SC'!A30","v":"Finance and administration"},null,986555,955666,1055222,1255444,1658999,1458999,8688444,8689555,8300000,8344888,9695444,12098136.610152617,{"$f":"'A2-FinPerf SC'!I30","v":63187352.610152617},{"$f":"'A2-FinPerf SC'!J30","v":66346720.24066025},{"$f":"'A2-FinPerf SC'!K30","v":69000589.050286666}]
[{"$f":"'A2-FinPerf SC'!A31","v":"Internal audit"},null,null,null,null,null,null,null,null,null,null,null,null,0,{"$f":"'A2-FinPerf SC'!I31","v":0},{"$f":"'A2-FinPerf SC'!J31","v":0},{"$f":"'A2-FinPerf SC'!K31","v":0}]
[{"$f":"'A2-FinPerf SC'!A32","v":"Community and public safety"},null,{"$f":"SUM(C33:C37)","v":1145998},{"$f":"SUM(D33:D37)","v":1240065},1266442,1270887,1374998,1490665,2254332,2193554,1954998,2949887,5855554,6742340.1664000005,{"$f":"'A2-FinPerf SC'!I32","v":29739720.1664},{"$f":"'A2-FinPerf SC'!J32","v":31226706.174720004},{"$f":"'A2-FinPerf SC'!K32","v":32475774.421708804}]
[{"$f":"'A2-FinPerf SC'!A33","v":"Community and social services"},null,923555,925444,989555,978555,1078555,1089555,1298555,1298555,1025444,2024555,4856888,5638380.3247999996,{"$f":"'A2-FinPerf SC'!I33","v":22127596.3248},{"$f":"'A2-FinPerf SC'!J33","v":23233976.141040001},{"$f":"'A2-FinPerf SC'!K33","v":24163335.186681602}]
[{"$f":"'A2-FinPerf SC'!A34","v":"Sport and recreation"},null,22888,35622,27888,25444,26555,34222,66222,72555,70555,76555,46222,56895.716228571371,{"$f":"'A2-FinPerf SC'!I34","v":561623.71622857137},{"$f":"'A2-FinPerf SC'!J34","v":589704.90203999996},{"$f":"'A2-FinPerf SC'!K34","v":613293.09812159999}]
[{"$f":"'A2-FinPerf SC'!A35","v":"Public safety"},null,199555,278999,248999,266888,269888,366888,889555,822444,858999,848777,952444,1047064.1253714301,{"$f":"'A2-FinPerf SC'!I35","v":7050500.1253714301},{"$f":"'A2-FinPerf SC'!J35","v":7403025.1316400021},{"$f":"'A2-FinPerf SC'!K35","v":7699146.1369056022}]
[{"$f":"'A2-FinPerf SC'!A36","v":"Housing"},null,null,null,null,null,null,null,null,null,null,null,null,0,{"$f":"'A2-FinPerf SC'!I36","v":0},{"$f":"'A2-FinPerf SC'!J36","v":0},{"$f":"'A2-FinPerf SC'!K36","v":0}]
[{"$f":"'A2-FinPerf SC'!A37","v":"Health"},null,null,null,null,null,null,null,null,null,null,null,null,0,{"$f":"'A2-FinPerf SC'!I37","v":0},{"$f":"'A2-FinPerf SC'!J37","v":0},{"$f":"'A2-FinPerf SC'!K37","v":0}]
[{"$f":"'A2-FinPerf SC'!A38","v":"Economic and environmental services"},null,{"$f":"SUM(C39:C41)","v":2342888},{"$f":"SUM(D39:D41)","v":3541554},3711997,3746443,4292410,4654777,4789221,4771443,4935221,4975221,5075221,{"$f":"O38-SUM(C38:M38)","v":4411916.8558936045},{"$f":"'A2-FinPerf SC'!I38","v":51248312.855893604},{"$f":"'A2-FinPerf SC'!J38","v":53810728.498688288},{"$f":"'A2-FinPerf SC'!K38","v":55963157.638635822}]
[{"$f":"'A2-FinPerf SC'!A39","v":"Planning and development"},null,86444,185888,255886,289555,277888,289555,322555,314555,345666,285666,385666,968204.23108571488,{"$f":"'A2-FinPerf SC'!I39","v":4007528.2310857149},{"$f":"'A2-FinPerf SC'!J39","v":4207904.6426400011},{"$f":"'A2-FinPerf SC'!K39","v":4376220.8283456014}]
[{"$f":"'A2-FinPerf SC'!A40","v":"Road transport"},null,2256444,3355666,3456111,3456888,4014522,4365222,4466666,4456888,4589555,4689555,4689555,3443712.6248078868,{"$f":"'A2-FinPerf SC'!I40","v":47240784.624807887},{"$f":"'A2-FinPerf SC'!J40","v":49602823.856048286},{"$f":"'A2-FinPerf SC'!K40","v":51586936.810290217}]
[{"$f":"'A2-FinPerf SC'!A41","v":"Environmental protection"},null,null,null,null,null,null,null,null,null,null,null,null,0,{"$f":"'A2-FinPerf SC'!I41","v":0},{"$f":"'A2-FinPerf SC'!J41","v":0},{"$f":"'A2-FinPerf SC'!K41","v":0}]
[{"$f":"'A2-FinPerf SC'!A42","v":"Trading services"},null,{"$f":"SUM(C43:C46)","v":7231331},{"$f":"SUM(D43:D46)","v":7547443},10490553,10998998,12156665,11638442,16352776,18286666,19544665,23296221,23286664,{"$f":"O42-SUM(C42:M42)","v":20749914.388920188},{"$f":"'A2-FinPerf SC'!I42","v":181580338.38892019},{"$f":"'A2-FinPerf SC'!J42","v":190659355.30836621},{"$f":"'A2-FinPerf SC'!K42","v":198285729.52070084}]
[{"$f":"'A2-FinPerf SC'!A43","v":"Energy sources"},null,2895666,2958222,4789555,4985222,5659444,2897555,6986444,9000000,9000888,9012555,9485111,8069969.3389613926,{"$f":"'A2-FinPerf SC'!I43","v":75740631.338961393},{"$f":"'A2-FinPerf SC'!J43","v":79527662.905909464},{"$f":"'A2-FinPerf SC'!K43","v":82708769.422145844}]
[{"$f":"'A2-FinPerf SC'!A44","v":"Water management"},null,1589555,1895444,2945888,3048999,3125444,4255666,5355222,5985222,6258111,6987222,5588999,7162504.7106012926,{"$f":"'A2-FinPerf SC'!I44","v":54198276.710601293},{"$f":"'A2-FinPerf SC'!J44","v":56908190.546131358},{"$f":"'A2-FinPerf SC'!K44","v":59184518.16797661}]
[{"$f":"'A2-FinPerf SC'!A45","v":"Waste water management"},null,1759555,1698555,1698555,1895222,1985222,1985222,1955222,1645222,1485666,4485222,4256888,2059513.9521003962,{"$f":"'A2-FinPerf SC'!I45","v":26910064.952100396},{"$f":"'A2-FinPerf SC'!J45","v":28255568.199705418},{"$f":"'A2-FinPerf SC'!K45","v":29385790.927693635}]
[{"$f":"'A2-FinPerf SC'!A46","v":"Waste management"},null,986555,995222,1056555,1069555,1386555,2499999,2055888,1656222,2800000,2811222,3955666,3457926.3872570992,{"$f":"'A2-FinPerf SC'!I46","v":24731365.387257099},{"$f":"'A2-FinPerf SC'!J46","v":25967933.656619955},{"$f":"'A2-FinPerf SC'!K46","v":27006651.002884753}]
[{"$f":"'A2-FinPerf SC'!A47","v":"Other"},null,35000,36222,37555,100895,104888,104588,145888,145888,149888,144777,125825,140976.00657142885,{"$f":"'A2-FinPerf SC'!I47","v":1272390.0065714289},{"$f":"'A2-FinPerf SC'!J47","v":1040873.1369000004},{"$f":"'A2-FinPerf SC'!K47","v":456818.95237600047}]
[{"$f":"'A2-FinPerf SC'!A48","v":"Total Expenditure - Functional"},null,{"$f":"C28+C32+C38+C42+C47","v":13310327},{"$f":"D28+D32+D38+D42+D47","v":15016172},18051324,19358333,21377515,21343023,35125883,36752328,37374327,42259549,47933930,48639040.152287744,356541751.15228772,374368838.7111457,{"$f":"Q28+Q32+Q38+Q42+Q47","v":389343592.25662768}]
[]
[{"$f":"'A4-FinPerf RE'!A37&\" before assoc.\"","v":"Surplus/(Deficit) before assoc."},null,{"$f":"C25-C48","v":4122562.6666666679},5064712.6666666642,7143447.6666666642,4512000.6666666679,3720746.6666666679,10651199.666666668,-2285220.3333333321,-1925778.3333333284,4506822.6666666716,2801110.6666666642,5860066.6666666642,-5770742.2702163681,38400929.063116968,44270402.317183316,54414003.23340106]
[]
[{"$f":"'A4-FinPerf RE'!A46","v":"Share of surplus/ (deficit) of associate"},null,null,null,null,null,null,null,null,null,null,null,null,{"$f":"O52-SUM(C52:M52)","v":0},{"$f":"'A4-FinPerf RE'!J46","v":0},{"$f":"'A4-FinPerf RE'!K46","v":0},{"$f":"'A4-FinPerf RE'!L46","v":0}]
[{"$f":"'A4-FinPerf RE'!A37","v":"Surplus/(Deficit)"},1,{"$f":"C50+C52","v":4122562.6666666679},{"$f":"D50+D52","v":5064712.6666666642},7143447.6666666642,4512000.6666666679,3720746.6666666679,10651199.666666668,-2285220.3333333321,-1925778.3333333284,4506822.6666666716,2801110.6666666642,5860066.6666666642,-5770742.2702163681,38400929.063116968,44270402.317183316,54414003.23340106]
[{"$f":"head27a","v":"References"}]
["1. Surplus (Deficit) must reconcile with Budeted Financial Performance"]
["check",null,null,null,null,null,null,null,null,null,null,null,null,null,{"$f":"O53-'A4-FinPerf RE'!J47","v":-1631700.7981222272},{"$f":"P53-'A4-FinPerf RE'!K47","v":-1734087.8472207189},{"$f":"Q53-'A4-FinPerf RE'!L47","v":-1847551.6149970442}]

{"sheet":"SA28","index":48,"n_rows":47,"n_cols":17,"rows_kept":47,"cut":false,"hidden":false,"merged":[[1,2,1,13],[1,14,1,16]]}
[{"$f":"muni&\" - \"& TableA28","v":"FS193 Nketoana - Supporting Table SA28 Budgeted monthly capital expenditure (municipal vote)"}]
[{"$f":"desc","v":"Description"},{"$f":"head27","v":"Ref"},{"$f":"Head9","v":"Budget Year 2018/19"},null,null,null,null,null,null,null,null,null,null,null,"Medium Term Revenue and Expenditure Framework"]
["R thousand",null,"July","August","Sept.","October","Nov.","Dec.","January","Feb.","March","April","May","June",{"$f":"Head9","v":"Budget Year 2018/19"},{"$f":"Head10","v":"Budget Year +1 2019/20"},{"$f":"Head11","v":"Budget Year +2 2020/21"}]
["Multi-year expenditure to be appropriated",1]
[{"$f":"'A5-Capex'!A6","v":"Vote 1 - EXECUTIVE AND COUNCIL"},null,null,null,null,null,null,null,null,null,null,null,null,{"$f":"O5-SUM(C5:M5)","v":0},{"$f":"'A5-Capex'!J6","v":0},{"$f":"'A5-Capex'!K6","v":0},{"$f":"'A5-Capex'!L6","v":0}]
[{"$f":"'A5-Capex'!A7","v":"Vote 2 - FINANCE AND ADMINISTRATION"},null,null,null,null,null,null,null,null,null,null,null,null,{"$f":"O6-SUM(C6:M6)","v":0},{"$f":"'A5-Capex'!J7","v":0},{"$f":"'A5-Capex'!K7","v":0},{"$f":"'A5-Capex'!L7","v":0}]
[{"$f":"'A5-Capex'!A8","v":"Vote 3 - COMMUNITY SERVICES"},null,null,null,null,null,null,null,null,null,null,null,null,0,{"$f":"'A5-Capex'!J8","v":0},{"$f":"'A5-Capex'!K8","v":0},{"$f":"'A5-Capex'!L8","v":0}]
[{"$f":"'A5-Capex'!A9","v":"Vote 4 - WASTE MANAGEMENT"},null,null,null,null,null,null,null,null,null,null,null,null,0,{"$f":"'A5-Capex'!J9","v":0},{"$f":"'A5-Capex'!K9","v":0},{"$f":"'A5-Capex'!L9","v":0}]
[{"$f":"'A5-Capex'!A10","v":"Vote 5 - LOCAL ECONOMIC DEVELOPMENT"},null,null,null,null,null,null,null,null,null,null,null,null,0,{"$f":"'A5-Capex'!J10","v":0},{"$f":"'A5-Capex'!K10","v":0},{"$f":"'A5-Capex'!L10","v":0}]
[{"$f":"'A5-Capex'!A11","v":"Vote 6 - ROADS TRANSPORT"},null,null,null,null,null,null,null,null,null,null,null,null,0,{"$f":"'A5-Capex'!J11","v":0},{"$f":"'A5-Capex'!K11","v":0},{"$f":"'A5-Capex'!L11","v":0}]
[{"$f":"'A5-Capex'!A12","v":"Vote 7 - WATER"},null,null,null,null,null,null,null,null,null,null,null,null,0,{"$f":"'A5-Capex'!J12","v":0},{"$f":"'A5-Capex'!K12","v":0},{"$f":"'A5-Capex'!L12","v":0}]
[{"$f":"'A5-Capex'!A13","v":"Vote 8 - ELECTRICITY"},null,null,null,null,null,null,null,null,null,null,null,null,{"$f":"O12-SUM(C12:M12)","v":0},{"$f":"'A5-Capex'!J13","v":0},{"$f":"'A5-Capex'!K13","v":0},{"$f":"'A5-Capex'!L13","v":0}]
[{"$f":"'A5-Capex'!A14","v":"Vote 9 - WASTE WATER"},null,null,null,null,null,null,null,null,null,null,null,null,{"$f":"O13-SUM(C13:M13)","v":0},{"$f":"'A5-Capex'!J14","v":0},{"$f":"'A5-Capex'!K14","v":0},{"$f":"'A5-Capex'!L14","v":0}]
[{"$f":"'A5-Capex'!A15","v":"Vote 10 - HOUSING"},null,null,null,null,null,null,null,null,null,null,null,null,{"$f":"O14-SUM(C14:M14)","v":0},{"$f":"'A5-Capex'!J15","v":0},{"$f":"'A5-Capex'!K15","v":0},{"$f":"'A5-Capex'!L15","v":0}]
[{"$f":"'A5-Capex'!A16","v":"Vote 11 - [NAME OF VOTE 11]"},null,null,null,null,null,null,null,null,null,null,null,null,0,{"$f":"'A5-Capex'!J16","v":0},{"$f":"'A5-Capex'!K16","v":0},{"$f":"'A5-Capex'!L16","v":0}]
[{"$f":"'A5-Capex'!A17","v":"Vote 12 - [NAME OF VOTE 12]"},null,null,null,null,null,null,null,null,null,null,null,null,0,{"$f":"'A5-Capex'!J17","v":0},{"$f":"'A5-Capex'!K17","v":0},{"$f":"'A5-Capex'!L17","v":0}]
[{"$f":"'A5-Capex'!A18","v":"Vote 13 - [NAME OF VOTE 13]"},null,null,null,null,null,null,null,null,null,null,null,null,0,{"$f":"'A5-Capex'!J18","v":0},{"$f":"'A5-Capex'!K18","v":0},{"$f":"'A5-Capex'!L18","v":0}]
[{"$f":"'A5-Capex'!A19","v":"Vote 14 - [NAME OF VOTE 14]"},null,null,null,null,null,null,null,null,null,null,null,null,0,{"$f":"'A5-Capex'!J19","v":0},{"$f":"'A5-Capex'!K19","v":0},{"$f":"'A5-Capex'!L19","v":0}]
[{"$f":"'A5-Capex'!A20","v":"Vote 15 - [NAME OF VOTE 15]"},null,null,null,null,null,null,null,null,null,null,null,null,0,{"$f":"'A5-Capex'!J20","v":0},{"$f":"'A5-Capex'!K20","v":0},{"$f":"'A5-Capex'!L20","v":0}]
["Capital multi-year expenditure sub-total",2,{"$f":"SUM(C5:C19)","v":0},{"$f":"SUM(D5:D19)","v":0},0,0,0,0,0,0,0,0,{"$f":"SUM(M5:M19)","v":0},0,0,0,0]
[]
["Single-year expenditure to be appropriated"]
[{"$f":"'A5-Capex'!A24","v":"Vote 1 - EXECUTIVE AND COUNCIL"},null,null,null,null,null,null,null,null,null,null,null,null,{"$f":"O23-SUM(C23:M23)","v":0},{"$f":"'A5-Capex'!J24","v":0},{"$f":"'A5-Capex'!K24","v":0},{"$f":"'A5-Capex'!L24","v":0}]
[{"$f":"'A5-Capex'!A25","v":"Vote 2 - FINANCE AND ADMINISTRATION"},null,null,null,null,null,null,null,null,null,null,null,null,{"$f":"O24-SUM(C24:M24)","v":0},{"$f":"'A5-Capex'!J25","v":0},{"$f":"'A5-Capex'!K25","v":0},{"$f":"'A5-Capex'!L25","v":0}]
[{"$f":"'A5-Capex'!A26","v":"Vote 3 - COMMUNITY SERVICES"},null,92111,96662,95822,96222,94222,99355,99522,105222,105222,105666,105666,109727.73999999999,{"$f":"'A5-Capex'!J26","v":1205419.74},{"$f":"'A5-Capex'!K26","v":1277744.9244000001},{"$f":"'A5-Capex'!L26","v":1354409.6198640002}]
[{"$f":"'A5-Capex'!A27","v":"Vote 4 - WASTE MANAGEMENT"},null,15888,12555,33444,30888,14222,14555,55666,15666,71000,76444,33555,50662,{"$f":"'A5-Capex'!J27","v":424545},{"$f":"'A5-Capex'!K27","v":450017.7},{"$f":"'A5-Capex'!L27","v":477018.76200000005}]
[{"$f":"'A5-Capex'!A28","v":"Vote 5 - LOCAL ECONOMIC DEVELOPMENT"},null,null,null,null,null,null,null,null,null,null,null,null,0,{"$f":"'A5-Capex'!J28","v":0},{"$f":"'A5-Capex'!K28","v":0},{"$f":"'A5-Capex'!L28","v":0}]
[{"$f":"'A5-Capex'!A29","v":"Vote 6 - ROADS TRANSPORT"},null,556222,555666,552999,556222,479855,556222,823555,844555,945222,923555,895222,878778.38000000082,{"$f":"'A5-Capex'!J29","v":8568073.3800000008},{"$f":"'A5-Capex'!K29","v":9082157.782800002},{"$f":"'A5-Capex'!L29","v":9627087.249768002}]
[{"$f":"'A5-Capex'!A30","v":"Vote 7 - WATER"},null,1568555,1695222,1489555,1985666,1789555,1095552,2095222,2665222,2489555,2548555,2895222,2373503.9199999981,{"$f":"'A5-Capex'!J30","v":24691384.919999998},{"$f":"'A5-Capex'!K30","v":26172868.0152},{"$f":"'A5-Capex'!L30","v":27743240.096112002}]
[{"$f":"'A5-Capex'!A31","v":"Vote 8 - ELECTRICITY"},null,123555,145666,125222,125888,130888,134562,128222,112555,109822,139222,148222,{"$f":"O30-SUM(C30:M30)","v":123232.64999999991},{"$f":"'A5-Capex'!J31","v":1547056.65},{"$f":"'A5-Capex'!K31","v":1639880.0489999999},{"$f":"'A5-Capex'!L31","v":1738272.85194}]
[{"$f":"'A5-Capex'!A32","v":"Vote 9 - WASTE WATER"},null,1325666,1694555,1369444,1589444,1698555,1798555,2689555,2456555,2789555,3875444,3859444,{"$f":"O31-SUM(C31:M31)","v":3343748.3099999987},{"$f":"'A5-Capex'!J32","v":28490520.309999999},{"$f":"'A5-Capex'!K32","v":30199951.5286},{"$f":"'A5-Capex'!L32","v":32011948.620316003}]
[{"$f":"'A5-Capex'!A33","v":"Vote 10 - HOUSING"},null,null,null,null,null,null,null,null,null,null,null,null,{"$f":"O32-SUM(C32:M32)","v":0},{"$f":"'A5-Capex'!J33","v":0},{"$f":"'A5-Capex'!K33","v":0},{"$f":"'A5-Capex'!L33","v":0}]
[{"$f":"'A5-Capex'!A34","v":"Vote 11 - [NAME OF VOTE 11]"},null,null,null,null,null,null,null,null,null,null,null,null,0,{"$f":"'A5-Capex'!J34","v":0},{"$f":"'A5-Capex'!K34","v":0},{"$f":"'A5-Capex'!L34","v":0}]
[{"$f":"'A5-Capex'!A35","v":"Vote 12 - [NAME OF VOTE 12]"},null,null,null,null,null,null,null,null,null,null,null,null,0,{"$f":"'A5-Capex'!J35","v":0},{"$f":"'A5-Capex'!K35","v":0},{"$f":"'A5-Capex'!L35","v":0}]
[{"$f":"'A5-Capex'!A36","v":"Vote 13 - [NAME OF VOTE 13]"},null,null,null,null,null,null,null,null,null,null,null,null,0,{"$f":"'A5-Capex'!J36","v":0},{"$f":"'A5-Capex'!K36","v":0},{"$f":"'A5-Capex'!L36","v":0}]
[{"$f":"'A5-Capex'!A37","v":"Vote 14 - [NAME OF VOTE 14]"},null,null,null,null,null,null,null,null,null,null,null,null,0,{"$f":"'A5-Capex'!J37","v":0},{"$f":"'A5-Capex'!K37","v":0},{"$f":"'A5-Capex'!L37","v":0}]
[{"$f":"'A5-Capex'!A38","v":"Vote 15 - [NAME OF VOTE 15]"},null,null,null,null,null,null,null,null,null,null,null,null,0,{"$f":"'A5-Capex'!J38","v":0},{"$f":"'A5-Capex'!K38","v":0},{"$f":"'A5-Capex'!L38","v":0}]
["Capital single-year expenditure sub-total",2,{"$f":"SUM(C23:C37)","v":3681997},4200326,3666486,4384330,4207297,3698801,5891742,6199775,6510376,7668886,7937331,6879652.9999999981,64927000,68822620,72951977.200000003]
["Total Capital Expenditure",2,{"$f":"C20+C38","v":3681997},{"$f":"D20+D38","v":4200326},3666486,4384330,4207297,3698801,5891742,6199775,6510376,7668886,7937331,6879652.9999999981,{"$f":"O20+O38","v":64927000},{"$f":"P20+P38","v":68822620},{"$f":"Q20+Q38","v":72951977.200000003}]
[]
[]
[{"$f":"head27a","v":"References"}]
["1. Table should be completed as either Multi-Year expenditure appropriation or Budget Year and Forward Year estimates"]
["2. Total Capital Expenditure must reconcile to Budgeted Capital Expenditure"]
["check",null,null,null,null,null,null,null,null,null,null,null,null,null,{"$f":"O20-'A5-Capex'!J21","v":0},{"$f":"P20-'A5-Capex'!K21","v":0},{"$f":"Q20-'A5-Capex'!L21","v":0}]
[]
[null,null,null,null,"Add single year stuff"]

{"sheet":"SA29","index":49,"n_rows":40,"n_cols":17,"rows_kept":40,"cut":false,"hidden":false,"merged":[[1,2,1,13],[1,14,1,16]]}
[{"$f":"muni&\" - \"& TableA29","v":"FS193 Nketoana - Supporting Table SA29 Budgeted monthly capital expenditure (functional classification)"}]
[{"$f":"desc","v":"Description"},{"$f":"head27","v":"Ref"},{"$f":"Head9","v":"Budget Year 2018/19"},null,null,null,null,null,null,null,null,null,null,null,"Medium Term Revenue and Expenditure Framework"]
["R thousand",null,"July","August","Sept.","October","Nov.","Dec.","January","Feb.","March","April","May","June",{"$f":"Head9","v":"Budget Year 2018/19"},{"$f":"Head10","v":"Budget Year +1 2019/20"},{"$f":"Head11","v":"Budget Year +2 2020/21"}]
[{"$f":"'A5-Capex'!A42","v":"Capital Expenditure - Functional"},1]
[{"$f":"'A5-Capex'!A43","v":"Governance and administration"},null,{"$f":"SUM(C6:C8)","v":0},{"$f":"SUM(D6:D8)","v":0},{"$f":"SUM(E6:E8)","v":0},0,0,0,0,0,0,0,0,{"$f":"O5-SUM(C5:M5)","v":0},{"$f":"'A5-Capex'!J43","v":0},{"$f":"'A5-Capex'!K43","v":0},{"$f":"'A5-Capex'!L43","v":0}]
[{"$f":"'A5-Capex'!A44","v":"Executive and council"},null,null,null,null,null,null,null,null,null,null,null,null,{"$f":"O6-SUM(C6:M6)","v":0},{"$f":"'A5-Capex'!J44","v":0},{"$f":"'A5-Capex'!K44","v":0},{"$f":"'A5-Capex'!L44","v":0}]
[{"$f":"'A5-Capex'!A45","v":"Finance and administration"},null,null,null,null,null,null,null,null,null,null,null,null,0,{"$f":"'A5-Capex'!J45","v":0},{"$f":"'A5-Capex'!K45","v":0},{"$f":"'A5-Capex'!L45","v":0}]
[{"$f":"'A5-Capex'!A46","v":"Internal audit"},null,null,null,null,null,null,null,null,null,null,null,null,0,{"$f":"'A5-Capex'!J46","v":0},{"$f":"'A5-Capex'!K46","v":0},{"$f":"'A5-Capex'!L46","v":0}]
[{"$f":"'A5-Capex'!A47","v":"Community and public safety"},null,{"$f":"SUM(C10:C14)","v":92111},{"$f":"SUM(D10:D14)","v":96662},95822,96222,94222,99355,99522,105222,105222,105666,105666,109727.73999999999,{"$f":"'A5-Capex'!J47","v":1205419.74},{"$f":"'A5-Capex'!K47","v":1277744.9244000001},{"$f":"'A5-Capex'!L47","v":1354409.6198640002}]
[{"$f":"'A5-Capex'!A48","v":"Community and social services"},null,null,null,null,null,null,null,null,null,null,null,null,0,{"$f":"'A5-Capex'!J48","v":0},{"$f":"'A5-Capex'!K48","v":0},{"$f":"'A5-Capex'!L48","v":0}]
[{"$f":"'A5-Capex'!A49","v":"Sport and recreation"},null,92111,96662,95822,96222,94222,99355,99522,105222,105222,105666,105666,109727.73999999999,{"$f":"'A5-Capex'!J49","v":1205419.74},{"$f":"'A5-Capex'!K49","v":1277744.9244000001},{"$f":"'A5-Capex'!L49","v":1354409.6198640002}]
[{"$f":"'A5-Capex'!A50","v":"Public safety"},null,null,null,null,null,null,null,null,null,null,null,null,0,{"$f":"'A5-Capex'!J50","v":0},{"$f":"'A5-Capex'!K50","v":0},{"$f":"'A5-Capex'!L50","v":0}]
[{"$f":"'A5-Capex'!A51","v":"Housing"},null,null,null,null,null,null,null,null,null,null,null,null,0,{"$f":"'A5-Capex'!J51","v":0},{"$f":"'A5-Capex'!K51","v":0},{"$f":"'A5-Capex'!L51","v":0}]
[{"$f":"'A5-Capex'!A52","v":"Health"},null,null,null,null,null,null,null,null,null,null,null,null,0,{"$f":"'A5-Capex'!J52","v":0},{"$f":"'A5-Capex'!K52","v":0},{"$f":"'A5-Capex'!L52","v":0}]
[{"$f":"'A5-Capex'!A53","v":"Economic and environmental services"},null,{"$f":"SUM(C16:C18)","v":556222},{"$f":"SUM(D16:D18)","v":555666},552999,556222,479855,556222,823555,844555,945222,923555,895222,878778.38000000082,{"$f":"'A5-Capex'!J53","v":8568073.3800000008},{"$f":"'A5-Capex'!K53","v":9082157.782800002},{"$f":"'A5-Capex'!L53","v":9627087.249768002}]
[{"$f":"'A5-Capex'!A54","v":"Planning and development"},null,null,null,null,null,null,null,null,null,null,null,null,0,{"$f":"'A5-Capex'!J54","v":0},{"$f":"'A5-Capex'!K54","v":0},{"$f":"'A5-Capex'!L54","v":0}]
[{"$f":"'A5-Capex'!A55","v":"Road transport"},null,556222,555666,552999,556222,479855,556222,823555,844555,945222,923555,895222,878778.38000000082,{"$f":"'A5-Capex'!J55","v":8568073.3800000008},{"$f":"'A5-Capex'!K55","v":9082157.782800002},{"$f":"'A5-Capex'!L55","v":9627087.249768002}]
[{"$f":"'A5-Capex'!A56","v":"Environmental protection"},null,null,null,null,null,null,null,null,null,null,null,null,0,{"$f":"'A5-Capex'!J56","v":0},{"$f":"'A5-Capex'!K56","v":0},{"$f":"'A5-Capex'!L56","v":0}]
[{"$f":"'A5-Capex'!A57","v":"Trading services"},null,{"$f":"SUM(C20:C23)","v":3033664},{"$f":"SUM(D20:D23)","v":3547998},3017665,3731886,3633220,3043224,4968665,5249998,5459932,6639665,6936443,{"$f":"O19-SUM(C19:M19)","v":5891146.8799999952},{"$f":"'A5-Capex'!J57","v":55153506.879999995},{"$f":"'A5-Capex'!K57","v":58462717.292800002},{"$f":"'A5-Capex'!L57","v":61970480.330368005}]
[{"$f":"'A5-Capex'!A58","v":"Energy sources"},null,123555,145666,125222,125888,130888,134562,128222,112555,109822,139222,148222,123232.64999999991,{"$f":"'A5-Capex'!J58","v":1547056.65},{"$f":"'A5-Capex'!K58","v":1639880.0489999999},{"$f":"'A5-Capex'!L58","v":1738272.85194}]
[{"$f":"'A5-Capex'!A59","v":"Water management"},null,1568555,1695222,1489555,1985666,1789555,1095552,2095222,2665222,2489555,2548555,2895222,2373503.9199999981,{"$f":"'A5-Capex'!J59","v":24691384.919999998},{"$f":"'A5-Capex'!K59","v":26172868.0152},{"$f":"'A5-Capex'!L59","v":27743240.096112002}]
[{"$f":"'A5-Capex'!A60","v":"Waste water management"},null,1325666,1694555,1369444,1589444,1698555,1798555,2689555,2456555,2789555,3875444,3859444,3343748.3099999987,{"$f":"'A5-Capex'!J60","v":28490520.309999999},{"$f":"'A5-Capex'!K60","v":30199951.5286},{"$f":"'A5-Capex'!L60","v":32011948.620316003}]
[{"$f":"'A5-Capex'!A61","v":"Waste management"},null,15888,12555,33444,30888,14222,14555,55666,15666,71000,76444,33555,50662,{"$f":"'A5-Capex'!J61","v":424545},{"$f":"'A5-Capex'!K61","v":450017.7},{"$f":"'A5-Capex'!L61","v":477018.76200000005}]
[{"$f":"'A5-Capex'!A62","v":"Other"},null,null,null,null,null,null,null,null,null,null,null,null,{"$f":"O24-SUM(C24:M24)","v":0},{"$f":"'A5-Capex'!J62","v":0},{"$f":"'A5-Capex'!K62","v":0},{"$f":"'A5-Capex'!L62","v":0}]
[{"$f":"'A5-Capex'!A63","v":"Total Capital Expenditure - Functional"},2,{"$f":"C5+C9+C15+C19+C24","v":3681997},{"$f":"D5+D9+D15+D19+D24","v":4200326},3666486,4384330,4207297,3698801,5891742,6199775,6510376,7668886,7937331,{"$f":"N5+N9+N15+N19+N24","v":6879652.9999999963},64927000,68822620,72951977.200000003]
[]
["Funded by:"]
["National Government",null,16231750,null,16231750,null,null,16231750,null,null,16231750,null,null,{"$f":"O28-SUM(C28:M28)","v":0},{"$f":"'A5-Capex'!J66","v":64927000},{"$f":"'A5-Capex'!K66","v":68822620},{"$f":"'A5-Capex'!L66","v":72951977.200000003}]
["Provincial Government",null,null,null,null,null,null,null,null,null,null,null,null,{"$f":"O29-SUM(C29:M29)","v":0},{"$f":"'A5-Capex'!J67","v":0},{"$f":"'A5-Capex'!K67","v":0},{"$f":"'A5-Capex'!L67","v":0}]
["District Municipality",null,null,null,null,null,null,null,null,null,null,null,null,0,{"$f":"'A5-Capex'!J68","v":0},{"$f":"'A5-Capex'!K68","v":0},{"$f":"'A5-Capex'!L68","v":0}]
["Other transfers and grants",null,null,null,null,null,null,null,null,null,null,null,null,{"$f":"O31-SUM(C31:M31)","v":0},{"$f":"'A5-Capex'!J69","v":0},{"$f":"'A5-Capex'!K69","v":0},{"$f":"'A5-Capex'!L69","v":0}]
["Transfers recognised - capital",null,{"$f":"SUM(C28:C31)","v":16231750},0,16231750,0,0,16231750,0,0,16231750,0,0,{"$f":"SUM(N28:N31)","v":0},64927000,68822620,72951977.200000003]
["Public contributions & donations",null,null,null,null,null,null,null,null,null,null,null,null,0,{"$f":"'A5-Capex'!J71","v":0},{"$f":"'A5-Capex'!K71","v":0},{"$f":"'A5-Capex'!L71","v":0}]
["Borrowing",null,null,null,null,null,null,null,null,null,null,null,null,0,{"$f":"'A5-Capex'!J72","v":0},{"$f":"'A5-Capex'!K72","v":0},{"$f":"'A5-Capex'!L72","v":0}]
["Internally generated funds",null,null,null,null,null,null,null,null,null,null,null,null,0,{"$f":"'A5-Capex'!J73","v":0},{"$f":"'A5-Capex'!K73","v":0},{"$f":"'A5-Capex'!L73","v":0}]
["Total Capital Funding",null,{"$f":"SUM(C32:C35)","v":16231750},0,16231750,0,0,16231750,0,0,16231750,0,0,{"$f":"SUM(N32:N35)","v":0},64927000,68822620,72951977.200000003]
[{"$f":"head27a","v":"References"}]
["1. Table should be completed as either Multi-Year expenditure appropriation or Budget Year and Forward Year estimates"]
[{"$f":"'SA28'!A44","v":"2. Total Capital Expenditure must reconcile to Budgeted Capital Expenditure"}]
["check"]

{"sheet":"SA30","index":50,"n_rows":63,"n_cols":19,"rows_kept":63,"cut":false,"hidden":false,"merged":[[1,13,1,15],[1,1,1,12],[56,0,56,15]]}
[{"$f":"muni&\" - \"& TableA30","v":"FS193 Nketoana - Supporting Table SA30 Budgeted monthly cash flow"}]
["MONTHLY CASH FLOWS",{"$f":"Head9","v":"Budget Year 2018/19"},null,null,null,null,null,null,null,null,null,null,null,"Medium Term Revenue and Expenditure Framework"]
["R thousand","July","August","Sept.","October","November","December","January","February","March","April","May","June",{"$f":"Head9","v":"Budget Year 2018/19"},{"$f":"Head10","v":"Budget Year +1 2019/20"},{"$f":"Head11","v":"Budget Year +2 2020/21"}]
["Cash Receipts By Source",null,null,null,null,null,null,null,null,null,null,null,null,1]
[{"$f":"'A4-FinPerf RE'!A5","v":"Property rates"},1125333,1056888,1005666,1000695,986555,1205666,1465000,1356222,1145222,1306655,1356444,{"$f":"N5-SUM(B5:L5)","v":2790922.4651869498},15801268.46518695,{"$f":"N5*1.06","v":16749344.573098168},17754305.247484058,100001,100001,100001]
[{"$f":"'A4-FinPerf RE'!A6","v":"Service charges - electricity revenue"},1785696,1745062,2414545,2786124,2854986,2761931,3807564,4542828,4851391,4148286,4526555,4070586.3401428238,40295554.340142824,42713287.600551397,45276084.856584482]
[{"$f":"'A4-FinPerf RE'!A7","v":"Service charges - water revenue"},1996555,1998555,1895444,1994555,2847666,2748555,2989555,2999555,2978444,2985666,6998555,9207959.3005714566,41641064.300571457,44139528.158605747,46787899.848122098]
[{"$f":"'A4-FinPerf RE'!A8","v":"Service charges - sanitation revenue"},732833,658666,845888,835666,856888,1056888,1248555,1068555,1258555,1186475,832833,6311451.9619999975,16893253.961999997,17906849.199719999,18981260.151703201]
[{"$f":"'A4-FinPerf RE'!A9","v":"Service charges - refuse revenue"},1076583,1065895,1056222,1058954,1045666,1076895,1056444,1056888,1023444,1045888,1076583,4784301.0675142501,16423763.06751425,17409188.851565108,18453740.182659015]
[{"$f":"'A4-FinPerf RE'!A10","v":"Service charges - other"},null,null,null,null,null,null,null,null,null,null,null,0,null,0,0]
[{"$f":"'A4-FinPerf RE'!A11","v":"Rental of facilities and equipment"},16555,11666,33222,24555,13222,70444,74222,71222,72111,74111,98222,68463.383623542963,628015.38362354296,665696.30664095562,705638.08503941295]
[{"$f":"'A4-FinPerf RE'!A12","v":"Interest earned - external investments"},95684,87356,99548,89475,114562,128222,112555,109822,108555,100222,125444,210618.35814743,1382063.35814743,1464987.1596362758,1552886.3892144524]
[{"$f":"'A4-FinPerf RE'!A13","v":"Interest earned - outstanding debtors"},986555,995222,1056555,1069555,1386555,2499999,2055888,3656222,4800000,4811222,4955666,3081569.7942571789,31355008.794257179,33236309.321912613,35230487.881227374]
[{"$f":"'A4-FinPerf RE'!A14","v":"Dividends received"},null,null,null,null,null,null,null,null,null,null,null,0,null,0,0]
[{"$f":"'A4-FinPerf RE'!A15","v":"Fines, penalties and forfeits"},9000,9666,12555,11555,11555,14555,15888,17888,25622,39555,27555,454606,650000,689000,730340]
[{"$f":"'A4-FinPerf RE'!A16","v":"Licences and permits"},null,null,null,null,null,null,null,null,null,null,null,0,null,0,0]
[{"$f":"'A4-FinPerf RE'!A17","v":"Agency services"},null,null,null,null,null,null,null,null,null,null,null,0,null,0,0]
["Transfer receipts - operational",22592000,null,22592000,null,null,22592000,null,null,22591000,null,null,-2.571403980255127E-3,90366999.997428596,95789019.997274309,101536361.19711077]
[{"$f":"'A4-FinPerf RE'!A19","v":"Other revenue"},725698,812545,858999,939555,1266888,1258475,1288444,1389555,1355444,1344888,1099555,8102004.6028507017,20442050.602850702,21668573.639021743,22968688.057363048]
["Cash Receipts by Source",{"$f":"SUM(B5:B19)","v":31142492},8441521,31870644,9810689,11384543,35413630,14114115,16268757,40209788,17042968,21097412,39082483.271722928,275879042.27172291,292431784.80802631,309977691.89650786]
[]
["Other Cash Flows by Source"]
["Transfer receipts - capital",13731000.75,null,13731000.75,null,null,13731000.75,null,null,{"$f":"13731000.75+3000+10000000","v":23734000.75},null,null,{"$f":"N23-SUM(B23:L23)","v":-3},64927000,{"$f":"N23*1.06","v":68822620},72951977.200000003]
[{"$f":"'A4-FinPerf RE'!A39&\" & \"&'A4-FinPerf RE'!A40","v":"Transfers and subsidies - capital (monetary allocations) (National / Provincial Departmental Agencies, Households, Non-profit Institutions, Private Enterprises, Public Corporatons, Higher Educational Institutions) & Transfers and subsidies - capital (in-kind - all) "},null,null,null,null,null,null,null,null,null,null,null,0,null,0,0]
[{"$f":"'A7-CFlow'!A21","v":"Proceeds on disposal of PPE"},null,null,null,null,null,null,null,null,null,null,null,0,null,0,0]
[{"$f":"'A7-CFlow'!A31","v":"Short term loans"},null,null,null,null,null,null,null,null,null,null,null,0,null,0,0]
[{"$f":"'A7-CFlow'!A32","v":"Borrowing long term/refinancing"},null,null,null,null,null,null,null,null,null,null,null,0,null,0,0]
[{"$f":"'A7-CFlow'!A33","v":"Increase (decrease) in consumer deposits"},null,null,null,null,null,null,null,null,null,null,null,165000,165000,174900,185394]
[{"$f":"'A7-CFlow'!A22","v":"Decrease (Increase) in non-current debtors"},null,null,null,null,null,null,null,null,null,null,null,0,null,0,0]
[{"$f":"'A7-CFlow'!A23","v":"Decrease (increase) other non-current receivables"},null,null,null,null,null,null,null,null,null,null,null,0,null,0,0]
[{"$f":"'A7-CFlow'!A24","v":"Decrease (increase) in non-current investments"},null,null,null,null,null,null,null,null,null,null,null,0,null,0,0]
["Total Cash Receipts by Source",{"$f":"SUM(B20:B31)","v":44873492.75},8441521,45601644.75,9810689,11384543,49144630.75,14114115,16268757,63943788.75,17042968,21097412,39247480.271722928,340971042.27172291,361429304.80802631,383115063.09650785]
[]
["Cash Payments by Type"]
["Employee related costs",9009607,8202574,8540604,8157903,8403648,8746274,9009607,8555819,8746274,9009607,8555819,{"$f":"N35-SUM(B35:L35)","v":10012105.407550007},104949841.40755001,{"$f":"N35*1.06","v":111246831.89200301},117921641.8055232]
["Remuneration of councillors",804789,848555,844111,842895,834985,845111,844156,848111,856485,846895,855888,894213.6918374002,10166194.6918374,10776166.373347646,11422736.355748504]
["Finance charges",300000,300000,400000,400000,400000,400000,400000,460000,1460000,1430000,1456000,10439133.115040358,17845133.115040358,18915841.101942781,20050791.568059348]
["Bulk purchases - Electricity",2533000,2699555,2500555,3855111,3944555,4122555,4988555,4256222,5588444,5855111,2988555,9759203.3342118785,53091421.334211878,56276906.614264593,59653521.011120468]
["Bulk purchases - Water & Sewer",38555,78555,49666,59555,49555,59444,79444,59888,78555,69511,82999,64273,770000,816200,865172]
["Other materials",288991,155802,450249,407508,268841,385556,433045,338825,463379,1795514,1525111,2497179,9010000,9550600,10123636]
["Contracted services",33500,20500,20500,440500,540500,675500,765500,850500,860500,750500,1170500,1001500,7130000,7557800,8011268]
["Transfers and grants - other municipalities",null,null,null,null,null,null,null,null,null,null,null,0,null,0,0]
["Transfers and grants - other",null,null,null,null,null,null,null,null,null,null,null,0,null,0,0]
["Other expenditure",1569888,1458222,3895222,3148555,4182222,3589444,3485777,3485444,2015888,3582444,3048555,6217862.0436571389,39679523.043657139,42060294.426276572,44583912.091853172]
["Cash Payments by Type",{"$f":"SUM(B35:B44)","v":14578330},13763763,16700907,17312027,18624306,18823884,20006084,18854809,20069525,23339582,19683427,40885469.592296779,{"$f":"SUM(N35:N44)","v":242642113.59229678},257200640.40783459,{"$f":"SUM(P35:P44)","v":272632678.83230472}]
[]
["Other Cash Flows/Payments by Type"]
[{"$f":"'A7-CFlow'!A26","v":"Capital assets"},4025157,4853369,4421077,4095052,4996630,5731588,5870038,5052327,5113031,6682888,6345023,{"$f":"N48-SUM(B48:L48)","v":7740820},64927000,{"$f":"N48*1.06","v":68822620},72951977.200000003]
[{"$f":"'A7-CFlow'!A35","v":"Repayment of borrowing"},200000,200000,200000,200000,200000,200000,200000,200000,200000,200000,200000,200000,2400000,2544000,2696640]
[{"$f":"LEFT(A47,25)","v":"Other Cash Flows/Payments"},3400000,1550000,1550000,450000,450000,2088091.56,450000,550000,3761908.44,550000,550000,550000,{"$f":"12000000+3900000","v":15900000},16854000,17865240]
["Total Cash Payments by Type",{"$f":"SUM(B45:B50)","v":22203487},{"$f":"SUM(C45:C50)","v":20367132},22871984,22057079,24270936,26843563.559999999,26526122,24657136,29144464.440000001,30772470,26778450,49376289.592296779,325869113.59229678,345421260.40783459,366146536.0323047,null,"Check"]
[]
["NET INCREASE/(DECREASE) IN CASH HELD",{"$f":"B32-B51","v":22670005.75},-11925611,22729660.75,-12246390,-12886393,22301067.190000001,-12412007,-8388379,34799324.310000002,-13729502,-5681038,-10128809.320573851,15101928.679426134,16008044.400191724,16968527.064203143]
["Cash/cash equivalents at the month/year begin:",-2480240,{"$f":"B55","v":20189765.75},{"$f":"C55","v":8264154.75},30993815.5,18747425.5,5861032.5,28162099.690000001,15750092.690000001,7361713.6900000013,42161038,28431536,22750498,{"$f":"B54","v":-2480240},{"$f":"N55","v":12621688.679426134},{"$f":"O55","v":28629733.079617858}]
["Cash/cash equivalents at the month/year end:",{"$f":"B54+B53","v":20189765.75},{"$f":"C54+C53","v":8264154.75},{"$f":"D54+D53","v":30993815.5},18747425.5,5861032.5,28162099.690000001,15750092.690000001,7361713.6900000013,42161038,28431536,22750498,12621688.679426149,12621688.679426134,28629733.079617858,45598260.143821001]
[{"$f":"head27a","v":"References"}]
["1. Note that this section of Table SA 30 is deliberately not linked to Table A4 because timing differences between the invoicing of clients and receiving the cash means that the cashflow will differ from budgeted revenue, and similarly for budgeted expenditure. However for the MTREF it is now directly linked to A7."]
[]
[]
[]
[]
[null,null,null,null,{"$f":"E45+E61","v":17312027},18624306,18823884,20006084,18854809,20069525,23339582,19683427,40885469.592296779,242642113.59229678,257200640.40783459,272632678.83230472]
[null,null,null,null,{"$f":"E53-E61","v":-12246390},-12886393,22301067.190000001,-12412007,-8388379,34799324.310000002,-13729502,-5681038,-10128809.320573851,15101928.679426134,16008044.400191724,16968527.064203143]

{"sheet":"SA31","index":51,"n_rows":41,"n_cols":11,"rows_kept":41,"cut":false,"hidden":false,"merged":[[1,5,1,7],[1,8,1,10],[1,1,2,1]]}
[{"$f":"muni&\" - \"& TableA31","v":"FS193 Nketoana - NOT REQUIRED - municipality does not have entities"}]
[{"$f":"desc","v":"Description"},{"$f":"head27","v":"Ref"},{"$f":"head1b","v":"2014/15"},{"$f":"head1A","v":"2015/16"},{"$f":"Head1","v":"2016/17"},{"$f":"Head2","v":"Current Year 2017/18"},null,null,{"$f":"Head3","v":"2018/19 Medium Term Revenue & Expenditure Framework"}]
["R million",null,{"$f":"Head5","v":"Audited Outcome"},{"$f":"Head5","v":"Audited Outcome"},{"$f":"Head5","v":"Audited Outcome"},{"$f":"Head6","v":"Original Budget"},{"$f":"Head7","v":"Adjusted Budget"},{"$f":"Head8","v":"Full Year Forecast"},{"$f":"Head9","v":"Budget Year 2018/19"},{"$f":"Head10","v":"Budget Year +1 2019/20"},{"$f":"Head11","v":"Budget Year +2 2020/21"}]
["Financial Performance"]
[{"$f":"'A1-Sum'!A5","v":"Property rates"}]
[{"$f":"'A1-Sum'!A6","v":"Service charges"}]
[{"$f":"'A1-Sum'!A7","v":"Investment revenue"}]
[{"$f":"'A1-Sum'!A8","v":"Transfers recognised - operational"}]
[{"$f":"'A1-Sum'!A9","v":"Other own revenue"}]
[{"$f":"'A1-Sum'!A21","v":"Contributions recognised - capital & contributed assets"}]
[{"$f":"'A4-FinPerf RE'!A21","v":"Total Revenue (excluding capital transfers and contributions)"},null,{"$f":"SUM(C5:C10)","v":0},{"$f":"SUM(D5:D10)","v":0},{"$f":"SUM(E5:E10)","v":0},0,0,0,0,0,0]
[{"$f":"'A1-Sum'!A11","v":"Employee costs"}]
["Remuneration of Board Members"]
[{"$f":"'A1-Sum'!A13","v":"Depreciation & asset impairment"}]
[{"$f":"'A1-Sum'!A14","v":"Finance charges"}]
[{"$f":"'A1-Sum'!A15","v":"Materials and bulk purchases"}]
[{"$f":"'A1-Sum'!A16","v":"Transfers and grants"}]
[{"$f":"'A1-Sum'!A17","v":"Other expenditure"}]
[{"$f":"'A4-FinPerf RE'!A35","v":"Total Expenditure"},null,{"$f":"SUM(C12:C18)","v":0},{"$f":"SUM(D12:D18)","v":0},0,0,0,0,0,0,0]
[{"$f":"'A4-FinPerf RE'!A37","v":"Surplus/(Deficit)"},null,{"$f":"C11-C19","v":0},{"$f":"D11-D19","v":0},0,0,0,0,0,0,0]
[]
["Capital expenditure & funds sources"]
["Capital expenditure"]
[{"$f":"A8","v":"Transfers recognised - operational"}]
[{"$f":"'A5-Capex'!A71","v":"Public contributions & donations"}]
[{"$f":"'A5-Capex'!A72","v":"Borrowing"}]
[{"$f":"'A5-Capex'!A73","v":"Internally generated funds"}]
["Total sources",null,{"$f":"SUM(C24:C27)","v":0},0,0,0,0,0,0,0,0]
[]
["Financial position"]
[{"$f":"'A6-FinPos'!A12","v":"Total current assets"}]
[{"$f":"'A6-FinPos'!A24","v":"Total non current assets"}]
[{"$f":"'A6-FinPos'!A34","v":"Total current liabilities"}]
[{"$f":"'A6-FinPos'!A39","v":"Total non current liabilities"}]
["Equity"]
[]
["Cash flows"]
[{"$f":"'A1-Sum'!A42","v":"Net cash from (used) operating"}]
[{"$f":"'A1-Sum'!A43","v":"Net cash from (used) investing"}]
[{"$f":"'A1-Sum'!A44","v":"Net cash from (used) financing"}]
[{"$f":"'A1-Sum'!A45","v":"Cash/cash equivalents at the year end"}]

{"sheet":"SA32","index":52,"n_rows":27,"n_cols":6,"rows_kept":27,"cut":false,"hidden":false,"merged":[[1,3,2,3],[1,4,2,4],[1,1,2,1]]}
[{"$f":"muni&\" - \"&TableA32","v":"FS193 Nketoana - Supporting Table SA32 List of external mechanisms"}]
["External mechanism","Yrs/ Mths","Period of agreement 1.","Service provided","Expiry date of service delivery agreement or contract","Monetary value of agreement 2."]
["Name of organisation",null,"Number",null,null,"R thousand"]
["Nashua","Mths",36,"Lease of telephone","2016-01-14",461957.61]
["Wulf alarm system","Mths",12,"Security alarm system",null,4320]
["AFS compilation ( Tender)","Mths",12,"AFS compilation","2017-11-30",810084]
["Nashua","Mths",36,"Lease of photocopying machines","2019-05-30",656202.93000000005]
["Lateral unison","Mths",12,"Insuring Municipal assests",null,1600000]
["MunSoft","Mths",36,"Finacial support system ",null,803319.48]
["MunComp","Mths",12,"Archiving suppport system",null,52128.959999999999]
["Imperial ","Mths",36,"Lease of vehicle","2016-01-31",1700346.48]
["Tsukudu 17 Services","Mths",36,"Comprehensive IT Audit","2016-11-19",798965.04]
["Khabokhedi","Mths",36,"Hiring of TLB",null,1881000]
["Rantoa","Mths",12,"Hiring of compactor truck",null,3240000]
["Sizwe printing","Mths",12,"Printing of municipal accounts",null,478800]
["Dagne","Mths",36,"Supply of chemicals","2016-12-30",235773.49]
["Maxprof","Mths",36,"Vat recovery","2016-10-30",1700000]
[]
[]
[]
[]
[]
[]
[]
[{"$f":"head27a","v":"References"}]
["1. Total agreement period from commencement until end"]
["2. Annual value"]

{"sheet":"SA33","index":53,"n_rows":48,"n_cols":15,"rows_kept":48,"cut":false,"hidden":false,"merged":[[1,4,1,6],[47,0,47,13]]}
[{"$f":"muni&\" - \"& TableA33","v":"FS193 Nketoana - Supporting Table SA33 Contracts having future budgetary implications"}]
[{"$f":"desc","v":"Description"},{"$f":"head27","v":"Ref"},"Preceding Years",{"$f":"Head2","v":"Current Year 2017/18"},{"$f":"Head3","v":"2018/19 Medium Term Revenue & Expenditure Framework"},null,null,{"$f":"Head12","v":"Forecast 2021/22"},{"$f":"Head13","v":"Forecast 2022/23"},{"$f":"Head14","v":"Forecast 2023/24"},{"$f":"Head15","v":"Forecast 2024/25"},{"$f":"Head16","v":"Forecast 2025/26"},{"$f":"Head17","v":"Forecast 2026/27"},{"$f":"Head18","v":"Forecast 2027/28"},"Total Contract Value"]
["R thousand","1,3","Total",{"$f":"Head6","v":"Original Budget"},{"$f":"Head9","v":"Budget Year 2018/19"},{"$f":"Head10","v":"Budget Year +1 2019/20"},{"$f":"Head11","v":"Budget Year +2 2020/21"},"Estimate","Estimate","Estimate","Estimate","Estimate","Estimate","Estimate","Estimate"]
["Parent Municipality:"]
["Revenue Obligation By Contract",2]
["Contract 1",null,null,null,null,null,null,null,null,null,null,null,null,null,{"$f":"SUM(C6:N6)","v":0}]
["Contract 2",null,null,null,null,null,null,null,null,null,null,null,null,null,{"$f":"SUM(C7:N7)","v":0}]
["Contract 3 etc",null,null,null,null,null,null,null,null,null,null,null,null,null,{"$f":"SUM(C8:N8)","v":0}]
["Total Operating Revenue Implication",null,{"$f":"SUM(C6:C8)","v":0},{"$f":"SUM(D6:D8)","v":0},0,0,0,0,0,0,0,0,0,0,{"$f":"SUM(C9:N9)","v":0}]
[]
["Expenditure Obligation By Contract",2]
["Contract 1",null,null,null,null,null,null,null,null,null,null,null,null,null,{"$f":"SUM(C12:N12)","v":0}]
["Contract 2",null,null,null,null,null,null,null,null,null,null,null,null,null,{"$f":"SUM(C13:N13)","v":0}]
["Contract 3 etc",null,null,null,null,null,null,null,null,null,null,null,null,null,{"$f":"SUM(C14:N14)","v":0}]
["Total Operating Expenditure Implication",null,{"$f":"SUM(C12:C14)","v":0},0,0,0,0,0,0,0,0,0,0,0,{"$f":"SUM(C15:N15)","v":0}]
[]
["Capital Expenditure Obligation By Contract",2]
["Contract 1",null,null,null,null,null,null,null,null,null,null,null,null,null,{"$f":"SUM(C18:N18)","v":0}]
["Contract 2",null,null,null,null,null,null,null,null,null,null,null,null,null,{"$f":"SUM(C19:N19)","v":0}]
["Contract 3 etc",null,null,null,null,null,null,null,null,null,null,null,null,null,{"$f":"SUM(C20:N20)","v":0}]
["Total Capital Expenditure Implication",null,{"$f":"SUM(C18:C20)","v":0},0,0,0,0,0,0,0,0,0,0,0,{"$f":"SUM(C21:N21)","v":0}]
[]
["Total Parent Expenditure Implication",null,{"$f":"C15+C21","v":0},{"$f":"D15+D21","v":0},0,0,0,0,0,0,0,0,0,0,0]
[]
["Entities:"]
["Revenue Obligation By Contract",2]
["Contract 1",null,null,null,null,null,null,null,null,null,null,null,null,null,{"$f":"SUM(C27:N27)","v":0}]
["Contract 2",null,null,null,null,null,null,null,null,null,null,null,null,null,{"$f":"SUM(C28:N28)","v":0}]
["Contract 3 etc",null,null,null,null,null,null,null,null,null,null,null,null,null,{"$f":"SUM(C29:N29)","v":0}]
["Total Operating Revenue Implication",null,{"$f":"SUM(C27:C29)","v":0},0,0,0,0,0,0,0,0,0,0,0,{"$f":"SUM(C30:N30)","v":0}]
[]
["Expenditure Obligation By Contract",2]
["Contract 1",null,null,null,null,null,null,null,null,null,null,null,null,null,{"$f":"SUM(C33:N33)","v":0}]
["Contract 2",null,null,null,null,null,null,null,null,null,null,null,null,null,{"$f":"SUM(C34:N34)","v":0}]
["Contract 3 etc",null,null,null,null,null,null,null,null,null,null,null,null,null,{"$f":"SUM(C35:N35)","v":0}]
["Total Operating Expenditure Implication",null,{"$f":"SUM(C33:C35)","v":0},0,0,0,0,0,0,0,0,0,0,0,{"$f":"SUM(C36:N36)","v":0}]
[]
["Capital Expenditure Obligation By Contract",2]
["Contract 1",null,null,null,null,null,null,null,null,null,null,null,null,null,{"$f":"SUM(C39:N39)","v":0}]
["Contract 2",null,null,null,null,null,null,null,null,null,null,null,null,null,{"$f":"SUM(C40:N40)","v":0}]
["Contract 3 etc",null,null,null,null,null,null,null,null,null,null,null,null,null,{"$f":"SUM(C41:N41)","v":0}]
["Total Capital Expenditure Implication",null,{"$f":"SUM(C39:C41)","v":0},0,0,0,0,0,0,0,0,0,0,0,{"$f":"SUM(C42:N42)","v":0}]
[]
["Total Entity Expenditure Implication",null,{"$f":"C36+C42","v":0},{"$f":"D36+D42","v":0},0,0,0,0,0,0,0,0,0,0,0]
[{"$f":"head27a","v":"References"}]
["1. Total implication for all preceding years to be summed and total stated in 'Preceding Years' column"]
["2. List all contracts with future financial obligations beyond the three years covered by the MTREF (MFMA s33)"]
["3. For municipalities with approved total revenue not exceeding R250 m - all contracts with an annual cost greater than R500 000. For municipalities with approved total revenue greater than R250 m - all contracts with an annual cost greater than R1million. For municipalities with approved total revenue greater than R500 m - all contracts with an annual cost greater than R5 million"]

{"sheet":"SA34a","index":54,"n_rows":173,"n_cols":11,"rows_kept":173,"cut":false,"hidden":false,"merged":[[1,5,1,7],[1,8,1,10]]}
[{"$f":"muni&\" - \"&TableA34a","v":"FS193 Nketoana - Supporting Table SA34a Capital expenditure on new assets by asset class"}]
[{"$f":"desc","v":"Description"},{"$f":"head27","v":"Ref"},{"$f":"head1b","v":"2014/15"},{"$f":"head1A","v":"2015/16"},{"$f":"Head1","v":"2016/17"},{"$f":"Head2","v":"Current Year 2017/18"},null,null,{"$f":"Head3","v":"2018/19 Medium Term Revenue & Expenditure Framework"}]
["R thousand",1,{"$f":"Head5","v":"Audited Outcome"},{"$f":"Head5","v":"Audited Outcome"},{"$f":"Head5","v":"Audited Outcome"},{"$f":"Head6","v":"Original Budget"},{"$f":"Head7","v":"Adjusted Budget"},{"$f":"Head8","v":"Full Year Forecast"},{"$f":"Head9","v":"Budget Year 2018/19"},{"$f":"Head10","v":"Budget Year +1 2019/20"},{"$f":"Head11","v":"Budget Year +2 2020/21"}]
["Capital expenditure on new assets by Asset Class/Sub-class"]
[]
["Infrastructure",null,{"$f":"C7+C12+C16+C26+C37+C44+C52+C62+C68","v":44175660},{"$f":"D7+D12+D16+D26+D37+D44+D52+D62+D68","v":51822703},44001344.770000003,51231294.149999999,43927509.159999996,43927509.159999996,23935551.619999997,25371684.717199996,26893985.800231997]
["Roads Infrastructure",null,{"$f":"SUM(C8:C11)","v":11094273},12648409,1210900,1287750,1287750,1287750,1352100,1433226,1519219.56]
["Roads",null,11094273,12648409,1210900,1287750,1287750,1287750,1352100,{"$f":"I8*1.06","v":1433226},1519219.56]
["Road Structures"]
["Road Furniture"]
["Capital Spares"]
["Storm water Infrastructure",null,{"$f":"SUM(C13:C15)","v":0},{"$f":"SUM(D13:D15)","v":0},0,0,0,0,0,0,0]
["Drainage Collection"]
["Storm water Conveyance"]
["Attenuation"]
["Electrical Infrastructure",null,{"$f":"SUM(C17:C25)","v":5300000},2842188,0,0,0,0,1547056.65,1639880.0489999999,1738272.85194]
["Power Plants",null,5300000,2842188,null,null,null,null,1547056.65,{"$f":"I17*1.06","v":1639880.0489999999},1738272.85194]
["HV Substations"]
["HV Switching Station"]
["HV Transmission Conductors"]
["MV Substations"]
["MV Switching Stations"]
["MV Networks"]
["LV Networks"]
["Capital Spares"]
["Water Supply Infrastructure",null,{"$f":"SUM(C27:C36)","v":14597433},{"$f":"SUM(D27:D36)","v":19660506},32010790.850000001,42253389.149999999,42253389.149999999,42253389.149999999,0,0,0]
["Dams and Weirs",null,14597433,19660506,32010790.850000001,42253389.149999999,42253389.149999999,42253389.149999999,null,{"$f":"I27*1.06","v":0},0]
["Boreholes"]
["Reservoirs"]
["Pump Stations"]
["Water Treatment Works"]
["Bulk Mains"]
["Distribution"]
["Distribution Points"]
["PRV Stations"]
["Capital Spares"]
["Sanitation Infrastructure",null,{"$f":"SUM(C38:C43)","v":4160116},{"$f":"SUM(D38:D43)","v":7728815},10403453.92,0,0,0,20611849.969999999,21848560.968199998,23159474.626291998]
["Pump Station"]
["Reticulation"]
["Waste Water Treatment Works",null,4160116,7728815,10403453.92,null,null,null,{"$f":"16566788+623369.99+3421691.98","v":20611849.969999999},{"$f":"I40*1.06","v":21848560.968199998},23159474.626291998]
["Outfall Sewers"]
["Toilet Facilities"]
["Capital Spares"]
["Solid Waste Infrastructure",null,{"$f":"SUM(C45:C51)","v":9023838},{"$f":"SUM(D45:D51)","v":8942785},376200,7690155,386370.00999999978,386370.00999999978,424545,450017.7,477018.76200000005]
["Landfill Sites",null,9023838,8942785,376200,7690155,386370.00999999978,386370.00999999978,424545,{"$f":"I45*1.06","v":450017.7},477018.76200000005]
["Waste Transfer Stations"]
["Waste Processing Facilities"]
["Waste Drop-off Points"]
["Waste Separation Facilities"]
["Electricity Generation Facilities"]
["Capital Spares"]
["Rail Infrastructure",null,{"$f":"SUM(C53:C61)","v":0},0,0,0,0,0,0,0,0]
["Rail Lines"]
["Rail Structures"]
["Rail Furniture"]
["Drainage Collection"]
["Storm water Conveyance"]
["Attenuation"]
["MV Substations"]
["LV Networks"]
["Capital Spares"]
["Coastal Infrastructure",null,{"$f":"SUM(C63:C67)","v":0},{"$f":"SUM(D63:D67)","v":0},0,0,0,0,0,0,0]
["Sand Pumps"]
["Piers"]
["Revetments"]
["Promenades"]
["Capital Spares"]
["Information and Communication Infrastructure",null,{"$f":"SUM(C69:C72)","v":0},{"$f":"SUM(D69:D72)","v":0},0,0,0,0,0,0,0]
["Data Centres"]
["Core Layers"]
["Distribution Layers"]
["Capital Spares"]
[]
["Community Assets",null,{"$f":"C75+C98","v":0},{"$f":"D75+D98","v":6212509},12389245.92,854567.61,854567.61,854567.61,0,0,0]
["Community Facilities",null,{"$f":"SUM(C76:C97)","v":0},{"$f":"SUM(D76:D97)","v":6212509},12389245.92,854567.61,854567.61,854567.61,0,0,0]
["Halls",null,null,6212509,12389245.92,854567.61,854567.61,854567.61,null,{"$f":"I76*1.06","v":0},0]
["Centres"]
["Crèches"]
["Clinics/Care Centres"]
["Fire/Ambulance Stations"]
["Testing Stations"]
["Museums"]
["Galleries"]
["Theatres"]
["Libraries"]
["Cemeteries/Crematoria"]
["Police"]
["Parks"]
["Public Open Space"]
["Nature Reserves"]
["Public Ablution Facilities"]
["Markets"]
["Stalls"]
["Abattoirs"]
["Airports"]
["Taxi Ranks/Bus Terminals"]
["Capital Spares"]
["Sport and Recreation Facilities",null,{"$f":"SUM(C99:C101)","v":0},{"$f":"SUM(D99:D101)","v":0},0,0,0,0,0,0,0]
["Indoor Facilities"]
["Outdoor Facilities"]
["Capital Spares"]
[]
["Heritage assets",null,{"$f":"SUM(C104:C108)","v":0},{"$f":"SUM(D104:D108)","v":0},0,0,0,0,0,0,0]
["Monuments"]
["Historic Buildings"]
["Works of Art"]
["Conservation Areas"]
["Other Heritage"]
[]
["Investment properties",null,{"$f":"+C111+C114","v":0},{"$f":"+D111+D114","v":0},0,0,0,0,0,0,0]
["Revenue Generating",null,{"$f":"SUM(C112:C113)","v":0},0,0,0,0,0,0,0,0]
["Improved Property"]
["Unimproved Property"]
["Non-revenue Generating",null,{"$f":"SUM(C115:C116)","v":0},{"$f":"SUM(D115:D116)","v":0},0,0,0,0,0,0,0]
["Improved Property"]
["Unimproved Property"]
[]
["Other assets",null,{"$f":"+C119+C131","v":1402635},{"$f":"+D119+D131","v":1513798},0,0,0,0,0,0,0]
["Operational Buildings",null,{"$f":"SUM(C120:C130)","v":1402635},{"$f":"SUM(D120:D130)","v":1513798},0,0,0,0,0,0,0]
["Municipal Offices",null,1402635,1513798,null,null,null,null,null,{"$f":"I120*1.06","v":0},0]
["Pay/Enquiry Points"]
["Building Plan Offices"]
["Workshops"]
["Yards"]
["Stores"]
["Laboratories"]
["Training Centres"]
["Manufacturing Plant"]
["Depots"]
["Capital Spares"]
["Housing",null,{"$f":"SUM(C132:C134)","v":0},{"$f":"SUM(D132:D134)","v":0},0,0,0,0,0,0,0]
["Staff Housing"]
["Social Housing"]
["Capital Spares"]
[]
["Biological or Cultivated Assets",null,{"$f":"SUM(C137:C137)","v":0},0,0,0,0,0,0,0,0]
["Biological or Cultivated Assets"]
[]
["Intangible Assets",null,{"$f":"+C140+C141","v":19666},{"$f":"+D140+D141","v":27582},0,0,0,0,0,0,0]
["Servitudes"]
["Licences and Rights",null,{"$f":"SUM(C142:C147)","v":19666},{"$f":"SUM(D142:D147)","v":27582},0,0,0,0,0,0,0]
["Water Rights"]
["Effluent Licenses"]
["Solid Waste Licenses"]
["Computer Software and Applications",null,19666,27582,null,null,null,null,null,{"$f":"I145*1.06","v":0},0]
["Load Settlement Software Applications"]
["Unspecified"]
[]
["Computer Equipment",null,{"$f":"SUM(C150:C150)","v":0},0,0,0,0,0,0,0,0]
["Computer Equipment"]
[]
["Furniture and Office Equipment",null,{"$f":"SUM(C153:C153)","v":0},0,0,0,0,0,0,0,0]
["Furniture and Office Equipment"]
[]
["Machinery and Equipment",null,{"$f":"SUM(C156:C156)","v":0},0,0,0,0,0,0,0,0]
["Machinery and Equipment"]
[]
["Transport Assets",null,{"$f":"SUM(C159:C159)","v":0},0,0,0,0,0,0,0,0]
["Transport Assets"]
[]
["Libraries",null,{"$f":"SUM(C162:C162)","v":0},0,0,0,0,0,0,0,0]
["Libraries"]
[]
["Zoo's, Marine and Non-biological Animals",null,{"$f":"SUM(C165:C165)","v":0},0,0,0,0,0,0,0,0]
["Zoo's, Marine and Non-biological Animals"]
[]
["Total Capital Expenditure on new assets ",1,{"$f":"C6+C74+C103+C110+C118+C136+C139+C149+C152+C155+C158+C161+C164","v":45597961},{"$f":"D6+D74+D103+D110+D118+D136+D139+D149+D152+D155+D158+D161+D164","v":59576592},56390590.690000005,52085861.759999998,44782076.769999996,44782076.769999996,23935551.619999997,25371684.717199996,26893985.800231997]
[]
[{"$f":"head27a","v":"References"}]
["1. Total Capital Expenditure on new assets (SA34a) plus Total Capital Expenditure on renewal of existing assets (SA34b) plus Total Capital Expenditure  on upgrading of existing assets (SA34e) must reconcile to total capital expenditure in Budgeted Capital Expenditure"]
[]
[]
["check balance",null,{"$f":"SUM(C167+SA34b!C167++SA34e!C167)-'A5-Capex'!C40","v":0},{"$f":"SUM(D167+SA34b!D167++SA34e!D167)-'A5-Capex'!D40","v":0},{"$f":"SUM(E167+SA34b!E167++SA34e!E167)-'A5-Capex'!E40","v":-1.9999995827674866E-2},{"$f":"SUM(F167+SA34b!F167++SA34e!F167)-'A5-Capex'!F40","v":0},{"$f":"SUM(G167+SA34b!G167++SA34e!G167)-'A5-Capex'!G40","v":0},{"$f":"SUM(H167+SA34b!H167++SA34e!H167)-'A5-Capex'!H40","v":0},{"$f":"SUM(I167+SA34b!I167++SA34e!I167)-'A5-Capex'!I40","v":-33834000.00999999},{"$f":"SUM(J167+SA34b!J167++SA34e!J167)-'A5-Capex'!J40","v":3895620},{"$f":"SUM(K167+SA34b!K167++SA34e!K167)-'A5-Capex'!K40","v":4129357.200000003}]

{"sheet":"SA34b","index":55,"n_rows":175,"n_cols":11,"rows_kept":175,"cut":false,"hidden":false,"merged":[[1,5,1,7],[1,8,1,10]]}
[{"$f":"muni&\" - \"&TableA34b","v":"FS193 Nketoana - Supporting Table SA34b Capital expenditure on the renewal of existing assets by asset class"}]
[{"$f":"desc","v":"Description"},{"$f":"head27","v":"Ref"},{"$f":"head1b","v":"2014/15"},{"$f":"head1A","v":"2015/16"},{"$f":"Head1","v":"2016/17"},{"$f":"Head2","v":"Current Year 2017/18"},null,null,{"$f":"Head3","v":"2018/19 Medium Term Revenue & Expenditure Framework"}]
["R thousand",1,{"$f":"Head5","v":"Audited Outcome"},{"$f":"Head5","v":"Audited Outcome"},{"$f":"Head5","v":"Audited Outcome"},{"$f":"Head6","v":"Original Budget"},{"$f":"Head7","v":"Adjusted Budget"},{"$f":"Head8","v":"Full Year Forecast"},{"$f":"Head9","v":"Budget Year 2018/19"},{"$f":"Head10","v":"Budget Year +1 2019/20"},{"$f":"Head11","v":"Budget Year +2 2020/21"}]
["Capital expenditure on renewal of existing assets by Asset Class/Sub-class"]
[]
["Infrastructure",null,{"$f":"C7+C12+C16+C26+C37+C44+C52+C62+C68","v":0},{"$f":"D7+D12+D16+D26+D37+D44+D52+D62+D68","v":0},3916477.73,43420515.25,48968715.61999999,48968715.61999999,39786028.640000001,42173190.358399995,44703581.779904]
["Roads Infrastructure",null,{"$f":"SUM(C8:C11)","v":0},0,3916477.73,12545315.620000001,15870391.479999999,15870391.479999999,7215973.3799999999,7648931.7828000002,8107867.6897680005]
["Roads",null,null,null,3916477.73,12545315.620000001,15870391.479999999,15870391.479999999,{"$f":"5195837+249090.54+249090.54+1521955.3","v":7215973.3799999999},{"$f":"I8*1.06","v":7648931.7828000002},8107867.6897680005]
["Road Structures"]
["Road Furniture"]
["Capital Spares"]
["Storm water Infrastructure",null,{"$f":"SUM(C13:C15)","v":0},{"$f":"SUM(D13:D15)","v":0},0,{"$f":"SUM(F13:F15)","v":0},0,0,0,0,0]
["Drainage Collection"]
["Storm water Conveyance"]
["Attenuation"]
["Electrical Infrastructure",null,{"$f":"SUM(C17:C25)","v":0},0,0,5000000,5000000,5000000,0,0,0]
["Power Plants",null,null,null,null,5000000,5000000,5000000,null,{"$f":"I17*1.06","v":0},0]
["HV Substations"]
["HV Switching Station"]
["HV Transmission Conductors"]
["MV Substations"]
["MV Switching Stations"]
["MV Networks"]
["LV Networks"]
["Capital Spares"]
["Water Supply Infrastructure",null,{"$f":"SUM(C27:C36)","v":0},{"$f":"SUM(D27:D36)","v":0},0,5596096.5899999999,5596096.5899999999,5596096.5899999999,28490520.309999999,30199951.5286,32011948.620316003]
["Dams and Weirs",null,null,null,null,5596096.5899999999,5596096.5899999999,5596096.5899999999,28490520.309999999,{"$f":"I27*1.06","v":30199951.5286},32011948.620316003]
["Boreholes"]
["Reservoirs"]
["Pump Stations"]
["Water Treatment Works"]
["Bulk Mains"]
["Distribution"]
["Distribution Points"]
["PRV Stations"]
["Capital Spares"]
["Sanitation Infrastructure",null,{"$f":"SUM(C38:C43)","v":0},{"$f":"SUM(D38:D43)","v":0},0,20279103.039999999,22502227.549999997,22502227.549999997,4079534.95,4324307.0470000003,4583765.4698200002]
["Pump Station",null,null,null,null,20279103.039999999,22502227.549999997,22502227.549999997,{"$f":"2530738.97+1548795.98","v":4079534.95},{"$f":"I38*1.06","v":4324307.0470000003},4583765.4698200002]
["Reticulation"]
["Waste Water Treatment Works"]
["Outfall Sewers"]
["Toilet Facilities"]
["Capital Spares"]
["Solid Waste Infrastructure",null,{"$f":"SUM(C45:C51)","v":0},{"$f":"SUM(D45:D51)","v":0},0,0,0,0,0,0,0]
["Landfill Sites"]
["Waste Transfer Stations"]
["Waste Processing Facilities"]
["Waste Drop-off Points"]
["Waste Separation Facilities"]
["Electricity Generation Facilities"]
["Capital Spares"]
["Rail Infrastructure",null,{"$f":"SUM(C53:C61)","v":0},0,0,0,0,0,0,0,0]
["Rail Lines"]
["Rail Structures"]
["Rail Furniture"]
["Drainage Collection"]
["Storm water Conveyance"]
["Attenuation"]
["MV Substations"]
["LV Networks"]
["Capital Spares"]
["Coastal Infrastructure",null,{"$f":"SUM(C63:C67)","v":0},{"$f":"SUM(D63:D67)","v":0},0,0,0,0,0,0,0]
["Sand Pumps"]
["Piers"]
["Revetments"]
["Promenades"]
["Capital Spares"]
["Information and Communication Infrastructure",null,{"$f":"SUM(C69:C72)","v":0},{"$f":"SUM(D69:D72)","v":0},0,0,0,0,0,0,0]
["Data Centres"]
["Core Layers"]
["Distribution Layers"]
["Capital Spares"]
[]
["Community Assets",null,{"$f":"C75+C98","v":0},{"$f":"D75+D98","v":0},3910931.56,3254622.99,5010207.62,5010207.62,1205419.74,1277744.9244000001,1354409.6198640002]
["Community Facilities",null,{"$f":"SUM(C76:C97)","v":0},{"$f":"SUM(D76:D97)","v":0},3910931.56,0,0,0,0,0,0]
["Halls",null,null,null,3910931.56,null,null,null,null,{"$f":"I76*1.06","v":0},0]
["Centres"]
["Crèches"]
["Clinics/Care Centres"]
["Fire/Ambulance Stations"]
["Testing Stations"]
["Museums"]
["Galleries"]
["Theatres"]
["Libraries"]
["Cemeteries/Crematoria"]
["Police"]
["Parks"]
["Public Open Space"]
["Nature Reserves"]
["Public Ablution Facilities"]
["Markets"]
["Stalls"]
["Abattoirs"]
["Airports"]
["Taxi Ranks/Bus Terminals"]
["Capital Spares"]
["Sport and Recreation Facilities",null,{"$f":"SUM(C99:C101)","v":0},{"$f":"SUM(D99:D101)","v":0},0,3254622.99,5010207.62,5010207.62,1205419.74,1277744.9244000001,1354409.6198640002]
["Indoor Facilities",null,null,null,null,3254622.99,5010207.62,5010207.62,1205419.74,{"$f":"I99*1.06","v":1277744.9244000001},1354409.6198640002]
["Outdoor Facilities"]
["Capital Spares"]
[]
["Heritage assets",null,{"$f":"SUM(C104:C108)","v":0},{"$f":"SUM(D104:D108)","v":0},0,0,0,0,0,0,0]
["Monuments"]
["Historic Buildings"]
["Works of Art"]
["Conservation Areas"]
["Other Heritage"]
[]
["Investment properties",null,{"$f":"+C111+C114","v":0},{"$f":"+D111+D114","v":0},0,0,0,0,0,0,0]
["Revenue Generating",null,{"$f":"SUM(C112:C113)","v":0},0,0,0,0,0,0,0,0]
["Improved Property"]
["Unimproved Property"]
["Non-revenue Generating",null,{"$f":"SUM(C115:C116)","v":0},{"$f":"SUM(D115:D116)","v":0},0,0,0,0,0,0,0]
["Improved Property"]
["Unimproved Property"]
[]
["Other assets",null,{"$f":"+C119+C131","v":0},{"$f":"+D119+D131","v":0},0,0,0,0,0,0,0]
["Operational Buildings",null,{"$f":"SUM(C120:C130)","v":0},{"$f":"SUM(D120:D130)","v":0},0,0,0,0,0,0,0]
["Municipal Offices"]
["Pay/Enquiry Points"]
["Building Plan Offices"]
["Workshops"]
["Yards"]
["Stores"]
["Laboratories"]
["Training Centres"]
["Manufacturing Plant"]
["Depots"]
["Capital Spares"]
["Housing",null,{"$f":"SUM(C132:C134)","v":0},{"$f":"SUM(D132:D134)","v":0},0,0,0,0,0,0,0]
["Staff Housing"]
["Social Housing"]
["Capital Spares"]
[]
["Biological or Cultivated Assets",null,{"$f":"SUM(C137:C137)","v":0},0,0,0,0,0,0,0,0]
["Biological or Cultivated Assets"]
[]
["Intangible Assets",null,{"$f":"+C140+C141","v":0},{"$f":"+D140+D141","v":0},0,0,0,0,0,0,0]
["Servitudes"]
["Licences and Rights",null,{"$f":"SUM(C142:C147)","v":0},{"$f":"SUM(D142:D147)","v":0},0,0,0,0,0,0,0]
["Water Rights"]
["Effluent Licenses"]
["Solid Waste Licenses"]
["Computer Software and Applications"]
["Load Settlement Software Applications"]
["Unspecified"]
[]
["Computer Equipment",null,{"$f":"SUM(C150:C150)","v":0},0,0,0,0,0,0,0,0]
["Computer Equipment"]
[]
["Furniture and Office Equipment",null,{"$f":"SUM(C153:C153)","v":0},0,0,0,0,0,0,0,0]
["Furniture and Office Equipment"]
[]
["Machinery and Equipment",null,{"$f":"SUM(C156:C156)","v":0},0,0,0,0,0,0,0,0]
["Machinery and Equipment"]
[]
["Transport Assets",null,{"$f":"SUM(C159:C159)","v":0},0,0,0,0,0,0,0,0]
["Transport Assets"]
[]
["Libraries",null,{"$f":"SUM(C162:C162)","v":0},0,0,0,0,0,0,0,0]
["Libraries"]
[]
["Zoo's, Marine and Non-biological Animals",null,{"$f":"SUM(C165:C165)","v":0},0,0,0,0,0,0,0,0]
["Zoo's, Marine and Non-biological Animals"]
[]
["Total Capital Expenditure on renewal of existing assets ",1,{"$f":"C6+C74+C103+C110+C118+C136+C139+C149+C152+C155+C158+C161+C164","v":0},{"$f":"D6+D74+D103+D110+D118+D136+D139+D149+D152+D155+D158+D161+D164","v":0},7827409.29,46675138.240000002,53978923.239999987,53978923.239999987,40991448.380000003,43450935.282799996,46057991.399768002]
[]
["Renewal of Existing Assets as % of total capex",null,{"$f":"IF(ISERROR(C167/'A9-Asset'!C69),0,(C167/'A9-Asset'!C69))","v":0},{"$f":"IF(ISERROR(D167/'A9-Asset'!D132),0,(D167/'A9-Asset'!D132))","v":0},{"$f":"IF(ISERROR(E167/'A9-Asset'!E132),0,(E167/'A9-Asset'!E132))","v":0.12188808889155317},{"$f":"IF(ISERROR(F167/'A9-Asset'!F132),0,(F167/'A9-Asset'!F132))","v":0.47260698291835851},{"$f":"IF(ISERROR(G167/'A9-Asset'!G132),0,(G167/'A9-Asset'!G132))","v":0.54656112468013063},{"$f":"IF(ISERROR(H167/'A9-Asset'!H132),0,(H167/'A9-Asset'!H132))","v":0.54656112468013063},{"$f":"IF(ISERROR(I167/'A9-Asset'!I132),0,(I167/'A9-Asset'!I132))","v":0.63134671831441469},{"$f":"IF(ISERROR(J167/'A9-Asset'!J132),0,(J167/'A9-Asset'!J132))","v":0.63134671831441458},{"$f":"IF(ISERROR(K167/'A9-Asset'!K132),0,(K167/'A9-Asset'!K132))","v":0.63134671831441469}]
["Renewal of Existing Assets as % of deprecn\"",null,{"$f":"IF(ISERROR(C167/'A9-Asset'!C168),0,(C167/'A9-Asset'!C168))","v":0},{"$f":"IF(ISERROR(D167/'A9-Asset'!D168),0,(D167/'A9-Asset'!D168))","v":0},{"$f":"IF(ISERROR(E167/'A9-Asset'!E168),0,(E167/'A9-Asset'!E168))","v":0.13379605665333408},{"$f":"IF(ISERROR(F167/'A9-Asset'!F168),0,(F167/'A9-Asset'!F168))","v":0.78218721219272147},{"$f":"IF(ISERROR(G167/'A9-Asset'!G168),0,(G167/'A9-Asset'!G168))","v":0.91687696381769357},{"$f":"IF(ISERROR(H167/'A9-Asset'!H168),0,(H167/'A9-Asset'!H168))","v":0.91687696381769357},{"$f":"IF(ISERROR(I167/'A9-Asset'!I168),0,(I167/'A9-Asset'!I168))","v":0.6962738876068052},{"$f":"IF(ISERROR(J167/'A9-Asset'!J168),0,(J167/'A9-Asset'!J168))","v":0.69627388760680498},{"$f":"IF(ISERROR(K167/'A9-Asset'!K168),0,(K167/'A9-Asset'!K168))","v":0.69627388760680509}]
[{"$f":"head27a","v":"References"}]
["1. Total Capital Expenditure  on renewal of existing assets (SA34b) plus Total Capital Expenditure on new assets (SA34a) plus Total Capital Expenditure  on upgrading of existing assets (SA34e) must reconcile to total capital expenditure in Budgeted Capital Expenditure"]
[]
[]
["check balance",null,{"$f":"SUM(C167+SA34a!C167++SA34e!C167)-'A5-Capex'!C40","v":0},{"$f":"SUM(D167+SA34a!D167++SA34e!D167)-'A5-Capex'!D40","v":0},{"$f":"SUM(E167+SA34a!E167++SA34e!E167)-'A5-Capex'!E40","v":-1.9999995827674866E-2},{"$f":"SUM(F167+SA34a!F167++SA34e!F167)-'A5-Capex'!F40","v":0},{"$f":"SUM(G167+SA34a!G167++SA34e!G167)-'A5-Capex'!G40","v":0},{"$f":"SUM(H167+SA34a!H167++SA34e!H167)-'A5-Capex'!H40","v":0},{"$f":"SUM(I167+SA34a!I167++SA34e!I167)-'A5-Capex'!I40","v":-33834000.00999999},{"$f":"SUM(J167+SA34a!J167++SA34e!J167)-'A5-Capex'!J40","v":3895620},{"$f":"SUM(K167+SA34a!K167++SA34e!K167)-'A5-Capex'!K40","v":4129357.200000003}]

{"sheet":"SA34c","index":56,"n_rows":175,"n_cols":11,"rows_kept":175,"cut":false,"hidden":false,"merged":[[1,5,1,7],[1,8,1,10]]}
[{"$f":"muni&\" - \"&TableA34c","v":"FS193 Nketoana - Supporting Table SA34c Repairs and maintenance expenditure by asset class"}]
[{"$f":"desc","v":"Description"},{"$f":"head27","v":"Ref"},{"$f":"head1b","v":"2014/15"},{"$f":"head1A","v":"2015/16"},{"$f":"Head1","v":"2016/17"},{"$f":"Head2","v":"Current Year 2017/18"},null,null,{"$f":"Head3","v":"2018/19 Medium Term Revenue & Expenditure Framework"}]
["R thousand",1,{"$f":"Head5","v":"Audited Outcome"},{"$f":"Head5","v":"Audited Outcome"},{"$f":"Head5","v":"Audited Outcome"},{"$f":"Head6","v":"Original Budget"},{"$f":"Head7","v":"Adjusted Budget"},{"$f":"Head8","v":"Full Year Forecast"},{"$f":"Head9","v":"Budget Year 2018/19"},{"$f":"Head10","v":"Budget Year +1 2019/20"},{"$f":"Head11","v":"Budget Year +2 2020/21"}]
["Repairs and maintenance expenditure by Asset Class/Sub-class"]
[]
["Infrastructure",null,{"$f":"C7+C12+C16+C26+C37+C44+C52+C62+C68","v":14111347},{"$f":"D7+D12+D16+D26+D37+D44+D52+D62+D68","v":12476167},7563108,8404550,6054934.79,6054934.79,7715000,8177900,8668574]
["Roads Infrastructure",null,{"$f":"SUM(C8:C11)","v":3396000},3114490,1820000,2541000,1372433.38,1372433.38,2462000,2609720,2766303.2]
["Roads",null,3396000,3114490,1820000,2541000,1372433.38,1372433.38,2462000,{"$f":"I8*1.06","v":2609720},2766303.2]
["Road Structures"]
["Road Furniture"]
["Capital Spares"]
["Storm water Infrastructure",null,{"$f":"SUM(C13:C15)","v":0},{"$f":"SUM(D13:D15)","v":0},0,0,0,0,0,0,0]
["Drainage Collection"]
["Storm water Conveyance"]
["Attenuation"]
["Electrical Infrastructure",null,{"$f":"SUM(C17:C25)","v":2650000},2628203,2481108,1851850,1755603.2,1755603.2,1553000,1646180,1744950.8]
["Power Plants",null,2650000,2628203,2481108,1851850,1755603.2,1755603.2,1553000,{"$f":"I17*1.06","v":1646180},1744950.8]
["HV Substations"]
["HV Switching Station"]
["HV Transmission Conductors"]
["MV Substations"]
["MV Switching Stations"]
["MV Networks"]
["LV Networks"]
["Capital Spares"]
["Water Supply Infrastructure",null,{"$f":"SUM(C27:C36)","v":4992047},{"$f":"SUM(D27:D36)","v":3836490},2502000,3430350,2249963.75,2249963.75,2810000,2978600,3157316]
["Dams and Weirs",null,4992047,3836490,2502000,3430350,2249963.75,2249963.75,2810000,{"$f":"I27*1.06","v":2978600},3157316]
["Boreholes"]
["Reservoirs"]
["Pump Stations"]
["Water Treatment Works"]
["Bulk Mains"]
["Distribution"]
["Distribution Points"]
["PRV Stations"]
["Capital Spares"]
["Sanitation Infrastructure",null,{"$f":"SUM(C38:C43)","v":2295300},{"$f":"SUM(D38:D43)","v":2047492},560000,311850,475934.46,475934.46,650000,689000,730340]
["Pump Station",null,2295300,2047492,560000,311850,475934.46,475934.46,650000,{"$f":"I38*1.06","v":689000},730340]
["Reticulation"]
["Waste Water Treatment Works"]
["Outfall Sewers"]
["Toilet Facilities"]
["Capital Spares"]
["Solid Waste Infrastructure",null,{"$f":"SUM(C45:C51)","v":778000},{"$f":"SUM(D45:D51)","v":849492},200000,269500,201000,201000,240000,254400,269664]
["Landfill Sites",null,778000,849492,200000,269500,201000,201000,240000,{"$f":"I45*1.06","v":254400},269664]
["Waste Transfer Stations"]
["Waste Processing Facilities"]
["Waste Drop-off Points"]
["Waste Separation Facilities"]
["Electricity Generation Facilities"]
["Capital Spares"]
["Rail Infrastructure",null,{"$f":"SUM(C53:C61)","v":0},0,0,0,0,0,0,0,0]
["Rail Lines"]
["Rail Structures"]
["Rail Furniture"]
["Drainage Collection"]
["Storm water Conveyance"]
["Attenuation"]
["MV Substations"]
["LV Networks"]
["Capital Spares"]
["Coastal Infrastructure",null,{"$f":"SUM(C63:C67)","v":0},{"$f":"SUM(D63:D67)","v":0},0,0,0,0,0,0,0]
["Sand Pumps"]
["Piers"]
["Revetments"]
["Promenades"]
["Capital Spares"]
["Information and Communication Infrastructure",null,{"$f":"SUM(C69:C72)","v":0},{"$f":"SUM(D69:D72)","v":0},0,0,0,0,0,0,0]
["Data Centres"]
["Core Layers"]
["Distribution Layers"]
["Capital Spares"]
[]
["Community Assets",null,{"$f":"C75+C98","v":0},{"$f":"D75+D98","v":724492},560000,920920,2439199.0285714287,2439199.0285714287,870000,922200,977532]
["Community Facilities",null,{"$f":"SUM(C76:C97)","v":0},{"$f":"SUM(D76:D97)","v":724492},530000,836220,2437977.96,2437977.96,790000,837400,887644]
["Halls",null,null,724492,450000,516670,2147421.15,2147421.15,460000,{"$f":"I76*1.06","v":487600},516856]
["Centres"]
["Crèches"]
["Clinics/Care Centres"]
["Fire/Ambulance Stations"]
["Testing Stations"]
["Museums"]
["Galleries"]
["Theatres"]
["Libraries"]
["Cemeteries/Crematoria"]
["Police",null,null,null,80000,319550,290556.81,290556.81,330000,{"$f":"I87*1.06","v":349800},370788]
["Parks"]
["Public Open Space"]
["Nature Reserves"]
["Public Ablution Facilities"]
["Markets"]
["Stalls"]
["Abattoirs"]
["Airports"]
["Taxi Ranks/Bus Terminals"]
["Capital Spares"]
["Sport and Recreation Facilities",null,{"$f":"SUM(C99:C101)","v":0},{"$f":"SUM(D99:D101)","v":0},30000,84700,1221.0685714285646,1221.0685714285646,80000,84800,89888]
["Indoor Facilities",null,null,null,30000,84700,1221.0685714285646,1221.0685714285646,80000,{"$f":"I99*1.06","v":84800},89888]
["Outdoor Facilities"]
["Capital Spares"]
[null,null,1000,1000,1000,1000,1000,1000,1000,1000,1000]
["Heritage assets",null,{"$f":"SUM(C104:C108)","v":0},{"$f":"SUM(D104:D108)","v":0},1391036.57,800800,243250.18999999994,243250.18999999994,345000,365700,387642]
["Monuments"]
["Historic Buildings",null,null,null,1391036.57,800800,243250.18999999994,243250.18999999994,345000,{"$f":"I105*1.06","v":365700},387642]
["Works of Art"]
["Conservation Areas"]
["Other Heritage"]
[]
["Investment properties",null,{"$f":"+C111+C114","v":0},{"$f":"+D111+D114","v":0},0,0,0,0,0,0,0]
["Revenue Generating",null,{"$f":"SUM(C112:C113)","v":0},0,0,0,0,0,0,0,0]
["Improved Property"]
["Unimproved Property"]
["Non-revenue Generating",null,{"$f":"SUM(C115:C116)","v":0},{"$f":"SUM(D115:D116)","v":0},0,0,0,0,0,0,0]
["Improved Property"]
["Unimproved Property"]
[]
["Other assets",null,{"$f":"+C119+C131","v":1293176},{"$f":"+D119+D131","v":5226662},50000,0,0,0,0,0,0]
["Operational Buildings",null,{"$f":"SUM(C120:C130)","v":1293176},{"$f":"SUM(D120:D130)","v":5226662},50000,0,0,0,0,0,0]
["Municipal Offices",null,1293176,5226662,50000]
["Pay/Enquiry Points"]
["Building Plan Offices"]
["Workshops"]
["Yards"]
["Stores"]
["Laboratories"]
["Training Centres"]
["Manufacturing Plant"]
["Depots"]
["Capital Spares"]
["Housing",null,{"$f":"SUM(C132:C134)","v":0},{"$f":"SUM(D132:D134)","v":0},0,0,0,0,0,0,0]
["Staff Housing"]
["Social Housing"]
["Capital Spares"]
[]
["Biological or Cultivated Assets",null,{"$f":"SUM(C137:C137)","v":0},0,0,0,0,0,0,0,0]
["Biological or Cultivated Assets"]
[]
["Intangible Assets",null,{"$f":"+C140+C141","v":0},{"$f":"+D140+D141","v":0},0,0,0,0,0,0,0]
["Servitudes"]
["Licences and Rights",null,{"$f":"SUM(C142:C147)","v":0},{"$f":"SUM(D142:D147)","v":0},0,0,0,0,0,0,0]
["Water Rights"]
["Effluent Licenses"]
["Solid Waste Licenses"]
["Computer Software and Applications"]
["Load Settlement Software Applications"]
["Unspecified"]
[]
["Computer Equipment",null,{"$f":"SUM(C150:C150)","v":0},0,0,0,0,0,0,0,0]
["Computer Equipment"]
[]
["Furniture and Office Equipment",null,{"$f":"SUM(C153:C153)","v":0},0,0,61600,17371.43,17371.43,80000,84800,89888]
["Furniture and Office Equipment",null,null,null,null,61600,17371.43,17371.43,80000,{"$f":"I153*1.06","v":84800},89888]
[]
["Machinery and Equipment",null,{"$f":"SUM(C156:C156)","v":0},0,0,0,0,0,0,0,0]
["Machinery and Equipment"]
[]
["Transport Assets",null,{"$f":"SUM(C159:C159)","v":0},0,0,0,0,0,0,0,0]
["Transport Assets"]
[]
["Libraries",null,{"$f":"SUM(C162:C162)","v":0},0,0,0,0,0,0,0,0]
["Libraries"]
[]
["Zoo's, Marine and Non-biological Animals",null,{"$f":"SUM(C165:C165)","v":0},0,0,0,0,0,0,0,0]
["Zoo's, Marine and Non-biological Animals"]
[]
["Total Repairs and Maintenance Expenditure",1,{"$f":"C6+C74+C103+C110+C118+C136+C139+C149+C152+C155+C158+C161+C164","v":15404523},{"$f":"D6+D74+D103+D110+D118+D136+D139+D149+D152+D155+D158+D161+D164","v":18427321},9564144.5700000003,10187870,8754755.4385714289,8754755.4385714289,9010000,9550600,10123636]
[]
["R&M as a % of PPE",null,{"$f":"IF(ISERROR(ROUND(C167/'A6-FinPos'!C19,3)),0,(ROUND(C167/'A6-FinPos'!C19,3)))","v":1.4999999999999999E-2},{"$f":"IF(ISERROR(ROUND(D167/'A6-FinPos'!D19,3)),0,(ROUND(D167/'A6-FinPos'!D19,3)))","v":1.7999999999999999E-2},{"$f":"IF(ISERROR(ROUND(E167/'A6-FinPos'!E19,3)),0,(ROUND(E167/'A6-FinPos'!E19,3)))","v":0.01},{"$f":"IF(ISERROR(ROUND(F167/'A6-FinPos'!F19,3)),0,(ROUND(F167/'A6-FinPos'!F19,3)))","v":0.01},{"$f":"IF(ISERROR(ROUND(G167/'A6-FinPos'!G19,3)),0,(ROUND(G167/'A6-FinPos'!G19,3)))","v":8.9999999999999993E-3},{"$f":"IF(ISERROR(ROUND(H167/'A6-FinPos'!H19,3)),0,(ROUND(H167/'A6-FinPos'!H19,3)))","v":8.9999999999999993E-3},{"$f":"IF(ISERROR(ROUND(I167/'A6-FinPos'!I19,3)),0,(ROUND(I167/'A6-FinPos'!I19,3)))","v":8.9999999999999993E-3},{"$f":"IF(ISERROR(ROUND(J167/'A6-FinPos'!J19,3)),0,(ROUND(J167/'A6-FinPos'!J19,3)))","v":0.01},{"$f":"IF(ISERROR(ROUND(K167/'A6-FinPos'!K19,3)),0,(ROUND(K167/'A6-FinPos'!K19,3)))","v":0.01}]
["R&M as % Operating Expenditure",null,{"$f":"IF(ISERROR(ROUND(C167/'A1-Sum'!B18,3)),0,(ROUND(C167/'A1-Sum'!B18,3)))","v":4.2000000000000003E-2},{"$f":"IF(ISERROR(ROUND(D167/'A1-Sum'!C18,3)),0,(ROUND(D167/'A1-Sum'!C18,3)))","v":0.05},{"$f":"IF(ISERROR(ROUND(E167/'A1-Sum'!D18,3)),0,(ROUND(E167/'A1-Sum'!D18,3)))","v":2.8000000000000001E-2},{"$f":"IF(ISERROR(ROUND(F167/'A1-Sum'!E18,3)),0,(ROUND(F167/'A1-Sum'!E18,3)))","v":0.03},{"$f":"IF(ISERROR(ROUND(G167/'A1-Sum'!F18,3)),0,(ROUND(G167/'A1-Sum'!F18,3)))","v":2.5000000000000001E-2},{"$f":"IF(ISERROR(ROUND(H167/'A1-Sum'!G18,3)),0,(ROUND(H167/'A1-Sum'!G18,3)))","v":2.5000000000000001E-2},{"$f":"IF(ISERROR(ROUND(I167/'A1-Sum'!H18,3)),0,(ROUND(I167/'A1-Sum'!H18,3)))","v":2.5999999999999999E-2},{"$f":"IF(ISERROR(ROUND(J167/'A1-Sum'!I18,3)),0,(ROUND(J167/'A1-Sum'!I18,3)))","v":2.7E-2},{"$f":"IF(ISERROR(ROUND(K167/'A1-Sum'!J18,3)),0,(ROUND(K167/'A1-Sum'!J18,3)))","v":2.7E-2}]
[{"$f":"head27a","v":"References"}]
["1. Total Repairs and Maintenance Expenditure by Asset Category must reconcile to total repairs and maintenance expenditure on Table SA1"]
[]
[]
["check balance",null,{"$f":"C167-'SA1'!C164","v":0},{"$f":"D167-'SA1'!D164","v":-11},{"$f":"E167-'SA1'!E164","v":-1.4285705983638763E-3},{"$f":"F167-'SA1'!F164","v":0},{"$f":"G167-'SA1'!G164","v":-1.4285705983638763E-3},{"$f":"H167-'SA1'!H164","v":-1.4285705983638763E-3},{"$f":"I167-'SA1'!J164","v":0},{"$f":"J167-'SA1'!K164","v":0},{"$f":"K167-'SA1'!L164","v":0}]

{"sheet":"SA34d","index":57,"n_rows":173,"n_cols":11,"rows_kept":173,"cut":false,"hidden":false,"merged":[[1,5,1,7],[1,8,1,10]]}
[{"$f":"muni&\" - \"&TableA34d","v":"FS193 Nketoana - Supporting Table SA34d Depreciation by asset class"}]
[{"$f":"desc","v":"Description"},{"$f":"head27","v":"Ref"},{"$f":"head1b","v":"2014/15"},{"$f":"head1A","v":"2015/16"},{"$f":"Head1","v":"2016/17"},{"$f":"Head2","v":"Current Year 2017/18"},null,null,{"$f":"Head3","v":"2018/19 Medium Term Revenue & Expenditure Framework"}]
["R thousand",1,{"$f":"Head5","v":"Audited Outcome"},{"$f":"Head5","v":"Audited Outcome"},{"$f":"Head5","v":"Audited Outcome"},{"$f":"Head6","v":"Original Budget"},{"$f":"Head7","v":"Adjusted Budget"},{"$f":"Head8","v":"Full Year Forecast"},{"$f":"Head9","v":"Budget Year 2018/19"},{"$f":"Head10","v":"Budget Year +1 2019/20"},{"$f":"Head11","v":"Budget Year +2 2020/21"}]
["Depreciation by Asset Class/Sub-class"]
[]
["Infrastructure",null,{"$f":"C7+C12+C16+C26+C37+C44+C52+C62+C68","v":53282276},{"$f":"D7+D12+D16+D26+D37+D44+D52+D62+D68","v":54583094.171100006},51172427,52195875.539999999,51395875.539999999,51395875.539999999,51395875.539999999,54479628.072400004,57748405.756744005]
["Roads Infrastructure",null,{"$f":"SUM(C8:C11)","v":34697368},41682236.845200002,32786172,33441895.440000001,32641895.440000001,32641895.440000001,32641895.440000001,34600409.1664,36676433.716384001]
["Roads",null,34697368,41682236.845200002,32786172,33441895.440000001,32641895.440000001,32641895.440000001,32641895.440000001,{"$f":"I8*1.06","v":34600409.1664},36676433.716384001]
["Road Structures"]
["Road Furniture"]
["Capital Spares"]
["Storm water Infrastructure",null,{"$f":"SUM(C13:C15)","v":0},{"$f":"SUM(D13:D15)","v":0},0,0,0,0,0,0,0]
["Drainage Collection"]
["Storm water Conveyance"]
["Attenuation"]
["Electrical Infrastructure",null,{"$f":"SUM(C17:C25)","v":3343652},3510834.3899999997,3583846,3655522.92,3655522.92,3655522.92,3655522.92,3874854.2952000001,4107345.5529120001]
["Power Plants"]
["HV Substations",null,3343652,3510834.3899999997,3583846,3655522.92,3655522.92,3655522.92,3655522.92,{"$f":"I18*1.06","v":3874854.2952000001},4107345.5529120001]
["HV Switching Station"]
["HV Transmission Conductors"]
["MV Substations"]
["MV Switching Stations"]
["MV Networks"]
["LV Networks"]
["Capital Spares"]
["Water Supply Infrastructure",null,{"$f":"SUM(C27:C36)","v":5020034},{"$f":"SUM(D27:D36)","v":6305198.3435699996},9203737,9387811.7400000002,9387811.7400000002,9387811.7400000002,9387811.7400000002,9951080.4444000013,10548145.271064002]
["Dams and Weirs",null,5020034,6305198.3435699996,9203737,9387811.7400000002,9387811.7400000002,9387811.7400000002,9387811.7400000002,{"$f":"I27*1.06","v":9951080.4444000013},10548145.271064002]
["Boreholes"]
["Reservoirs"]
["Pump Stations"]
["Water Treatment Works"]
["Bulk Mains"]
["Distribution"]
["Distribution Points"]
["PRV Stations"]
["Capital Spares"]
["Sanitation Infrastructure",null,{"$f":"SUM(C38:C43)","v":8749819},{"$f":"SUM(D38:D43)","v":1539851.1432899954},4952943,5052001.8600000003,5052001.8600000003,5052001.8600000003,5052001.8600000003,5355121.9716000007,5676429.2898960011]
["Pump Station",null,8749819,1539851.1432899954,4952943,5052001.8600000003,5052001.8600000003,5052001.8600000003,5052001.8600000003,{"$f":"I38*1.06","v":5355121.9716000007},5676429.2898960011]
["Reticulation"]
["Waste Water Treatment Works"]
["Outfall Sewers"]
["Toilet Facilities"]
["Capital Spares"]
["Solid Waste Infrastructure",null,{"$f":"SUM(C45:C51)","v":1471403},{"$f":"SUM(D45:D51)","v":1544973.4490400001},645729,658643.57999999996,658643.57999999996,658643.57999999996,658643.57999999996,698162.19479999994,740051.92648799997]
["Landfill Sites",null,1471403,1544973.4490400001,645729,658643.57999999996,658643.57999999996,658643.57999999996,658643.57999999996,{"$f":"I45*1.06","v":698162.19479999994},740051.92648799997]
["Waste Transfer Stations"]
["Waste Processing Facilities"]
["Waste Drop-off Points"]
["Waste Separation Facilities"]
["Electricity Generation Facilities"]
["Capital Spares"]
["Rail Infrastructure",null,{"$f":"SUM(C53:C61)","v":0},0,0,0,0,0,0,0,0]
["Rail Lines"]
["Rail Structures"]
["Rail Furniture"]
["Drainage Collection"]
["Storm water Conveyance"]
["Attenuation"]
["MV Substations"]
["LV Networks"]
["Capital Spares"]
["Coastal Infrastructure",null,{"$f":"SUM(C63:C67)","v":0},{"$f":"SUM(D63:D67)","v":0},0,0,0,0,0,0,0]
["Sand Pumps"]
["Piers"]
["Revetments"]
["Promenades"]
["Capital Spares"]
["Information and Communication Infrastructure",null,{"$f":"SUM(C69:C72)","v":0},{"$f":"SUM(D69:D72)","v":0},0,0,0,0,0,0,0]
["Data Centres"]
["Core Layers"]
["Distribution Layers"]
["Capital Spares"]
[]
["Community Assets",null,{"$f":"C75+C98","v":541091},{"$f":"D75+D98","v":568145.92212},740175,754978.50000000012,754978.50000000012,754978.50000000012,754978.50000000012,800277.21000000008,848293.84260000009]
["Community Facilities",null,{"$f":"SUM(C76:C97)","v":460246},{"$f":"SUM(D76:D97)","v":483258.46212000004},641520,654350.40000000014,654350.40000000014,654350.40000000014,654350.40000000014,693611.42400000012,735228.10944000003]
["Halls",null,15300,16065,65984,495677.16000000003,495677.16000000003,495677.16000000003,495677.16000000003,{"$f":"I76*1.06","v":525417.78960000002},556942.85697600001]
["Centres"]
["Crèches"]
["Clinics/Care Centres"]
["Fire/Ambulance Stations"]
["Testing Stations"]
["Museums"]
["Galleries"]
["Theatres"]
["Libraries"]
["Cemeteries/Crematoria",null,374483,393207.55047000002,485958,67303.680000000008,67303.680000000008,67303.680000000008,67303.680000000008,{"$f":"I86*1.06","v":71341.900800000018},75622.414848000029]
["Police",null,70463,73985.911649999995,89578,91369.56,91369.56,91369.56,91369.56,96851.733600000007,102662.83761600002]
["Parks"]
["Public Open Space"]
["Nature Reserves"]
["Public Ablution Facilities"]
["Markets"]
["Stalls"]
["Abattoirs"]
["Airports"]
["Taxi Ranks/Bus Terminals"]
["Capital Spares"]
["Sport and Recreation Facilities",null,{"$f":"SUM(C99:C101)","v":80845},{"$f":"SUM(D99:D101)","v":84887.46},98655,100628.1,100628.1,100628.1,100628.1,106665.78600000001,113065.73316000002]
["Indoor Facilities",null,80845,84887.46,98655,100628.1,100628.1,100628.1,100628.1,{"$f":"I99*1.06","v":106665.78600000001},113065.73316000002]
["Outdoor Facilities"]
["Capital Spares"]
[]
["Heritage assets",null,{"$f":"SUM(C104:C108)","v":2492964},{"$f":"SUM(D104:D108)","v":2617612.3365000002},4655264,4748369.28,4748369.28,4748369.28,4748369.28,5033271.4368000003,5335267.7230080003]
["Monuments"]
["Historic Buildings",null,2492964,2617612.3365000002,4655264,4748369.28,4748369.28,4748369.28,4748369.28,{"$f":"I105*1.06","v":5033271.4368000003},5335267.7230080003]
["Works of Art"]
["Conservation Areas"]
["Other Heritage"]
[]
["Investment properties",null,{"$f":"+C111+C114","v":0},{"$f":"+D111+D114","v":0},0,0,0,0,0,0,0]
["Revenue Generating",null,{"$f":"SUM(C112:C113)","v":0},0,0,0,0,0,0,0,0]
["Improved Property"]
["Unimproved Property"]
["Non-revenue Generating",null,{"$f":"SUM(C115:C116)","v":0},{"$f":"SUM(D115:D116)","v":0},0,0,0,0,0,0,0]
["Improved Property"]
["Unimproved Property"]
[]
["Other assets",null,{"$f":"+C119+C131","v":698750},{"$f":"+D119+D131","v":733688.5702800001},1355874,837609.72000000626,837609.72000000626,837609.72000000626,837609.72000000603,887866.30320000648,941138.2813920069]
["Operational Buildings",null,{"$f":"SUM(C120:C130)","v":698750},{"$f":"SUM(D120:D130)","v":733688.5702800001},1355874,837609.72000000626,837609.72000000626,837609.72000000626,837609.72000000603,887866.30320000648,941138.2813920069]
["Municipal Offices",null,698750,733688.5702800001,1355874,837609.72000000626,837609.72000000626,837609.72000000626,837609.72000000603,{"$f":"I120*1.06","v":887866.30320000648},941138.2813920069]
["Pay/Enquiry Points"]
["Building Plan Offices"]
["Workshops"]
["Yards"]
["Stores"]
["Laboratories"]
["Training Centres"]
["Manufacturing Plant"]
["Depots"]
["Capital Spares"]
["Housing",null,{"$f":"SUM(C132:C134)","v":0},{"$f":"SUM(D132:D134)","v":0},0,0,0,0,0,0,0]
["Staff Housing"]
["Social Housing"]
["Capital Spares"]
[]
["Biological or Cultivated Assets",null,{"$f":"SUM(C137:C137)","v":0},0,0,0,0,0,0,0,0]
["Biological or Cultivated Assets"]
[]
["Intangible Assets",null,{"$f":"+C140+C141","v":0},{"$f":"+D140+D141","v":0},578801,590377.02,590377.02,590377.02,590377.02,625799.64120000007,663347.61967200006]
["Servitudes"]
["Licences and Rights",null,{"$f":"SUM(C142:C147)","v":0},{"$f":"SUM(D142:D147)","v":0},578801,590377.02,590377.02,590377.02,590377.02,625799.64120000007,663347.61967200006]
["Water Rights"]
["Effluent Licenses"]
["Solid Waste Licenses"]
["Computer Software and Applications"]
["Load Settlement Software Applications"]
["Unspecified",null,null,null,578801,590377.02,590377.02,590377.02,590377.02,{"$f":"I147*1.06","v":625799.64120000007},663347.61967200006]
[]
["Computer Equipment",null,{"$f":"SUM(C150:C150)","v":0},0,0,545381.76,545381.76,545381.76,545381.76,578104.66560000007,612790.94553600007]
["Computer Equipment",null,null,null,null,545381.76,545381.76,545381.76,545381.76,{"$f":"I150*1.06","v":578104.66560000007},612790.94553600007]
[]
["Furniture and Office Equipment",null,{"$f":"SUM(C153:C153)","v":0},0,0,0,0,0,0,0,0]
["Furniture and Office Equipment"]
[]
["Machinery and Equipment",null,{"$f":"SUM(C156:C156)","v":0},0,0,0,0,0,0,0,0]
["Machinery and Equipment"]
[]
["Transport Assets",null,{"$f":"SUM(C159:C159)","v":0},0,0,0,0,0,0,0,0]
["Transport Assets"]
[]
["Libraries",null,{"$f":"SUM(C162:C162)","v":0},0,0,0,0,0,0,0,0]
["Libraries"]
[]
["Zoo's, Marine and Non-biological Animals",null,{"$f":"SUM(C165:C165)","v":0},0,0,0,0,0,0,0,0]
["Zoo's, Marine and Non-biological Animals"]
[]
["Total Depreciation",1,{"$f":"C6+C74+C103+C110+C118+C136+C139+C149+C152+C155+C158+C161+C164","v":57015081},{"$f":"D6+D74+D103+D110+D118+D136+D139+D149+D152+D155+D158+D161+D164","v":58502541},58502541,59672591.820000008,58872591.820000008,58872591.820000008,58872591.820000008,62404947.329200014,66149244.168952018]
[]
[{"$f":"head27a","v":"References"}]
["1. Depreciation based on write down values. Not including Depreciation resulting from revaluation."]
[]
[]
["Check",null,{"$f":"C$167-'A4-FinPerf RE'!C$27","v":0},{"$f":"D$167-'A4-FinPerf RE'!D$27","v":0},{"$f":"E$167-'A4-FinPerf RE'!E$27","v":0},{"$f":"F$167-'A4-FinPerf RE'!F$27","v":0},{"$f":"G$167-'A4-FinPerf RE'!G$27","v":0},{"$f":"H$167-'A4-FinPerf RE'!H$27","v":0},{"$f":"I$167-'A4-FinPerf RE'!I$27","v":0},{"$f":"J$167-'A4-FinPerf RE'!J$27","v":3532355.5092000067},{"$f":"K$167-'A4-FinPerf RE'!K$27","v":4333022.7579520047}]

{"sheet":"SA34e","index":58,"n_rows":175,"n_cols":11,"rows_kept":175,"cut":false,"hidden":false,"merged":[[1,5,1,7],[1,8,1,10]]}
[{"$f":"muni&\" - \"&TableA34e","v":"FS193 Nketoana - Supporting Table SA34e Capital expenditure on the upgrading of existing assets by asset class"}]
[{"$f":"desc","v":"Description"},{"$f":"head27","v":"Ref"},{"$f":"head1b","v":"2014/15"},{"$f":"head1A","v":"2015/16"},{"$f":"Head1","v":"2016/17"},{"$f":"Head2","v":"Current Year 2017/18"},null,null,{"$f":"Head3","v":"2018/19 Medium Term Revenue & Expenditure Framework"}]
["R thousand",1,{"$f":"Head5","v":"Audited Outcome"},{"$f":"Head5","v":"Audited Outcome"},{"$f":"Head5","v":"Audited Outcome"},{"$f":"Head6","v":"Original Budget"},{"$f":"Head7","v":"Adjusted Budget"},{"$f":"Head8","v":"Full Year Forecast"},{"$f":"Head9","v":"Budget Year 2018/19"},{"$f":"Head10","v":"Budget Year +1 2019/20"},{"$f":"Head11","v":"Budget Year +2 2020/21"}]
["Capital expenditure on upgrading of existing assets by Asset Class/Sub-class"]
[]
["Infrastructure",null,{"$f":"C7+C12+C16+C26+C37+C44+C52+C62+C68","v":0},{"$f":"D7+D12+D16+D26+D37+D44+D52+D62+D68","v":0},0,0,0,0,0,0,0]
["Roads Infrastructure",null,{"$f":"SUM(C8:C11)","v":0},0,0,0,0,0,0,0,0]
["Roads"]
["Road Structures"]
["Road Furniture"]
["Capital Spares"]
["Storm water Infrastructure",null,{"$f":"SUM(C13:C15)","v":0},{"$f":"SUM(D13:D15)","v":0},0,0,0,0,0,0,0]
["Drainage Collection"]
["Storm water Conveyance"]
["Attenuation"]
["Electrical Infrastructure",null,{"$f":"SUM(C17:C25)","v":0},0,0,0,0,0,0,0,0]
["Power Plants"]
["HV Substations"]
["HV Switching Station"]
["HV Transmission Conductors"]
["MV Substations"]
["MV Switching Stations"]
["MV Networks"]
["LV Networks"]
["Capital Spares"]
["Water Supply Infrastructure",null,{"$f":"SUM(C27:C36)","v":0},{"$f":"SUM(D27:D36)","v":0},0,0,0,0,0,0,0]
["Dams and Weirs"]
["Boreholes"]
["Reservoirs"]
["Pump Stations"]
["Water Treatment Works"]
["Bulk Mains"]
["Distribution"]
["Distribution Points"]
["PRV Stations"]
["Capital Spares"]
["Sanitation Infrastructure",null,{"$f":"SUM(C38:C43)","v":0},{"$f":"SUM(D38:D43)","v":0},0,0,0,0,0,0,0]
["Pump Station"]
["Reticulation"]
["Waste Water Treatment Works"]
["Outfall Sewers"]
["Toilet Facilities"]
["Capital Spares"]
["Solid Waste Infrastructure",null,{"$f":"SUM(C45:C51)","v":0},{"$f":"SUM(D45:D51)","v":0},0,0,0,0,0,0,0]
["Landfill Sites"]
["Waste Transfer Stations"]
["Waste Processing Facilities"]
["Waste Drop-off Points"]
["Waste Separation Facilities"]
["Electricity Generation Facilities"]
["Capital Spares"]
["Rail Infrastructure",null,{"$f":"SUM(C53:C61)","v":0},0,0,0,0,0,0,0,0]
["Rail Lines"]
["Rail Structures"]
["Rail Furniture"]
["Drainage Collection"]
["Storm water Conveyance"]
["Attenuation"]
["MV Substations"]
["LV Networks"]
["Capital Spares"]
["Coastal Infrastructure",null,{"$f":"SUM(C63:C67)","v":0},{"$f":"SUM(D63:D67)","v":0},0,0,0,0,0,0,0]
["Sand Pumps"]
["Piers"]
["Revetments"]
["Promenades"]
["Capital Spares"]
["Information and Communication Infrastructure",null,{"$f":"SUM(C69:C72)","v":0},{"$f":"SUM(D69:D72)","v":0},0,0,0,0,0,0,0]
["Data Centres"]
["Core Layers"]
["Distribution Layers"]
["Capital Spares"]
[]
["Community Assets",null,{"$f":"C75+C98","v":0},{"$f":"D75+D98","v":0},0,0,0,0,0,0,0]
["Community Facilities",null,{"$f":"SUM(C76:C97)","v":0},{"$f":"SUM(D76:D97)","v":0},0,0,0,0,0,0,0]
["Halls"]
["Centres"]
["Crèches"]
["Clinics/Care Centres"]
["Fire/Ambulance Stations"]
["Testing Stations"]
["Museums"]
["Galleries"]
["Theatres"]
["Libraries"]
["Cemeteries/Crematoria"]
["Police"]
["Parks"]
["Public Open Space"]
["Nature Reserves"]
["Public Ablution Facilities"]
["Markets"]
["Stalls"]
["Abattoirs"]
["Airports"]
["Taxi Ranks/Bus Terminals"]
["Capital Spares"]
["Sport and Recreation Facilities",null,{"$f":"SUM(C99:C101)","v":0},{"$f":"SUM(D99:D101)","v":0},0,0,0,0,0,0,0]
["Indoor Facilities"]
["Outdoor Facilities"]
["Capital Spares"]
[]
["Heritage assets",null,{"$f":"SUM(C104:C108)","v":0},{"$f":"SUM(D104:D108)","v":0},0,0,0,0,0,0,0]
["Monuments"]
["Historic Buildings"]
["Works of Art"]
["Conservation Areas"]
["Other Heritage"]
[]
["Investment properties",null,{"$f":"+C111+C114","v":0},{"$f":"+D111+D114","v":0},0,0,0,0,0,0,0]
["Revenue Generating",null,{"$f":"SUM(C112:C113)","v":0},0,0,0,0,0,0,0,0]
["Improved Property"]
["Unimproved Property"]
["Non-revenue Generating",null,{"$f":"SUM(C115:C116)","v":0},{"$f":"SUM(D115:D116)","v":0},0,0,0,0,0,0,0]
["Improved Property"]
["Unimproved Property"]
[]
["Other assets",null,{"$f":"+C119+C131","v":0},{"$f":"+D119+D131","v":0},0,0,0,0,0,0,0]
["Operational Buildings",null,{"$f":"SUM(C120:C130)","v":0},{"$f":"SUM(D120:D130)","v":0},0,0,0,0,0,0,0]
["Municipal Offices"]
["Pay/Enquiry Points"]
["Building Plan Offices"]
["Workshops"]
["Yards"]
["Stores"]
["Laboratories"]
["Training Centres"]
["Manufacturing Plant"]
["Depots"]
["Capital Spares"]
["Housing",null,{"$f":"SUM(C132:C134)","v":0},{"$f":"SUM(D132:D134)","v":0},0,0,0,0,0,0,0]
["Staff Housing"]
["Social Housing"]
["Capital Spares"]
[]
["Biological or Cultivated Assets",null,{"$f":"SUM(C137:C137)","v":0},0,0,0,0,0,0,0,0]
["Biological or Cultivated Assets"]
[]
["Intangible Assets",null,{"$f":"+C140+C141","v":0},{"$f":"+D140+D141","v":0},0,0,0,0,0,0,0]
["Servitudes"]
["Licences and Rights",null,{"$f":"SUM(C142:C147)","v":0},{"$f":"SUM(D142:D147)","v":0},0,0,0,0,0,0,0]
["Water Rights"]
["Effluent Licenses"]
["Solid Waste Licenses"]
["Computer Software and Applications"]
["Load Settlement Software Applications"]
["Unspecified"]
[]
["Computer Equipment",null,{"$f":"SUM(C150:C150)","v":0},0,0,0,0,0,0,0,0]
["Computer Equipment"]
[]
["Furniture and Office Equipment",null,{"$f":"SUM(C153:C153)","v":0},0,0,0,0,0,0,0,0]
["Furniture and Office Equipment"]
[]
["Machinery and Equipment",null,{"$f":"SUM(C156:C156)","v":0},0,0,0,0,0,0,0,0]
["Machinery and Equipment"]
[]
["Transport Assets",null,{"$f":"SUM(C159:C159)","v":0},0,0,0,0,0,0,0,0]
["Transport Assets"]
[]
["Libraries",null,{"$f":"SUM(C162:C162)","v":0},0,0,0,0,0,0,0,0]
["Libraries"]
[]
["Zoo's, Marine and Non-biological Animals",null,{"$f":"SUM(C165:C165)","v":0},0,0,0,0,0,0,0,0]
["Zoo's, Marine and Non-biological Animals"]
[]
["Total Capital Expenditure on upgrading of existing assets ",1,{"$f":"C6+C74+C103+C110+C118+C136+C139+C149+C152+C155+C158+C161+C164","v":0},{"$f":"D6+D74+D103+D110+D118+D136+D139+D149+D152+D155+D158+D161+D164","v":0},0,0,0,0,0,0,0]
[]
["Upgrading of Existing Assets as % of total capex",null,{"$f":"IF(ISERROR(C167/'A9-Asset'!C67),0,(C167/'A9-Asset'!C67))","v":0},{"$f":"IF(ISERROR(D167/'A9-Asset'!D132),0,(D167/'A9-Asset'!D132))","v":0},{"$f":"IF(ISERROR(E167/'A9-Asset'!E132),0,(E167/'A9-Asset'!E132))","v":0},{"$f":"IF(ISERROR(F167/'A9-Asset'!F132),0,(F167/'A9-Asset'!F132))","v":0},{"$f":"IF(ISERROR(G167/'A9-Asset'!G132),0,(G167/'A9-Asset'!G132))","v":0},{"$f":"IF(ISERROR(H167/'A9-Asset'!H132),0,(H167/'A9-Asset'!H132))","v":0},{"$f":"IF(ISERROR(I167/'A9-Asset'!I132),0,(I167/'A9-Asset'!I132))","v":0},{"$f":"IF(ISERROR(J167/'A9-Asset'!J132),0,(J167/'A9-Asset'!J132))","v":0},{"$f":"IF(ISERROR(K167/'A9-Asset'!K132),0,(K167/'A9-Asset'!K132))","v":0}]
["Upgrading of Existing Assets as % of deprecn\"",null,{"$f":"IF(ISERROR(C167/'A9-Asset'!C168),0,(C167/'A9-Asset'!C168))","v":0},{"$f":"IF(ISERROR(D167/'A9-Asset'!D168),0,(D167/'A9-Asset'!D168))","v":0},{"$f":"IF(ISERROR(E167/'A9-Asset'!E168),0,(E167/'A9-Asset'!E168))","v":0},{"$f":"IF(ISERROR(F167/'A9-Asset'!F168),0,(F167/'A9-Asset'!F168))","v":0},{"$f":"IF(ISERROR(G167/'A9-Asset'!G168),0,(G167/'A9-Asset'!G168))","v":0},{"$f":"IF(ISERROR(H167/'A9-Asset'!H168),0,(H167/'A9-Asset'!H168))","v":0},{"$f":"IF(ISERROR(I167/'A9-Asset'!I168),0,(I167/'A9-Asset'!I168))","v":0},{"$f":"IF(ISERROR(J167/'A9-Asset'!J168),0,(J167/'A9-Asset'!J168))","v":0},{"$f":"IF(ISERROR(K167/'A9-Asset'!K168),0,(K167/'A9-Asset'!K168))","v":0}]
[{"$f":"head27a","v":"References"}]
["1.  Total Capital Expenditure  on upgrading of existing assets (SA34e) plus Total Capital Expenditure on new assets (SA34a)  plus Total Capital Expenditure  on renewal of existing assets (SA34b) must reconcile to total capital expenditure in Budgeted Capital Expenditure"]
[]
[]
["check balance",null,{"$f":"SUM(C167+SA34a!C167++SA34b!C167)-'A5-Capex'!C40","v":0},{"$f":"SUM(D167+SA34a!D167++SA34b!D167)-'A5-Capex'!D40","v":0},{"$f":"SUM(E167+SA34a!E167++SA34b!E167)-'A5-Capex'!E40","v":-1.9999995827674866E-2},{"$f":"SUM(F167+SA34a!F167++SA34b!F167)-'A5-Capex'!F40","v":0},{"$f":"SUM(G167+SA34a!G167++SA34b!G167)-'A5-Capex'!G40","v":0},{"$f":"SUM(H167+SA34a!H167++SA34b!H167)-'A5-Capex'!H40","v":0},{"$f":"SUM(I167+SA34a!I167++SA34b!I167)-'A5-Capex'!I40","v":-33834000.00999999},{"$f":"SUM(J167+SA34a!J167++SA34b!J167)-'A5-Capex'!J40","v":3895620},{"$f":"SUM(K167+SA34a!K167++SA34b!K167)-'A5-Capex'!K40","v":4129357.200000003}]

{"sheet":"SA35","index":59,"n_rows":59,"n_cols":9,"rows_kept":59,"cut":false,"hidden":false,"merged":[[1,5,1,8],[1,2,1,4]]}
[{"$f":"muni&\" - \"&TableA35","v":"FS193 Nketoana - Supporting Table SA35 Future financial implications of the capital budget"}]
[{"$f":"Vdesc","v":"Vote Description"},{"$f":"head27","v":"Ref"},{"$f":"Head3","v":"2018/19 Medium Term Revenue & Expenditure Framework"},null,null,"Forecasts"]
["R thousand",null,{"$f":"Head9","v":"Budget Year 2018/19"},{"$f":"Head10","v":"Budget Year +1 2019/20"},{"$f":"Head11","v":"Budget Year +2 2020/21"},{"$f":"Head12","v":"Forecast 2021/22"},{"$f":"Head13","v":"Forecast 2022/23"},{"$f":"Head14","v":"Forecast 2023/24"},{"$f":"Head48","v":"Present value"}]
["Capital expenditure",1]
[{"$f":"'A5-Capex'!A6","v":"Vote 1 - EXECUTIVE AND COUNCIL"},null,{"$f":"'A5-Capex'!J6+'A5-Capex'!J24","v":0},{"$f":"'A5-Capex'!K6+'A5-Capex'!K24","v":0},{"$f":"'A5-Capex'!L6+'A5-Capex'!L24","v":0}]
[{"$f":"'A5-Capex'!A7","v":"Vote 2 - FINANCE AND ADMINISTRATION"},null,{"$f":"'A5-Capex'!J7+'A5-Capex'!J25","v":0},{"$f":"'A5-Capex'!K7+'A5-Capex'!K25","v":0},{"$f":"'A5-Capex'!L7+'A5-Capex'!L25","v":0}]
[{"$f":"'A5-Capex'!A8","v":"Vote 3 - COMMUNITY SERVICES"},null,{"$f":"'A5-Capex'!J8+'A5-Capex'!J26","v":1205419.74},{"$f":"'A5-Capex'!K8+'A5-Capex'!K26","v":1277744.9244000001},{"$f":"'A5-Capex'!L8+'A5-Capex'!L26","v":1354409.6198640002}]
[{"$f":"'A5-Capex'!A9","v":"Vote 4 - WASTE MANAGEMENT"},null,{"$f":"'A5-Capex'!J9+'A5-Capex'!J27","v":424545},{"$f":"'A5-Capex'!K9+'A5-Capex'!K27","v":450017.7},{"$f":"'A5-Capex'!L9+'A5-Capex'!L27","v":477018.76200000005}]
[{"$f":"'A5-Capex'!A10","v":"Vote 5 - LOCAL ECONOMIC DEVELOPMENT"},null,{"$f":"'A5-Capex'!J10+'A5-Capex'!J28","v":0},{"$f":"'A5-Capex'!K10+'A5-Capex'!K28","v":0},{"$f":"'A5-Capex'!L10+'A5-Capex'!L28","v":0}]
[{"$f":"'A5-Capex'!A11","v":"Vote 6 - ROADS TRANSPORT"},null,{"$f":"'A5-Capex'!J11+'A5-Capex'!J29","v":8568073.3800000008},{"$f":"'A5-Capex'!K11+'A5-Capex'!K29","v":9082157.782800002},{"$f":"'A5-Capex'!L11+'A5-Capex'!L29","v":9627087.249768002}]
[{"$f":"'A5-Capex'!A12","v":"Vote 7 - WATER"},null,{"$f":"'A5-Capex'!J12+'A5-Capex'!J30","v":24691384.919999998},{"$f":"'A5-Capex'!K12+'A5-Capex'!K30","v":26172868.0152},{"$f":"'A5-Capex'!L12+'A5-Capex'!L30","v":27743240.096112002}]
[{"$f":"'A5-Capex'!A13","v":"Vote 8 - ELECTRICITY"},null,{"$f":"'A5-Capex'!J13+'A5-Capex'!J31","v":1547056.65},{"$f":"'A5-Capex'!K13+'A5-Capex'!K31","v":1639880.0489999999},{"$f":"'A5-Capex'!L13+'A5-Capex'!L31","v":1738272.85194}]
[{"$f":"'A5-Capex'!A14","v":"Vote 9 - WASTE WATER"},null,{"$f":"'A5-Capex'!J14+'A5-Capex'!J32","v":28490520.309999999},{"$f":"'A5-Capex'!K14+'A5-Capex'!K32","v":30199951.5286},{"$f":"'A5-Capex'!L14+'A5-Capex'!L32","v":32011948.620316003}]
[{"$f":"'A5-Capex'!A15","v":"Vote 10 - HOUSING"},null,{"$f":"'A5-Capex'!J15+'A5-Capex'!J33","v":0},{"$f":"'A5-Capex'!K15+'A5-Capex'!K33","v":0},{"$f":"'A5-Capex'!L15+'A5-Capex'!L33","v":0}]
[{"$f":"'A5-Capex'!A16","v":"Vote 11 - [NAME OF VOTE 11]"},null,{"$f":"'A5-Capex'!J16+'A5-Capex'!J34","v":0},{"$f":"'A5-Capex'!K16+'A5-Capex'!K34","v":0},{"$f":"'A5-Capex'!L16+'A5-Capex'!L34","v":0}]
[{"$f":"'A5-Capex'!A17","v":"Vote 12 - [NAME OF VOTE 12]"},null,{"$f":"'A5-Capex'!J17+'A5-Capex'!J35","v":0},{"$f":"'A5-Capex'!K17+'A5-Capex'!K35","v":0},{"$f":"'A5-Capex'!L17+'A5-Capex'!L35","v":0}]
[{"$f":"'A5-Capex'!A18","v":"Vote 13 - [NAME OF VOTE 13]"},null,{"$f":"'A5-Capex'!J18+'A5-Capex'!J36","v":0},{"$f":"'A5-Capex'!K18+'A5-Capex'!K36","v":0},{"$f":"'A5-Capex'!L18+'A5-Capex'!L36","v":0}]
[{"$f":"'A5-Capex'!A19","v":"Vote 14 - [NAME OF VOTE 14]"},null,{"$f":"'A5-Capex'!J19+'A5-Capex'!J37","v":0},{"$f":"'A5-Capex'!K19+'A5-Capex'!K37","v":0},{"$f":"'A5-Capex'!L19+'A5-Capex'!L37","v":0}]
[{"$f":"'A5-Capex'!A20","v":"Vote 15 - [NAME OF VOTE 15]"},null,{"$f":"'A5-Capex'!J20+'A5-Capex'!J38","v":0},{"$f":"'A5-Capex'!K20+'A5-Capex'!K38","v":0},{"$f":"'A5-Capex'!L20+'A5-Capex'!L38","v":0}]
["List entity summary if applicable"]
["Total Capital Expenditure ",null,{"$f":"SUM(C5:C20)","v":64927000},{"$f":"SUM(D5:D20)","v":68822620},72951977.200000003,0,0,0,0]
[]
["Future operational costs by vote",2]
[{"$f":"A5","v":"Vote 1 - EXECUTIVE AND COUNCIL"}]
[{"$f":"A6","v":"Vote 2 - FINANCE AND ADMINISTRATION"}]
["Vote 3 - COMMUNITY SERVICES"]
["Vote 4 - WASTE MANAGEMENT"]
["Vote 5 - LOCAL ECONOMIC DEVELOPMENT"]
["Vote 6 - ROADS TRANSPORT"]
["Vote 7 - WATER"]
["Vote 8 - ELECTRICITY"]
["Vote 9 - WASTE WATER"]
["Vote 10 - HOUSING"]
["Vote 11 - [NAME OF VOTE 11]"]
["Vote 12 - [NAME OF VOTE 12]"]
["Vote 13 - [NAME OF VOTE 13]"]
["Vote 14 - [NAME OF VOTE 14]"]
["Vote 15 - [NAME OF VOTE 15]"]
["List entity summary if applicable"]
["Total future operational costs",null,{"$f":"SUM(C24:C39)","v":0},{"$f":"SUM(D24:D39)","v":0},0,0,0,0,0]
[]
["Future revenue by source",3]
[{"$f":"'A4-FinPerf RE'!A5","v":"Property rates"}]
[{"$f":"'A4-FinPerf RE'!A6","v":"Service charges - electricity revenue"}]
[{"$f":"'A4-FinPerf RE'!A7","v":"Service charges - water revenue"}]
[{"$f":"'A4-FinPerf RE'!A8","v":"Service charges - sanitation revenue"}]
[{"$f":"'A4-FinPerf RE'!A9","v":"Service charges - refuse revenue"}]
[{"$f":"'A4-FinPerf RE'!A10","v":"Service charges - other"}]
[{"$f":"'A4-FinPerf RE'!A11","v":"Rental of facilities and equipment"}]
["List other revenues sources if applicable"]
["List entity summary if applicable"]
["Total future revenue",null,{"$f":"SUM(C43:C51)","v":0},0,0,0,0,0,0]
["Net Financial Implications",null,{"$f":"C21+C40-C52","v":64927000},68822620,72951977.200000003,0,0,0,0]
[{"$f":"head27a","v":"References"}]
["1. Summarise the total capital cost until capital project is operational (MFMA s19(2)(a))"]
["2. Summary of future operational costs from when projects operational (present value until the end of each asset's useful life) (MFMA s19(2)(b))"]
["3. Summarise the future revenue from when projects are operational, including municipal tax and tariff implications, (present value until the end of asset's useful life)"]
[]
["check",null,{"$f":"C21-('A5-Capex'!J21+'A5-Capex'!J39)","v":0},{"$f":"D21-('A5-Capex'!K21+'A5-Capex'!K39)","v":0},{"$f":"E21-('A5-Capex'!L21+'A5-Capex'!L39)","v":0}]

{"sheet":"SA36","index":60,"n_rows":44,"n_cols":17,"rows_kept":44,"cut":false,"hidden":false,"merged":[[1,15,1,16],[1,2,2,2],[1,3,2,3],[1,4,2,4],[1,10,1,11],[1,9,2,9],[1,12,1,14]]}
[{"$f":"muni&\" - \"&TableA36","v":"FS193 Nketoana - Supporting Table SA36 Detailed capital budget"}]
["Municipal Vote/Capital project",{"$f":"head27","v":"Ref"},"Program/Project description","Project number","IDP Goal code \n2","Individually Approved\n(Yes/No)","Asset Class     \n","Asset Sub-Class   \n","GPS co-ordinates\n","Total Project Estimate","Prior year outcomes",null,{"$f":"Head3","v":"2018/19 Medium Term Revenue & Expenditure Framework"},null,null,"Project information"]
["R thousand",4,null,"Audited Actual",null,6,3,3,5,null,{"$f":"Head5&\"    \"&Head1","v":"Audited Outcome    2016/17"},{"$f":"Head2 & \"        \"&Head8","v":"Current Year 2017/18        Full Year Forecast"},{"$f":"Head9","v":"Budget Year 2018/19"},{"$f":"Head10","v":"Budget Year +1 2019/20"},{"$f":"Head11","v":"Budget Year +2 2020/21"},"Ward location","New or renewal"]
["Parent municipality:"]
["List all capital projects grouped by Municipal Vote"]
[]
["Executive and Council"]
["Finance and Admin",null,null,null,null,null,"Plant & equipment",null,null,null,0]
["Community and Socila Services"]
["Solid Waste Management",null,null,null,null,"Community","Waste Management",null,null,null,1414994.59,7690155,424545,{"$f":"M10*1.06","v":450017.7},477018.76200000005,"4,5","New"]
["Local Economic and Development",null,null,null,null,null,null,null,null,null,null,null,null,0,0]
["Roads and Transport",null,null,null,null,"Infrastructure - Road transport","Roads, Pavements & Bridges",null,null,null,4919186.76,13833065.620000001,8568073.3800000008,9082157.782800002,9627087.249768002,"2,3,4,5,6,7,8,9","Renewal,New"]
["Water",null,null,null,null,"Infrastructure - Road transport","Water purification",null,null,null,42095684.189999998,47849485.739999995,24691384.919999998,26172868.0152,27743240.096112002,"2,3,6,7,8,9","Renewal,New"]
["Electricity",null,null,null,null,"Infrastructure - Electricity","Generation",null,null,null,0,5000000,1547056.65,1639880.0489999999,1738272.85194,null,"New"]
["Waste Water Management",null," ",null,null,"Infrastructure - Sanitation","Transmission & Reticulation",null,null,null,279103.03000000003,20279103.039999999,28490520.309999999,30199951.5286,32011948.620316003,"6,7,8,9","New"]
["Housing",null,null,null,null,null,null,null,null,null,null,null,null,0,0]
[null,null,null,null,null,"Community","Parks & gardens",null,null,null,11410187.68,854567.61,null,0,0,"4,5,6,7,8,9","New"]
[null,null,null,null,null,"Community","Sportsfields & stadia",null,null,null,4098843.75,3254622.99,1205419.74,1277744.9244000001,1354409.6198640002,"6,7,8,9","Renewal"]
[]
[]
[]
[]
["Parent Capital expenditure",1,null,null,null,null,null,null,null,null,null,null,{"$f":"SUM(M7:M22)","v":64926999.999999993},{"$f":"SUM(N7:N22)","v":68822620},{"$f":"SUM(O7:O22)","v":72951977.200000003},{"$f":"SUM(P6:P22)","v":0},{"$f":"SUM(Q6:Q22)","v":0}]
[]
["Entities:"]
["List all capital projects grouped by Entity"]
[]
["Entity A"]
["Water project A"]
[]
["Entity B"]
["Electricity project B"]
[]
[]
[]
["Entity Capital expenditure",null,null,null,null,null,null,null,null,null,{"$f":"SUM(K28:K35)","v":0},{"$f":"SUM(L28:L35)","v":0},{"$f":"SUM(M28:M35)","v":0},{"$f":"SUM(N28:N35)","v":0},{"$f":"SUM(O28:O35)","v":0}]
["Total Capital expenditure",null,null,null,null,null,null,null,null,null,{"$f":"SUM(K7:K22)+SUM(K28:K35)","v":64218000},{"$f":"SUM(L7:L22)+SUM(L28:L35)","v":98761000},{"$f":"SUM(M7:M22)+SUM(M28:M35)","v":64926999.999999993},{"$f":"SUM(N7:N22)+SUM(N28:N35)","v":68822620},{"$f":"SUM(O7:O22)+SUM(O28:O35)","v":72951977.200000003}]
[{"$f":"head27a","v":"References"}]
["1. Must reconcile with Budgeted Capital Expenditure"]
["2. As per Table SA6"]
["3. As per Table SA34"]
["4. Projects that fall above the threshold values applicable to the municipality as identified in regulation 13 of the Municipal Budget and Reporting Regulations must be listed individually. Other projects by programme by Vote"]
["5. Correct to seconds. Provide a logical starting point on networked infrastructure."]
["6. Distinguish projects approved in terms of MFMA section 19(1)(b) and MRRR Regulation 13",null,null,null,null,null,null,null,null,"Check",{"$f":"SUM(SA34a!E77+SA34b!E167)-'SA36'!K37","v":-56390590.710000001}]

{"sheet":"SA37","index":61,"n_rows":28,"n_cols":13,"rows_kept":28,"cut":false,"hidden":false,"merged":[[1,0,2,0],[1,7,2,7],[1,8,1,9],[1,10,1,12],[1,2,3,2],[1,3,3,3],[1,5,3,5],[1,4,3,4],[1,6,3,6]]}
[{"$f":"muni&\" - \"&TableA37","v":"FS193 Nketoana - Supporting Table SA37 Projects delayed from previous financial year/s"}]
["Municipal Vote/Capital project","Ref.","Project name","Project number","Asset Class  \n3","Asset Sub-Class  \n3","GPS co-ordinates\n4",{"$f":"Head47","v":"Previous target year to complete"},{"$f":"Head2","v":"Current Year 2017/18"},null,{"$f":"Head3","v":"2018/19 Medium Term Revenue & Expenditure Framework"}]
[null,"1,2",null,"Audited Actual",null,null,null,null,{"$f":"Head6","v":"Original Budget"},{"$f":"Head8","v":"Full Year Forecast"},{"$f":"Head9","v":"Budget Year 2018/19"},{"$f":"Head10","v":"Budget Year +1 2019/20"},{"$f":"Head11","v":"Budget Year +2 2020/21"}]
["R thousand",null,null,"R'000",null,null,null,"Year"]
["Parent municipality:"]
["List all capital projects grouped by Municipal Vote",null,null,null,"Examples","Examples"]
[]
[]
[]
[]
[]
[]
[]
[]
["Entities:"]
["List all capital projects grouped by Municipal Entity"]
[]
["Entity Name"]
["Project name"]
[]
[]
[]
[]
[{"$f":"head27a","v":"References"}]
["1. List all projects with planned completion dates in current year that have been re-budgeted in the MTREF"]
["2. Refer MFMA s30"]
["3. As per Table SA34"]
["4. Correct to seconds. Provide a logical starting point on networked infrastructure."]

{"sheet":"SA38","index":62,"n_rows":40,"n_cols":16,"rows_kept":40,"cut":false,"hidden":false,"merged":[[1,12,1,14],[1,2,2,2],[1,3,2,3],[1,4,2,4],[1,9,2,9],[1,10,1,11]]}
[{"$f":"muni&\" - \"&TableA38","v":"FS193 Nketoana - Supporting Table SA38 Consolidated detailed operational projects"}]
["Municipal Vote/Operational project",{"$f":"head27","v":"Ref"},"Program/Project description","Project number","IDP Goal code \n2","Individually Approved\n(Yes/No)","Asset Class     \n","Asset Sub-Class   \n","GPS co-ordinates\n","Total Project Estimate","Prior year outcomes",null,{"$f":"Head3","v":"2018/19 Medium Term Revenue & Expenditure Framework"},null,null,"Project information"]
["R thousand",4,null,"Audited Actual",null,6,null,null,5,null,{"$f":"Head5&\"    \"&Head1","v":"Audited Outcome    2016/17"},{"$f":"Head2 & \"        \"&Head8","v":"Current Year 2017/18        Full Year Forecast"},{"$f":"Head9","v":"Budget Year 2018/19"},{"$f":"Head10","v":"Budget Year +1 2019/20"},{"$f":"Head11","v":"Budget Year +2 2020/21"},"Ward location"]
["Parent municipality:"]
["List all operational projects grouped by Municipal Vote"]
[]
[null,null,null,null,null,"No"]
[]
[]
[]
[]
[]
[]
[]
[]
[]
[]
[]
[]
[]
[]
[]
["Parent operational expenditure",1,null,null,null,null,null,null,null,null,null,null,{"$f":"SUM(M7:M22)","v":0},{"$f":"SUM(N7:N22)","v":0},{"$f":"SUM(O7:O22)","v":0},{"$f":"SUM(P6:P22)","v":0}]
[]
["Entities:"]
["List all operational projects grouped by Entity"]
[]
["Entity A"]
["Water project A"]
[]
["Entity B"]
["Electricity project B"]
[]
[]
[]
["Entity Operational expenditure",null,null,null,null,null,null,null,null,null,{"$f":"SUM(K28:K35)","v":0},{"$f":"SUM(L28:L35)","v":0},{"$f":"SUM(M28:M35)","v":0},{"$f":"SUM(N28:N35)","v":0},{"$f":"SUM(O28:O35)","v":0}]
["Total Operational expenditure",null,null,null,null,null,null,null,null,null,{"$f":"SUM(K7:K22)+SUM(K28:K35)","v":0},{"$f":"SUM(L7:L22)+SUM(L28:L35)","v":0},{"$f":"SUM(M7:M22)+SUM(M28:M35)","v":0},{"$f":"SUM(N7:N22)+SUM(N28:N35)","v":0},{"$f":"SUM(O7:O22)+SUM(O28:O35)","v":0}]
[{"$f":"head27a","v":"References"}]
["1. Must reconcile with Budgeted Operating Expenditure"]
["2. As per Table SA5"]

{"sheet":"LGDB_EXPORT","index":63,"n_rows":2876,"n_cols":23,"rows_kept":2876,"cut":false,"hidden":true,"merged":[]}
["FORM","YEAR END","MUNCDE","ITEMCODE","SEQ","DESCRIPTION",null,null,null,null,null,null,null,null,null,null,null,null,null,null,null,null,"~"]
["BSD",{"$f":"+MTREF","v":2018},{"$f":"LEFT(muni,(FIND(\" \",muni,1)-1))","v":"FS193"},"1000",1,"Household service targets (000)",null,null,null,null,null,null,null,null,null,null,null,null,null,null,null,null,"~"]
["BSD",2018,"FS193","1100",2,"Water:",null,null,null,null,null,null,null,null,null,null,null,null,null,null,null,null,"~"]
["BSD",2018,"FS193","1101",3,"Piped water inside dwelling",null,null,null,null,null,null,null,null,null,null,null,null,null,null,null,null,"~"]
["BSD",2018,"FS193","1102",4,"Piped water inside yard (but not in dwelling)",null,null,null,null,null,null,null,null,null,null,null,null,null,null,null,null,"~"]
["BSD",2018,"FS193","1103",5,"Using public tap (at least min.service level)",null,null,null,null,null,null,null,null,null,null,null,null,null,null,null,null,"~"]
["BSD",2018,"FS193","1104",6,"Other water supply (at least min.service level)",null,null,null,null,null,null,null,null,null,null,null,null,null,null,null,null,"~"]
["BSD",2018,"FS193","1105",7,"Minimum Service Level and Above sub-total",null,null,null,null,null,null,null,null,null,null,null,null,null,null,null,null,"~"]
["BSD",2018,"FS193","1106",8,"Using public tap (< min.service level)",null,null,null,null,null,null,null,null,null,null,null,null,null,null,null,null,"~"]
["BSD",2018,"FS193","1107",9,"Other water supply (< min.service level)",null,null,null,null,null,null,null,null,null,null,null,null,null,null,null,null,"~"]
["BSD",2018,"FS193","1108",10,"No water supply",null,null,null,null,null,null,null,null,null,null,null,null,null,null,null,null,"~"]
["BSD",2018,"FS193","1109",11,"Below Minimum Service Level sub-total",null,null,null,null,null,null,null,null,null,null,null,null,null,null,null,null,"~"]
["BSD",2018,"FS193","1110",12,"Total number of households",null,null,null,null,null,null,null,null,null,null,null,null,null,null,null,null,"~"]
["BSD",2018,"FS193","1200",13,"Sanitation/sewerage:",null,null,null,null,null,null,null,null,null,null,null,null,null,null,null,null,"~"]
["BSD",2018,"FS193","1201",14,"Flush toilet (connected to sewerage)",null,null,null,null,null,null,null,null,null,null,null,null,null,null,null,null,"~"]
["BSD",2018,"FS193","1202",15,"Flush toilet (with septic tank)",null,null,null,null,null,null,null,null,null,null,null,null,null,null,null,null,"~"]
["BSD",2018,"FS193","1203",16,"Chemical toilet",null,null,null,null,null,null,null,null,null,null,null,null,null,null,null,null,"~"]
["BSD",2018,"FS193","1204",17,"Pit toilet (ventilated)",null,null,null,null,null,null,null,null,null,null,null,null,null,null,null,null,"~"]
["BSD",2018,"FS193","1205",18,"Other toilet provisions (> min.service level)",null,null,null,null,null,null,null,null,null,null,null,null,null,null,null,null,"~"]
["BSD",2018,"FS193","1206",19,"Minimum Service Level and Above sub-total",null,null,null,null,null,null,null,null,null,null,null,null,null,null,null,null,"~"]
["BSD",2018,"FS193","1207",20,"Bucket toilet",null,null,null,null,null,null,null,null,null,null,null,null,null,null,null,null,"~"]
["BSD",2018,"FS193","1208",21,"Other toilet provisions (< min.service level)",null,null,null,null,null,null,null,null,null,null,null,null,null,null,null,null,"~"]
["BSD",2018,"FS193","1209",22,"No toilet provisions",null,null,null,null,null,null,null,null,null,null,null,null,null,null,null,null,"~"]
["BSD",2018,"FS193","1210",23,"Below Minimum Service Level sub-total",null,null,null,null,null,null,null,null,null,null,null,null,null,null,null,null,"~"]
["BSD",2018,"FS193","1211",24,"Total number of households",null,null,null,null,null,null,null,null,null,null,null,null,null,null,null,null,"~"]
["BSD",2018,"FS193","1300",25,"Energy:",null,null,null,null,null,null,null,null,null,null,null,null,null,null,null,null,"~"]
["BSD",2018,"FS193","1301",26,"Electricity (at least min.service level)",null,null,null,null,null,null,null,null,null,null,null,null,null,null,null,null,"~"]
["BSD",2018,"FS193","1302",27,"Electricity - prepaid (min.service level)",null,null,null,null,null,null,null,null,null,null,null,null,null,null,null,null,"~"]
["BSD",2018,"FS193","1303",28,"Minimum Service Level and Above sub-total",null,null,null,null,null,null,null,null,null,null,null,null,null,null,null,null,"~"]
["BSD",2018,"FS193","1304",29,"Electricity (< min.service level)",null,null,null,null,null,null,null,null,null,null,null,null,null,null,null,null,"~"]
["BSD",2018,"FS193","1305",30,"Electricity - prepaid (< min. service level)",null,null,null,null,null,null,null,null,null,null,null,null,null,null,null,null,"~"]
["BSD",2018,"FS193","1306",31,"Other energy sources",null,null,null,null,null,null,null,null,null,null,null,null,null,null,null,null,"~"]
["BSD",2018,"FS193","1307",32,"Below Minimum Service Level sub-total",null,null,null,null,null,null,null,null,null,null,null,null,null,null,null,null,"~"]
["BSD",2018,"FS193","1308",33,"Total number of households",null,null,null,null,null,null,null,null,null,null,null,null,null,null,null,null,"~"]
["BSD",2018,"FS193","1400",34,"Refuse:",null,null,null,null,null,null,null,null,null,null,null,null,null,null,null,null,"~"]
["BSD",2018,"FS193","1401",35,"Removed at least once a week",null,null,null,null,null,null,null,null,null,null,null,null,null,null,null,null,"~"]
["BSD",2018,"FS193","1402",36,"Minimum Service Level and Above sub-total",null,null,null,null,null,null,null,null,null,null,null,null,null,null,null,null,"~"]
["BSD",2018,"FS193","1403",37,"Removed less frequently than once a week",null,null,null,null,null,null,null,null,null,null,null,null,null,null,null,null,"~"]
["BSD",2018,"FS193","1404",38,"Using communal refuse dump",null,null,null,null,null,null,null,null,null,null,null,null,null,null,null,null,"~"]
["BSD",2018,"FS193","1405",39,"Using own refuse dump",null,null,null,null,null,null,null,null,null,null,null,null,null,null,null,null,"~"]
["BSD",2018,"FS193","1406",40,"Other rubbish disposal",null,null,null,null,null,null,null,null,null,null,null,null,null,null,null,null,"~"]
["BSD",2018,"FS193","1407",41,"No rubbish disposal",null,null,null,null,null,null,null,null,null,null,null,null,null,null,null,null,"~"]
["BSD",2018,"FS193","1408",42,"Below Minimum Service Level sub-total",null,null,null,null,null,null,null,null,null,null,null,null,null,null,null,null,"~"]
["BSD",2018,"FS193","1409",43,"Total number of households",null,null,null,null,null,null,null,null,null,null,null,null,null,null,null,null,"~"]
["BSD",2018,"FS193",null,null,null,null,null,null,null,null,null,null,null,null,null,null,null,null,null,null,null,"~"]
["BSD",2018,"FS193","1500",45,"Households receiving Free Basic Service",null,null,null,null,null,null,null,null,null,null,null,null,null,null,null,null,"~"]
["BSD",2018,"FS193","1501",46,"Water (6 kilolitres per household per month)",null,null,null,null,null,null,null,null,null,null,null,null,null,null,null,null,"~"]
["BSD",2018,"FS193","1502",47,"Sanitation (free minimum level service)",null,null,null,null,null,null,null,null,null,null,null,null,null,null,null,null,"~"]
["BSD",2018,"FS193","1503",48,"Electricity/other energy (50kwh per household per month)",null,null,null,null,null,null,null,null,null,null,null,null,null,null,null,null,"~"]
["BSD",2018,"FS193","1504",49,"Refuse (removed at least once a week)",null,null,null,null,null,null,null,null,null,null,null,null,null,null,null,null,"~"]
["BSD",2018,"FS193",null,null,null,null,null,null,null,null,null,null,null,null,null,null,null,null,null,null,null,"~"]
["BSD",2018,"FS193","1600",51,"Cost of Free Basic Services provided - Formal Settlements (R'000)",null,null,null,null,null,null,null,null,null,null,null,null,null,null,null,null,"~"]
["BSD",2018,"FS193","1601",52,"Water (6 kilolitres per indigent household per month)",null,null,null,null,null,null,null,null,null,null,null,null,null,null,null,null,"~"]
["BSD",2018,"FS193","1602",53,"Sanitation (free sanitation service to indigent households)",null,null,null,null,null,null,null,null,null,null,null,null,null,null,null,null,"~"]
["BSD",2018,"FS193","1603",54,"Electricity/other energy (50kwh per indigent household per month)",null,null,null,null,null,null,null,null,null,null,null,null,null,null,null,null,"~"]
["BSD",2018,"FS193","1604",55,"Refuse (removed once a week for indigent households)",null,null,null,null,null,null,null,null,null,null,null,null,null,null,null,null,"~"]
["BSD",2018,"FS193",1606,56,"Cost of Free Basic Services provided - Informal Formal Settlements (R'000)",null,null,null,null,null,null,null,null,null,null,null,null,null,null,null,null,"~"]
["BSD",2018,"FS193",1607,57,"Total cost of FBS provided  ",null,null,null,null,null,null,null,null,null,null,null,null,null,null,null,null,"~"]
["BSD",2018,"FS193",null,null,null,null,null,null,null,null,null,null,null,null,null,null,null,null,null,null,null,"~"]
["BSD",2018,"FS193","1700",58,"Highest level of free service provided per household",null,null,null,null,null,null,null,null,null,null,null,null,null,null,null,null,"~"]
["BSD",2018,"FS193","1701",59,"Property rates (R value threshold)",null,null,null,null,null,null,null,null,null,null,null,null,null,null,null,null,"~"]
["BSD",2018,"FS193","1702",60,"Water (kilolitres per household per month)",null,null,null,null,null,null,null,null,null,null,null,null,null,null,null,null,"~"]
["BSD",2018,"FS193","1703",61,"Sanitation (kilolitres per household per month)",null,null,null,null,null,null,null,null,null,null,null,null,null,null,null,null,"~"]
["BSD",2018,"FS193","1704",62,"Sanitation (Rand per household per month)",null,null,null,null,null,null,null,null,null,null,null,null,null,null,null,null,"~"]
["BSD",2018,"FS193","1705",63,"Electricity (kwh per household per month)",null,null,null,null,null,null,null,null,null,null,null,null,null,null,null,null,"~"]
["BSD",{"$f":"+MTREF","v":2018},{"$f":"LEFT(muni,(FIND(\" \",muni,1)-1))","v":"FS193"},"1706",64,"Refuse (average litres per week)",null,null,null,null,null,null,null,null,null,null,null,null,null,null,null,null,"~"]
["BSD",2018,"FS193","1707",65,"Revenue  cost of subsidised services provided (R'000)",null,null,null,null,null,null,null,null,null,null,null,null,null,null,null,null,"~"]
["BSD",2018,"FS193","1708",66,"Property rates (tariff adjustment) ( impermissable values per section 17 of MPRA)",null,null,null,null,null,null,null,null,null,null,null,null,null,null,null,null,"~"]
["BSD",2018,"FS193","1709",67,"Property rates  exemptions, reductions and rebates and impermissable values in excess of section 17 of MPRA)",null,null,null,null,null,null,null,null,null,null,null,null,null,null,null,null,"~"]
["BSD",2018,"FS193","1710",68,"Water (in excess of 6 kilolitres per indigent household per month)",null,null,null,null,null,null,null,null,null,null,null,null,null,null,null,null,"~"]
["BSD",2018,"FS193","1711",69,"Sanitation (in excess of free sanitation service to indigent households)",null,null,null,null,null,null,null,null,null,null,null,null,null,null,null,null,"~"]
["BSD",2018,"FS193","1712",70,"Electricity/other energy (in excess of 50 kwh per indigent household per month)",null,null,null,null,null,null,null,null,null,null,null,null,null,null,null,null,"~"]
["BSD",2018,"FS193","1713",71,"Refuse (in excess of one removal a week for indigent households)",null,null,null,null,null,null,null,null,null,null,null,null,null,null,null,null,"~"]
["BSD",2018,"FS193","1714",72,"Municipal Housing - rental rebates",null,null,null,null,null,null,null,null,null,null,null,null,null,null,null,null,"~"]
["BSD",2018,"FS193","1715",73,"Housing - top structure subsidies",null,null,null,null,null,null,null,null,null,null,null,null,null,null,null,null,"~"]
["BSD",2018,"FS193","1716",74,"Other",null,null,null,null,null,null,null,null,null,null,null,null,null,null,null,null,"~"]
["BSD",2018,"FS193","1717",75,"Total revenue cost of subsidised services provided ",null,null,null,null,null,null,null,null,null,null,null,null,null,null,null,null,"~"]
["SA11",2018,"FS193",1000,"T","Valuation:",null,null,null,null,null,null,null,null,null,null,null,null,null,null,null,null,"~"]
["SA11",2018,"FS193",1001,"T","Date of valuation:",null,null,null,null,null,null,null,null,null,null,null,null,null,null,null,null,"~"]
["SA11",2018,"FS193",1002,"T","Financial year valuation used",null,null,null,null,null,null,null,null,null,null,null,null,null,null,null,null,"~"]
["SA11",2018,"FS193",1003,"T","Municipal by-laws s6 in place? (Y/N)",null,null,null,null,null,null,null,null,null,null,null,null,null,null,null,null,"~"]
["SA11",2018,"FS193",1004,"T","Municipal/assistant valuer appointed? (Y/N)",null,null,null,null,null,null,null,null,null,null,null,null,null,null,null,null,"~"]
["SA11",2018,"FS193",1005,"T","Municipal partnership s38 used? (Y/N)",null,null,null,null,null,null,null,null,null,null,null,null,null,null,null,null,"~"]
["SA11",2018,"FS193",1006,"V","No. of assistant valuers (FTE)",null,null,null,null,null,null,null,null,null,null,null,null,null,null,null,null,"~"]
["SA11",2018,"FS193",1007,"V","No. of data collectors (FTE)",null,null,null,null,null,null,null,null,null,null,null,null,null,null,null,null,"~"]
["SA11",2018,"FS193",1008,"V","No. of internal valuers (FTE)",null,null,null,null,null,null,null,null,null,null,null,null,null,null,null,null,"~"]
["SA11",2018,"FS193",1009,"V","No. of external valuers (FTE)",null,null,null,null,null,null,null,null,null,null,null,null,null,null,null,null,"~"]
["SA11",2018,"FS193",1010,"V","No. of additional valuers (FTE)",null,null,null,null,null,null,null,null,null,null,null,null,null,null,null,null,"~"]
["SA11",2018,"FS193",1011,"T","Valuation appeal board established? (Y/N)",null,null,null,null,null,null,null,null,null,null,null,null,null,null,null,null,"~"]
["SA11",2018,"FS193",1012,"V","Implementation time of new valuation roll (mths)",null,null,null,null,null,null,null,null,null,null,null,null,null,null,null,null,"~"]
["SA11",2018,"FS193",1020,"V","No. of properties",null,null,null,null,null,null,null,null,null,null,null,null,null,null,null,null,"~"]
["SA11",2018,"FS193",1021,"V","No. of sectional title values",null,null,null,null,null,null,null,null,null,null,null,null,null,null,null,null,"~"]
["SA11",2018,"FS193",1022,"V","No. of unreasonably difficult properties s7(2)",null,null,null,null,null,null,null,null,null,null,null,null,null,null,null,null,"~"]
["SA11",2018,"FS193",1023,"V","No. of supplementary valuations",null,null,null,null,null,null,null,null,null,null,null,null,null,null,null,null,"~"]
["SA11",2018,"FS193",1024,"V","No. of valuation roll amendments",null,null,null,null,null,null,null,null,null,null,null,null,null,null,null,null,"~"]
["SA11",2018,"FS193",1025,"V","No. of objections by rate payers",null,null,null,null,null,null,null,null,null,null,null,null,null,null,null,null,"~"]
["SA11",2018,"FS193",1026,"V","No. of appeals by rate payers",null,null,null,null,null,null,null,null,null,null,null,null,null,null,null,null,"~"]
["SA11",2018,"FS193",1028,"V","No. of successful objections",null,null,null,null,null,null,null,null,null,null,null,null,null,null,null,null,"~"]
["SA11",2018,"FS193",1029,"V","No. of successful objections > 10%",null,null,null,null,null,null,null,null,null,null,null,null,null,null,null,null,"~"]
["SA11",2018,"FS193",1030,"V","Supplementary valuation",null,null,null,null,null,null,null,null,null,null,null,null,null,null,null,null,"~"]
["SA11",2018,"FS193",1031,"V","Public service infrastructure value ",null,null,null,null,null,null,null,null,null,null,null,null,null,null,null,null,"~"]
["SA11",2018,"FS193",1032,"V","Municipality owned property value ",null,null,null,null,null,null,null,null,null,null,null,null,null,null,null,null,"~"]
["SA11",2018,"FS193",1100,"T","Valuation reductions:",null,null,null,null,null,null,null,null,null,null,null,null,null,null,null,null,"~"]
["SA11",2018,"FS193",1101,"V","Valuation reductions-public infrastructure",null,null,null,null,null,null,null,null,null,null,null,null,null,null,null,null,"~"]
["SA11",2018,"FS193",1102,"V","Valuation reductions-nature reserves/park",null,null,null,null,null,null,null,null,null,null,null,null,null,null,null,null,"~"]
["SA11",2018,"FS193",1103,"V","Valuation reductions-mineral rights",null,null,null,null,null,null,null,null,null,null,null,null,null,null,null,null,"~"]
["SA11",2018,"FS193",1104,"V","Valuation reductions-R15,000 threshold",null,null,null,null,null,null,null,null,null,null,null,null,null,null,null,null,"~"]
["SA11",2018,"FS193",1105,"V","Valuation reductions-public worship ",null,null,null,null,null,null,null,null,null,null,null,null,null,null,null,null,"~"]
["SA11",2018,"FS193",1106,"V","Valuation reductions-other",null,null,null,null,null,null,null,null,null,null,null,null,null,null,null,null,"~"]
["SA11",2018,"FS193",1107,"V","Total valuation reductions:",null,null,null,null,null,null,null,null,null,null,null,null,null,null,null,null,"~"]
["SA11",2018,"FS193",1108,"V","Total value used for rating",null,null,null,null,null,null,null,null,null,null,null,null,null,null,null,null,"~"]
["SA11",2018,"FS193",1109,"V","Total land value ",null,null,null,null,null,null,null,null,null,null,null,null,null,null,null,null,"~"]
["SA11",2018,"FS193",1110,"V","Total value of improvements",null,null,null,null,null,null,null,null,null,null,null,null,null,null,null,null,"~"]
["SA11",2018,"FS193",1111,"V","Total market value",null,null,null,null,null,null,null,null,null,null,null,null,null,null,null,null,"~"]
["SA11",2018,"FS193",null,null,null,null,null,null,null,null,null,null,null,null,null,null,null,null,null,null,null,"~"]
["SA11",2018,"FS193",1200,"T","Rating:",null,null,null,null,null,null,null,null,null,null,null,null,null,null,null,null,"~"]
["SA11",2018,"FS193",1202,"T","Residential rate used to determine rate for other categories? (Y/N)",null,null,null,null,null,null,null,null,null,null,null,null,null,null,null,null,"~"]
["SA11",2018,"FS193",1203,"T","Differential rates used? (Y/N)",null,null,null,null,null,null,null,null,null,null,null,null,null,null,null,null,"~"]
["SA11",2018,"FS193",1204,"T","Limit on annual rate increase (s20)? (Y/N)",null,null,null,null,null,null,null,null,null,null,null,null,null,null,null,null,"~"]
["SA11",2018,"FS193",1205,"T","Special rating area used? (Y/N)",null,null,null,null,null,null,null,null,null,null,null,null,null,null,null,null,"~"]
["SA11",2018,"FS193",1206,"V","Phasing-in properties s21 (number)",null,null,null,null,null,null,null,null,null,null,null,null,null,null,null,null,"~"]
["SA11",2018,"FS193",1207,"T","Rates policy accompanying budget? (Y/N)",null,null,null,null,null,null,null,null,null,null,null,null,null,null,null,null,"~"]
["SA11",2018,"FS193",1208,"V","Fixed amount minimum value",null,null,null,null,null,null,null,null,null,null,null,null,null,null,null,null,"~"]
["SA11",2018,"FS193",1209,"P","Non-residential prescribed ratio s19? (%)",null,null,null,null,null,null,null,null,null,null,null,null,null,null,null,null,"~"]
["SA11",2018,"FS193",null,null,null,null,null,null,null,null,null,null,null,null,null,null,null,null,null,null,null,"~"]
["SA11",2018,"FS193",1300,"T","Rate revenue:",null,null,null,null,null,null,null,null,null,null,null,null,null,null,null,null,"~"]
["SA11",2018,"FS193",1301,"V","Rate revenue budget ",null,null,null,null,null,null,null,null,null,null,null,null,null,null,null,null,"~"]
["SA11",2018,"FS193",1302,"V","Rate revenue expected to collect",null,null,null,null,null,null,null,null,null,null,null,null,null,null,null,null,"~"]
["SA11",2018,"FS193",1303,"P","Expected cash collection rate (%)",null,null,null,null,null,null,null,null,null,null,null,null,null,null,null,null,"~"]
["SA11",{"$f":"+MTREF","v":2018},{"$f":"LEFT(muni,(FIND(\" \",muni,1)-1))","v":"FS193"},1304,"V","Special rating areas",null,null,null,null,null,null,null,null,null,null,null,null,null,null,null,null,"~"]
["SA11",2018,"FS193",1305,"V","Rebates, exemptions - indigent",null,null,null,null,null,null,null,null,null,null,null,null,null,null,null,null,"~"]
["SA11",2018,"FS193",1306,"V","Rebates, exemptions - pensioners",null,null,null,null,null,null,null,null,null,null,null,null,null,null,null,null,"~"]
["SA11",2018,"FS193",1307,"V","Rebates, exemptions - bona fide farm",null,null,null,null,null,null,null,null,null,null,null,null,null,null,null,null,"~"]
["SA11",2018,"FS193",1308,"V","Rebates, exemptions - other",null,null,null,null,null,null,null,null,null,null,null,null,null,null,null,null,"~"]
["SA11",2018,"FS193",1309,"V","Phase-in reductions/discounts",null,null,null,null,null,null,null,null,null,null,null,null,null,null,null,null,"~"]
["SA11",2018,"FS193",1310,"V","Total rebates,exemptns,reductns,discs",null,null,null,null,null,null,null,null,null,null,null,null,null,null,null,null,"~"]
["SA12",2018,"FS193",1000,"T","Valuation:",null,null,null,null,null,null,null,null,null,null,null,null,null,null,null,null,"~"]
["SA12",2018,"FS193",1020,"V","No. of properties",null,null,null,null,null,null,null,null,null,null,null,null,null,null,null,null,"~"]
["SA12",2018,"FS193",1021,"V","No. of sectional title property values",null,null,null,null,null,null,null,null,null,null,null,null,null,null,null,null,"~"]
["SA12",2018,"FS193",1022,"V","No. of unreasonably difficult properties s7(2)",null,null,null,null,null,null,null,null,null,null,null,null,null,null,null,null,"~"]
["SA12",2018,"FS193",1023,"V","No. of supplementary valuations",null,null,null,null,null,null,null,null,null,null,null,null,null,null,null,null,"~"]
["SA12",2018,"FS193",1030,"V","Supplementary valuation ",null,null,null,null,null,null,null,null,null,null,null,null,null,null,null,null,"~"]
["SA12",2018,"FS193",1024,"V","No. of valuation roll amendments",null,null,null,null,null,null,null,null,null,null,null,null,null,null,null,null,"~"]
["SA12",2018,"FS193",1025,"V","No. of objections by rate-payers",null,null,null,null,null,null,null,null,null,null,null,null,null,null,null,null,"~"]
["SA12",2018,"FS193",1026,"V","No. of appeals by rate-payers",null,null,null,null,null,null,null,null,null,null,null,null,null,null,null,null,"~"]
["SA12",2018,"FS193",1027,"V","No. of appeals by rate-payers finalised",null,null,null,null,null,null,null,null,null,null,null,null,null,null,null,null,"~"]
["SA12",2018,"FS193",1028,"V","No. of successful objections",null,null,null,null,null,null,null,null,null,null,null,null,null,null,null,null,"~"]
["SA12",2018,"FS193",1029,"V","No. of successful objections > 10%",null,null,null,null,null,null,null,null,null,null,null,null,null,null,null,null,"~"]
["SA12",2018,"FS193",1040,"V","Estimated no. of properties not valued",null,null,null,null,null,null,null,null,null,null,null,null,null,null,null,null,"~"]
["SA12",2018,"FS193",1041,"T","Years since last valuation",null,null,null,null,null,null,null,null,null,null,null,null,null,null,null,null,"~"]
["SA12",2018,"FS193",1042,"T","Frequency of valuation ",null,null,null,null,null,null,null,null,null,null,null,null,null,null,null,null,"~"]
["SA12",2018,"FS193",1043,"T","Method of valuation used",null,null,null,null,null,null,null,null,null,null,null,null,null,null,null,null,"~"]
["SA12",2018,"FS193",1044,"T","Base of valuation",null,null,null,null,null,null,null,null,null,null,null,null,null,null,null,null,"~"]
["SA12",2018,"FS193",1206,"V","Phasing-in properties s21 (number)",null,null,null,null,null,null,null,null,null,null,null,null,null,null,null,null,"~"]
["SA12",2018,"FS193",1046,"T","Combination of rating types used? (Y/N)",null,null,null,null,null,null,null,null,null,null,null,null,null,null,null,null,"~"]
["SA12",2018,"FS193",1047,"T","Flat rate used? (Y/N)",null,null,null,null,null,null,null,null,null,null,null,null,null,null,null,null,"~"]
["SA12",2018,"FS193",1048,"T","Is balance rated by uniform rate/variable rate?",null,null,null,null,null,null,null,null,null,null,null,null,null,null,null,null,"~"]
["SA12",2018,"FS193",1100,"T","Valuation reductions:",null,null,null,null,null,null,null,null,null,null,null,null,null,null,null,null,"~"]
["SA12",2018,"FS193",1101,"V","Valuation reductions-public infrastructure",null,null,null,null,null,null,null,null,null,null,null,null,null,null,null,null,"~"]
["SA12",2018,"FS193",1102,"V","Valuation reductions-nature reserves/park",null,null,null,null,null,null,null,null,null,null,null,null,null,null,null,null,"~"]
["SA12",2018,"FS193",1103,"V","Valuation reductions-mineral rights",null,null,null,null,null,null,null,null,null,null,null,null,null,null,null,null,"~"]
["SA12",2018,"FS193",1104,"V","Valuation reductions-R15,000 threshold ",null,null,null,null,null,null,null,null,null,null,null,null,null,null,null,null,"~"]
["SA12",2018,"FS193",1105,"V","Valuation reductions-public worship",null,null,null,null,null,null,null,null,null,null,null,null,null,null,null,null,"~"]
["SA12",2018,"FS193",1106,"V","Valuation reductions-other",null,null,null,null,null,null,null,null,null,null,null,null,null,null,null,null,"~"]
["SA12",2018,"FS193",1107,"V","Total valuation reductions:",null,null,null,null,null,null,null,null,null,null,null,null,null,null,null,null,"~"]
["SA12",2018,"FS193",1108,"V","Total value used for rating",null,null,null,null,null,null,null,null,null,null,null,null,null,null,null,null,"~"]
["SA12",2018,"FS193",1109,"V","Total land value ",null,null,null,null,null,null,null,null,null,null,null,null,null,null,null,null,"~"]
["SA12",2018,"FS193",1110,"V","Total value of improvements",null,null,null,null,null,null,null,null,null,null,null,null,null,null,null,null,"~"]
["SA12",2018,"FS193",1111,"V","Total market value ",null,null,null,null,null,null,null,null,null,null,null,null,null,null,null,null,"~"]
["SA12",2018,"FS193",1200,"T","Rating:",null,null,null,null,null,null,null,null,null,null,null,null,null,null,null,null,"~"]
["SA12",2018,"FS193",1201,"V","Average rate",null,null,null,null,null,null,null,null,null,null,null,null,null,null,null,null,"~"]
["SA12",2018,"FS193",1301,"V","Rate revenue budget ",null,null,null,null,null,null,null,null,null,null,null,null,null,null,null,null,"~"]
["SA12",2018,"FS193",1302,"V","Rate revenue expected to collect",null,null,null,null,null,null,null,null,null,null,null,null,null,null,null,null,"~"]
["SA12",2018,"FS193",1303,"P","Expected cash collection rate (%)",null,null,null,null,null,null,null,null,null,null,null,null,null,null,null,null,"~"]
["SA12",2018,"FS193",1304,"V","Special rating areas",null,null,null,null,null,null,null,null,null,null,null,null,null,null,null,null,"~"]
["SA12",2018,"FS193",1305,"V","Rebates, exemptions - indigent",null,null,null,null,null,null,null,null,null,null,null,null,null,null,null,null,"~"]
["SA12",2018,"FS193",1306,"V","Rebates, exemptions - pensioners",null,null,null,null,null,null,null,null,null,null,null,null,null,null,null,null,"~"]
["SA12",2018,"FS193",1307,"V","Rebates, exemptions - bona fide farm. ",null,null,null,null,null,null,null,null,null,null,null,null,null,null,null,null,"~"]
["SA12",2018,"FS193",1308,"V","Rebates, exemptions - other ",null,null,null,null,null,null,null,null,null,null,null,null,null,null,null,null,"~"]
["SA12",2018,"FS193",1309,"V","Phase-in reductions/discounts ",null,null,null,null,null,null,null,null,null,null,null,null,null,null,null,null,"~"]
["SA12",2018,"FS193",1310,"V","Total rebates,exemptns,reductns,discs",null,null,null,null,null,null,null,null,null,null,null,null,null,null,null,null,"~"]
["SA12",2018,"FS193",null,null,null,null,null,null,null,null,null,null,null,null,null,null,null,null,null,null,null,"~"]
["SA12",2018,"FS193",null,null,null,null,null,null,null,null,null,null,null,null,null,null,null,null,null,null,null,"~"]
["SA12",2018,"FS193",null,null,null,null,null,null,null,null,null,null,null,null,null,null,null,null,null,null,null,"~"]
["SA12",2018,"FS193",null,null,null,null,null,null,null,null,null,null,null,null,null,null,null,null,null,null,null,"~"]
["SA12",2018,"FS193",1000,"T","Valuation:",null,null,null,null,null,null,null,null,null,null,null,null,null,null,null,null,"~"]
["SA12",2018,"FS193",1020,"V","No. of properties",null,null,null,null,null,null,null,null,null,null,null,null,null,null,null,null,"~"]
["SA12",2018,"FS193",1021,"V","No. of sectional title property values",null,null,null,null,null,null,null,null,null,null,null,null,null,null,null,null,"~"]
["SA12",2018,"FS193",1022,"V","No. of unreasonably difficult properties s7(2)",null,null,null,null,null,null,null,null,null,null,null,null,null,null,null,null,"~"]
["SA12",2018,"FS193",1023,"V","No. of supplementary valuations",null,null,null,null,null,null,null,null,null,null,null,null,null,null,null,null,"~"]
["SA12",2018,"FS193",1030,"V","Supplementary valuation ",null,null,null,null,null,null,null,null,null,null,null,null,null,null,null,null,"~"]
["SA12",2018,"FS193",1024,"V","No. of valuation roll amendments",null,null,null,null,null,null,null,null,null,null,null,null,null,null,null,null,"~"]
["SA12",2018,"FS193",1025,"V","No. of objections by rate-payers",null,null,null,null,null,null,null,null,null,null,null,null,null,null,null,null,"~"]
["SA12",{"$f":"+MTREF","v":2018},{"$f":"LEFT(muni,(FIND(\" \",muni,1)-1))","v":"FS193"},1026,"V","No. of appeals by rate-payers",null,null,null,null,null,null,null,null,null,null,null,null,null,null,null,null,"~"]
["SA12",2018,"FS193",1027,"V","No. of appeals by rate-payers finalised",null,null,null,null,null,null,null,null,null,null,null,null,null,null,null,null,"~"]
["SA12",2018,"FS193",1028,"V","No. of successful objections",null,null,null,null,null,null,null,null,null,null,null,null,null,null,null,null,"~"]
["SA12",2018,"FS193",1029,"V","No. of successful objections > 10%",null,null,null,null,null,null,null,null,null,null,null,null,null,null,null,null,"~"]
["SA12",2018,"FS193",1040,"V","Estimated no. of properties not valued",null,null,null,null,null,null,null,null,null,null,null,null,null,null,null,null,"~"]
["SA12",2018,"FS193",1041,"T","Years since last valuation",null,null,null,null,null,null,null,null,null,null,null,null,null,null,null,null,"~"]
["SA12",2018,"FS193",1042,"T","Frequency of valuation ",null,null,null,null,null,null,null,null,null,null,null,null,null,null,null,null,"~"]
["SA12",2018,"FS193",1043,"T","Method of valuation used",null,null,null,null,null,null,null,null,null,null,null,null,null,null,null,null,"~"]
["SA12",2018,"FS193",1044,"T","Base of valuation",null,null,null,null,null,null,null,null,null,null,null,null,null,null,null,null,"~"]
["SA12",2018,"FS193",1206,"V","Phasing-in properties s21 (number)",null,null,null,null,null,null,null,null,null,null,null,null,null,null,null,null,"~"]
["SA12",2018,"FS193",1046,"T","Combination of rating types used? (Y/N)",null,null,null,null,null,null,null,null,null,null,null,null,null,null,null,null,"~"]
["SA12",2018,"FS193",1047,"T","Flat rate used? (Y/N)",null,null,null,null,null,null,null,null,null,null,null,null,null,null,null,null,"~"]
["SA12",2018,"FS193",1048,"T","Is balance rated by uniform rate/variable rate?",null,null,null,null,null,null,null,null,null,null,null,null,null,null,null,null,"~"]
["SA12",2018,"FS193",1100,"T","Valuation reductions:",null,null,null,null,null,null,null,null,null,null,null,null,null,null,null,null,"~"]
["SA12",2018,"FS193",1101,"V","Valuation reductions-public infrastructure",null,null,null,null,null,null,null,null,null,null,null,null,null,null,null,null,"~"]
["SA12",2018,"FS193",1102,"V","Valuation reductions-nature reserves/park",null,null,null,null,null,null,null,null,null,null,null,null,null,null,null,null,"~"]
["SA12",2018,"FS193",1103,"V","Valuation reductions-mineral rights",null,null,null,null,null,null,null,null,null,null,null,null,null,null,null,null,"~"]
["SA12",2018,"FS193",1104,"V","Valuation reductions-R15,000 threshold ",null,null,null,null,null,null,null,null,null,null,null,null,null,null,null,null,"~"]
["SA12",2018,"FS193",1105,"V","Valuation reductions-public worship",null,null,null,null,null,null,null,null,null,null,null,null,null,null,null,null,"~"]
["SA12",2018,"FS193",1106,"V","Valuation reductions-other",null,null,null,null,null,null,null,null,null,null,null,null,null,null,null,null,"~"]
["SA12",2018,"FS193",1107,"V","Total valuation reductions:",null,null,null,null,null,null,null,null,null,null,null,null,null,null,null,null,"~"]
["SA12",2018,"FS193",1108,"V","Total value used for rating",null,null,null,null,null,null,null,null,null,null,null,null,null,null,null,null,"~"]
["SA12",2018,"FS193",1109,"V","Total land value ",null,null,null,null,null,null,null,null,null,null,null,null,null,null,null,null,"~"]
["SA12",2018,"FS193",1110,"V","Total value of improvements",null,null,null,null,null,null,null,null,null,null,null,null,null,null,null,null,"~"]
["SA12",2018,"FS193",1111,"V","Total market value ",null,null,null,null,null,null,null,null,null,null,null,null,null,null,null,null,"~"]
["SA12",2018,"FS193",1200,"T","Rating:",null,null,null,null,null,null,null,null,null,null,null,null,null,null,null,null,"~"]
["SA12",2018,"FS193",1201,"V","Average rate",null,null,null,null,null,null,null,null,null,null,null,null,null,null,null,null,"~"]
["SA12",2018,"FS193",1301,"V","Rate revenue budget ",null,null,null,null,null,null,null,null,null,null,null,null,null,null,null,null,"~"]
["SA12",2018,"FS193",1302,"V","Rate revenue expected to collect",null,null,null,null,null,null,null,null,null,null,null,null,null,null,null,null,"~"]
["SA12",2018,"FS193",1303,"P","Expected cash collection rate (%)",null,null,null,null,null,null,null,null,null,null,null,null,null,null,null,null,"~"]
["SA12",2018,"FS193",1304,"V","Special rating areas",null,null,null,null,null,null,null,null,null,null,null,null,null,null,null,null,"~"]
["SA12",2018,"FS193",1305,"V","Rebates, exemptions - indigent",null,null,null,null,null,null,null,null,null,null,null,null,null,null,null,null,"~"]
["SA12",2018,"FS193",1306,"V","Rebates, exemptions - pensioners",null,null,null,null,null,null,null,null,null,null,null,null,null,null,null,null,"~"]
["SA12",2018,"FS193",1307,"V","Rebates, exemptions - bona fide farm. ",null,null,null,null,null,null,null,null,null,null,null,null,null,null,null,null,"~"]
["SA12",2018,"FS193",1308,"V","Rebates, exemptions - other ",null,null,null,null,null,null,null,null,null,null,null,null,null,null,null,null,"~"]
["SA12",2018,"FS193",1309,"V","Phase-in reductions/discounts ",null,null,null,null,null,null,null,null,null,null,null,null,null,null,null,null,"~"]
["SA12",2018,"FS193",1310,"V","Total rebates,exemptns,reductns,discs",null,null,null,null,null,null,null,null,null,null,null,null,null,null,null,null,"~"]
["SA13",2018,"FS193",1000,1,"Property rates (rate in the Rand)",null,null,null,null,null,null,null,null,null,null,null,null,null,null,null,null,"~"]
["SA13",2018,"FS193",1001,2,"Residential properties",null,null,null,null,null,null,null,null,null,null,null,null,null,null,null,null,"~"]
["SA13",2018,"FS193",1002,3,"Residential properties - vacant land",null,null,null,null,null,null,null,null,null,null,null,null,null,null,null,null,"~"]
["SA13",2018,"FS193",1003,4,"Formal/informal settlements",null,null,null,null,null,null,null,null,null,null,null,null,null,null,null,null,"~"]
["SA13",2018,"FS193",1004,5,"Small holdings",null,null,null,null,null,null,null,null,null,null,null,null,null,null,null,null,"~"]
["SA13",2018,"FS193",1005,6,"Farm properties - used",null,null,null,null,null,null,null,null,null,null,null,null,null,null,null,null,"~"]
["SA13",2018,"FS193",1006,7,"Farm properties - not used",null,null,null,null,null,null,null,null,null,null,null,null,null,null,null,null,"~"]
["SA13",2018,"FS193",1007,8,"Industrial properties",null,null,null,null,null,null,null,null,null,null,null,null,null,null,null,null,"~"]
["SA13",2018,"FS193",1008,9,"Business and commercial properties",null,null,null,null,null,null,null,null,null,null,null,null,null,null,null,null,"~"]
["SA13",2018,"FS193",1009,10,"Communal land - residential",null,null,null,null,null,null,null,null,null,null,null,null,null,null,null,null,"~"]
["SA13",2018,"FS193",1010,11,"Communal land - small holdings",null,null,null,null,null,null,null,null,null,null,null,null,null,null,null,null,"~"]
["SA13",2018,"FS193",1011,12,"Communal land - farm property",null,null,null,null,null,null,null,null,null,null,null,null,null,null,null,null,"~"]
["SA13",2018,"FS193",1012,13,"Communal land - business and commercial",null,null,null,null,null,null,null,null,null,null,null,null,null,null,null,null,"~"]
["SA13",2018,"FS193",1013,14,"Communal land - other",null,null,null,null,null,null,null,null,null,null,null,null,null,null,null,null,"~"]
["SA13",2018,"FS193",1014,15,"State-owned properties",null,null,null,null,null,null,null,null,null,null,null,null,null,null,null,null,"~"]
["SA13",2018,"FS193",1015,16,"Municipal properties",null,null,null,null,null,null,null,null,null,null,null,null,null,null,null,null,"~"]
["SA13",2018,"FS193",1016,17,"Public service infrastructure",null,null,null,null,null,null,null,null,null,null,null,null,null,null,null,null,"~"]
["SA13",2018,"FS193",1017,18,"Privately owned towns serviced by the owner",null,null,null,null,null,null,null,null,null,null,null,null,null,null,null,null,"~"]
["SA13",2018,"FS193",1018,19,"State trust land",null,null,null,null,null,null,null,null,null,null,null,null,null,null,null,null,"~"]
["SA13",2018,"FS193",1019,20,"Restitution and redistribution properties",null,null,null,null,null,null,null,null,null,null,null,null,null,null,null,null,"~"]
["SA13",2018,"FS193",1020,21,"Protected areas",null,null,null,null,null,null,null,null,null,null,null,null,null,null,null,null,"~"]
["SA13",2018,"FS193",1021,22,"National monuments properties",null,null,null,null,null,null,null,null,null,null,null,null,null,null,null,null,"~"]
["SA13",2018,"FS193",null,null,null,null,null,null,null,null,null,null,null,null,null,null,null,null,null,null,null,"~"]
["SA13",2018,"FS193",1030,23,"Exemptions, reductions and rebates (Rands)",null,null,null,null,null,null,null,null,null,null,null,null,null,null,null,null,"~"]
["SA13",2018,"FS193",1031,24,"Residential properties",null,null,null,null,null,null,null,null,null,null,null,null,null,null,null,null,"~"]
["SA13",2018,"FS193",1032,25,"R15 000 threshhold rebate",null,null,null,null,null,null,null,null,null,null,null,null,null,null,null,null,"~"]
["SA13",2018,"FS193",1033,26,"General residential rebate",null,null,null,null,null,null,null,null,null,null,null,null,null,null,null,null,"~"]
["SA13",{"$f":"+MTREF","v":2018},{"$f":"LEFT(muni,(FIND(\" \",muni,1)-1))","v":"FS193"},1034,27,"Indigent rebate or exemption",null,null,null,null,null,null,null,null,null,null,null,null,null,null,null,null,"~"]
["SA13",2018,"FS193",1035,28,"Pensioners/social grants rebate or exemption ",null,null,null,null,null,null,null,null,null,null,null,null,null,null,null,null,"~"]
["SA13",2018,"FS193",1036,29,"Temporary relief rebate or exemption",null,null,null,null,null,null,null,null,null,null,null,null,null,null,null,null,"~"]
["SA13",2018,"FS193",1037,30," Bona fide farmers rebate or exemption",null,null,null,null,null,null,null,null,null,null,null,null,null,null,null,null,"~"]
["SA13",2018,"FS193",1038,31,"Other rebates or exemptions",null,null,null,null,null,null,null,null,null,null,null,null,null,null,null,null,"~"]
["SA13",2018,"FS193",null,null,null,null,null,null,null,null,null,null,null,null,null,null,null,null,null,null,null,"~"]
["SA13",2018,"FS193",1100,32,"Water tariffs",null,null,null,null,null,null,null,null,null,null,null,null,null,null,null,null,"~"]
["SA13",2018,"FS193",1101,33,"Domestic",null,null,null,null,null,null,null,null,null,null,null,null,null,null,null,null,"~"]
["SA13",2018,"FS193",1102,34,"Basic charge/fixed fee (Rands/month)",null,null,null,null,null,null,null,null,null,null,null,null,null,null,null,null,"~"]
["SA13",2018,"FS193",1103,35,"Service point - vacant land (Rands/month)",null,null,null,null,null,null,null,null,null,null,null,null,null,null,null,null,"~"]
["SA13",2018,"FS193",1104,36,"Water usage - flat rate tariff (c/kl)",null,null,null,null,null,null,null,null,null,null,null,null,null,null,null,null,"~"]
["SA13",2018,"FS193",1105,37,"Water usage - life line tariff",null,null,null,null,null,null,null,null,null,null,null,null,null,null,null,null,"~"]
["SA13",2018,"FS193",1106,38,"Water usage - Block 1 (c/kl)",null,null,null,null,null,null,null,null,null,null,null,null,null,null,null,null,"~"]
["SA13",2018,"FS193",1107,39,"Water usage - Block 2 (c/kl)",null,null,null,null,null,null,null,null,null,null,null,null,null,null,null,null,"~"]
["SA13",2018,"FS193",1108,40,"Water usage - Block 3 (c/kl)",null,null,null,null,null,null,null,null,null,null,null,null,null,null,null,null,"~"]
["SA13",2018,"FS193",1109,41,"Water usage - Block 4 (c/kl)",null,null,null,null,null,null,null,null,null,null,null,null,null,null,null,null,"~"]
["SA13",2018,"FS193",1110,42,"Other",null,null,null,null,null,null,null,null,null,null,null,null,null,null,null,null,"~"]
["SA13",2018,"FS193",null,null,null,null,null,null,null,null,null,null,null,null,null,null,null,null,null,null,null,"~"]
["SA13",2018,"FS193",1200,43,"Waste water tariffs",null,null,null,null,null,null,null,null,null,null,null,null,null,null,null,null,"~"]
["SA13",2018,"FS193",1201,44,"Domestic",null,null,null,null,null,null,null,null,null,null,null,null,null,null,null,null,"~"]
["SA13",2018,"FS193",1202,45,"Basic charge/fixed fee (Rands/month)",null,null,null,null,null,null,null,null,null,null,null,null,null,null,null,null,"~"]
["SA13",2018,"FS193",1203,46,"Service point - vacant land (Rands/month)",null,null,null,null,null,null,null,null,null,null,null,null,null,null,null,null,"~"]
["SA13",2018,"FS193",1204,47,"Waste water - flat rate tariff (c/kl)",null,null,null,null,null,null,null,null,null,null,null,null,null,null,null,null,"~"]
["SA13",2018,"FS193",1205,48,"Volumetric charge - Block 1 (c/kl)",null,null,null,null,null,null,null,null,null,null,null,null,null,null,null,null,"~"]
["SA13",2018,"FS193",1206,49,"Volumetric charge - Block 2 (c/kl)",null,null,null,null,null,null,null,null,null,null,null,null,null,null,null,null,"~"]
["SA13",2018,"FS193",1207,50,"Volumetric charge - Block 3 (c/kl)",null,null,null,null,null,null,null,null,null,null,null,null,null,null,null,null,"~"]
["SA13",2018,"FS193",1208,51,"Volumetric charge - Block 4 (c/kl)",null,null,null,null,null,null,null,null,null,null,null,null,null,null,null,null,"~"]
["SA13",2018,"FS193",1209,52,"Other",null,null,null,null,null,null,null,null,null,null,null,null,null,null,null,null,"~"]
["SA13",2018,"FS193",null,null,null,null,null,null,null,null,null,null,null,null,null,null,null,null,null,null,null,"~"]
["SA13",2018,"FS193",1300,53,"Electricity tariffs",null,null,null,null,null,null,null,null,null,null,null,null,null,null,null,null,"~"]
["SA13",2018,"FS193",1301,54,"Domestic",null,null,null,null,null,null,null,null,null,null,null,null,null,null,null,null,"~"]
["SA13",2018,"FS193",1302,55,"Basic charge/fixed fee (Rands/month)",null,null,null,null,null,null,null,null,null,null,null,null,null,null,null,null,"~"]
["SA13",2018,"FS193",1303,56,"Service point - vacant land (Rands/month)",null,null,null,null,null,null,null,null,null,null,null,null,null,null,null,null,"~"]
["SA13",2018,"FS193",1304,57,"FBE",null,null,null,null,null,null,null,null,null,null,null,null,null,null,null,null,"~"]
["SA13",2018,"FS193",1305,58,"Life-line tariff - meter",null,null,null,null,null,null,null,null,null,null,null,null,null,null,null,null,"~"]
["SA13",2018,"FS193",1306,59,"Life-line tariff - prepaid",null,null,null,null,null,null,null,null,null,null,null,null,null,null,null,null,"~"]
["SA13",2018,"FS193",1307,60,"Flat rate tariff - meter (c/kwh)",null,null,null,null,null,null,null,null,null,null,null,null,null,null,null,null,"~"]
["SA13",2018,"FS193",1308,61,"Flat rate tariff - prepaid(c/kwh)",null,null,null,null,null,null,null,null,null,null,null,null,null,null,null,null,"~"]
["SA13",2018,"FS193",1309,62,"Meter - IBT Block 1 (c/kwh)",null,null,null,null,null,null,null,null,null,null,null,null,null,null,null,null,"~"]
["SA13",2018,"FS193",1310,63,"Meter - IBT Block 2 (c/kwh)",null,null,null,null,null,null,null,null,null,null,null,null,null,null,null,null,"~"]
["SA13",2018,"FS193",1311,64,"Meter - IBT Block 3 (c/kwh)",null,null,null,null,null,null,null,null,null,null,null,null,null,null,null,null,"~"]
["SA13",2018,"FS193",1312,65,"Meter - IBT Block 4 (c/kwh)",null,null,null,null,null,null,null,null,null,null,null,null,null,null,null,null,"~"]
["SA13",2018,"FS193",1313,66,"Meter - IBT Block 5 (c/kwh)",null,null,null,null,null,null,null,null,null,null,null,null,null,null,null,null,"~"]
["SA13",2018,"FS193",1314,67,"Prepaid - IBT Block 1 (c/kwh)",null,null,null,null,null,null,null,null,null,null,null,null,null,null,null,null,"~"]
["SA13",2018,"FS193",1315,68,"Prepaid - IBT Block 2 (c/kwh)",null,null,null,null,null,null,null,null,null,null,null,null,null,null,null,null,"~"]
["SA13",2018,"FS193",1316,69,"Prepaid - IBT Block 3 (c/kwh)",null,null,null,null,null,null,null,null,null,null,null,null,null,null,null,null,"~"]
["SA13",2018,"FS193",1317,70,"Prepaid - IBT Block 4 (c/kwh)",null,null,null,null,null,null,null,null,null,null,null,null,null,null,null,null,"~"]
["SA13",2018,"FS193",1318,71,"Prepaid - IBT Block 5 (c/kwh)",null,null,null,null,null,null,null,null,null,null,null,null,null,null,null,null,"~"]
["SA13",2018,"FS193",1319,72,"Other",null,null,null,null,null,null,null,null,null,null,null,null,null,null,null,null,"~"]
["SA13",2018,"FS193",null,null,null,null,null,null,null,null,null,null,null,null,null,null,null,null,null,null,null,"~"]
["SA13",2018,"FS193",1400,73,"Waste management tariffs",null,null,null,null,null,null,null,null,null,null,null,null,null,null,null,null,"~"]
["SA13",2018,"FS193",1401,74,"Domestic",null,null,null,null,null,null,null,null,null,null,null,null,null,null,null,null,"~"]
["SA13",2018,"FS193",1402,75,"Street cleaning charge",null,null,null,null,null,null,null,null,null,null,null,null,null,null,null,null,"~"]
["SA13",2018,"FS193",1403,76,"Basic charge/fixed fee",null,null,null,null,null,null,null,null,null,null,null,null,null,null,null,null,"~"]
["SA13",2018,"FS193",1404,77,"80l bin - once a week",null,null,null,null,null,null,null,null,null,null,null,null,null,null,null,null,"~"]
["SA13",2018,"FS193",1405,78,"250l bin - once a week",null,null,null,null,null,null,null,null,null,null,null,null,null,null,null,null,"~"]
["SA14",2018,"FS193",1000,1,"Monthly Account for Household - 'Middle Income Range'",null,null,null,null,null,null,null,null,null,null,null,null,null,null,null,null,"~"]
["SA14",2018,"FS193",1001,2,"Rates and services charges:",null,null,null,null,null,null,null,null,null,null,null,null,null,null,null,null,"~"]
["SA14",2018,"FS193",1002,3,"Property rates",null,null,null,null,null,null,null,null,null,null,null,null,null,null,null,null,"~"]
["SA14",2018,"FS193",1003,4,"Electricity: Basic levy",null,null,null,null,null,null,null,null,null,null,null,null,null,null,null,null,"~"]
["SA14",2018,"FS193",1004,5,"Electricity: Consumption",null,null,null,null,null,null,null,null,null,null,null,null,null,null,null,null,"~"]
["SA14",2018,"FS193",1005,6,"Water: Basic levy",null,null,null,null,null,null,null,null,null,null,null,null,null,null,null,null,"~"]
["SA14",2018,"FS193",1006,7,"Water: Consumption",null,null,null,null,null,null,null,null,null,null,null,null,null,null,null,null,"~"]
["SA14",2018,"FS193",1007,8,"Sanitation",null,null,null,null,null,null,null,null,null,null,null,null,null,null,null,null,"~"]
["SA14",{"$f":"+MTREF","v":2018},{"$f":"LEFT(muni,(FIND(\" \",muni,1)-1))","v":"FS193"},1008,9,"Refuse removal",null,null,null,null,null,null,null,null,null,null,null,null,null,null,null,null,"~"]
["SA14",2018,"FS193",1009,10,"Other",null,null,null,null,null,null,null,null,null,null,null,null,null,null,null,null,"~"]
["SA14",2018,"FS193",1090,11,"sub-total",null,null,null,null,null,null,null,null,null,null,null,null,null,null,null,null,"~"]
["SA14",2018,"FS193",1091,12,"VAT on Services",null,null,null,null,null,null,null,null,null,null,null,null,null,null,null,null,"~"]
["SA14",2018,"FS193",1095,13,"Total large household bill:",null,null,null,null,null,null,null,null,null,null,null,null,null,null,null,null,"~"]
["SA14",2018,"FS193",1096,14,"% increase/-decrease",null,null,null,null,null,null,null,null,null,null,null,null,null,null,null,null,"~"]
["SA14",2018,"FS193",null,null,null,null,null,null,null,null,null,null,null,null,null,null,null,null,null,null,null,"~"]
["SA14",2018,"FS193",1100,15,"Monthly Account for Household - 'Affordable Range' ",null,null,null,null,null,null,null,null,null,null,null,null,null,null,null,null,"~"]
["SA14",2018,"FS193",1101,16,"Rates and services charges:",null,null,null,null,null,null,null,null,null,null,null,null,null,null,null,null,"~"]
["SA14",2018,"FS193",1102,17,"Property rates",null,null,null,null,null,null,null,null,null,null,null,null,null,null,null,null,"~"]
["SA14",2018,"FS193",1103,18,"Electricity: Basic levy",null,null,null,null,null,null,null,null,null,null,null,null,null,null,null,null,"~"]
["SA14",2018,"FS193",1110,19,"Electricity: Consumption",null,null,null,null,null,null,null,null,null,null,null,null,null,null,null,null,"~"]
["SA14",2018,"FS193",1107,20,"Water: Basic levy",null,null,null,null,null,null,null,null,null,null,null,null,null,null,null,null,"~"]
["SA14",2018,"FS193",1104,21,"Water: Consumption",null,null,null,null,null,null,null,null,null,null,null,null,null,null,null,null,"~"]
["SA14",2018,"FS193",1105,22,"Sanitation",null,null,null,null,null,null,null,null,null,null,null,null,null,null,null,null,"~"]
["SA14",2018,"FS193",1106,23,"Refuse removal",null,null,null,null,null,null,null,null,null,null,null,null,null,null,null,null,"~"]
["SA14",2018,"FS193",1108,24,"Other",null,null,null,null,null,null,null,null,null,null,null,null,null,null,null,null,"~"]
["SA14",2018,"FS193",1190,25,"sub-total",null,null,null,null,null,null,null,null,null,null,null,null,null,null,null,null,"~"]
["SA14",2018,"FS193",1191,26,"VAT on Services",null,null,null,null,null,null,null,null,null,null,null,null,null,null,null,null,"~"]
["SA14",2018,"FS193",1195,27,"Total small household bill:",null,null,null,null,null,null,null,null,null,null,null,null,null,null,null,null,"~"]
["SA14",2018,"FS193",1196,28,"% increase/-decrease",null,null,null,null,null,null,null,null,null,null,null,null,null,null,null,null,"~"]
["SA14",2018,"FS193",null,null,null,null,null,null,null,null,null,null,null,null,null,null,null,null,null,null,null,"~"]
["SA14",2018,"FS193",1200,29,"Monthly Account for Household - 'Indigent' HH receiving FBS",null,null,null,null,null,null,null,null,null,null,null,null,null,null,null,null,"~"]
["SA14",2018,"FS193",1201,30,"Rates and services charges:",null,null,null,null,null,null,null,null,null,null,null,null,null,null,null,null,"~"]
["SA14",2018,"FS193",1202,31,"Property rates",null,null,null,null,null,null,null,null,null,null,null,null,null,null,null,null,"~"]
["SA14",2018,"FS193",1203,32,"Electricity: Basic levy",null,null,null,null,null,null,null,null,null,null,null,null,null,null,null,null,"~"]
["SA14",2018,"FS193",1207,33,"Electricity: Consumption",null,null,null,null,null,null,null,null,null,null,null,null,null,null,null,null,"~"]
["SA14",2018,"FS193",1208,34,"Water: Basic levy",null,null,null,null,null,null,null,null,null,null,null,null,null,null,null,null,"~"]
["SA14",2018,"FS193",1204,35,"Water: Consumption",null,null,null,null,null,null,null,null,null,null,null,null,null,null,null,null,"~"]
["SA14",2018,"FS193",1205,36,"Sanitation",null,null,null,null,null,null,null,null,null,null,null,null,null,null,null,null,"~"]
["SA14",2018,"FS193",1206,37,"Refuse removal",null,null,null,null,null,null,null,null,null,null,null,null,null,null,null,null,"~"]
["SA14",2018,"FS193",1209,38,"Other",null,null,null,null,null,null,null,null,null,null,null,null,null,null,null,null,"~"]
["SA14",2018,"FS193",1290,39,"sub-total",null,null,null,null,null,null,null,null,null,null,null,null,null,null,null,null,"~"]
["SA14",2018,"FS193",1291,40,"VAT on Services",null,null,null,null,null,null,null,null,null,null,null,null,null,null,null,null,"~"]
["SA14",2018,"FS193",1295,41,"Total small household bill:",null,null,null,null,null,null,null,null,null,null,null,null,null,null,null,null,"~"]
["SA14",2018,"FS193",1296,42,"% increase/-decrease",null,null,null,null,null,null,null,null,null,null,null,null,null,null,null,null,"~"]
["SA22",2018,"FS193",1000,1,"Councillors (Political Office Bearers plus Other)",null,null,null,null,null,null,null,null,null,null,null,null,null,null,null,null,"~"]
["SA22",2018,"FS193",1001,2,"Basic Salaries and Wages",null,null,null,null,null,null,null,null,null,null,null,null,null,null,null,null,"~"]
["SA22",2018,"FS193",1002,3,"Pension and UIF Contributions",null,null,null,null,null,null,null,null,null,null,null,null,null,null,null,null,"~"]
["SA22",2018,"FS193",1003,4,"Medical Aid Contributions",null,null,null,null,null,null,null,null,null,null,null,null,null,null,null,null,"~"]
["SA22",2018,"FS193",1004,5,"Motor Vehicle Allowance",null,null,null,null,null,null,null,null,null,null,null,null,null,null,null,null,"~"]
["SA22",2018,"FS193",1005,6,"Cellphone Allowance",null,null,null,null,null,null,null,null,null,null,null,null,null,null,null,null,"~"]
["SA22",2018,"FS193",1006,7,"Housing Allowances",null,null,null,null,null,null,null,null,null,null,null,null,null,null,null,null,"~"]
["SA22",2018,"FS193",1007,8,"Other benefits and allowances",null,null,null,null,null,null,null,null,null,null,null,null,null,null,null,null,"~"]
["SA22",2018,"FS193",1090,9,"Sub Total - Councillors",null,null,null,null,null,null,null,null,null,null,null,null,null,null,null,null,"~"]
["SA22",2018,"FS193",1091,10,"% increase",null,null,null,null,null,null,null,null,null,null,null,null,null,null,null,null,"~"]
["SA22",2018,"FS193",null,null,null,null,null,null,null,null,null,null,null,null,null,null,null,null,null,null,null,"~"]
["SA22",2018,"FS193",1100,11,"Senior Managers of the Municipality",null,null,null,null,null,null,null,null,null,null,null,null,null,null,null,null,"~"]
["SA22",2018,"FS193",1101,12,"Basic Salaries and Wages",null,null,null,null,null,null,null,null,null,null,null,null,null,null,null,null,"~"]
["SA22",2018,"FS193",1102,13,"Pension and UIF Contributions",null,null,null,null,null,null,null,null,null,null,null,null,null,null,null,null,"~"]
["SA22",2018,"FS193",1103,14,"Medical Aid Contributions",null,null,null,null,null,null,null,null,null,null,null,null,null,null,null,null,"~"]
["SA22",2018,"FS193",1110,15,"Overtime",null,null,null,null,null,null,null,null,null,null,null,null,null,null,null,null,"~"]
["SA22",2018,"FS193",1107,16,"Performance Bonus",null,null,null,null,null,null,null,null,null,null,null,null,null,null,null,null,"~"]
["SA22",2018,"FS193",1104,17,"Motor Vehicle Allowance",null,null,null,null,null,null,null,null,null,null,null,null,null,null,null,null,"~"]
["SA22",2018,"FS193",1105,18,"Cellphone Allowance",null,null,null,null,null,null,null,null,null,null,null,null,null,null,null,null,"~"]
["SA22",2018,"FS193",1106,19,"Housing Allowances",null,null,null,null,null,null,null,null,null,null,null,null,null,null,null,null,"~"]
["SA22",2018,"FS193",1108,20,"Other benefits and allowances",null,null,null,null,null,null,null,null,null,null,null,null,null,null,null,null,"~"]
["SA22",2018,"FS193",1111,21,"Payments in lieu of leave",null,null,null,null,null,null,null,null,null,null,null,null,null,null,null,null,"~"]
["SA22",2018,"FS193",1112,22,"Long service awards",null,null,null,null,null,null,null,null,null,null,null,null,null,null,null,null,"~"]
["SA22",2018,"FS193",1113,23,"Post-retirement benefit obligations",null,null,null,null,null,null,null,null,null,null,null,null,null,null,null,null,"~"]
["SA22",2018,"FS193",1190,24,"Sub Total - Senior Managers of Municipality",null,null,null,null,null,null,null,null,null,null,null,null,null,null,null,null,"~"]
["SA22",2018,"FS193",1191,25,"% increase",null,null,null,null,null,null,null,null,null,null,null,null,null,null,null,null,"~"]
["SA22",2018,"FS193",null,null,null,null,null,null,null,null,null,null,null,null,null,null,null,null,null,null,null,"~"]
["SA22",2018,"FS193",1200,26,"Other Municipal Staff",null,null,null,null,null,null,null,null,null,null,null,null,null,null,null,null,"~"]
["SA22",{"$f":"+MTREF","v":2018},{"$f":"LEFT(muni,(FIND(\" \",muni,1)-1))","v":"FS193"},1201,27,"Basic Salaries and Wages",null,null,null,null,null,null,null,null,null,null,null,null,null,null,null,null,"~"]
["SA22",2018,"FS193",1202,28,"Pension and UIF Contributions",null,null,null,null,null,null,null,null,null,null,null,null,null,null,null,null,"~"]
["SA22",2018,"FS193",1203,29,"Medical Aid Contributions",null,null,null,null,null,null,null,null,null,null,null,null,null,null,null,null,"~"]
["SA22",2018,"FS193",1207,30,"Overtime",null,null,null,null,null,null,null,null,null,null,null,null,null,null,null,null,"~"]
["SA22",2018,"FS193",1208,31,"Performance Bonus",null,null,null,null,null,null,null,null,null,null,null,null,null,null,null,null,"~"]
["SA22",2018,"FS193",1204,32,"Motor Vehicle Allowance",null,null,null,null,null,null,null,null,null,null,null,null,null,null,null,null,"~"]
["SA22",2018,"FS193",1205,33,"Cellphone Allowance",null,null,null,null,null,null,null,null,null,null,null,null,null,null,null,null,"~"]
["SA22",2018,"FS193",1206,34,"Housing Allowances",null,null,null,null,null,null,null,null,null,null,null,null,null,null,null,null,"~"]
["SA22",2018,"FS193",1209,35,"Other benefits and allowances",null,null,null,null,null,null,null,null,null,null,null,null,null,null,null,null,"~"]
["SA22",2018,"FS193",1211,36,"Payments in lieu of leave",null,null,null,null,null,null,null,null,null,null,null,null,null,null,null,null,"~"]
["SA22",2018,"FS193",1212,37,"Long service awards",null,null,null,null,null,null,null,null,null,null,null,null,null,null,null,null,"~"]
["SA22",2018,"FS193",1213,38,"Post-retirement benefit obligations",null,null,null,null,null,null,null,null,null,null,null,null,null,null,null,null,"~"]
["SA22",2018,"FS193",1290,39,"Sub Total - Other Municipal Staff",null,null,null,null,null,null,null,null,null,null,null,null,null,null,null,null,"~"]
["SA22",2018,"FS193",1291,40,"% increase",null,null,null,null,null,null,null,null,null,null,null,null,null,null,null,null,"~"]
["SA22",2018,"FS193",null,null,null,null,null,null,null,null,null,null,null,null,null,null,null,null,null,null,null,"~"]
["SA22",2018,"FS193",1295,41,"Total Parent Municipality",null,null,null,null,null,null,null,null,null,null,null,null,null,null,null,null,"~"]
["SA22",2018,"FS193",1297,42,"% increase",null,null,null,null,null,null,null,null,null,null,null,null,null,null,null,null,"~"]
["SA22",2018,"FS193",null,null,null,null,null,null,null,null,null,null,null,null,null,null,null,null,null,null,null,"~"]
["SA22",2018,"FS193",2000,43,"Board Members of Entities",null,null,null,null,null,null,null,null,null,null,null,null,null,null,null,null,"~"]
["SA22",2018,"FS193",2001,44,"Basic Salaries and Wages",null,null,null,null,null,null,null,null,null,null,null,null,null,null,null,null,"~"]
["SA22",2018,"FS193",2002,45,"Pension and UIF Contributions",null,null,null,null,null,null,null,null,null,null,null,null,null,null,null,null,"~"]
["SA22",2018,"FS193",2003,46,"Medical Aid Contributions",null,null,null,null,null,null,null,null,null,null,null,null,null,null,null,null,"~"]
["SA22",2018,"FS193",2010,47,"Overtime",null,null,null,null,null,null,null,null,null,null,null,null,null,null,null,null,"~"]
["SA22",2018,"FS193",2011,48,"Performance Bonus",null,null,null,null,null,null,null,null,null,null,null,null,null,null,null,null,"~"]
["SA22",2018,"FS193",2004,49,"Motor Vehicle Allowance",null,null,null,null,null,null,null,null,null,null,null,null,null,null,null,null,"~"]
["SA22",2018,"FS193",2005,50,"Cellphone Allowance",null,null,null,null,null,null,null,null,null,null,null,null,null,null,null,null,"~"]
["SA22",2018,"FS193",2006,51,"Housing Allowances",null,null,null,null,null,null,null,null,null,null,null,null,null,null,null,null,"~"]
["SA22",2018,"FS193",2008,52,"Other benefits and allowances",null,null,null,null,null,null,null,null,null,null,null,null,null,null,null,null,"~"]
["SA22",2018,"FS193",2007,53,"Board Fees",null,null,null,null,null,null,null,null,null,null,null,null,null,null,null,null,"~"]
["SA22",2018,"FS193",2012,54,"Payments in lieu of leave",null,null,null,null,null,null,null,null,null,null,null,null,null,null,null,null,"~"]
["SA22",2018,"FS193",2013,55,"Long service awards",null,null,null,null,null,null,null,null,null,null,null,null,null,null,null,null,"~"]
["SA22",2018,"FS193",2014,56,"Post-retirement benefit obligations",null,null,null,null,null,null,null,null,null,null,null,null,null,null,null,null,"~"]
["SA22",2018,"FS193",2090,57,"Sub Total - Board Members of Entities",null,null,null,null,null,null,null,null,null,null,null,null,null,null,null,null,"~"]
["SA22",2018,"FS193",2091,58,"% increase",null,null,null,null,null,null,null,null,null,null,null,null,null,null,null,null,"~"]
["SA22",2018,"FS193",null,null,null,null,null,null,null,null,null,null,null,null,null,null,null,null,null,null,null,"~"]
["SA22",2018,"FS193",2100,59,"Senior Managers of Entities",null,null,null,null,null,null,null,null,null,null,null,null,null,null,null,null,"~"]
["SA22",2018,"FS193",2101,60,"Basic Salaries and Wages",null,null,null,null,null,null,null,null,null,null,null,null,null,null,null,null,"~"]
["SA22",2018,"FS193",2102,61,"Pension and UIF Contributions",null,null,null,null,null,null,null,null,null,null,null,null,null,null,null,null,"~"]
["SA22",2018,"FS193",2103,62,"Medical Aid Contributions",null,null,null,null,null,null,null,null,null,null,null,null,null,null,null,null,"~"]
["SA22",2018,"FS193",2110,63,"Overtime",null,null,null,null,null,null,null,null,null,null,null,null,null,null,null,null,"~"]
["SA22",2018,"FS193",2107,64,"Performance Bonus",null,null,null,null,null,null,null,null,null,null,null,null,null,null,null,null,"~"]
["SA22",2018,"FS193",2104,65,"Motor Vehicle Allowance",null,null,null,null,null,null,null,null,null,null,null,null,null,null,null,null,"~"]
["SA22",2018,"FS193",2105,66,"Cellphone Allowance",null,null,null,null,null,null,null,null,null,null,null,null,null,null,null,null,"~"]
["SA22",2018,"FS193",2106,67,"Housing Allowances",null,null,null,null,null,null,null,null,null,null,null,null,null,null,null,null,"~"]
["SA22",2018,"FS193",2108,68,"Other benefits and allowances",null,null,null,null,null,null,null,null,null,null,null,null,null,null,null,null,"~"]
["SA22",2018,"FS193",2111,69,"Payments in lieu of leave",null,null,null,null,null,null,null,null,null,null,null,null,null,null,null,null,"~"]
["SA22",2018,"FS193",2112,70,"Long service awards",null,null,null,null,null,null,null,null,null,null,null,null,null,null,null,null,"~"]
["SA22",2018,"FS193",2113,71,"Post-retirement benefit obligations",null,null,null,null,null,null,null,null,null,null,null,null,null,null,null,null,"~"]
["SA22",2018,"FS193",2190,72,"Sub Total - Senior Managers of Entities",null,null,null,null,null,null,null,null,null,null,null,null,null,null,null,null,"~"]
["SA22",2018,"FS193",2191,73,"% increase",null,null,null,null,null,null,null,null,null,null,null,null,null,null,null,null,"~"]
["SA22",2018,"FS193",null,null,null,null,null,null,null,null,null,null,null,null,null,null,null,null,null,null,null,"~"]
["SA22",2018,"FS193",2200,74,"Other Staff of Entities",null,null,null,null,null,null,null,null,null,null,null,null,null,null,null,null,"~"]
["SA22",2018,"FS193",2201,75,"Basic Salaries and Wages",null,null,null,null,null,null,null,null,null,null,null,null,null,null,null,null,"~"]
["SA22",2018,"FS193",2202,76,"Pension and UIF Contributions",null,null,null,null,null,null,null,null,null,null,null,null,null,null,null,null,"~"]
["SA22",2018,"FS193",2203,77,"Medical Aid Contributions",null,null,null,null,null,null,null,null,null,null,null,null,null,null,null,null,"~"]
["SA22",2018,"FS193",2207,78,"Overtime",null,null,null,null,null,null,null,null,null,null,null,null,null,null,null,null,"~"]
["SA22",2018,"FS193",2208,79,"Performance Bonus",null,null,null,null,null,null,null,null,null,null,null,null,null,null,null,null,"~"]
["SA22",2018,"FS193",2204,80,"Motor Vehicle Allowance",null,null,null,null,null,null,null,null,null,null,null,null,null,null,null,null,"~"]
["SA22",2018,"FS193",2205,81,"Cellphone Allowance",null,null,null,null,null,null,null,null,null,null,null,null,null,null,null,null,"~"]
["SA22",2018,"FS193",2206,82,"Housing Allowances",null,null,null,null,null,null,null,null,null,null,null,null,null,null,null,null,"~"]
["SA22",2018,"FS193",2209,83,"Other benefits and allowances",null,null,null,null,null,null,null,null,null,null,null,null,null,null,null,null,"~"]
["SA22",2018,"FS193",2211,84,"Payments in lieu of leave",null,null,null,null,null,null,null,null,null,null,null,null,null,null,null,null,"~"]
["SA22",2018,"FS193",2212,85,"Long service awards",null,null,null,null,null,null,null,null,null,null,null,null,null,null,null,null,"~"]
["SA22",2018,"FS193",2213,86,"Post-retirement benefit obligations",null,null,null,null,null,null,null,null,null,null,null,null,null,null,null,null,"~"]
["SA22",{"$f":"+MTREF","v":2018},{"$f":"LEFT(muni,(FIND(\" \",muni,1)-1))","v":"FS193"},2290,87,"Sub Total - Other Staff of Entities",null,null,null,null,null,null,null,null,null,null,null,null,null,null,null,null,"~"]
["SA22",2018,"FS193",2291,89,"% increase",null,null,null,null,null,null,null,null,null,null,null,null,null,null,null,null,"~"]
["SA22",2018,"FS193",null,null,null,null,null,null,null,null,null,null,null,null,null,null,null,null,null,null,null,"~"]
["SA22",2018,"FS193",2295,90,"Total Municipal Entities",null,null,null,null,null,null,null,null,null,null,null,null,null,null,null,null,"~"]
["SA22",2018,"FS193",null,null,null,null,null,null,null,null,null,null,null,null,null,null,null,null,null,null,null,"~"]
["SA22",2018,"FS193",2296,91,"TOTAL SALARY, ALLOWANCES & BENEFITS",null,null,null,null,null,null,null,null,null,null,null,null,null,null,null,null,"~"]
["SA22",2018,"FS193",2297,92,"% increase",null,null,null,null,null,null,null,null,null,null,null,null,null,null,null,null,"~"]
["SA22",2018,"FS193",2298,93,"TOTAL MANAGERS AND STAFF",null,null,null,null,null,null,null,null,null,null,null,null,null,null,null,null,"~"]
["SA23",2018,"FS193",1000,1,null,null,null,null,null,null,null,null,null,null,null,null,null,null,null,null,null,"~"]
["SA23",2018,"FS193",1001,2,null,null,null,null,null,null,null,null,null,null,null,null,null,null,null,null,null,"~"]
["SA23",2018,"FS193",1002,3,null,null,null,null,null,null,null,null,null,null,null,null,null,null,null,null,null,"~"]
["SA23",2018,"FS193",1003,4,null,null,null,null,null,null,null,null,null,null,null,null,null,null,null,null,null,"~"]
["SA23",2018,"FS193",1004,5,null,null,null,null,null,null,null,null,null,null,null,null,null,null,null,null,null,"~"]
["SA23",2018,"FS193",1005,6,null,null,null,null,null,null,null,null,null,null,null,null,null,null,null,null,null,"~"]
["SA23",2018,"FS193",1006,7,null,null,null,null,null,null,null,null,null,null,null,null,null,null,null,null,null,"~"]
["SA23",2018,"FS193",1090,8,null,null,null,null,null,null,null,null,null,null,null,null,null,null,null,null,null,"~"]
["SA23",2018,"FS193",null,null,null,null,null,null,null,null,null,null,null,null,null,null,null,null,null,null,null,"~"]
["SA23",2018,"FS193",null,null,null,null,null,null,null,null,null,null,null,null,null,null,null,null,null,null,null,"~"]
["SA23",2018,"FS193",null,null,null,null,null,null,null,null,null,null,null,null,null,null,null,null,null,null,null,"~"]
["SA23",2018,"FS193",null,null,null,null,null,null,null,null,null,null,null,null,null,null,null,null,null,null,null,"~"]
["SA23",2018,"FS193",null,null,null,null,null,null,null,null,null,null,null,null,null,null,null,null,null,null,null,"~"]
["SA23",2018,"FS193",null,null,null,null,null,null,null,null,null,null,null,null,null,null,null,null,null,null,null,"~"]
["SA23",2018,"FS193",null,null,null,null,null,null,null,null,null,null,null,null,null,null,null,null,null,null,null,"~"]
["SA23",2018,"FS193",null,null,null,null,null,null,null,null,null,null,null,null,null,null,null,null,null,null,null,"~"]
["SA23",2018,"FS193",null,null,null,null,null,null,null,null,null,null,null,null,null,null,null,null,null,null,null,"~"]
["SA23",2018,"FS193",null,null,null,null,null,null,null,null,null,null,null,null,null,null,null,null,null,null,null,"~"]
["SA23",2018,"FS193",null,null,null,null,null,null,null,null,null,null,null,null,null,null,null,null,null,null,null,"~"]
["SA23",2018,"FS193",null,null,null,null,null,null,null,null,null,null,null,null,null,null,null,null,null,null,null,"~"]
["SA23",2018,"FS193",null,null,null,null,null,null,null,null,null,null,null,null,null,null,null,null,null,null,null,"~"]
["SA23",2018,"FS193",null,null,null,null,null,null,null,null,null,null,null,null,null,null,null,null,null,null,null,"~"]
["SA23",2018,"FS193",null,null,null,null,null,null,null,null,null,null,null,null,null,null,null,null,null,null,null,"~"]
["SA23",2018,"FS193",null,null,null,null,null,null,null,null,null,null,null,null,null,null,null,null,null,null,null,"~"]
["SA23",2018,"FS193",null,null,null,null,null,null,null,null,null,null,null,null,null,null,null,null,null,null,null,"~"]
["SA23",2018,"FS193",null,null,null,null,null,null,null,null,null,null,null,null,null,null,null,null,null,null,null,"~"]
["SA23",2018,"FS193",null,null,null,null,null,null,null,null,null,null,null,null,null,null,null,null,null,null,null,"~"]
["SA23",2018,"FS193",null,null,null,null,null,null,null,null,null,null,null,null,null,null,null,null,null,null,null,"~"]
["SA23",2018,"FS193",null,null,null,null,null,null,null,null,null,null,null,null,null,null,null,null,null,null,null,"~"]
["SA23",2018,"FS193",null,null,null,null,null,null,null,null,null,null,null,null,null,null,null,null,null,null,null,"~"]
["SA23",2018,"FS193",null,null,null,null,null,null,null,null,null,null,null,null,null,null,null,null,null,null,null,"~"]
["SA23",2018,"FS193",null,null,null,null,null,null,null,null,null,null,null,null,null,null,null,null,null,null,null,"~"]
["SA23",2018,"FS193",null,null,null,null,null,null,null,null,null,null,null,null,null,null,null,null,null,null,null,"~"]
["SA23",2018,"FS193",null,null,null,null,null,null,null,null,null,null,null,null,null,null,null,null,null,null,null,"~"]
["SA23",2018,"FS193",null,null,null,null,null,null,null,null,null,null,null,null,null,null,null,null,null,null,null,"~"]
["SA23",2018,"FS193",null,null,null,null,null,null,null,null,null,null,null,null,null,null,null,null,null,null,null,"~"]
["SA23",2018,"FS193",null,null,null,null,null,null,null,null,null,null,null,null,null,null,null,null,null,null,null,"~"]
["SA23",2018,"FS193",null,null,null,null,null,null,null,null,null,null,null,null,null,null,null,null,null,null,null,"~"]
["SA23",2018,"FS193",null,null,null,null,null,null,null,null,null,null,null,null,null,null,null,null,null,null,null,"~"]
["SA23",2018,"FS193",null,null,null,null,null,null,null,null,null,null,null,null,null,null,null,null,null,null,null,"~"]
["SA23",2018,"FS193",null,null,null,null,null,null,null,null,null,null,null,null,null,null,null,null,null,null,null,"~"]
["SA23",2018,"FS193",null,null,null,null,null,null,null,null,null,null,null,null,null,null,null,null,null,null,null,"~"]
["SA23",2018,"FS193",null,null,null,null,null,null,null,null,null,null,null,null,null,null,null,null,null,null,null,"~"]
["SA23",2018,"FS193",null,null,null,null,null,null,null,null,null,null,null,null,null,null,null,null,null,null,null,"~"]
["SA23",2018,"FS193",null,null,null,null,null,null,null,null,null,null,null,null,null,null,null,null,null,null,null,"~"]
["SA23",2018,"FS193",null,null,null,null,null,null,null,null,null,null,null,null,null,null,null,null,null,null,null,"~"]
["SA23",2018,"FS193",null,null,null,null,null,null,null,null,null,null,null,null,null,null,null,null,null,null,null,"~"]
["SA23",2018,"FS193",null,null,null,null,null,null,null,null,null,null,null,null,null,null,null,null,null,null,null,"~"]
["SA23",2018,"FS193",null,null,null,null,null,null,null,null,null,null,null,null,null,null,null,null,null,null,null,"~"]
["SA23",2018,"FS193",null,null,null,null,null,null,null,null,null,null,null,null,null,null,null,null,null,null,null,"~"]
["SA23",2018,"FS193",null,null,null,null,null,null,null,null,null,null,null,null,null,null,null,null,null,null,null,"~"]
["SA23",2018,"FS193",null,null,null,null,null,null,null,null,null,null,null,null,null,null,null,null,null,null,null,"~"]
["SA23",2018,"FS193",null,null,null,null,null,null,null,null,null,null,null,null,null,null,null,null,null,null,null,"~"]
["SA23",2018,"FS193",null,null,null,null,null,null,null,null,null,null,null,null,null,null,null,null,null,null,null,"~"]
["SA23",2018,"FS193",null,null,null,null,null,null,null,null,null,null,null,null,null,null,null,null,null,null,null,"~"]
["SA23",2018,"FS193",null,null,null,null,null,null,null,null,null,null,null,null,null,null,null,null,null,null,null,"~"]
["SA23",{"$f":"+MTREF","v":2018},{"$f":"LEFT(muni,(FIND(\" \",muni,1)-1))","v":"FS193"},null,null,null,null,null,null,null,null,null,null,null,null,null,null,null,null,null,null,null,"~"]
["SA23",2018,"FS193",null,null,null,null,null,null,null,null,null,null,null,null,null,null,null,null,null,null,null,"~"]
["SA23",2018,"FS193",null,null,null,null,null,null,null,null,null,null,null,null,null,null,null,null,null,null,null,"~"]
["SA23",2018,"FS193",null,null,null,null,null,null,null,null,null,null,null,null,null,null,null,null,null,null,null,"~"]
["SA23",2018,"FS193",null,null,null,null,null,null,null,null,null,null,null,null,null,null,null,null,null,null,null,"~"]
["SA23",2018,"FS193",null,null,null,null,null,null,null,null,null,null,null,null,null,null,null,null,null,null,null,"~"]
["SA23",2018,"FS193",null,null,null,null,null,null,null,null,null,null,null,null,null,null,null,null,null,null,null,"~"]
["SA23",2018,"FS193",null,null,null,null,null,null,null,null,null,null,null,null,null,null,null,null,null,null,null,"~"]
["SA23",2018,"FS193",null,null,null,null,null,null,null,null,null,null,null,null,null,null,null,null,null,null,null,"~"]
["SA23",2018,"FS193",null,null,null,null,null,null,null,null,null,null,null,null,null,null,null,null,null,null,null,"~"]
["SA23",2018,"FS193",null,null,null,null,null,null,null,null,null,null,null,null,null,null,null,null,null,null,null,"~"]
["SA23",2018,"FS193",null,null,null,null,null,null,null,null,null,null,null,null,null,null,null,null,null,null,null,"~"]
["SA23",2018,"FS193",null,null,null,null,null,null,null,null,null,null,null,null,null,null,null,null,null,null,null,"~"]
["SA23",2018,"FS193",null,null,null,null,null,null,null,null,null,null,null,null,null,null,null,null,null,null,null,"~"]
["SA23",2018,"FS193",null,null,null,null,null,null,null,null,null,null,null,null,null,null,null,null,null,null,null,"~"]
["SA23",2018,"FS193",null,null,null,null,null,null,null,null,null,null,null,null,null,null,null,null,null,null,null,"~"]
["SA23",2018,"FS193",null,null,null,null,null,null,null,null,null,null,null,null,null,null,null,null,null,null,null,"~"]
["SA23",2018,"FS193",null,null,null,null,null,null,null,null,null,null,null,null,null,null,null,null,null,null,null,"~"]
["SA23",2018,"FS193",null,null,null,null,null,null,null,null,null,null,null,null,null,null,null,null,null,null,null,"~"]
["SA23",2018,"FS193",null,null,null,null,null,null,null,null,null,null,null,null,null,null,null,null,null,null,null,"~"]
["SA23",2018,"FS193",null,null,null,null,null,null,null,null,null,null,null,null,null,null,null,null,null,null,null,"~"]
["SA23",2018,"FS193",null,null,null,null,null,null,null,null,null,null,null,null,null,null,null,null,null,null,null,"~"]
["SA23",2018,"FS193",null,null,null,null,null,null,null,null,null,null,null,null,null,null,null,null,null,null,null,"~"]
["SA23",2018,"FS193",null,null,null,null,null,null,null,null,null,null,null,null,null,null,null,null,null,null,null,"~"]
["SA23",2018,"FS193",null,null,null,null,null,null,null,null,null,null,null,null,null,null,null,null,null,null,null,"~"]
["SA23",2018,"FS193",null,null,null,null,null,null,null,null,null,null,null,null,null,null,null,null,null,null,null,"~"]
["SA23",2018,"FS193",null,null,null,null,null,null,null,null,null,null,null,null,null,null,null,null,null,null,null,"~"]
["SA23",2018,"FS193",null,null,null,null,null,null,null,null,null,null,null,null,null,null,null,null,null,null,null,"~"]
["SA23",2018,"FS193",null,null,null,null,null,null,null,null,null,null,null,null,null,null,null,null,null,null,null,"~"]
["SA23",2018,"FS193",null,null,null,null,null,null,null,null,null,null,null,null,null,null,null,null,null,null,null,"~"]
["SA23",2018,"FS193",null,null,null,null,null,null,null,null,null,null,null,null,null,null,null,null,null,null,null,"~"]
["SA23",2018,"FS193",null,null,null,null,null,null,null,null,null,null,null,null,null,null,null,null,null,null,null,"~"]
["SA23",2018,"FS193",null,null,null,null,null,null,null,null,null,null,null,null,null,null,null,null,null,null,null,"~"]
["SA23",2018,"FS193",null,null,null,null,null,null,null,null,null,null,null,null,null,null,null,null,null,null,null,"~"]
["SA23",2018,"FS193",null,null,null,null,null,null,null,null,null,null,null,null,null,null,null,null,null,null,null,"~"]
["SA23",2018,"FS193",null,null,null,null,null,null,null,null,null,null,null,null,null,null,null,null,null,null,null,"~"]
["SA23",2018,"FS193",null,null,null,null,null,null,null,null,null,null,null,null,null,null,null,null,null,null,null,"~"]
["SA23",2018,"FS193",null,null,null,null,null,null,null,null,null,null,null,null,null,null,null,null,null,null,null,"~"]
["SA23",2018,"FS193",null,null,null,null,null,null,null,null,null,null,null,null,null,null,null,null,null,null,null,"~"]
["SA23",2018,"FS193",null,null,null,null,null,null,null,null,null,null,null,null,null,null,null,null,null,null,null,"~"]
["SA23",2018,"FS193",null,null,null,null,null,null,null,null,null,null,null,null,null,null,null,null,null,null,null,"~"]
["SA23",2018,"FS193",null,null,null,null,null,null,null,null,null,null,null,null,null,null,null,null,null,null,null,"~"]
["SA23",2018,"FS193",null,null,null,null,null,null,null,null,null,null,null,null,null,null,null,null,null,null,null,"~"]
["SA24",2018,"FS193",1000,1,"Municipal Council and Boards of Municipal Entities",null,null,null,null,null,null,null,null,null,null,null,null,null,null,null,null,"~"]
["SA24",2018,"FS193",1001,2,"Councillors (Political Office Bearers and Other Councillors)",null,null,null,null,null,null,null,null,null,null,null,null,null,null,null,null,"~"]
["SA24",2018,"FS193",1002,3,"Board Members of municipal entities",null,null,null,null,null,null,null,null,null,null,null,null,null,null,null,null,"~"]
["SA24",2018,"FS193",1100,4,"Municipal employees",null,null,null,null,null,null,null,null,null,null,null,null,null,null,null,null,"~"]
["SA24",2018,"FS193",1101,5,"Municipal Manager and Senior Managers",null,null,null,null,null,null,null,null,null,null,null,null,null,null,null,null,"~"]
["SA24",2018,"FS193",1102,6,"Other Managers",null,null,null,null,null,null,null,null,null,null,null,null,null,null,null,null,"~"]
["SA24",2018,"FS193",1103,7,"Professionals",null,null,null,null,null,null,null,null,null,null,null,null,null,null,null,null,"~"]
["SA24",2018,"FS193",1104,8,"Finance",null,null,null,null,null,null,null,null,null,null,null,null,null,null,null,null,"~"]
["SA24",2018,"FS193",1105,9,"Spatial/town planning",null,null,null,null,null,null,null,null,null,null,null,null,null,null,null,null,"~"]
["SA24",2018,"FS193",1106,10,"Information Technology",null,null,null,null,null,null,null,null,null,null,null,null,null,null,null,null,"~"]
["SA24",2018,"FS193",1107,11,"Roads",null,null,null,null,null,null,null,null,null,null,null,null,null,null,null,null,"~"]
["SA24",2018,"FS193",1108,12,"Electricity",null,null,null,null,null,null,null,null,null,null,null,null,null,null,null,null,"~"]
["SA24",2018,"FS193",1109,13,"Water",null,null,null,null,null,null,null,null,null,null,null,null,null,null,null,null,"~"]
["SA24",2018,"FS193",1110,14,"Sanitation",null,null,null,null,null,null,null,null,null,null,null,null,null,null,null,null,"~"]
["SA24",2018,"FS193",1111,15,"Refuse",null,null,null,null,null,null,null,null,null,null,null,null,null,null,null,null,"~"]
["SA24",2018,"FS193",1112,16,"Other",null,null,null,null,null,null,null,null,null,null,null,null,null,null,null,null,"~"]
["SA24",2018,"FS193",1113,17,"Technicians",null,null,null,null,null,null,null,null,null,null,null,null,null,null,null,null,"~"]
["SA24",2018,"FS193",1114,18,"Finance",null,null,null,null,null,null,null,null,null,null,null,null,null,null,null,null,"~"]
["SA24",2018,"FS193",1115,19,"Spatial/town planning",null,null,null,null,null,null,null,null,null,null,null,null,null,null,null,null,"~"]
["SA24",2018,"FS193",1116,20,"Information Technology",null,null,null,null,null,null,null,null,null,null,null,null,null,null,null,null,"~"]
["SA24",2018,"FS193",1117,21,"Roads",null,null,null,null,null,null,null,null,null,null,null,null,null,null,null,null,"~"]
["SA24",{"$f":"+MTREF","v":2018},{"$f":"LEFT(muni,(FIND(\" \",muni,1)-1))","v":"FS193"},1118,22,"Electricity",null,null,null,null,null,null,null,null,null,null,null,null,null,null,null,null,"~"]
["SA24",2018,"FS193",1119,23,"Water",null,null,null,null,null,null,null,null,null,null,null,null,null,null,null,null,"~"]
["SA24",2018,"FS193",1120,24,"Sanitation",null,null,null,null,null,null,null,null,null,null,null,null,null,null,null,null,"~"]
["SA24",2018,"FS193",1121,25,"Refuse",null,null,null,null,null,null,null,null,null,null,null,null,null,null,null,null,"~"]
["SA24",2018,"FS193",1122,26,"Other",null,null,null,null,null,null,null,null,null,null,null,null,null,null,null,null,"~"]
["SA24",2018,"FS193",1123,27,"Clerks (Clerical and administrative)",null,null,null,null,null,null,null,null,null,null,null,null,null,null,null,null,"~"]
["SA24",2018,"FS193",1124,28,"Service and sales workers",null,null,null,null,null,null,null,null,null,null,null,null,null,null,null,null,"~"]
["SA24",2018,"FS193",1125,29,"Skilled agricultural and fishery workers",null,null,null,null,null,null,null,null,null,null,null,null,null,null,null,null,"~"]
["SA24",2018,"FS193",1126,30,"Craft and related trades",null,null,null,null,null,null,null,null,null,null,null,null,null,null,null,null,"~"]
["SA24",2018,"FS193",1127,31,"Plant and Machine Operators",null,null,null,null,null,null,null,null,null,null,null,null,null,null,null,null,"~"]
["SA24",2018,"FS193",1128,32,"Elementary Occupations",null,null,null,null,null,null,null,null,null,null,null,null,null,null,null,null,"~"]
["SA24",2018,"FS193",1190,33,"TOTAL PERSONNEL NUMBERS",null,null,null,null,null,null,null,null,null,null,null,null,null,null,null,null,"~"]
["SA24",2018,"FS193",1191,34,"% increase",null,null,null,null,null,null,null,null,null,null,null,null,null,null,null,null,"~"]
["SA24",2018,"FS193",null,null,null,null,null,null,null,null,null,null,null,null,null,null,null,null,null,null,null,"~"]
["SA24",2018,"FS193",1200,35,"Total municipal employees headcount",null,null,null,null,null,null,null,null,null,null,null,null,null,null,null,null,"~"]
["SA24",2018,"FS193",1201,36,"Finance personnel headcount",null,null,null,null,null,null,null,null,null,null,null,null,null,null,null,null,"~"]
["SA24",2018,"FS193",1202,37,"Human Resources personnel headcount",null,null,null,null,null,null,null,null,null,null,null,null,null,null,null,null,"~"]
["OTHER",2018,"FS193","1001",1,"Unspent conditional transfers",null,null,null,null,null,null,null,null,null,null,null,null,null,null,null,null,"~"]
["OTHER",2018,"FS193","1002",2,"Unspent borrowing",null,null,null,null,null,null,null,null,null,null,null,null,null,null,null,null,"~"]
["OTHER",2018,"FS193","1003",3,"Statutory requirements",null,null,null,null,null,null,null,null,null,null,null,null,null,null,null,null,"~"]
["OTHER",2018,"FS193","1005",5,"Other provisions",null,null,null,null,null,null,null,null,null,null,null,null,null,null,null,null,"~"]
["OTHER",2018,"FS193","1006",6,"Long term investments committed",null,null,null,null,null,null,null,null,null,null,null,null,null,null,null,null,"~"]
["OTHER",2018,"FS193","1007",7,"Reserves to be backed by cash/investments",null,null,null,null,null,null,null,null,null,null,null,null,null,null,null,null,"~"]
["OTHER",2018,"FS193","1008",8,"Estimate of other debtors > 90 days",null,null,null,null,null,null,null,null,null,null,null,null,null,null,null,null,"~"]
["OTHER",2018,"FS193",2001,9,"Contributions recognised - capital",null,null,null,null,null,null,null,null,null,null,null,null,null,null,null,null,"~"]
["OTHER",2018,"FS193","3001",10,"Depreciation offsets",null,null,null,null,null,null,null,null,null,null,null,null,null,null,null,null,"~"]
["OTHER",2018,"FS193","4001",11,"Fixed operational expenditure % assumption",null,null,null,null,null,null,null,null,null,null,null,null,null,null,null,null,"~"]
["OTHER",2018,"FS193",5000,50,"Repairs and Maintenance by Expenditure Item",null,null,null,null,null,null,null,null,null,null,null,null,null,null,null,null,"~"]
["OTHER",2018,"FS193",5001,51,"Employee related costs",null,null,null,null,null,null,null,null,null,null,null,null,null,null,null,null,"~"]
["OTHER",2018,"FS193",5002,52,"Other materials",null,null,null,null,null,null,null,null,null,null,null,null,null,null,null,null,"~"]
["OTHER",2018,"FS193",5003,53,"Contracted Services",null,null,null,null,null,null,null,null,null,null,null,null,null,null,null,null,"~"]
["OTHER",2018,"FS193",5004,54,"Other Expenditure",null,null,null,null,null,null,null,null,null,null,null,null,null,null,null,null,"~"]
["OTHER",2018,"FS193",5005,55,"Total Repairs and Maintenance Expenditure",null,null,null,null,null,null,null,null,null,null,null,null,null,null,null,null,"~"]
["OTHER",2018,"FS193",6001,61,"Volume Electricity Distribution Losses",null,null,null,null,null,null,null,null,null,null,null,null,null,null,null,null,"~"]
["OTHER",2018,"FS193",6002,62,"Cost Electiricty Distribution Losses",null,null,null,null,null,null,null,null,null,null,null,null,null,null,null,null,"~"]
["OTHER",2018,"FS193",null,null,null,null,null,null,null,null,null,null,null,null,null,null,null,null,null,null,null,"~"]
["OTHER",2018,"FS193",6003,63,"Volume Water Distribution Losses",null,null,null,null,null,null,null,null,null,null,null,null,null,null,null,null,"~"]
["OTHER",2018,"FS193",6004,64,"Cost Water Distribution Losses",null,null,null,null,null,null,null,null,null,null,null,null,null,null,null,null,"~"]
["OTHER",2018,"FS193",null,null,null,null,null,null,null,null,null,null,null,null,null,null,null,null,null,null,null,"~"]
["OTHER",2018,"FS193",7001,71,"Consultant Fees",null,null,null,null,null,null,null,null,null,null,null,null,null,null,null,null,"~"]
["OTHER",2018,"FS193",7002,72,"Audit Fees",null,null,null,null,null,null,null,null,null,null,null,null,null,null,null,null,"~"]
["SA36",2018,"FS193",1,null,null,null,null,null,null,null,null,null,null,null,null,null,null,null,null,null,null,"~"]
["SA36",2018,"FS193",2,null,null,null,null,null,null,null,null,null,null,null,null,null,null,null,null,null,null,"~"]
["SA36",2018,"FS193",3,null,null,null,null,null,null,null,null,null,null,null,null,null,null,null,null,null,null,"~"]
["SA36",2018,"FS193",4,null,null,null,null,null,null,null,null,null,null,null,null,null,null,null,null,null,null,"~"]
["SA36",2018,"FS193",5,null,null,null,null,null,null,null,null,null,null,null,null,null,null,null,null,null,null,"~"]
["SA36",2018,"FS193",6,null,null,null,null,null,null,null,null,null,null,null,null,null,null,null,null,null,null,"~"]
["SA36",2018,"FS193",7,null,null,null,null,null,null,null,null,null,null,null,null,null,null,null,null,null,null,"~"]
["SA36",2018,"FS193",8,null,null,null,null,null,null,null,null,null,null,null,null,null,null,null,null,null,null,"~"]
["SA36",2018,"FS193",9,null,null,null,null,null,null,null,null,null,null,null,null,null,null,null,null,null,null,"~"]
["SA36",2018,"FS193",10,null,null,null,null,null,null,null,null,null,null,null,null,null,null,null,null,null,null,"~"]
["SA36",2018,"FS193",11,null,null,null,null,null,null,null,null,null,null,null,null,null,null,null,null,null,null,"~"]
["SA36",2018,"FS193",12,null,null,null,null,null,null,null,null,null,null,null,null,null,null,null,null,null,null,"~"]
["SA36",2018,"FS193",13,null,null,null,null,null,null,null,null,null,null,null,null,null,null,null,null,null,null,"~"]
["SA36",2018,"FS193",14,null,null,null,null,null,null,null,null,null,null,null,null,null,null,null,null,null,null,"~"]
["SA36",2018,"FS193",15,null,null,null,null,null,null,null,null,null,null,null,null,null,null,null,null,null,null,"~"]
["SA36",2018,"FS193",16,null,null,null,null,null,null,null,null,null,null,null,null,null,null,null,null,null,null,"~"]
["SA36",2018,"FS193",17,null,null,null,null,null,null,null,null,null,null,null,0,0,null,null,0,null,null,"~"]
["SA36",2018,"FS193",18,null,null,null,null,null,null,null,null,null,null,null,null,null,null,null,null,null,null,"~"]
["SA36",2018,"FS193",19,null,null,null,null,null,null,null,null,null,null,null,null,null,null,null,null,null,null,"~"]
["SA36",2018,"FS193",20,null,null,null,null,null,null,null,null,null,null,null,null,null,null,null,null,null,null,"~"]
["SA36",2018,"FS193",21,null,null,null,null,null,null,null,null,null,null,null,null,null,null,null,null,null,null,"~"]
["SA36",2018,"FS193",22,null,null,null,null,null,null,null,null,null,null,null,null,null,null,null,null,null,null,"~"]
["SA36",2018,"FS193",23,null,null,null,null,null,null,null,null,null,null,null,null,null,null,null,null,null,null,"~"]
["SA36",{"$f":"+MTREF","v":2018},{"$f":"LEFT(muni,(FIND(\" \",muni,1)-1))","v":"FS193"},24,null,null,null,null,null,null,null,null,null,null,null,null,null,null,null,null,null,null,"~"]
["SA36",2018,"FS193",25,null,null,null,null,null,null,null,null,null,null,null,null,null,null,null,null,null,null,"~"]
["SA36",2018,"FS193",26,null,null,null,null,null,null,null,null,null,null,null,null,null,null,null,null,null,null,"~"]
["SA36",2018,"FS193",27,null,null,null,null,null,null,null,null,null,null,null,null,null,null,null,null,null,null,"~"]
["SA36",2018,"FS193",28,null,null,null,null,null,null,null,null,null,null,null,null,null,null,null,null,null,null,"~"]
["SA36",2018,"FS193",29,null,null,null,null,null,null,null,null,null,null,null,null,null,null,null,null,null,null,"~"]
["SA36",2018,"FS193",30,null,null,null,null,null,null,null,null,null,0,0,0,0,null,null,null,null,null,"~"]
["SA36",2018,"FS193",31,null,null,null,null,null,null,null,null,null,0,0,0,0,null,null,null,null,null,"~"]
["SA36",2018,"FS193",32,null,null,null,null,null,null,null,null,null,null,null,null,null,null,null,null,null,null,"~"]
["SA36",2018,"FS193",33,null,null,null,null,null,null,null,null,null,null,null,null,null,null,null,null,null,null,"~"]
["SA36",2018,"FS193",34,null,null,null,null,null,null,null,null,null,null,null,null,null,null,null,null,null,null,"~"]
["SA36",2018,"FS193",35,null,null,null,null,null,null,null,null,null,null,null,null,null,null,null,null,null,null,"~"]
["SA36",2018,"FS193",36,null,null,null,null,null,null,null,null,null,null,null,null,null,null,null,null,null,null,"~"]
["SA36",2018,"FS193",37,null,null,null,null,null,null,null,null,null,null,null,null,null,null,null,null,null,null,"~"]
["SA36",2018,"FS193",38,null,null,null,null,null,null,null,null,"Check",0,null,null,null,null,null,null,null,null,"~"]
["SA36",2018,"FS193",39,null,null,null,null,null,null,null,null,null,null,null,null,null,null,null,null,null,null,"~"]
["SA36",2018,"FS193",40,null,null,null,null,null,null,null,null,null,null,null,null,null,null,null,null,null,null,"~"]
["SA36",2018,"FS193",41,null,null,null,null,null,null,null,null,null,null,null,null,null,null,null,null,null,null,"~"]
["SA36",2018,"FS193",42,null,null,null,null,null,null,null,null,null,null,null,null,null,null,null,null,null,null,"~"]
["SA36",2018,"FS193",43,null,null,null,null,null,null,null,null,null,null,null,null,null,null,null,null,null,null,"~"]
["SA36",2018,"FS193",44,null,null,null,null,null,null,null,null,null,null,null,null,null,null,null,null,null,null,"~"]
["SA36",2018,"FS193",45,null,null,null,null,null,null,null,null,null,null,null,null,null,null,null,null,null,null,"~"]
["SA36",2018,"FS193",46,null,null,null,null,null,null,null,null,null,null,null,null,null,null,null,null,null,null,"~"]
["SA36",2018,"FS193",47,null,null,null,null,null,null,null,null,null,null,null,null,null,null,null,null,null,null,"~"]
["SA36",2018,"FS193",48,null,null,null,null,null,null,null,null,null,null,null,null,null,null,null,null,null,null,"~"]
["SA36",2018,"FS193",49,null,null,null,null,null,null,null,null,null,null,null,null,null,null,null,null,null,null,"~"]
["SA36",2018,"FS193",50,null,null,null,null,null,null,null,null,null,null,null,null,null,null,null,null,null,null,"~"]
["SA36",2018,"FS193",51,null,null,null,null,null,null,null,null,null,null,null,null,null,null,null,null,null,null,"~"]
["SA36",2018,"FS193",52,null,null,null,null,null,null,null,null,null,null,null,null,null,null,null,null,null,null,"~"]
["SA36",2018,"FS193",53,null,null,null,null,null,null,null,null,null,null,null,null,null,null,null,null,null,null,"~"]
["SA36",2018,"FS193",54,null,null,null,null,null,null,null,null,null,null,null,null,null,null,null,null,null,null,"~"]
["SA36",2018,"FS193",55,null,null,null,null,null,null,null,null,null,null,null,null,null,null,null,null,null,null,"~"]
["SA36",2018,"FS193",56,null,null,null,null,null,null,null,null,null,null,null,null,null,null,null,null,null,null,"~"]
["SA36",2018,"FS193",57,null,null,null,null,null,null,null,null,null,null,null,null,null,null,null,null,null,null,"~"]
["SA36",2018,"FS193",58,null,null,null,null,null,null,null,null,null,null,null,null,null,null,null,null,null,null,"~"]
["SA36",2018,"FS193",59,null,null,null,null,null,null,null,null,null,null,null,null,null,null,null,null,null,null,"~"]
["SA36",2018,"FS193",60,null,null,null,null,null,null,null,null,null,null,null,null,null,null,null,null,null,null,"~"]
["SA36",2018,"FS193",61,null,null,null,null,null,null,null,null,null,null,null,null,null,null,null,null,null,null,"~"]
["SA36",2018,"FS193",62,null,null,null,null,null,null,null,null,null,null,null,null,null,null,null,null,null,null,"~"]
["SA36",2018,"FS193",63,null,null,null,null,null,null,null,null,null,null,null,null,null,null,null,null,null,null,"~"]
["SA36",2018,"FS193",64,null,null,null,null,null,null,null,null,null,null,null,null,null,null,null,null,null,null,"~"]
["SA36",2018,"FS193",65,null,null,null,null,null,null,null,null,null,null,null,null,null,null,null,null,null,null,"~"]
["SA36",2018,"FS193",66,null,null,null,null,null,null,null,null,null,null,null,null,null,null,null,null,null,null,"~"]
["SA36",2018,"FS193",67,null,null,null,null,null,null,null,null,null,null,null,null,null,null,null,null,null,null,"~"]
["SA36",2018,"FS193",68,null,null,null,null,null,null,null,null,null,null,null,null,null,null,null,null,null,null,"~"]
["SA36",2018,"FS193",69,null,null,null,null,null,null,null,null,null,null,null,null,null,null,null,null,null,null,"~"]
["SA36",2018,"FS193",70,null,null,null,null,null,null,null,null,null,null,null,null,null,null,null,null,null,null,"~"]
["SA36",2018,"FS193",71,null,null,null,null,null,null,null,null,null,null,null,null,null,null,null,null,null,null,"~"]
["SA36",2018,"FS193",72,null,null,null,null,null,null,null,null,null,null,null,null,null,null,null,null,null,null,"~"]
["SA36",2018,"FS193",73,null,null,null,null,null,null,null,null,null,null,null,null,null,null,null,null,null,null,"~"]
["SA36",2018,"FS193",74,null,null,null,null,null,null,null,null,null,null,null,null,null,null,null,null,null,null,"~"]
["SA36",2018,"FS193",75,null,null,null,null,null,null,null,null,null,null,null,null,null,null,null,null,null,null,"~"]
["SA36",2018,"FS193",76,null,null,null,null,null,null,null,null,null,null,null,null,null,null,null,null,null,null,"~"]
["SA36",2018,"FS193",77,null,null,null,null,null,null,null,null,null,null,null,null,null,null,null,null,null,null,"~"]
["SA36",2018,"FS193",78,null,null,null,null,null,null,null,null,null,null,null,null,null,null,null,null,null,null,"~"]
["SA36",2018,"FS193",79,null,null,null,null,null,null,null,null,null,null,null,null,null,null,null,null,null,null,"~"]
["SA36",2018,"FS193",80,null,null,null,null,null,null,null,null,null,null,null,null,null,null,null,null,null,null,"~"]
["SA36",2018,"FS193",81,null,null,null,null,null,null,null,null,null,null,null,null,null,null,null,null,null,null,"~"]
["SA36",2018,"FS193",82,null,null,null,null,null,null,null,null,null,null,null,null,null,null,null,null,null,null,"~"]
["SA36",2018,"FS193",83,null,null,null,null,null,null,null,null,null,null,null,null,null,null,null,null,null,null,"~"]
["SA36",2018,"FS193",84,null,null,null,null,null,null,null,null,null,null,null,null,null,null,null,null,null,null,"~"]
["SA36",2018,"FS193",85,null,null,null,null,null,null,null,null,null,null,null,null,null,null,null,null,null,null,"~"]
["SA36",2018,"FS193",86,null,null,null,null,null,null,null,null,null,null,null,null,null,null,null,null,null,null,"~"]
["SA36",2018,"FS193",87,null,null,null,null,null,null,null,null,null,null,null,null,null,null,null,null,null,null,"~"]
["SA36",{"$f":"+MTREF","v":2018},{"$f":"LEFT(muni,(FIND(\" \",muni,1)-1))","v":"FS193"},88,null,null,null,null,null,null,null,null,null,null,null,null,null,null,null,null,null,null,"~"]
["SA36",2018,"FS193",89,null,null,null,null,null,null,null,null,null,null,null,null,null,null,null,null,null,null,"~"]
["SA36",2018,"FS193",90,null,null,null,null,null,null,null,null,null,null,null,null,null,null,null,null,null,null,"~"]
["SA36",2018,"FS193",91,null,null,null,null,null,null,null,null,null,null,null,null,null,null,null,null,null,null,"~"]
["SA36",2018,"FS193",92,null,null,null,null,null,null,null,null,null,null,null,null,null,null,null,null,null,null,"~"]
["SA36",2018,"FS193",93,null,null,null,null,null,null,null,null,null,null,null,null,null,null,null,null,null,null,"~"]
["SA36",2018,"FS193",94,null,null,null,null,null,null,null,null,null,null,null,null,null,null,null,null,null,null,"~"]
["SA36",2018,"FS193",95,null,null,null,null,null,null,null,null,null,null,null,null,null,null,null,null,null,null,"~"]
["SA36",2018,"FS193",96,null,null,null,null,null,null,null,null,null,null,null,null,null,null,null,null,null,null,"~"]
["SA36",2018,"FS193",97,null,null,null,null,null,null,null,null,null,null,null,null,null,null,null,null,null,null,"~"]
["SA36",2018,"FS193",98,null,null,null,null,null,null,null,null,null,null,null,null,null,null,null,null,null,null,"~"]
["SA36",2018,"FS193",99,null,null,null,null,null,null,null,null,null,null,null,null,null,null,null,null,null,null,"~"]
["SA36",2018,"FS193",100,null,null,null,null,null,null,null,null,null,null,null,null,null,null,null,null,null,null,"~"]
["SA36",2018,"FS193",101,null,null,null,null,null,null,null,null,null,null,null,null,null,null,null,null,null,null,"~"]
["SA36",2018,"FS193",102,null,null,null,null,null,null,null,null,null,null,null,null,null,null,null,null,null,null,"~"]
["SA36",2018,"FS193",103,null,null,null,null,null,null,null,null,null,null,null,null,null,null,null,null,null,null,"~"]
["SA36",2018,"FS193",104,null,null,null,null,null,null,null,null,null,null,null,null,null,null,null,null,null,null,"~"]
["SA36",2018,"FS193",105,null,null,null,null,null,null,null,null,null,null,null,null,null,null,null,null,null,null,"~"]
["SA36",2018,"FS193",106,null,null,null,null,null,null,null,null,null,null,null,null,null,null,null,null,null,null,"~"]
["SA36",2018,"FS193",107,null,null,null,null,null,null,null,null,null,null,null,null,null,null,null,null,null,null,"~"]
["SA36",2018,"FS193",108,null,null,null,null,null,null,null,null,null,null,null,null,null,null,null,null,null,null,"~"]
["SA36",2018,"FS193",109,null,null,null,null,null,null,null,null,null,null,null,null,null,null,null,null,null,null,"~"]
["SA36",2018,"FS193",110,null,null,null,null,null,null,null,null,null,null,null,null,null,null,null,null,null,null,"~"]
["SA36",2018,"FS193",111,null,null,null,null,null,null,null,null,null,null,null,null,null,null,null,null,null,null,"~"]
["SA36",2018,"FS193",112,null,null,null,null,null,null,null,null,null,null,null,null,null,null,null,null,null,null,"~"]
["SA36",2018,"FS193",113,null,null,null,null,null,null,null,null,null,null,null,null,null,null,null,null,null,null,"~"]
["SA36",2018,"FS193",114,null,null,null,null,null,null,null,null,null,null,null,null,null,null,null,null,null,null,"~"]
["SA36",2018,"FS193",115,null,null,null,null,null,null,null,null,null,null,null,null,null,null,null,null,null,null,"~"]
["SA36",2018,"FS193",116,null,null,null,null,null,null,null,null,null,null,null,null,null,null,null,null,null,null,"~"]
["SA36",2018,"FS193",117,null,null,null,null,null,null,null,null,null,null,null,null,null,null,null,null,null,null,"~"]
["SA36",2018,"FS193",118,null,null,null,null,null,null,null,null,null,null,null,null,null,null,null,null,null,null,"~"]
["SA36",2018,"FS193",119,null,null,null,null,null,null,null,null,null,null,null,null,null,null,null,null,null,null,"~"]
["SA36",2018,"FS193",120,null,null,null,null,null,null,null,null,null,null,null,null,null,null,null,null,null,null,"~"]
["SA36",2018,"FS193",121,null,null,null,null,null,null,null,null,null,null,null,null,null,null,null,null,null,null,"~"]
["SA36",2018,"FS193",122,null,null,null,null,null,null,null,null,null,null,null,null,null,null,null,null,null,null,"~"]
["SA36",2018,"FS193",123,null,null,null,null,null,null,null,null,null,null,null,null,null,null,null,null,null,null,"~"]
["SA36",2018,"FS193",124,null,null,null,null,null,null,null,null,null,null,null,null,null,null,null,null,null,null,"~"]
["SA36",2018,"FS193",125,null,null,null,null,null,null,null,null,null,null,null,null,null,null,null,null,null,null,"~"]
["SA36",2018,"FS193",126,null,null,null,null,null,null,null,null,null,null,null,null,null,null,null,null,null,null,"~"]
["SA36",2018,"FS193",127,null,null,null,null,null,null,null,null,null,null,null,null,null,null,null,null,null,null,"~"]
["SA36",2018,"FS193",128,null,null,null,null,null,null,null,null,null,null,null,null,null,null,null,null,null,null,"~"]
["SA36",2018,"FS193",129,null,null,null,null,null,null,null,null,null,null,null,null,null,null,null,null,null,null,"~"]
["SA36",2018,"FS193",130,null,null,null,null,null,null,null,null,null,null,null,null,null,null,null,null,null,null,"~"]
["SA36",2018,"FS193",131,null,null,null,null,null,null,null,null,null,null,null,null,null,null,null,null,null,null,"~"]
["SA36",2018,"FS193",132,null,null,null,null,null,null,null,null,null,null,null,null,null,null,null,null,null,null,"~"]
["SA36",2018,"FS193",133,null,null,null,null,null,null,null,null,null,null,null,null,null,null,null,null,null,null,"~"]
["SA36",2018,"FS193",134,null,null,null,null,null,null,null,null,null,null,null,null,null,null,null,null,null,null,"~"]
["SA36",2018,"FS193",135,null,null,null,null,null,null,null,null,null,null,null,null,null,null,null,null,null,null,"~"]
["SA36",2018,"FS193",136,null,null,null,null,null,null,null,null,null,null,null,null,null,null,null,null,null,null,"~"]
["SA36",2018,"FS193",137,null,null,null,null,null,null,null,null,null,null,null,null,null,null,null,null,null,null,"~"]
["SA36",2018,"FS193",138,null,null,null,null,null,null,null,null,null,null,null,null,null,null,null,null,null,null,"~"]
["SA36",2018,"FS193",139,null,null,null,null,null,null,null,null,null,null,null,null,null,null,null,null,null,null,"~"]
["SA36",2018,"FS193",140,null,null,null,null,null,null,null,null,null,null,null,null,null,null,null,null,null,null,"~"]
["SA36",2018,"FS193",141,null,null,null,null,null,null,null,null,null,null,null,null,null,null,null,null,null,null,"~"]
["SA36",2018,"FS193",142,null,null,null,null,null,null,null,null,null,null,null,null,null,null,null,null,null,null,"~"]
["SA36",2018,"FS193",143,null,null,null,null,null,null,null,null,null,null,null,null,null,null,null,null,null,null,"~"]
["SA36",2018,"FS193",144,null,null,null,null,null,null,null,null,null,null,null,null,null,null,null,null,null,null,"~"]
["SA36",2018,"FS193",145,null,null,null,null,null,null,null,null,null,null,null,null,null,null,null,null,null,null,"~"]
["SA36",2018,"FS193",146,null,null,null,null,null,null,null,null,null,null,null,null,null,null,null,null,null,null,"~"]
["SA36",2018,"FS193",147,null,null,null,null,null,null,null,null,null,null,null,null,null,null,null,null,null,null,"~"]
["SA36",2018,"FS193",148,null,null,null,null,null,null,null,null,null,null,null,null,null,null,null,null,null,null,"~"]
["SA36",2018,"FS193",149,null,null,null,null,null,null,null,null,null,null,null,null,null,null,null,null,null,null,"~"]
["SA36",2018,"FS193",150,null,null,null,null,null,null,null,null,null,null,null,null,null,null,null,null,null,null,"~"]
["SA36",2018,"FS193",151,null,null,null,null,null,null,null,null,null,null,null,null,null,null,null,null,null,null,"~"]
["SA36",{"$f":"+MTREF","v":2018},{"$f":"LEFT(muni,(FIND(\" \",muni,1)-1))","v":"FS193"},152,null,null,null,null,null,null,null,null,null,null,null,null,null,null,null,null,null,null,"~"]
["SA36",2018,"FS193",153,null,null,null,null,null,null,null,null,null,null,null,null,null,null,null,null,null,null,"~"]
["SA36",2018,"FS193",154,null,null,null,null,null,null,null,null,null,null,null,null,null,null,null,null,null,null,"~"]
["SA36",2018,"FS193",155,null,null,null,null,null,null,null,null,null,null,null,null,null,null,null,null,null,null,"~"]
["SA36",2018,"FS193",156,null,null,null,null,null,null,null,null,null,null,null,null,null,null,null,null,null,null,"~"]
["SA36",2018,"FS193",157,null,null,null,null,null,null,null,null,null,null,null,null,null,null,null,null,null,null,"~"]
["SA36",2018,"FS193",158,null,null,null,null,null,null,null,null,null,null,null,null,null,null,null,null,null,null,"~"]
["SA36",2018,"FS193",159,null,null,null,null,null,null,null,null,null,null,null,null,null,null,null,null,null,null,"~"]
["SA36",2018,"FS193",160,null,null,null,null,null,null,null,null,null,null,null,null,null,null,null,null,null,null,"~"]
["SA36",2018,"FS193",161,null,null,null,null,null,null,null,null,null,null,null,null,null,null,null,null,null,null,"~"]
["SA36",2018,"FS193",162,null,null,null,null,null,null,null,null,null,null,null,null,null,null,null,null,null,null,"~"]
["SA36",2018,"FS193",163,null,null,null,null,null,null,null,null,null,null,null,null,null,null,null,null,null,null,"~"]
["SA36",2018,"FS193",164,null,null,null,null,null,null,null,null,null,null,null,null,null,null,null,null,null,null,"~"]
["SA36",2018,"FS193",165,null,null,null,null,null,null,null,null,null,null,null,null,null,null,null,null,null,null,"~"]
["SA36",2018,"FS193",166,null,null,null,null,null,null,null,null,null,null,null,null,null,null,null,null,null,null,"~"]
["SA36",2018,"FS193",167,null,null,null,null,null,null,null,null,null,null,null,null,null,null,null,null,null,null,"~"]
["SA36",2018,"FS193",168,null,null,null,null,null,null,null,null,null,null,null,null,null,null,null,null,null,null,"~"]
["SA36",2018,"FS193",169,null,null,null,null,null,null,null,null,null,null,null,null,null,null,null,null,null,null,"~"]
["SA36",2018,"FS193",170,null,null,null,null,null,null,null,null,null,null,null,null,null,null,null,null,null,null,"~"]
["SA36",2018,"FS193",171,null,null,null,null,null,null,null,null,null,null,null,null,null,null,null,null,null,null,"~"]
["SA36",2018,"FS193",172,null,null,null,null,null,null,null,null,null,null,null,null,null,null,null,null,null,null,"~"]
["SA36",2018,"FS193",173,null,null,null,null,null,null,null,null,null,null,null,null,null,null,null,null,null,null,"~"]
["SA36",2018,"FS193",174,null,null,null,null,null,null,null,null,null,null,null,null,null,null,null,null,null,null,"~"]
["SA36",2018,"FS193",175,null,null,null,null,null,null,null,null,null,null,null,null,null,null,null,null,null,null,"~"]
["SA36",2018,"FS193",176,null,null,null,null,null,null,null,null,null,null,null,null,null,null,null,null,null,null,"~"]
["SA36",2018,"FS193",177,null,null,null,null,null,null,null,null,null,null,null,null,null,null,null,null,null,null,"~"]
["SA36",2018,"FS193",178,null,null,null,null,null,null,null,null,null,null,null,null,null,null,null,null,null,null,"~"]
["SA36",2018,"FS193",179,null,null,null,null,null,null,null,null,null,null,null,null,null,null,null,null,null,null,"~"]
["SA36",2018,"FS193",180,null,null,null,null,null,null,null,null,null,null,null,null,null,null,null,null,null,null,"~"]
["SA36",2018,"FS193",181,null,null,null,null,null,null,null,null,null,null,null,null,null,null,null,null,null,null,"~"]
["SA36",2018,"FS193",182,null,null,null,null,null,null,null,null,null,null,null,null,null,null,null,null,null,null,"~"]
["SA36",2018,"FS193",183,null,null,null,null,null,null,null,null,null,null,null,null,null,null,null,null,null,null,"~"]
["SA36",2018,"FS193",184,null,null,null,null,null,null,null,null,null,null,null,null,null,null,null,null,null,null,"~"]
["SA36",2018,"FS193",185,null,null,null,null,null,null,null,null,null,null,null,null,null,null,null,null,null,null,"~"]
["SA36",2018,"FS193",186,null,null,null,null,null,null,null,null,null,null,null,null,null,null,null,null,null,null,"~"]
["SA36",2018,"FS193",187,null,null,null,null,null,null,null,null,null,null,null,null,null,null,null,null,null,null,"~"]
["SA36",2018,"FS193",188,null,null,null,null,null,null,null,null,null,null,null,null,null,null,null,null,null,null,"~"]
["SA36",2018,"FS193",189,null,null,null,null,null,null,null,null,null,null,null,null,null,null,null,null,null,null,"~"]
["SA36",2018,"FS193",190,null,null,null,null,null,null,null,null,null,null,null,null,null,null,null,null,null,null,"~"]
["SA36",2018,"FS193",191,null,null,null,null,null,null,null,null,null,null,null,null,null,null,null,null,null,null,"~"]
["SA36",2018,"FS193",192,null,null,null,null,null,null,null,null,null,null,null,null,null,null,null,null,null,null,"~"]
["SA36",2018,"FS193",193,null,null,null,null,null,null,null,null,null,null,null,null,null,null,null,null,null,null,"~"]
["SA36",2018,"FS193",194,null,null,null,null,null,null,null,null,null,null,null,null,null,null,null,null,null,null,"~"]
["SA36",2018,"FS193",195,null,null,null,null,null,null,null,null,null,null,null,null,null,null,null,null,null,null,"~"]
["SA36",2018,"FS193",196,null,null,null,null,null,null,null,null,null,null,null,null,null,null,null,null,null,null,"~"]
["SA36",2018,"FS193",197,null,null,null,null,null,null,null,null,null,null,null,null,null,null,null,null,null,null,"~"]
["SA36",2018,"FS193",198,null,null,null,null,null,null,null,null,null,null,null,null,null,null,null,null,null,null,"~"]
["SA36",2018,"FS193",199,null,null,null,null,null,null,null,null,null,null,null,null,null,null,null,null,null,null,"~"]
["SA36",2018,"FS193",200,null,null,null,null,null,null,null,null,null,null,null,null,null,null,null,null,null,null,"~"]
["SA36",2018,"FS193",201,null,null,null,null,null,null,null,null,null,null,null,null,null,null,null,null,null,null,"~"]
["SA36",2018,"FS193",202,null,null,null,null,null,null,null,null,null,null,null,null,null,null,null,null,null,null,"~"]
["SA36",2018,"FS193",203,null,null,null,null,null,null,null,null,null,null,null,null,null,null,null,null,null,null,"~"]
["SA36",2018,"FS193",204,null,null,null,null,null,null,null,null,null,null,null,null,null,null,null,null,null,null,"~"]
["SA36",2018,"FS193",205,null,null,null,null,null,null,null,null,null,null,null,null,null,null,null,null,null,null,"~"]
["SA36",2018,"FS193",206,null,null,null,null,null,null,null,null,null,null,null,null,null,null,null,null,null,null,"~"]
["SA36",2018,"FS193",207,null,null,null,null,null,null,null,null,null,null,null,null,null,null,null,null,null,null,"~"]
["SA36",2018,"FS193",208,null,null,null,null,null,null,null,null,null,null,null,null,null,null,null,null,null,null,"~"]
["SA36",2018,"FS193",209,null,null,null,null,null,null,null,null,null,null,null,null,null,null,null,null,null,null,"~"]
["SA36",2018,"FS193",210,null,null,null,null,null,null,null,null,null,null,null,null,null,null,null,null,null,null,"~"]
["SA36",2018,"FS193",211,null,null,null,null,null,null,null,null,null,null,null,null,null,null,null,null,null,null,"~"]
["SA36",2018,"FS193",212,null,null,null,null,null,null,null,null,null,null,null,null,null,null,null,null,null,null,"~"]
["SA36",2018,"FS193",213,null,null,null,null,null,null,null,null,null,null,null,null,null,null,null,null,null,null,"~"]
["SA36",2018,"FS193",214,null,null,null,null,null,null,null,null,null,null,null,null,null,null,null,null,null,null,"~"]
["SA36",2018,"FS193",215,null,null,null,null,null,null,null,null,null,null,null,null,null,null,null,null,null,null,"~"]
["SA36",{"$f":"+MTREF","v":2018},{"$f":"LEFT(muni,(FIND(\" \",muni,1)-1))","v":"FS193"},216,null,null,null,null,null,null,null,null,null,null,null,null,null,null,null,null,null,null,"~"]
["SA36",2018,"FS193",217,null,null,null,null,null,null,null,null,null,null,null,null,null,null,null,null,null,null,"~"]
["SA36",2018,"FS193",218,null,null,null,null,null,null,null,null,null,null,null,null,null,null,null,null,null,null,"~"]
["SA36",2018,"FS193",219,null,null,null,null,null,null,null,null,null,null,null,null,null,null,null,null,null,null,"~"]
["SA36",2018,"FS193",220,null,null,null,null,null,null,null,null,null,null,null,null,null,null,null,null,null,null,"~"]
["SA36",2018,"FS193",221,null,null,null,null,null,null,null,null,null,null,null,null,null,null,null,null,null,null,"~"]
["SA36",2018,"FS193",222,null,null,null,null,null,null,null,null,null,null,null,null,null,null,null,null,null,null,"~"]
["SA36",2018,"FS193",223,null,null,null,null,null,null,null,null,null,null,null,null,null,null,null,null,null,null,"~"]
["SA36",2018,"FS193",224,null,null,null,null,null,null,null,null,null,null,null,null,null,null,null,null,null,null,"~"]
["SA36",2018,"FS193",225,null,null,null,null,null,null,null,null,null,null,null,null,null,null,null,null,null,null,"~"]
["SA36",2018,"FS193",226,null,null,null,null,null,null,null,null,null,null,null,null,null,null,null,null,null,null,"~"]
["SA36",2018,"FS193",227,null,null,null,null,null,null,null,null,null,null,null,null,null,null,null,null,null,null,"~"]
["SA36",2018,"FS193",228,null,null,null,null,null,null,null,null,null,null,null,null,null,null,null,null,null,null,"~"]
["SA36",2018,"FS193",229,null,null,null,null,null,null,null,null,null,null,null,null,null,null,null,null,null,null,"~"]
["SA36",2018,"FS193",230,null,null,null,null,null,null,null,null,null,null,null,null,null,null,null,null,null,null,"~"]
["SA36",2018,"FS193",231,null,null,null,null,null,null,null,null,null,null,null,null,null,null,null,null,null,null,"~"]
["SA36",2018,"FS193",232,null,null,null,null,null,null,null,null,null,null,null,null,null,null,null,null,null,null,"~"]
["SA36",2018,"FS193",233,null,null,null,null,null,null,null,null,null,null,null,null,null,null,null,null,null,null,"~"]
["SA36",2018,"FS193",234,null,null,null,null,null,null,null,null,null,null,null,null,null,null,null,null,null,null,"~"]
["SA36",2018,"FS193",235,null,null,null,null,null,null,null,null,null,null,null,null,null,null,null,null,null,null,"~"]
["SA36",2018,"FS193",236,null,null,null,null,null,null,null,null,null,null,null,null,null,null,null,null,null,null,"~"]
["SA36",2018,"FS193",237,null,null,null,null,null,null,null,null,null,null,null,null,null,null,null,null,null,null,"~"]
["SA36",2018,"FS193",238,null,null,null,null,null,null,null,null,null,null,null,null,null,null,null,null,null,null,"~"]
["SA36",2018,"FS193",239,null,null,null,null,null,null,null,null,null,null,null,null,null,null,null,null,null,null,"~"]
["SA36",2018,"FS193",240,null,null,null,null,null,null,null,null,null,null,null,null,null,null,null,null,null,null,"~"]
["SA36",2018,"FS193",241,null,null,null,null,null,null,null,null,null,null,null,null,null,null,null,null,null,null,"~"]
["SA36",2018,"FS193",242,null,null,null,null,null,null,null,null,null,null,null,null,null,null,null,null,null,null,"~"]
["SA36",2018,"FS193",243,null,null,null,null,null,null,null,null,null,null,null,null,null,null,null,null,null,null,"~"]
["SA36",2018,"FS193",244,null,null,null,null,null,null,null,null,null,null,null,null,null,null,null,null,null,null,"~"]
["SA36",2018,"FS193",245,null,null,null,null,null,null,null,null,null,null,null,null,null,null,null,null,null,null,"~"]
["SA36",2018,"FS193",246,null,null,null,null,null,null,null,null,null,null,null,null,null,null,null,null,null,null,"~"]
["SA36",2018,"FS193",247,null,null,null,null,null,null,null,null,null,null,null,null,null,null,null,null,null,null,"~"]
["SA36",2018,"FS193",248,null,null,null,null,null,null,null,null,null,null,null,null,null,null,null,null,null,null,"~"]
["SA36",2018,"FS193",249,null,null,null,null,null,null,null,null,null,null,null,null,null,null,null,null,null,null,"~"]
["SA36",2018,"FS193",250,null,null,null,null,null,null,null,null,null,null,null,null,null,null,null,null,null,null,"~"]
["SA36",2018,"FS193",251,null,null,null,null,null,null,null,null,null,null,null,null,null,null,null,null,null,null,"~"]
["SA36",2018,"FS193",252,null,null,null,null,null,null,null,null,null,null,null,null,null,null,null,null,null,null,"~"]
["SA36",2018,"FS193",253,null,null,null,null,null,null,null,null,null,null,null,null,null,null,null,null,null,null,"~"]
["SA36",2018,"FS193",254,null,null,null,null,null,null,null,null,null,null,null,null,null,null,null,null,null,null,"~"]
["SA36",2018,"FS193",255,null,null,null,null,null,null,null,null,null,null,null,null,null,null,null,null,null,null,"~"]
["SA36",2018,"FS193",256,null,null,null,null,null,null,null,null,null,null,null,null,null,null,null,null,null,null,"~"]
["SA36",2018,"FS193",257,null,null,null,null,null,null,null,null,null,null,null,null,null,null,null,null,null,null,"~"]
["SA36",2018,"FS193",258,null,null,null,null,null,null,null,null,null,null,null,null,null,null,null,null,null,null,"~"]
["SA36",2018,"FS193",259,null,null,null,null,null,null,null,null,null,null,null,null,null,null,null,null,null,null,"~"]
["SA36",2018,"FS193",260,null,null,null,null,null,null,null,null,null,null,null,null,null,null,null,null,null,null,"~"]
["SA36",2018,"FS193",261,null,null,null,null,null,null,null,null,null,null,null,null,null,null,null,null,null,null,"~"]
["SA36",2018,"FS193",262,null,null,null,null,null,null,null,null,null,null,null,null,null,null,null,null,null,null,"~"]
["SA36",2018,"FS193",263,null,null,null,null,null,null,null,null,null,null,null,null,null,null,null,null,null,null,"~"]
["SA36",2018,"FS193",264,null,null,null,null,null,null,null,null,null,null,null,null,null,null,null,null,null,null,"~"]
["SA36",2018,"FS193",265,null,null,null,null,null,null,null,null,null,null,null,null,null,null,null,null,null,null,"~"]
["SA36",2018,"FS193",266,null,null,null,null,null,null,null,null,null,null,null,null,null,null,null,null,null,null,"~"]
["SA36",2018,"FS193",267,null,null,null,null,null,null,null,null,null,null,null,null,null,null,null,null,null,null,"~"]
["SA36",2018,"FS193",268,null,null,null,null,null,null,null,null,null,null,null,null,null,null,null,null,null,null,"~"]
["SA36",2018,"FS193",269,null,null,null,null,null,null,null,null,null,null,null,null,null,null,null,null,null,null,"~"]
["SA36",2018,"FS193",270,null,null,null,null,null,null,null,null,null,null,null,null,null,null,null,null,null,null,"~"]
["SA36",2018,"FS193",271,null,null,null,null,null,null,null,null,null,null,null,null,null,null,null,null,null,null,"~"]
["SA36",2018,"FS193",272,null,null,null,null,null,null,null,null,null,null,null,null,null,null,null,null,null,null,"~"]
["SA36",2018,"FS193",273,null,null,null,null,null,null,null,null,null,null,null,null,null,null,null,null,null,null,"~"]
["SA36",2018,"FS193",274,null,null,null,null,null,null,null,null,null,null,null,null,null,null,null,null,null,null,"~"]
["SA36",2018,"FS193",275,null,null,null,null,null,null,null,null,null,null,null,null,null,null,null,null,null,null,"~"]
["SA36",2018,"FS193",276,null,null,null,null,null,null,null,null,null,null,null,null,null,null,null,null,null,null,"~"]
["SA36",2018,"FS193",277,null,null,null,null,null,null,null,null,null,null,null,null,null,null,null,null,null,null,"~"]
["SA36",2018,"FS193",278,null,null,null,null,null,null,null,null,null,null,null,null,null,null,null,null,null,null,"~"]
["SA36",2018,"FS193",279,null,null,null,null,null,null,null,null,null,null,null,null,null,null,null,null,null,null,"~"]
["SA36",{"$f":"+MTREF","v":2018},{"$f":"LEFT(muni,(FIND(\" \",muni,1)-1))","v":"FS193"},280,null,null,null,null,null,null,null,null,null,null,null,null,null,null,null,null,null,null,"~"]
["SA36",2018,"FS193",281,null,null,null,null,null,null,null,null,null,null,null,null,null,null,null,null,null,null,"~"]
["SA36",2018,"FS193",282,null,null,null,null,null,null,null,null,null,null,null,null,null,null,null,null,null,null,"~"]
["SA36",2018,"FS193",283,null,null,null,null,null,null,null,null,null,null,null,null,null,null,null,null,null,null,"~"]
["SA36",2018,"FS193",284,null,null,null,null,null,null,null,null,null,null,null,null,null,null,null,null,null,null,"~"]
["SA36",2018,"FS193",285,null,null,null,null,null,null,null,null,null,null,null,null,null,null,null,null,null,null,"~"]
["SA36",2018,"FS193",286,null,null,null,null,null,null,null,null,null,null,null,null,null,null,null,null,null,null,"~"]
["SA36",2018,"FS193",287,null,null,null,null,null,null,null,null,null,null,null,null,null,null,null,null,null,null,"~"]
["SA36",2018,"FS193",288,null,null,null,null,null,null,null,null,null,null,null,null,null,null,null,null,null,null,"~"]
["SA36",2018,"FS193",289,null,null,null,null,null,null,null,null,null,null,null,null,null,null,null,null,null,null,"~"]
["SA36",2018,"FS193",290,null,null,null,null,null,null,null,null,null,null,null,null,null,null,null,null,null,null,"~"]
["SA36",2018,"FS193",291,null,null,null,null,null,null,null,null,null,null,null,null,null,null,null,null,null,null,"~"]
["SA36",2018,"FS193",292,null,null,null,null,null,null,null,null,null,null,null,null,null,null,null,null,null,null,"~"]
["SA36",2018,"FS193",293,null,null,null,null,null,null,null,null,null,null,null,null,null,null,null,null,null,null,"~"]
["SA36",2018,"FS193",294,null,null,null,null,null,null,null,null,null,null,null,null,null,null,null,null,null,null,"~"]
["SA36",2018,"FS193",295,null,null,null,null,null,null,null,null,null,null,null,null,null,null,null,null,null,null,"~"]
["SA36",2018,"FS193",296,null,null,null,null,null,null,null,null,null,null,null,null,null,null,null,null,null,null,"~"]
["SA36",2018,"FS193",297,null,null,null,null,null,null,null,null,null,null,null,null,null,null,null,null,null,null,"~"]
["SA36",2018,"FS193",298,null,null,null,null,null,null,null,null,null,null,null,null,null,null,null,null,null,null,"~"]
["SA36",2018,"FS193",299,null,null,null,null,null,null,null,null,null,null,null,null,null,null,null,null,null,null,"~"]
["SA36",2018,"FS193",300,null,null,null,null,null,null,null,null,null,null,null,null,null,null,null,null,null,null,"~"]
["SA36",2018,"FS193",301,null,null,null,null,null,null,null,null,null,null,null,null,null,null,null,null,null,null,"~"]
["SA36",2018,"FS193",302,null,null,null,null,null,null,null,null,null,null,null,null,null,null,null,null,null,null,"~"]
["SA36",2018,"FS193",303,null,null,null,null,null,null,null,null,null,null,null,null,null,null,null,null,null,null,"~"]
["SA36",2018,"FS193",304,null,null,null,null,null,null,null,null,null,null,null,null,null,null,null,null,null,null,"~"]
["SA36",2018,"FS193",305,null,null,null,null,null,null,null,null,null,null,null,null,null,null,null,null,null,null,"~"]
["SA36",2018,"FS193",306,null,null,null,null,null,null,null,null,null,null,null,null,null,null,null,null,null,null,"~"]
["SA36",2018,"FS193",307,null,null,null,null,null,null,null,null,null,null,null,null,null,null,null,null,null,null,"~"]
["SA36",2018,"FS193",308,null,null,null,null,null,null,null,null,null,null,null,null,null,null,null,null,null,null,"~"]
["SA36",2018,"FS193",309,null,null,null,null,null,null,null,null,null,null,null,null,null,null,null,null,null,null,"~"]
["SA36",2018,"FS193",310,null,null,null,null,null,null,null,null,null,null,null,null,null,null,null,null,null,null,"~"]
["SA36",2018,"FS193",311,null,null,null,null,null,null,null,null,null,null,null,null,null,null,null,null,null,null,"~"]
["SA36",2018,"FS193",312,null,null,null,null,null,null,null,null,null,null,null,null,null,null,null,null,null,null,"~"]
["SA36",2018,"FS193",313,null,null,null,null,null,null,null,null,null,null,null,null,null,null,null,null,null,null,"~"]
["SA36",2018,"FS193",314,null,null,null,null,null,null,null,null,null,null,null,null,null,null,null,null,null,null,"~"]
["SA36",2018,"FS193",315,null,null,null,null,null,null,null,null,null,null,null,null,null,null,null,null,null,null,"~"]
["SA36",2018,"FS193",316,null,null,null,null,null,null,null,null,null,null,null,null,null,null,null,null,null,null,"~"]
["SA36",2018,"FS193",317,null,null,null,null,null,null,null,null,null,null,null,null,null,null,null,null,null,null,"~"]
["SA36",2018,"FS193",318,null,null,null,null,null,null,null,null,null,null,null,null,null,null,null,null,null,null,"~"]
["SA36",2018,"FS193",319,null,null,null,null,null,null,null,null,null,null,null,null,null,null,null,null,null,null,"~"]
["SA36",2018,"FS193",320,null,null,null,null,null,null,null,null,null,null,null,null,null,null,null,null,null,null,"~"]
["SA36",2018,"FS193",321,null,null,null,null,null,null,null,null,null,null,null,null,null,null,null,null,null,null,"~"]
["SA36",2018,"FS193",322,null,null,null,null,null,null,null,null,null,null,null,null,null,null,null,null,null,null,"~"]
["SA36",2018,"FS193",323,null,null,null,null,null,null,null,null,null,null,null,null,null,null,null,null,null,null,"~"]
["SA36",2018,"FS193",324,null,null,null,null,null,null,null,null,null,null,null,null,null,null,null,null,null,null,"~"]
["SA36",2018,"FS193",325,null,null,null,null,null,null,null,null,null,null,null,null,null,null,null,null,null,null,"~"]
["SA36",2018,"FS193",326,null,null,null,null,null,null,null,null,null,null,null,null,null,null,null,null,null,null,"~"]
["SA36",2018,"FS193",327,null,null,null,null,null,null,null,null,null,null,null,null,null,null,null,null,null,null,"~"]
["SA36",2018,"FS193",328,null,null,null,null,null,null,null,null,null,null,null,null,null,null,null,null,null,null,"~"]
["SA36",2018,"FS193",329,null,null,null,null,null,null,null,null,null,null,null,null,null,null,null,null,null,null,"~"]
["SA36",2018,"FS193",330,null,null,null,null,null,null,null,null,null,null,null,null,null,null,null,null,null,null,"~"]
["SA36",2018,"FS193",331,null,null,null,null,null,null,null,null,null,null,null,null,null,null,null,null,null,null,"~"]
["SA36",2018,"FS193",332,null,null,null,null,null,null,null,null,null,null,null,null,null,null,null,null,null,null,"~"]
["SA36",2018,"FS193",333,null,null,null,null,null,null,null,null,null,null,null,null,null,null,null,null,null,null,"~"]
["SA36",2018,"FS193",334,null,null,null,null,null,null,null,null,null,null,null,null,null,null,null,null,null,null,"~"]
["SA36",2018,"FS193",335,null,null,null,null,null,null,null,null,null,null,null,null,null,null,null,null,null,null,"~"]
["SA36",2018,"FS193",336,null,null,null,null,null,null,null,null,null,null,null,null,null,null,null,null,null,null,"~"]
["SA36",2018,"FS193",337,null,null,null,null,null,null,null,null,null,null,null,null,null,null,null,null,null,null,"~"]
["SA36",2018,"FS193",338,null,null,null,null,null,null,null,null,null,null,null,null,null,null,null,null,null,null,"~"]
["SA36",2018,"FS193",339,null,null,null,null,null,null,null,null,null,null,null,null,null,null,null,null,null,null,"~"]
["SA36",2018,"FS193",340,null,null,null,null,null,null,null,null,null,null,null,null,null,null,null,null,null,null,"~"]
["SA36",2018,"FS193",341,null,null,null,null,null,null,null,null,null,null,null,null,null,null,null,null,null,null,"~"]
["SA36",2018,"FS193",342,null,null,null,null,null,null,null,null,null,null,null,null,null,null,null,null,null,null,"~"]
["SA36",2018,"FS193",343,null,null,null,null,null,null,null,null,null,null,null,null,null,null,null,null,null,null,"~"]
["SA36",{"$f":"+MTREF","v":2018},{"$f":"LEFT(muni,(FIND(\" \",muni,1)-1))","v":"FS193"},344,null,null,null,null,null,null,null,null,null,null,null,null,null,null,null,null,null,null,"~"]
["SA36",2018,"FS193",345,null,null,null,null,null,null,null,null,null,null,null,null,null,null,null,null,null,null,"~"]
["SA36",2018,"FS193",346,null,null,null,null,null,null,null,null,null,null,null,null,null,null,null,null,null,null,"~"]
["SA36",2018,"FS193",347,null,null,null,null,null,null,null,null,null,null,null,null,null,null,null,null,null,null,"~"]
["SA36",2018,"FS193",348,null,null,null,null,null,null,null,null,null,null,null,null,null,null,null,null,null,null,"~"]
["SA36",2018,"FS193",349,null,null,null,null,null,null,null,null,null,null,null,null,null,null,null,null,null,null,"~"]
["SA36",2018,"FS193",350,null,null,null,null,null,null,null,null,null,null,null,null,null,null,null,null,null,null,"~"]
["SA36",2018,"FS193",351,null,null,null,null,null,null,null,null,null,null,null,null,null,null,null,null,null,null,"~"]
["SA36",2018,"FS193",352,null,null,null,null,null,null,null,null,null,null,null,null,null,null,null,null,null,null,"~"]
["SA36",2018,"FS193",353,null,null,null,null,null,null,null,null,null,null,null,null,null,null,null,null,null,null,"~"]
["SA36",2018,"FS193",354,null,null,null,null,null,null,null,null,null,null,null,null,null,null,null,null,null,null,"~"]
["SA36",2018,"FS193",355,null,null,null,null,null,null,null,null,null,null,null,null,null,null,null,null,null,null,"~"]
["SA36",2018,"FS193",356,null,null,null,null,null,null,null,null,null,null,null,null,null,null,null,null,null,null,"~"]
["SA36",2018,"FS193",357,null,null,null,null,null,null,null,null,null,null,null,null,null,null,null,null,null,null,"~"]
["SA36",2018,"FS193",358,null,null,null,null,null,null,null,null,null,null,null,null,null,null,null,null,null,null,"~"]
["SA36",2018,"FS193",359,null,null,null,null,null,null,null,null,null,null,null,null,null,null,null,null,null,null,"~"]
["SA36",2018,"FS193",360,null,null,null,null,null,null,null,null,null,null,null,null,null,null,null,null,null,null,"~"]
["SA36",2018,"FS193",361,null,null,null,null,null,null,null,null,null,null,null,null,null,null,null,null,null,null,"~"]
["SA36",2018,"FS193",362,null,null,null,null,null,null,null,null,null,null,null,null,null,null,null,null,null,null,"~"]
["SA36",2018,"FS193",363,null,null,null,null,null,null,null,null,null,null,null,null,null,null,null,null,null,null,"~"]
["SA36",2018,"FS193",364,null,null,null,null,null,null,null,null,null,null,null,null,null,null,null,null,null,null,"~"]
["SA36",2018,"FS193",365,null,null,null,null,null,null,null,null,null,null,null,null,null,null,null,null,null,null,"~"]
["SA36",2018,"FS193",366,null,null,null,null,null,null,null,null,null,null,null,null,null,null,null,null,null,null,"~"]
["SA36",2018,"FS193",367,null,null,null,null,null,null,null,null,null,null,null,null,null,null,null,null,null,null,"~"]
["SA36",2018,"FS193",368,null,null,null,null,null,null,null,null,null,null,null,null,null,null,null,null,null,null,"~"]
["SA36",2018,"FS193",369,null,null,null,null,null,null,null,null,null,null,null,null,null,null,null,null,null,null,"~"]
["SA36",2018,"FS193",370,null,null,null,null,null,null,null,null,null,null,null,null,null,null,null,null,null,null,"~"]
["SA36",2018,"FS193",371,null,null,null,null,null,null,null,null,null,null,null,null,null,null,null,null,null,null,"~"]
["SA36",2018,"FS193",372,null,null,null,null,null,null,null,null,null,null,null,null,null,null,null,null,null,null,"~"]
["SA36",2018,"FS193",373,null,null,null,null,null,null,null,null,null,null,null,null,null,null,null,null,null,null,"~"]
["SA36",2018,"FS193",374,null,null,null,null,null,null,null,null,null,null,null,null,null,null,null,null,null,null,"~"]
["SA36",2018,"FS193",375,null,null,null,null,null,null,null,null,null,null,null,null,null,null,null,null,null,null,"~"]
["SA36",2018,"FS193",376,null,null,null,null,null,null,null,null,null,null,null,null,null,null,null,null,null,null,"~"]
["SA36",2018,"FS193",377,null,null,null,null,null,null,null,null,null,null,null,null,null,null,null,null,null,null,"~"]
["SA36",2018,"FS193",378,null,null,null,null,null,null,null,null,null,null,null,null,null,null,null,null,null,null,"~"]
["SA36",2018,"FS193",379,null,null,null,null,null,null,null,null,null,null,null,null,null,null,null,null,null,null,"~"]
["SA36",2018,"FS193",380,null,null,null,null,null,null,null,null,null,null,null,null,null,null,null,null,null,null,"~"]
["SA36",2018,"FS193",381,null,null,null,null,null,null,null,null,null,null,null,null,null,null,null,null,null,null,"~"]
["SA36",2018,"FS193",382,null,null,null,null,null,null,null,null,null,null,null,null,null,null,null,null,null,null,"~"]
["SA36",2018,"FS193",383,null,null,null,null,null,null,null,null,null,null,null,null,null,null,null,null,null,null,"~"]
["SA36",2018,"FS193",384,null,null,null,null,null,null,null,null,null,null,null,null,null,null,null,null,null,null,"~"]
["SA36",2018,"FS193",385,null,null,null,null,null,null,null,null,null,null,null,null,null,null,null,null,null,null,"~"]
["SA36",2018,"FS193",386,null,null,null,null,null,null,null,null,null,null,null,null,null,null,null,null,null,null,"~"]
["SA36",2018,"FS193",387,null,null,null,null,null,null,null,null,null,null,null,null,null,null,null,null,null,null,"~"]
["SA36",2018,"FS193",388,null,null,null,null,null,null,null,null,null,null,null,null,null,null,null,null,null,null,"~"]
["SA36",2018,"FS193",389,null,null,null,null,null,null,null,null,null,null,null,null,null,null,null,null,null,null,"~"]
["SA36",2018,"FS193",390,null,null,null,null,null,null,null,null,null,null,null,null,null,null,null,null,null,null,"~"]
["SA36",2018,"FS193",391,null,null,null,null,null,null,null,null,null,null,null,null,null,null,null,null,null,null,"~"]
["SA36",2018,"FS193",392,null,null,null,null,null,null,null,null,null,null,null,null,null,null,null,null,null,null,"~"]
["SA36",2018,"FS193",393,null,null,null,null,null,null,null,null,null,null,null,null,null,null,null,null,null,null,"~"]
["SA36",2018,"FS193",394,null,null,null,null,null,null,null,null,null,null,null,null,null,null,null,null,null,null,"~"]
["SA36",2018,"FS193",395,null,null,null,null,null,null,null,null,null,null,null,null,null,null,null,null,null,null,"~"]
["SA36",2018,"FS193",396,null,null,null,null,null,null,null,null,null,null,null,null,null,null,null,null,null,null,"~"]
["SA36",2018,"FS193",397,null,null,null,null,null,null,null,null,null,null,null,null,null,null,null,null,null,null,"~"]
["SA36",2018,"FS193",398,null,null,null,null,null,null,null,null,null,null,null,null,null,null,null,null,null,null,"~"]
["SA36",2018,"FS193",399,null,null,null,null,null,null,null,null,null,null,null,null,null,null,null,null,null,null,"~"]
["SA36",2018,"FS193",400,null,null,null,null,null,null,null,null,null,null,null,null,null,null,null,null,null,null,"~"]
["SA36",2018,"FS193",401,null,null,null,null,null,null,null,null,null,null,null,null,null,null,null,null,null,null,"~"]
["SA36",2018,"FS193",402,null,null,null,null,null,null,null,null,null,null,null,null,null,null,null,null,null,null,"~"]
["SA36",2018,"FS193",403,null,null,null,null,null,null,null,null,null,null,null,null,null,null,null,null,null,null,"~"]
["SA36",2018,"FS193",404,null,null,null,null,null,null,null,null,null,null,null,null,null,null,null,null,null,null,"~"]
["SA36",2018,"FS193",405,null,null,null,null,null,null,null,null,null,null,null,null,null,null,null,null,null,null,"~"]
["SA36",2018,"FS193",406,null,null,null,null,null,null,null,null,null,null,null,null,null,null,null,null,null,null,"~"]
["SA36",2018,"FS193",407,null,null,null,null,null,null,null,null,null,null,null,null,null,null,null,null,null,null,"~"]
["SA36",{"$f":"+MTREF","v":2018},{"$f":"LEFT(muni,(FIND(\" \",muni,1)-1))","v":"FS193"},408,null,null,null,null,null,null,null,null,null,null,null,null,null,null,null,null,null,null,"~"]
["SA36",2018,"FS193",409,null,null,null,null,null,null,null,null,null,null,null,null,null,null,null,null,null,null,"~"]
["SA36",2018,"FS193",410,null,null,null,null,null,null,null,null,null,null,null,null,null,null,null,null,null,null,"~"]
["SA36",2018,"FS193",411,null,null,null,null,null,null,null,null,null,null,null,null,null,null,null,null,null,null,"~"]
["SA36",2018,"FS193",412,null,null,null,null,null,null,null,null,null,null,null,null,null,null,null,null,null,null,"~"]
["SA36",2018,"FS193",413,null,null,null,null,null,null,null,null,null,null,null,null,null,null,null,null,null,null,"~"]
["SA36",2018,"FS193",414,null,null,null,null,null,null,null,null,null,null,null,null,null,null,null,null,null,null,"~"]
["SA36",2018,"FS193",415,null,null,null,null,null,null,null,null,null,null,null,null,null,null,null,null,null,null,"~"]
["SA36",2018,"FS193",416,null,null,null,null,null,null,null,null,null,null,null,null,null,null,null,null,null,null,"~"]
["SA36",2018,"FS193",417,null,null,null,null,null,null,null,null,null,null,null,null,null,null,null,null,null,null,"~"]
["SA36",2018,"FS193",418,null,null,null,null,null,null,null,null,null,null,null,null,null,null,null,null,null,null,"~"]
["SA36",2018,"FS193",419,null,null,null,null,null,null,null,null,null,null,null,null,null,null,null,null,null,null,"~"]
["SA36",2018,"FS193",420,null,null,null,null,null,null,null,null,null,null,null,null,null,null,null,null,null,null,"~"]
["SA36",2018,"FS193",421,null,null,null,null,null,null,null,null,null,null,null,null,null,null,null,null,null,null,"~"]
["SA36",2018,"FS193",422,null,null,null,null,null,null,null,null,null,null,null,null,null,null,null,null,null,null,"~"]
["SA36",2018,"FS193",423,null,null,null,null,null,null,null,null,null,null,null,null,null,null,null,null,null,null,"~"]
["SA36",2018,"FS193",424,null,null,null,null,null,null,null,null,null,null,null,null,null,null,null,null,null,null,"~"]
["SA36",2018,"FS193",425,null,null,null,null,null,null,null,null,null,null,null,null,null,null,null,null,null,null,"~"]
["SA36",2018,"FS193",426,null,null,null,null,null,null,null,null,null,null,null,null,null,null,null,null,null,null,"~"]
["SA36",2018,"FS193",427,null,null,null,null,null,null,null,null,null,null,null,null,null,null,null,null,null,null,"~"]
["SA36",2018,"FS193",428,null,null,null,null,null,null,null,null,null,null,null,null,null,null,null,null,null,null,"~"]
["SA36",2018,"FS193",429,null,null,null,null,null,null,null,null,null,null,null,null,null,null,null,null,null,null,"~"]
["SA36",2018,"FS193",430,null,null,null,null,null,null,null,null,null,null,null,null,null,null,null,null,null,null,"~"]
["SA36",2018,"FS193",431,null,null,null,null,null,null,null,null,null,null,null,null,null,null,null,null,null,null,"~"]
["SA36",2018,"FS193",432,null,null,null,null,null,null,null,null,null,null,null,null,null,null,null,null,null,null,"~"]
["SA36",2018,"FS193",433,null,null,null,null,null,null,null,null,null,null,null,null,null,null,null,null,null,null,"~"]
["SA36",2018,"FS193",434,null,null,null,null,null,null,null,null,null,null,null,null,null,null,null,null,null,null,"~"]
["SA36",2018,"FS193",435,null,null,null,null,null,null,null,null,null,null,null,null,null,null,null,null,null,null,"~"]
["SA36",2018,"FS193",436,null,null,null,null,null,null,null,null,null,null,null,null,null,null,null,null,null,null,"~"]
["SA36",2018,"FS193",437,null,null,null,null,null,null,null,null,null,null,null,null,null,null,null,null,null,null,"~"]
["SA36",2018,"FS193",438,null,null,null,null,null,null,null,null,null,null,null,null,null,null,null,null,null,null,"~"]
["SA36",2018,"FS193",439,null,null,null,null,null,null,null,null,null,null,null,null,null,null,null,null,null,null,"~"]
["SA36",2018,"FS193",440,null,null,null,null,null,null,null,null,null,null,null,null,null,null,null,null,null,null,"~"]
["SA36",2018,"FS193",441,null,null,null,null,null,null,null,null,null,null,null,null,null,null,null,null,null,null,"~"]
["SA36",2018,"FS193",442,null,null,null,null,null,null,null,null,null,null,null,null,null,null,null,null,null,null,"~"]
["SA36",2018,"FS193",443,null,null,null,null,null,null,null,null,null,null,null,null,null,null,null,null,null,null,"~"]
["SA36",2018,"FS193",444,null,null,null,null,null,null,null,null,null,null,null,null,null,null,null,null,null,null,"~"]
["SA36",2018,"FS193",445,null,null,null,null,null,null,null,null,null,null,null,null,null,null,null,null,null,null,"~"]
["SA36",2018,"FS193",446,null,null,null,null,null,null,null,null,null,null,null,null,null,null,null,null,null,null,"~"]
["SA36",2018,"FS193",447,null,null,null,null,null,null,null,null,null,null,null,null,null,null,null,null,null,null,"~"]
["SA36",2018,"FS193",448,null,null,null,null,null,null,null,null,null,null,null,null,null,null,null,null,null,null,"~"]
["SA36",2018,"FS193",449,null,null,null,null,null,null,null,null,null,null,null,null,null,null,null,null,null,null,"~"]
["SA36",2018,"FS193",450,null,null,null,null,null,null,null,null,null,null,null,null,null,null,null,null,null,null,"~"]
["SA36",2018,"FS193",451,null,null,null,null,null,null,null,null,null,null,null,null,null,null,null,null,null,null,"~"]
["SA36",2018,"FS193",452,null,null,null,null,null,null,null,null,null,null,null,null,null,null,null,null,null,null,"~"]
["SA36",2018,"FS193",453,null,null,null,null,null,null,null,null,null,null,null,null,null,null,null,null,null,null,"~"]
["SA36",2018,"FS193",454,null,null,null,null,null,null,null,null,null,null,null,null,null,null,null,null,null,null,"~"]
["SA36",2018,"FS193",455,null,null,null,null,null,null,null,null,null,null,null,null,null,null,null,null,null,null,"~"]
["SA36",2018,"FS193",456,null,null,null,null,null,null,null,null,null,null,null,null,null,null,null,null,null,null,"~"]
["SA36",2018,"FS193",457,null,null,null,null,null,null,null,null,null,null,null,null,null,null,null,null,null,null,"~"]
["SA36",2018,"FS193",458,null,null,null,null,null,null,null,null,null,null,null,null,null,null,null,null,null,null,"~"]
["SA36",2018,"FS193",459,null,null,null,null,null,null,null,null,null,null,null,null,null,null,null,null,null,null,"~"]
["SA36",2018,"FS193",460,null,null,null,null,null,null,null,null,null,null,null,null,null,null,null,null,null,null,"~"]
["SA36",2018,"FS193",461,null,null,null,null,null,null,null,null,null,null,null,null,null,null,null,null,null,null,"~"]
["SA36",2018,"FS193",462,null,null,null,null,null,null,null,null,null,null,null,null,null,null,null,null,null,null,"~"]
["SA36",2018,"FS193",463,null,null,null,null,null,null,null,null,null,null,null,null,null,null,null,null,null,null,"~"]
["SA36",2018,"FS193",464,null,null,null,null,null,null,null,null,null,null,null,null,null,null,null,null,null,null,"~"]
["SA36",2018,"FS193",465,null,null,null,null,null,null,null,null,null,null,null,null,null,null,null,null,null,null,"~"]
["SA36",2018,"FS193",466,null,null,null,null,null,null,null,null,null,null,null,null,null,null,null,null,null,null,"~"]
["SA36",2018,"FS193",467,null,null,null,null,null,null,null,null,null,null,null,null,null,null,null,null,null,null,"~"]
["SA36",2018,"FS193",468,null,null,null,null,null,null,null,null,null,null,null,null,null,null,null,null,null,null,"~"]
["SA36",2018,"FS193",469,null,null,null,null,null,null,null,null,null,null,null,null,null,null,null,null,null,null,"~"]
["SA36",2018,"FS193",470,null,null,null,null,null,null,null,null,null,null,null,null,null,null,null,null,null,null,"~"]
["SA36",2018,"FS193",471,null,null,null,null,null,null,null,null,null,null,null,null,null,null,null,null,null,null,"~"]
["SA36",{"$f":"+MTREF","v":2018},{"$f":"LEFT(muni,(FIND(\" \",muni,1)-1))","v":"FS193"},472,null,null,null,null,null,null,null,null,null,null,null,null,null,null,null,null,null,null,"~"]
["SA36",2018,"FS193",473,null,null,null,null,null,null,null,null,null,null,null,null,null,null,null,null,null,null,"~"]
["SA36",2018,"FS193",474,null,null,null,null,null,null,null,null,null,null,null,null,null,null,null,null,null,null,"~"]
["SA36",2018,"FS193",475,null,null,null,null,null,null,null,null,null,null,null,null,null,null,null,null,null,null,"~"]
["SA36",2018,"FS193",476,null,null,null,null,null,null,null,null,null,null,null,null,null,null,null,null,null,null,"~"]
["SA36",2018,"FS193",477,null,null,null,null,null,null,null,null,null,null,null,null,null,null,null,null,null,null,"~"]
["SA36",2018,"FS193",478,null,null,null,null,null,null,null,null,null,null,null,null,null,null,null,null,null,null,"~"]
["SA36",2018,"FS193",479,null,null,null,null,null,null,null,null,null,null,null,null,null,null,null,null,null,null,"~"]
["SA36",2018,"FS193",480,null,null,null,null,null,null,null,null,null,null,null,null,null,null,null,null,null,null,"~"]
["SA36",2018,"FS193",481,null,null,null,null,null,null,null,null,null,null,null,null,null,null,null,null,null,null,"~"]
["SA36",2018,"FS193",482,null,null,null,null,null,null,null,null,null,null,null,null,null,null,null,null,null,null,"~"]
["SA36",2018,"FS193",483,null,null,null,null,null,null,null,null,null,null,null,null,null,null,null,null,null,null,"~"]
["SA36",2018,"FS193",484,null,null,null,null,null,null,null,null,null,null,null,null,null,null,null,null,null,null,"~"]
["SA36",2018,"FS193",485,null,null,null,null,null,null,null,null,null,null,null,null,null,null,null,null,null,null,"~"]
["SA36",2018,"FS193",486,null,null,null,null,null,null,null,null,null,null,null,null,null,null,null,null,null,null,"~"]
["SA36",2018,"FS193",487,null,null,null,null,null,null,null,null,null,null,null,null,null,null,null,null,null,null,"~"]
["SA36",2018,"FS193",488,null,null,null,null,null,null,null,null,null,null,null,null,null,null,null,null,null,null,"~"]
["SA36",2018,"FS193",489,null,null,null,null,null,null,null,null,null,null,null,null,null,null,null,null,null,null,"~"]
["SA36",2018,"FS193",490,null,null,null,null,null,null,null,null,null,null,null,null,null,null,null,null,null,null,"~"]
["SA36",2018,"FS193",491,null,null,null,null,null,null,null,null,null,null,null,null,null,null,null,null,null,null,"~"]
["SA36",2018,"FS193",492,null,null,null,null,null,null,null,null,null,null,null,null,null,null,null,null,null,null,"~"]
["SA36",2018,"FS193",493,null,null,null,null,null,null,null,null,null,null,null,null,null,null,null,null,null,null,"~"]
["SA36",2018,"FS193",494,null,null,null,null,null,null,null,null,null,null,null,null,null,null,null,null,null,null,"~"]
["SA36",2018,"FS193",495,null,null,null,null,null,null,null,null,null,null,null,null,null,null,null,null,null,null,"~"]
["SA36",2018,"FS193",496,null,null,null,null,null,null,null,null,null,null,null,null,null,null,null,null,null,null,"~"]
["SA36",2018,"FS193",497,null,null,null,null,null,null,null,null,null,null,null,null,null,null,null,null,null,null,"~"]
["SA36",2018,"FS193",498,null,null,null,null,null,null,null,null,null,null,null,null,null,null,null,null,null,null,"~"]
["SA36",2018,"FS193",499,null,null,null,null,null,null,null,null,null,null,null,null,null,null,null,null,null,null,"~"]
["SA36",2018,"FS193",500,null,null,null,null,null,null,null,null,null,null,null,null,null,null,null,null,null,null,"~"]
["SA36",2018,"FS193",501,null,null,null,null,null,null,null,null,null,null,null,null,null,null,null,null,null,null,"~"]
["SA36",2018,"FS193",502,null,null,null,null,null,null,null,null,null,null,null,null,null,null,null,null,null,null,"~"]
["SA36",2018,"FS193",503,null,null,null,null,null,null,null,null,null,null,null,null,null,null,null,null,null,null,"~"]
["SA36",2018,"FS193",504,null,null,null,null,null,null,null,null,null,null,null,null,null,null,null,null,null,null,"~"]
["SA36",2018,"FS193",505,null,null,null,null,null,null,null,null,null,null,null,null,null,null,null,null,null,null,"~"]
["SA36",2018,"FS193",506,null,null,null,null,null,null,null,null,null,null,null,null,null,null,null,null,null,null,"~"]
["SA36",2018,"FS193",507,null,null,null,null,null,null,null,null,null,null,null,null,null,null,null,null,null,null,"~"]
["SA36",2018,"FS193",508,null,null,null,null,null,null,null,null,null,null,null,null,null,null,null,null,null,null,"~"]
["SA36",2018,"FS193",509,null,null,null,null,null,null,null,null,null,null,null,null,null,null,null,null,null,null,"~"]
["SA36",2018,"FS193",510,null,null,null,null,null,null,null,null,null,null,null,null,null,null,null,null,null,null,"~"]
["SA36",2018,"FS193",511,null,null,null,null,null,null,null,null,null,null,null,null,null,null,null,null,null,null,"~"]
["SA36",2018,"FS193",512,null,null,null,null,null,null,null,null,null,null,null,null,null,null,null,null,null,null,"~"]
["SA36",2018,"FS193",513,null,null,null,null,null,null,null,null,null,null,null,null,null,null,null,null,null,null,"~"]
["SA36",2018,"FS193",514,null,null,null,null,null,null,null,null,null,null,null,null,null,null,null,null,null,null,"~"]
["SA36",2018,"FS193",515,null,null,null,null,null,null,null,null,null,null,null,null,null,null,null,null,null,null,"~"]
["SA36",2018,"FS193",516,null,null,null,null,null,null,null,null,null,null,null,null,null,null,null,null,null,null,"~"]
["SA36",2018,"FS193",517,null,null,null,null,null,null,null,null,null,null,null,null,null,null,null,null,null,null,"~"]
["SA36",2018,"FS193",518,null,null,null,null,null,null,null,null,null,null,null,null,null,null,null,null,null,null,"~"]
["SA36",2018,"FS193",519,null,null,null,null,null,null,null,null,null,null,null,null,null,null,null,null,null,null,"~"]
["SA36",2018,"FS193",520,null,null,null,null,null,null,null,null,null,null,null,null,null,null,null,null,null,null,"~"]
["SA36",2018,"FS193",521,null,null,null,null,null,null,null,null,null,null,null,null,null,null,null,null,null,null,"~"]
["SA36",2018,"FS193",522,null,null,null,null,null,null,null,null,null,null,null,null,null,null,null,null,null,null,"~"]
["SA36",2018,"FS193",523,null,null,null,null,null,null,null,null,null,null,null,null,null,null,null,null,null,null,"~"]
["SA36",2018,"FS193",524,null,null,null,null,null,null,null,null,null,null,null,null,null,null,null,null,null,null,"~"]
["SA36",2018,"FS193",525,null,null,null,null,null,null,null,null,null,null,null,null,null,null,null,null,null,null,"~"]
["SA36",2018,"FS193",526,null,null,null,null,null,null,null,null,null,null,null,null,null,null,null,null,null,null,"~"]
["SA36",2018,"FS193",527,null,null,null,null,null,null,null,null,null,null,null,null,null,null,null,null,null,null,"~"]
["SA36",2018,"FS193",528,null,null,null,null,null,null,null,null,null,null,null,null,null,null,null,null,null,null,"~"]
["SA36",2018,"FS193",529,null,null,null,null,null,null,null,null,null,null,null,null,null,null,null,null,null,null,"~"]
["SA36",2018,"FS193",530,null,null,null,null,null,null,null,null,null,null,null,null,null,null,null,null,null,null,"~"]
["SA36",2018,"FS193",531,null,null,null,null,null,null,null,null,null,null,null,null,null,null,null,null,null,null,"~"]
["SA36",2018,"FS193",532,null,null,null,null,null,null,null,null,null,null,null,null,null,null,null,null,null,null,"~"]
["SA36",2018,"FS193",533,null,null,null,null,null,null,null,null,null,null,null,null,null,null,null,null,null,null,"~"]
["SA36",2018,"FS193",534,null,null,null,null,null,null,null,null,null,null,null,null,null,null,null,null,null,null,"~"]
["SA36",2018,"FS193",535,null,null,null,null,null,null,null,null,null,null,null,null,null,null,null,null,null,null,"~"]
["SA36",{"$f":"+MTREF","v":2018},{"$f":"LEFT(muni,(FIND(\" \",muni,1)-1))","v":"FS193"},536,null,null,null,null,null,null,null,null,null,null,null,null,null,null,null,null,null,null,"~"]
["SA36",2018,"FS193",537,null,null,null,null,null,null,null,null,null,null,null,null,null,null,null,null,null,null,"~"]
["SA36",2018,"FS193",538,null,null,null,null,null,null,null,null,null,null,null,null,null,null,null,null,null,null,"~"]
["SA36",2018,"FS193",539,null,null,null,null,null,null,null,null,null,null,null,null,null,null,null,null,null,null,"~"]
["SA36",2018,"FS193",540,null,null,null,null,null,null,null,null,null,null,null,null,null,null,null,null,null,null,"~"]
["SA36",2018,"FS193",541,null,null,null,null,null,null,null,null,null,null,null,null,null,null,null,null,null,null,"~"]
["SA36",2018,"FS193",542,null,null,null,null,null,null,null,null,null,null,null,null,null,null,null,null,null,null,"~"]
["SA36",2018,"FS193",543,null,null,null,null,null,null,null,null,null,null,null,null,null,null,null,null,null,null,"~"]
["SA36",2018,"FS193",544,null,null,null,null,null,null,null,null,null,null,null,null,null,null,null,null,null,null,"~"]
["SA36",2018,"FS193",545,null,null,null,null,null,null,null,null,null,null,null,null,null,null,null,null,null,null,"~"]
["SA36",2018,"FS193",546,null,null,null,null,null,null,null,null,null,null,null,null,null,null,null,null,null,null,"~"]
["SA36",2018,"FS193",547,null,null,null,null,null,null,null,null,null,null,null,null,null,null,null,null,null,null,"~"]
["SA36",2018,"FS193",548,null,null,null,null,null,null,null,null,null,null,null,null,null,null,null,null,null,null,"~"]
["SA36",2018,"FS193",549,null,null,null,null,null,null,null,null,null,null,null,null,null,null,null,null,null,null,"~"]
["SA36",2018,"FS193",550,null,null,null,null,null,null,null,null,null,null,null,null,null,null,null,null,null,null,"~"]
["SA36",2018,"FS193",551,null,null,null,null,null,null,null,null,null,null,null,null,null,null,null,null,null,null,"~"]
["SA36",2018,"FS193",552,null,null,null,null,null,null,null,null,null,null,null,null,null,null,null,null,null,null,"~"]
["SA36",2018,"FS193",553,null,null,null,null,null,null,null,null,null,null,null,null,null,null,null,null,null,null,"~"]
["SA36",2018,"FS193",554,null,null,null,null,null,null,null,null,null,null,null,null,null,null,null,null,null,null,"~"]
["SA36",2018,"FS193",555,null,null,null,null,null,null,null,null,null,null,null,null,null,null,null,null,null,null,"~"]
["SA36",2018,"FS193",556,null,null,null,null,null,null,null,null,null,null,null,null,null,null,null,null,null,null,"~"]
["SA36",2018,"FS193",557,null,null,null,null,null,null,null,null,null,null,null,null,null,null,null,null,null,null,"~"]
["SA36",2018,"FS193",558,null,null,null,null,null,null,null,null,null,null,null,null,null,null,null,null,null,null,"~"]
["SA36",2018,"FS193",559,null,null,null,null,null,null,null,null,null,null,null,null,null,null,null,null,null,null,"~"]
["SA36",2018,"FS193",560,null,null,null,null,null,null,null,null,null,null,null,null,null,null,null,null,null,null,"~"]
["SA36",2018,"FS193",561,null,null,null,null,null,null,null,null,null,null,null,null,null,null,null,null,null,null,"~"]
["SA36",2018,"FS193",562,null,null,null,null,null,null,null,null,null,null,null,null,null,null,null,null,null,null,"~"]
["SA36",2018,"FS193",563,null,null,null,null,null,null,null,null,null,null,null,null,null,null,null,null,null,null,"~"]
["SA36",2018,"FS193",564,null,null,null,null,null,null,null,null,null,null,null,null,null,null,null,null,null,null,"~"]
["SA36",2018,"FS193",565,null,null,null,null,null,null,null,null,null,null,null,null,null,null,null,null,null,null,"~"]
["SA36",2018,"FS193",566,null,null,null,null,null,null,null,null,null,null,null,null,null,null,null,null,null,null,"~"]
["SA36",2018,"FS193",567,null,null,null,null,null,null,null,null,null,null,null,null,null,null,null,null,null,null,"~"]
["SA36",2018,"FS193",568,null,null,null,null,null,null,null,null,null,null,null,null,null,null,null,null,null,null,"~"]
["SA36",2018,"FS193",569,null,null,null,null,null,null,null,null,null,null,null,null,null,null,null,null,null,null,"~"]
["SA36",2018,"FS193",570,null,null,null,null,null,null,null,null,null,null,null,null,null,null,null,null,null,null,"~"]
["SA36",2018,"FS193",571,null,null,null,null,null,null,null,null,null,null,null,null,null,null,null,null,null,null,"~"]
["SA36",2018,"FS193",572,null,null,null,null,null,null,null,null,null,null,null,null,null,null,null,null,null,null,"~"]
["SA36",2018,"FS193",573,null,null,null,null,null,null,null,null,null,null,null,null,null,null,null,null,null,null,"~"]
["SA36",2018,"FS193",574,null,null,null,null,null,null,null,null,null,null,null,null,null,null,null,null,null,null,"~"]
["SA36",2018,"FS193",575,null,null,null,null,null,null,null,null,null,null,null,null,null,null,null,null,null,null,"~"]
["SA36",2018,"FS193",576,null,null,null,null,null,null,null,null,null,null,null,null,null,null,null,null,null,null,"~"]
["SA36",2018,"FS193",577,null,null,null,null,null,null,null,null,null,null,null,null,null,null,null,null,null,null,"~"]
["SA36",2018,"FS193",578,null,null,null,null,null,null,null,null,null,null,null,null,null,null,null,null,null,null,"~"]
["SA36",2018,"FS193",579,null,null,null,null,null,null,null,null,null,null,null,null,null,null,null,null,null,null,"~"]
["SA36",2018,"FS193",580,null,null,null,null,null,null,null,null,null,null,null,null,null,null,null,null,null,null,"~"]
["SA36",2018,"FS193",581,null,null,null,null,null,null,null,null,null,null,null,null,null,null,null,null,null,null,"~"]
["SA36",2018,"FS193",582,null,null,null,null,null,null,null,null,null,null,null,null,null,null,null,null,null,null,"~"]
["SA36",2018,"FS193",583,null,null,null,null,null,null,null,null,null,null,null,null,null,null,null,null,null,null,"~"]
["SA36",2018,"FS193",584,null,null,null,null,null,null,null,null,null,null,null,null,null,null,null,null,null,null,"~"]
["SA36",2018,"FS193",585,null,null,null,null,null,null,null,null,null,null,null,null,null,null,null,null,null,null,"~"]
["SA36",2018,"FS193",586,null,null,null,null,null,null,null,null,null,null,null,null,null,null,null,null,null,null,"~"]
["SA36",2018,"FS193",587,null,null,null,null,null,null,null,null,null,null,null,null,null,null,null,null,null,null,"~"]
["SA36",2018,"FS193",588,null,null,null,null,null,null,null,null,null,null,null,null,null,null,null,null,null,null,"~"]
["SA36",2018,"FS193",589,null,null,null,null,null,null,null,null,null,null,null,null,null,null,null,null,null,null,"~"]
["SA36",2018,"FS193",590,null,null,null,null,null,null,null,null,null,null,null,null,null,null,null,null,null,null,"~"]
["SA36",2018,"FS193",591,null,null,null,null,null,null,null,null,null,null,null,null,null,null,null,null,null,null,"~"]
["SA36",2018,"FS193",592,null,null,null,null,null,null,null,null,null,null,null,null,null,null,null,null,null,null,"~"]
["SA36",2018,"FS193",593,null,null,null,null,null,null,null,null,null,null,null,null,null,null,null,null,null,null,"~"]
["SA36",2018,"FS193",594,null,null,null,null,null,null,null,null,null,null,null,null,null,null,null,null,null,null,"~"]
["SA36",2018,"FS193",595,null,null,null,null,null,null,null,null,null,null,null,null,null,null,null,null,null,null,"~"]
["SA36",2018,"FS193",596,null,null,null,null,null,null,null,null,null,null,null,null,null,null,null,null,null,null,"~"]
["SA36",2018,"FS193",597,null,null,null,null,null,null,null,null,null,null,null,null,null,null,null,null,null,null,"~"]
["SA36",2018,"FS193",598,null,null,null,null,null,null,null,null,null,null,null,null,null,null,null,null,null,null,"~"]
["SA36",2018,"FS193",599,null,null,null,null,null,null,null,null,null,null,null,null,null,null,null,null,null,null,"~"]
["SA36",{"$f":"+MTREF","v":2018},{"$f":"LEFT(muni,(FIND(\" \",muni,1)-1))","v":"FS193"},600,null,null,null,null,null,null,null,null,null,null,null,null,null,null,null,null,null,null,"~"]
["SA36",2018,"FS193",601,null,null,null,null,null,null,null,null,null,null,null,null,null,null,null,null,null,null,"~"]
["SA36",2018,"FS193",602,null,null,null,null,null,null,null,null,null,null,null,null,null,null,null,null,null,null,"~"]
["SA36",2018,"FS193",603,null,null,null,null,null,null,null,null,null,null,null,null,null,null,null,null,null,null,"~"]
["SA36",2018,"FS193",604,null,null,null,null,null,null,null,null,null,null,null,null,null,null,null,null,null,null,"~"]
["SA36",2018,"FS193",605,null,null,null,null,null,null,null,null,null,null,null,null,null,null,null,null,null,null,"~"]
["SA36",2018,"FS193",606,null,null,null,null,null,null,null,null,null,null,null,null,null,null,null,null,null,null,"~"]
["SA36",2018,"FS193",607,null,null,null,null,null,null,null,null,null,null,null,null,null,null,null,null,null,null,"~"]
["SA36",2018,"FS193",608,null,null,null,null,null,null,null,null,null,null,null,null,null,null,null,null,null,null,"~"]
["SA36",2018,"FS193",609,null,null,null,null,null,null,null,null,null,null,null,null,null,null,null,null,null,null,"~"]
["SA36",2018,"FS193",610,null,null,null,null,null,null,null,null,null,null,null,null,null,null,null,null,null,null,"~"]
["SA36",2018,"FS193",611,null,null,null,null,null,null,null,null,null,null,null,null,null,null,null,null,null,null,"~"]
["SA36",2018,"FS193",612,null,null,null,null,null,null,null,null,null,null,null,null,null,null,null,null,null,null,"~"]
["SA36",2018,"FS193",613,null,null,null,null,null,null,null,null,null,null,null,null,null,null,null,null,null,null,"~"]
["SA36",2018,"FS193",614,null,null,null,null,null,null,null,null,null,null,null,null,null,null,null,null,null,null,"~"]
["SA36",2018,"FS193",615,null,null,null,null,null,null,null,null,null,null,null,null,null,null,null,null,null,null,"~"]
["SA36",2018,"FS193",616,null,null,null,null,null,null,null,null,null,null,null,null,null,null,null,null,null,null,"~"]
["SA36",2018,"FS193",617,null,null,null,null,null,null,null,null,null,null,null,null,null,null,null,null,null,null,"~"]
["SA36",2018,"FS193",618,null,null,null,null,null,null,null,null,null,null,null,null,null,null,null,null,null,null,"~"]
["SA36",2018,"FS193",619,null,null,null,null,null,null,null,null,null,null,null,null,null,null,null,null,null,null,"~"]
["SA36",2018,"FS193",620,null,null,null,null,null,null,null,null,null,null,null,null,null,null,null,null,null,null,"~"]
["SA36",2018,"FS193",621,null,null,null,null,null,null,null,null,null,null,null,null,null,null,null,null,null,null,"~"]
["SA36",2018,"FS193",622,null,null,null,null,null,null,null,null,null,null,null,null,null,null,null,null,null,null,"~"]
["SA36",2018,"FS193",623,null,null,null,null,null,null,null,null,null,null,null,null,null,null,null,null,null,null,"~"]
["SA36",2018,"FS193",624,null,null,null,null,null,null,null,null,null,null,null,null,null,null,null,null,null,null,"~"]
["SA36",2018,"FS193",625,null,null,null,null,null,null,null,null,null,null,null,null,null,null,null,null,null,null,"~"]
["SA36",2018,"FS193",626,null,null,null,null,null,null,null,null,null,null,null,null,null,null,null,null,null,null,"~"]
["SA36",2018,"FS193",627,null,null,null,null,null,null,null,null,null,null,null,null,null,null,null,null,null,null,"~"]
["SA36",2018,"FS193",628,null,null,null,null,null,null,null,null,null,null,null,null,null,null,null,null,null,null,"~"]
["SA36",2018,"FS193",629,null,null,null,null,null,null,null,null,null,null,null,null,null,null,null,null,null,null,"~"]
["SA36",2018,"FS193",630,null,null,null,null,null,null,null,null,null,null,null,null,null,null,null,null,null,null,"~"]
["SA36",2018,"FS193",631,null,null,null,null,null,null,null,null,null,null,null,null,null,null,null,null,null,null,"~"]
["SA36",2018,"FS193",632,null,null,null,null,null,null,null,null,null,null,null,null,null,null,null,null,null,null,"~"]
["SA36",2018,"FS193",633,null,null,null,null,null,null,null,null,null,null,null,null,null,null,null,null,null,null,"~"]
["SA36",2018,"FS193",634,null,null,null,null,null,null,null,null,null,null,null,null,null,null,null,null,null,null,"~"]
["SA36",2018,"FS193",635,null,null,null,null,null,null,null,null,null,null,null,null,null,null,null,null,null,null,"~"]
["SA36",2018,"FS193",636,null,null,null,null,null,null,null,null,null,null,null,null,null,null,null,null,null,null,"~"]
["SA36",2018,"FS193",637,null,null,null,null,null,null,null,null,null,null,null,null,null,null,null,null,null,null,"~"]
["SA36",2018,"FS193",638,null,null,null,null,null,null,null,null,null,null,null,null,null,null,null,null,null,null,"~"]
["SA36",2018,"FS193",639,null,null,null,null,null,null,null,null,null,null,null,null,null,null,null,null,null,null,"~"]
["SA36",2018,"FS193",640,null,null,null,null,null,null,null,null,null,null,null,null,null,null,null,null,null,null,"~"]
["SA36",2018,"FS193",641,null,null,null,null,null,null,null,null,null,null,null,null,null,null,null,null,null,null,"~"]
["SA36",2018,"FS193",642,null,null,null,null,null,null,null,null,null,null,null,null,null,null,null,null,null,null,"~"]
["SA36",2018,"FS193",643,null,null,null,null,null,null,null,null,null,null,null,null,null,null,null,null,null,null,"~"]
["SA36",2018,"FS193",644,null,null,null,null,null,null,null,null,null,null,null,null,null,null,null,null,null,null,"~"]
["SA36",2018,"FS193",645,null,null,null,null,null,null,null,null,null,null,null,null,null,null,null,null,null,null,"~"]
["SA36",2018,"FS193",646,null,null,null,null,null,null,null,null,null,null,null,null,null,null,null,null,null,null,"~"]
["SA36",2018,"FS193",647,null,null,null,null,null,null,null,null,null,null,null,null,null,null,null,null,null,null,"~"]
["SA36",2018,"FS193",648,null,null,null,null,null,null,null,null,null,null,null,null,null,null,null,null,null,null,"~"]
["SA36",2018,"FS193",649,null,null,null,null,null,null,null,null,null,null,null,null,null,null,null,null,null,null,"~"]
["SA36",2018,"FS193",650,null,null,null,null,null,null,null,null,null,null,null,null,null,null,null,null,null,null,"~"]
["SA36",2018,"FS193",651,null,null,null,null,null,null,null,null,null,null,null,null,null,null,null,null,null,null,"~"]
["SA36",2018,"FS193",652,null,null,null,null,null,null,null,null,null,null,null,null,null,null,null,null,null,null,"~"]
["SA36",2018,"FS193",653,null,null,null,null,null,null,null,null,null,null,null,null,null,null,null,null,null,null,"~"]
["SA36",2018,"FS193",654,null,null,null,null,null,null,null,null,null,null,null,null,null,null,null,null,null,null,"~"]
["SA36",2018,"FS193",655,null,null,null,null,null,null,null,null,null,null,null,null,null,null,null,null,null,null,"~"]
["SA36",2018,"FS193",656,null,null,null,null,null,null,null,null,null,null,null,null,null,null,null,null,null,null,"~"]
["SA36",2018,"FS193",657,null,null,null,null,null,null,null,null,null,null,null,null,null,null,null,null,null,null,"~"]
["SA36",2018,"FS193",658,null,null,null,null,null,null,null,null,null,null,null,null,null,null,null,null,null,null,"~"]
["SA36",2018,"FS193",659,null,null,null,null,null,null,null,null,null,null,null,null,null,null,null,null,null,null,"~"]
["SA36",2018,"FS193",660,null,null,null,null,null,null,null,null,null,null,null,null,null,null,null,null,null,null,"~"]
["SA36",2018,"FS193",661,null,null,null,null,null,null,null,null,null,null,null,null,null,null,null,null,null,null,"~"]
["SA36",2018,"FS193",662,null,null,null,null,null,null,null,null,null,null,null,null,null,null,null,null,null,null,"~"]
["SA36",2018,"FS193",663,null,null,null,null,null,null,null,null,null,null,null,null,null,null,null,null,null,null,"~"]
["SA36",{"$f":"+MTREF","v":2018},{"$f":"LEFT(muni,(FIND(\" \",muni,1)-1))","v":"FS193"},664,null,null,null,null,null,null,null,null,null,null,null,null,null,null,null,null,null,null,"~"]
["SA36",2018,"FS193",665,null,null,null,null,null,null,null,null,null,null,null,null,null,null,null,null,null,null,"~"]
["SA36",2018,"FS193",666,null,null,null,null,null,null,null,null,null,null,null,null,null,null,null,null,null,null,"~"]
["SA36",2018,"FS193",667,null,null,null,null,null,null,null,null,null,null,null,null,null,null,null,null,null,null,"~"]
["SA36",2018,"FS193",668,null,null,null,null,null,null,null,null,null,null,null,null,null,null,null,null,null,null,"~"]
["SA36",2018,"FS193",669,null,null,null,null,null,null,null,null,null,null,null,null,null,null,null,null,null,null,"~"]
["SA36",2018,"FS193",670,null,null,null,null,null,null,null,null,null,null,null,null,null,null,null,null,null,null,"~"]
["SA36",2018,"FS193",671,null,null,null,null,null,null,null,null,null,null,null,null,null,null,null,null,null,null,"~"]
["SA36",2018,"FS193",672,null,null,null,null,null,null,null,null,null,null,null,null,null,null,null,null,null,null,"~"]
["SA36",2018,"FS193",673,null,null,null,null,null,null,null,null,null,null,null,null,null,null,null,null,null,null,"~"]
["SA36",2018,"FS193",674,null,null,null,null,null,null,null,null,null,null,null,null,null,null,null,null,null,null,"~"]
["SA36",2018,"FS193",675,null,null,null,null,null,null,null,null,null,null,null,null,null,null,null,null,null,null,"~"]
["SA36",2018,"FS193",676,null,null,null,null,null,null,null,null,null,null,null,null,null,null,null,null,null,null,"~"]
["SA36",2018,"FS193",677,null,null,null,null,null,null,null,null,null,null,null,null,null,null,null,null,null,null,"~"]
["SA36",2018,"FS193",678,null,null,null,null,null,null,null,null,null,null,null,null,null,null,null,null,null,null,"~"]
["SA36",2018,"FS193",679,null,null,null,null,null,null,null,null,null,null,null,null,null,null,null,null,null,null,"~"]
["SA36",2018,"FS193",680,null,null,null,null,null,null,null,null,null,null,null,null,null,null,null,null,null,null,"~"]
["SA36",2018,"FS193",681,null,null,null,null,null,null,null,null,null,null,null,null,null,null,null,null,null,null,"~"]
["SA36",2018,"FS193",682,null,null,null,null,null,null,null,null,null,null,null,null,null,null,null,null,null,null,"~"]
["SA36",2018,"FS193",683,null,null,null,null,null,null,null,null,null,null,null,null,null,null,null,null,null,null,"~"]
["SA36",2018,"FS193",684,null,null,null,null,null,null,null,null,null,null,null,null,null,null,null,null,null,null,"~"]
["SA36",2018,"FS193",685,null,null,null,null,null,null,null,null,null,null,null,null,null,null,null,null,null,null,"~"]
["SA36",2018,"FS193",686,null,null,null,null,null,null,null,null,null,null,null,null,null,null,null,null,null,null,"~"]
["SA36",2018,"FS193",687,null,null,null,null,null,null,null,null,null,null,null,null,null,null,null,null,null,null,"~"]
["SA36",2018,"FS193",688,null,null,null,null,null,null,null,null,null,null,null,null,null,null,null,null,null,null,"~"]
["SA36",2018,"FS193",689,null,null,null,null,null,null,null,null,null,null,null,null,null,null,null,null,null,null,"~"]
["SA36",2018,"FS193",690,null,null,null,null,null,null,null,null,null,null,null,null,null,null,null,null,null,null,"~"]
["SA36",2018,"FS193",691,null,null,null,null,null,null,null,null,null,null,null,null,null,null,null,null,null,null,"~"]
["SA36",2018,"FS193",692,null,null,null,null,null,null,null,null,null,null,null,null,null,null,null,null,null,null,"~"]
["SA36",2018,"FS193",693,null,null,null,null,null,null,null,null,null,null,null,null,null,null,null,null,null,null,"~"]
["SA36",2018,"FS193",694,null,null,null,null,null,null,null,null,null,null,null,null,null,null,null,null,null,null,"~"]
["SA36",2018,"FS193",695,null,null,null,null,null,null,null,null,null,null,null,null,null,null,null,null,null,null,"~"]
["SA36",2018,"FS193",696,null,null,null,null,null,null,null,null,null,null,null,null,null,null,null,null,null,null,"~"]
["SA36",2018,"FS193",697,null,null,null,null,null,null,null,null,null,null,null,null,null,null,null,null,null,null,"~"]
["SA36",2018,"FS193",698,null,null,null,null,null,null,null,null,null,null,null,null,null,null,null,null,null,null,"~"]
["SA36",2018,"FS193",699,null,null,null,null,null,null,null,null,null,null,null,null,null,null,null,null,null,null,"~"]
["SA36",2018,"FS193",700,null,null,null,null,null,null,null,null,null,null,null,null,null,null,null,null,null,null,"~"]
["SA36",2018,"FS193",701,null,null,null,null,null,null,null,null,null,null,null,null,null,null,null,null,null,null,"~"]
["SA36",2018,"FS193",702,null,null,null,null,null,null,null,null,null,null,null,null,null,null,null,null,null,null,"~"]
["SA36",2018,"FS193",703,null,null,null,null,null,null,null,null,null,null,null,null,null,null,null,null,null,null,"~"]
["SA36",2018,"FS193",704,null,null,null,null,null,null,null,null,null,null,null,null,null,null,null,null,null,null,"~"]
["SA36",2018,"FS193",705,null,null,null,null,null,null,null,null,null,null,null,null,null,null,null,null,null,null,"~"]
["SA36",2018,"FS193",706,null,null,null,null,null,null,null,null,null,null,null,null,null,null,null,null,null,null,"~"]
["SA36",2018,"FS193",707,null,null,null,null,null,null,null,null,null,null,null,null,null,null,null,null,null,null,"~"]
["SA36",2018,"FS193",708,null,null,null,null,null,null,null,null,null,null,null,null,null,null,null,null,null,null,"~"]
["SA36",2018,"FS193",709,null,null,null,null,null,null,null,null,null,null,null,null,null,null,null,null,null,null,"~"]
["SA36",2018,"FS193",710,null,null,null,null,null,null,null,null,null,null,null,null,null,null,null,null,null,null,"~"]
["SA36",2018,"FS193",711,null,null,null,null,null,null,null,null,null,null,null,null,null,null,null,null,null,null,"~"]
["SA36",2018,"FS193",712,null,null,null,null,null,null,null,null,null,null,null,null,null,null,null,null,null,null,"~"]
["SA36",2018,"FS193",713,null,null,null,null,null,null,null,null,null,null,null,null,null,null,null,null,null,null,"~"]
["SA36",2018,"FS193",714,null,null,null,null,null,null,null,null,null,null,null,null,null,null,null,null,null,null,"~"]
["SA36",2018,"FS193",715,null,null,null,null,null,null,null,null,null,null,null,null,null,null,null,null,null,null,"~"]
["SA36",2018,"FS193",716,null,null,null,null,null,null,null,null,null,null,null,null,null,null,null,null,null,null,"~"]
["SA36",2018,"FS193",717,null,null,null,null,null,null,null,null,null,null,null,null,null,null,null,null,null,null,"~"]
["SA36",2018,"FS193",718,null,null,null,null,null,null,null,null,null,null,null,null,null,null,null,null,null,null,"~"]
["SA36",2018,"FS193",719,null,null,null,null,null,null,null,null,null,null,null,null,null,null,null,null,null,null,"~"]
["SA36",2018,"FS193",720,null,null,null,null,null,null,null,null,null,null,null,null,null,null,null,null,null,null,"~"]
["SA36",2018,"FS193",721,null,null,null,null,null,null,null,null,null,null,null,null,null,null,null,null,null,null,"~"]
["SA36",2018,"FS193",722,null,null,null,null,null,null,null,null,null,null,null,null,null,null,null,null,null,null,"~"]
["SA36",2018,"FS193",723,null,null,null,null,null,null,null,null,null,null,null,null,null,null,null,null,null,null,"~"]
["SA36",2018,"FS193",724,null,null,null,null,null,null,null,null,null,null,null,null,null,null,null,null,null,null,"~"]
["SA36",2018,"FS193",725,null,null,null,null,null,null,null,null,null,null,null,null,null,null,null,null,null,null,"~"]
["SA36",2018,"FS193",726,null,null,null,null,null,null,null,null,null,null,null,null,null,null,null,null,null,null,"~"]
["SA36",2018,"FS193",727,null,null,null,null,null,null,null,null,null,null,null,null,null,null,null,null,null,null,"~"]
["SA36",{"$f":"+MTREF","v":2018},{"$f":"LEFT(muni,(FIND(\" \",muni,1)-1))","v":"FS193"},728,null,null,null,null,null,null,null,null,null,null,null,null,null,null,null,null,null,null,"~"]
["SA36",2018,"FS193",729,null,null,null,null,null,null,null,null,null,null,null,null,null,null,null,null,null,null,"~"]
["SA36",2018,"FS193",730,null,null,null,null,null,null,null,null,null,null,null,null,null,null,null,null,null,null,"~"]
["SA36",2018,"FS193",731,null,null,null,null,null,null,null,null,null,null,null,null,null,null,null,null,null,null,"~"]
["SA36",2018,"FS193",732,null,null,null,null,null,null,null,null,null,null,null,null,null,null,null,null,null,null,"~"]
["SA36",2018,"FS193",733,null,null,null,null,null,null,null,null,null,null,null,null,null,null,null,null,null,null,"~"]
["SA36",2018,"FS193",734,null,null,null,null,null,null,null,null,null,null,null,null,null,null,null,null,null,null,"~"]
["SA36",2018,"FS193",735,null,null,null,null,null,null,null,null,null,null,null,null,null,null,null,null,null,null,"~"]
["SA36",2018,"FS193",736,null,null,null,null,null,null,null,null,null,null,null,null,null,null,null,null,null,null,"~"]
["SA36",2018,"FS193",737,null,null,null,null,null,null,null,null,null,null,null,null,null,null,null,null,null,null,"~"]
["SA36",2018,"FS193",738,null,null,null,null,null,null,null,null,null,null,null,null,null,null,null,null,null,null,"~"]
["SA36",2018,"FS193",739,null,null,null,null,null,null,null,null,null,null,null,null,null,null,null,null,null,null,"~"]
["SA36",2018,"FS193",740,null,null,null,null,null,null,null,null,null,null,null,null,null,null,null,null,null,null,"~"]
["SA36",2018,"FS193",741,null,null,null,null,null,null,null,null,null,null,null,null,null,null,null,null,null,null,"~"]
["SA36",2018,"FS193",742,null,null,null,null,null,null,null,null,null,null,null,null,null,null,null,null,null,null,"~"]
["SA36",2018,"FS193",743,null,null,null,null,null,null,null,null,null,null,null,null,null,null,null,null,null,null,"~"]
["SA36",2018,"FS193",744,null,null,null,null,null,null,null,null,null,null,null,null,null,null,null,null,null,null,"~"]
["SA36",2018,"FS193",745,null,null,null,null,null,null,null,null,null,null,null,null,null,null,null,null,null,null,"~"]
["SA36",2018,"FS193",746,null,null,null,null,null,null,null,null,null,null,null,null,null,null,null,null,null,null,"~"]
["SA36",2018,"FS193",747,null,null,null,null,null,null,null,null,null,null,null,null,null,null,null,null,null,null,"~"]
["SA36",2018,"FS193",748,null,null,null,null,null,null,null,null,null,null,null,null,null,null,null,null,null,null,"~"]
["SA36",2018,"FS193",749,null,null,null,null,null,null,null,null,null,null,null,null,null,null,null,null,null,null,"~"]
["SA36",2018,"FS193",750,null,null,null,null,null,null,null,null,null,null,null,null,null,null,null,null,null,null,"~"]
["SA36",2018,"FS193",751,null,null,null,null,null,null,null,null,null,null,null,null,null,null,null,null,null,null,"~"]
["SA36",2018,"FS193",752,null,null,null,null,null,null,null,null,null,null,null,null,null,null,null,null,null,null,"~"]
["SA36",2018,"FS193",753,null,null,null,null,null,null,null,null,null,null,null,null,null,null,null,null,null,null,"~"]
["SA36",2018,"FS193",754,null,null,null,null,null,null,null,null,null,null,null,null,null,null,null,null,null,null,"~"]
["SA36",2018,"FS193",755,null,null,null,null,null,null,null,null,null,null,null,null,null,null,null,null,null,null,"~"]
["SA36",2018,"FS193",756,null,null,null,null,null,null,null,null,null,null,null,null,null,null,null,null,null,null,"~"]
["SA36",2018,"FS193",757,null,null,null,null,null,null,null,null,null,null,null,null,null,null,null,null,null,null,"~"]
["SA36",2018,"FS193",758,null,null,null,null,null,null,null,null,null,null,null,null,null,null,null,null,null,null,"~"]
["SA36",2018,"FS193",759,null,null,null,null,null,null,null,null,null,null,null,null,null,null,null,null,null,null,"~"]
["SA36",2018,"FS193",760,null,null,null,null,null,null,null,null,null,null,null,null,null,null,null,null,null,null,"~"]
["SA36",2018,"FS193",761,null,null,null,null,null,null,null,null,null,null,null,null,null,null,null,null,null,null,"~"]
["SA36",2018,"FS193",762,null,null,null,null,null,null,null,null,null,null,null,null,null,null,null,null,null,null,"~"]
["SA36",2018,"FS193",763,null,null,null,null,null,null,null,null,null,null,null,null,null,null,null,null,null,null,"~"]
["SA36",2018,"FS193",764,null,null,null,null,null,null,null,null,null,null,null,null,null,null,null,null,null,null,"~"]
["SA36",2018,"FS193",765,null,null,null,null,null,null,null,null,null,null,null,null,null,null,null,null,null,null,"~"]
["SA36",2018,"FS193",766,null,null,null,null,null,null,null,null,null,null,null,null,null,null,null,null,null,null,"~"]
["SA36",2018,"FS193",767,null,null,null,null,null,null,null,null,null,null,null,null,null,null,null,null,null,null,"~"]
["SA36",2018,"FS193",768,null,null,null,null,null,null,null,null,null,null,null,null,null,null,null,null,null,null,"~"]
["SA36",2018,"FS193",769,null,null,null,null,null,null,null,null,null,null,null,null,null,null,null,null,null,null,"~"]
["SA36",2018,"FS193",770,null,null,null,null,null,null,null,null,null,null,null,null,null,null,null,null,null,null,"~"]
["SA36",2018,"FS193",771,null,null,null,null,null,null,null,null,null,null,null,null,null,null,null,null,null,null,"~"]
["SA36",2018,"FS193",772,null,null,null,null,null,null,null,null,null,null,null,null,null,null,null,null,null,null,"~"]
["SA36",2018,"FS193",773,null,null,null,null,null,null,null,null,null,null,null,null,null,null,null,null,null,null,"~"]
["SA36",2018,"FS193",774,null,null,null,null,null,null,null,null,null,null,null,null,null,null,null,null,null,null,"~"]
["SA36",2018,"FS193",775,null,null,null,null,null,null,null,null,null,null,null,null,null,null,null,null,null,null,"~"]
["SA36",2018,"FS193",776,null,null,null,null,null,null,null,null,null,null,null,null,null,null,null,null,null,null,"~"]
["SA36",2018,"FS193",777,null,null,null,null,null,null,null,null,null,null,null,null,null,null,null,null,null,null,"~"]
["SA36",2018,"FS193",778,null,null,null,null,null,null,null,null,null,null,null,null,null,null,null,null,null,null,"~"]
["SA36",2018,"FS193",779,null,null,null,null,null,null,null,null,null,null,null,null,null,null,null,null,null,null,"~"]
["SA36",2018,"FS193",780,null,null,null,null,null,null,null,null,null,null,null,null,null,null,null,null,null,null,"~"]
["SA36",2018,"FS193",781,null,null,null,null,null,null,null,null,null,null,null,null,null,null,null,null,null,null,"~"]
["SA36",2018,"FS193",782,null,null,null,null,null,null,null,null,null,null,null,null,null,null,null,null,null,null,"~"]
["SA36",2018,"FS193",783,null,null,null,null,null,null,null,null,null,null,null,null,null,null,null,null,null,null,"~"]
["SA36",2018,"FS193",784,null,null,null,null,null,null,null,null,null,null,null,null,null,null,null,null,null,null,"~"]
["SA36",2018,"FS193",785,null,null,null,null,null,null,null,null,null,null,null,null,null,null,null,null,null,null,"~"]
["SA36",2018,"FS193",786,null,null,null,null,null,null,null,null,null,null,null,null,null,null,null,null,null,null,"~"]
["SA36",2018,"FS193",787,null,null,null,null,null,null,null,null,null,null,null,null,null,null,null,null,null,null,"~"]
["SA36",2018,"FS193",788,null,null,null,null,null,null,null,null,null,null,null,null,null,null,null,null,null,null,"~"]
["SA36",2018,"FS193",789,null,null,null,null,null,null,null,null,null,null,null,null,null,null,null,null,null,null,"~"]
["SA36",2018,"FS193",790,null,null,null,null,null,null,null,null,null,null,null,null,null,null,null,null,null,null,"~"]
["SA36",2018,"FS193",791,null,null,null,null,null,null,null,null,null,null,null,null,null,null,null,null,null,null,"~"]
["SA36",{"$f":"+MTREF","v":2018},{"$f":"LEFT(muni,(FIND(\" \",muni,1)-1))","v":"FS193"},792,null,null,null,null,null,null,null,null,null,null,null,null,null,null,null,null,null,null,"~"]
["SA36",2018,"FS193",793,null,null,null,null,null,null,null,null,null,null,null,null,null,null,null,null,null,null,"~"]
["SA36",2018,"FS193",794,null,null,null,null,null,null,null,null,null,null,null,null,null,null,null,null,null,null,"~"]
["SA36",2018,"FS193",795,null,null,null,null,null,null,null,null,null,null,null,null,null,null,null,null,null,null,"~"]
["SA36",2018,"FS193",796,null,null,null,null,null,null,null,null,null,null,null,null,null,null,null,null,null,null,"~"]
["SA36",2018,"FS193",797,null,null,null,null,null,null,null,null,null,null,null,null,null,null,null,null,null,null,"~"]
["SA36",2018,"FS193",798,null,null,null,null,null,null,null,null,null,null,null,null,null,null,null,null,null,null,"~"]
["SA36",2018,"FS193",799,null,null,null,null,null,null,null,null,null,null,null,null,null,null,null,null,null,null,"~"]
["SA36",2018,"FS193",800,null,null,null,null,null,null,null,null,null,null,null,null,null,null,null,null,null,null,"~"]
["SA36",2018,"FS193",801,null,null,null,null,null,null,null,null,null,null,null,null,null,null,null,null,null,null,"~"]
["SA36",2018,"FS193",802,null,null,null,null,null,null,null,null,null,null,null,null,null,null,null,null,null,null,"~"]
["SA36",2018,"FS193",803,null,null,null,null,null,null,null,null,null,null,null,null,null,null,null,null,null,null,"~"]
["SA36",2018,"FS193",804,null,null,null,null,null,null,null,null,null,null,null,null,null,null,null,null,null,null,"~"]
["SA36",2018,"FS193",805,null,null,null,null,null,null,null,null,null,null,null,null,null,null,null,null,null,null,"~"]
["SA36",2018,"FS193",806,null,null,null,null,null,null,null,null,null,null,null,null,null,null,null,null,null,null,"~"]
["SA36",2018,"FS193",807,null,null,null,null,null,null,null,null,null,null,null,null,null,null,null,null,null,null,"~"]
["SA36",2018,"FS193",808,null,null,null,null,null,null,null,null,null,null,null,null,null,null,null,null,null,null,"~"]
["SA36",2018,"FS193",809,null,null,null,null,null,null,null,null,null,null,null,null,null,null,null,null,null,null,"~"]
["SA36",2018,"FS193",810,null,null,null,null,null,null,null,null,null,null,null,null,null,null,null,null,null,null,"~"]
["SA36",2018,"FS193",811,null,null,null,null,null,null,null,null,null,null,null,null,null,null,null,null,null,null,"~"]
["SA36",2018,"FS193",812,null,null,null,null,null,null,null,null,null,null,null,null,null,null,null,null,null,null,"~"]
["SA36",2018,"FS193",813,null,null,null,null,null,null,null,null,null,null,null,null,null,null,null,null,null,null,"~"]
["SA36",2018,"FS193",814,null,null,null,null,null,null,null,null,null,null,null,null,null,null,null,null,null,null,"~"]
["SA36",2018,"FS193",815,null,null,null,null,null,null,null,null,null,null,null,null,null,null,null,null,null,null,"~"]
["SA36",2018,"FS193",816,null,null,null,null,null,null,null,null,null,null,null,null,null,null,null,null,null,null,"~"]
["SA36",2018,"FS193",817,null,null,null,null,null,null,null,null,null,null,null,null,null,null,null,null,null,null,"~"]
["SA36",2018,"FS193",818,null,null,null,null,null,null,null,null,null,null,null,null,null,null,null,null,null,null,"~"]
["SA36",2018,"FS193",819,null,null,null,null,null,null,null,null,null,null,null,null,null,null,null,null,null,null,"~"]
["SA36",2018,"FS193",820,null,null,null,null,null,null,null,null,null,null,null,null,null,null,null,null,null,null,"~"]
["SA36",2018,"FS193",821,null,null,null,null,null,null,null,null,null,null,null,null,null,null,null,null,null,null,"~"]
["SA36",2018,"FS193",822,null,null,null,null,null,null,null,null,null,null,null,null,null,null,null,null,null,null,"~"]
["SA36",2018,"FS193",823,null,null,null,null,null,null,null,null,null,null,null,null,null,null,null,null,null,null,"~"]
["SA36",2018,"FS193",824,null,null,null,null,null,null,null,null,null,null,null,null,null,null,null,null,null,null,"~"]
["SA36",2018,"FS193",825,null,null,null,null,null,null,null,null,null,null,null,null,null,null,null,null,null,null,"~"]
["SA36",2018,"FS193",826,null,null,null,null,null,null,null,null,null,null,null,null,null,null,null,null,null,null,"~"]
["SA36",2018,"FS193",827,null,null,null,null,null,null,null,null,null,null,null,null,null,null,null,null,null,null,"~"]
["SA36",2018,"FS193",828,null,null,null,null,null,null,null,null,null,null,null,null,null,null,null,null,null,null,"~"]
["SA36",2018,"FS193",829,null,null,null,null,null,null,null,null,null,null,null,null,null,null,null,null,null,null,"~"]
["SA36",2018,"FS193",830,null,null,null,null,null,null,null,null,null,null,null,null,null,null,null,null,null,null,"~"]
["SA36",2018,"FS193",831,null,null,null,null,null,null,null,null,null,null,null,null,null,null,null,null,null,null,"~"]
["SA36",2018,"FS193",832,null,null,null,null,null,null,null,null,null,null,null,null,null,null,null,null,null,null,"~"]
["SA36",2018,"FS193",833,null,null,null,null,null,null,null,null,null,null,null,null,null,null,null,null,null,null,"~"]
["SA36",2018,"FS193",834,null,null,null,null,null,null,null,null,null,null,null,null,null,null,null,null,null,null,"~"]
["SA36",2018,"FS193",835,null,null,null,null,null,null,null,null,null,null,null,null,null,null,null,null,null,null,"~"]
["SA36",2018,"FS193",836,null,null,null,null,null,null,null,null,null,null,null,null,null,null,null,null,null,null,"~"]
["SA36",2018,"FS193",837,null,null,null,null,null,null,null,null,null,null,null,null,null,null,null,null,null,null,"~"]
["SA36",2018,"FS193",838,null,null,null,null,null,null,null,null,null,null,null,null,null,null,null,null,null,null,"~"]
["SA36",2018,"FS193",839,null,null,null,null,null,null,null,null,null,null,null,null,null,null,null,null,null,null,"~"]
["SA36",2018,"FS193",840,null,null,null,null,null,null,null,null,null,null,null,null,null,null,null,null,null,null,"~"]
["SA36",2018,"FS193",841,null,null,null,null,null,null,null,null,null,null,null,null,null,null,null,null,null,null,"~"]
["SA36",2018,"FS193",842,null,null,null,null,null,null,null,null,null,null,null,null,null,null,null,null,null,null,"~"]
["SA36",2018,"FS193",843,null,null,null,null,null,null,null,null,null,null,null,null,null,null,null,null,null,null,"~"]
["SA36",2018,"FS193",844,null,null,null,null,null,null,null,null,null,null,null,null,null,null,null,null,null,null,"~"]
["SA36",2018,"FS193",845,null,null,null,null,null,null,null,null,null,null,null,null,null,null,null,null,null,null,"~"]
["SA36",2018,"FS193",846,null,null,null,null,null,null,null,null,null,null,null,null,null,null,null,null,null,null,"~"]
["SA36",2018,"FS193",847,null,null,null,null,null,null,null,null,null,null,null,null,null,null,null,null,null,null,"~"]
["SA36",2018,"FS193",848,null,null,null,null,null,null,null,null,null,null,null,null,null,null,null,null,null,null,"~"]
["SA36",2018,"FS193",849,null,null,null,null,null,null,null,null,null,null,null,null,null,null,null,null,null,null,"~"]
["SA36",2018,"FS193",850,null,null,null,null,null,null,null,null,null,null,null,null,null,null,null,null,null,null,"~"]
["SA36",2018,"FS193",851,null,null,null,null,null,null,null,null,null,null,null,null,null,null,null,null,null,null,"~"]
["SA36",2018,"FS193",852,null,null,null,null,null,null,null,null,null,null,null,null,null,null,null,null,null,null,"~"]
["SA36",2018,"FS193",853,null,null,null,null,null,null,null,null,null,null,null,null,null,null,null,null,null,null,"~"]
["SA36",2018,"FS193",854,null,null,null,null,null,null,null,null,null,null,null,null,null,null,null,null,null,null,"~"]
["SA36",2018,"FS193",855,null,null,null,null,null,null,null,null,null,null,null,null,null,null,null,null,null,null,"~"]
["SA36",{"$f":"+MTREF","v":2018},{"$f":"LEFT(muni,(FIND(\" \",muni,1)-1))","v":"FS193"},856,null,null,null,null,null,null,null,null,null,null,null,null,null,null,null,null,null,null,"~"]
["SA36",2018,"FS193",857,null,null,null,null,null,null,null,null,null,null,null,null,null,null,null,null,null,null,"~"]
["SA36",2018,"FS193",858,null,null,null,null,null,null,null,null,null,null,null,null,null,null,null,null,null,null,"~"]
["SA36",2018,"FS193",859,null,null,null,null,null,null,null,null,null,null,null,null,null,null,null,null,null,null,"~"]
["SA36",2018,"FS193",860,null,null,null,null,null,null,null,null,null,null,null,null,null,null,null,null,null,null,"~"]
["SA36",2018,"FS193",861,null,null,null,null,null,null,null,null,null,null,null,null,null,null,null,null,null,null,"~"]
["SA36",2018,"FS193",862,null,null,null,null,null,null,null,null,null,null,null,null,null,null,null,null,null,null,"~"]
["SA36",2018,"FS193",863,null,null,null,null,null,null,null,null,null,null,null,null,null,null,null,null,null,null,"~"]
["SA36",2018,"FS193",864,null,null,null,null,null,null,null,null,null,null,null,null,null,null,null,null,null,null,"~"]
["SA36",2018,"FS193",865,null,null,null,null,null,null,null,null,null,null,null,null,null,null,null,null,null,null,"~"]
["SA36",2018,"FS193",866,null,null,null,null,null,null,null,null,null,null,null,null,null,null,null,null,null,null,"~"]
["SA36",2018,"FS193",867,null,null,null,null,null,null,null,null,null,null,null,null,null,null,null,null,null,null,"~"]
["SA36",2018,"FS193",868,null,null,null,null,null,null,null,null,null,null,null,null,null,null,null,null,null,null,"~"]
["SA36",2018,"FS193",869,null,null,null,null,null,null,null,null,null,null,null,null,null,null,null,null,null,null,"~"]
["SA36",2018,"FS193",870,null,null,null,null,null,null,null,null,null,null,null,null,null,null,null,null,null,null,"~"]
["SA36",2018,"FS193",871,null,null,null,null,null,null,null,null,null,null,null,null,null,null,null,null,null,null,"~"]
["SA36",2018,"FS193",872,null,null,null,null,null,null,null,null,null,null,null,null,null,null,null,null,null,null,"~"]
["SA36",2018,"FS193",873,null,null,null,null,null,null,null,null,null,null,null,null,null,null,null,null,null,null,"~"]
["SA36",2018,"FS193",874,null,null,null,null,null,null,null,null,null,null,null,null,null,null,null,null,null,null,"~"]
["SA36",2018,"FS193",875,null,null,null,null,null,null,null,null,null,null,null,null,null,null,null,null,null,null,"~"]
["SA36",2018,"FS193",876,null,null,null,null,null,null,null,null,null,null,null,null,null,null,null,null,null,null,"~"]
["SA36",2018,"FS193",877,null,null,null,null,null,null,null,null,null,null,null,null,null,null,null,null,null,null,"~"]
["SA36",2018,"FS193",878,null,null,null,null,null,null,null,null,null,null,null,null,null,null,null,null,null,null,"~"]
["SA36",2018,"FS193",879,null,null,null,null,null,null,null,null,null,null,null,null,null,null,null,null,null,null,"~"]
["SA36",2018,"FS193",880,null,null,null,null,null,null,null,null,null,null,null,null,null,null,null,null,null,null,"~"]
["SA36",2018,"FS193",881,null,null,null,null,null,null,null,null,null,null,null,null,null,null,null,null,null,null,"~"]
["SA36",2018,"FS193",882,null,null,null,null,null,null,null,null,null,null,null,null,null,null,null,null,null,null,"~"]
["SA36",2018,"FS193",883,null,null,null,null,null,null,null,null,null,null,null,null,null,null,null,null,null,null,"~"]
["SA36",2018,"FS193",884,null,null,null,null,null,null,null,null,null,null,null,null,null,null,null,null,null,null,"~"]
["SA36",2018,"FS193",885,null,null,null,null,null,null,null,null,null,null,null,null,null,null,null,null,null,null,"~"]
["SA36",2018,"FS193",886,null,null,null,null,null,null,null,null,null,null,null,null,null,null,null,null,null,null,"~"]
["SA36",2018,"FS193",887,null,null,null,null,null,null,null,null,null,null,null,null,null,null,null,null,null,null,"~"]
["SA36",2018,"FS193",888,null,null,null,null,null,null,null,null,null,null,null,null,null,null,null,null,null,null,"~"]
["SA36",2018,"FS193",889,null,null,null,null,null,null,null,null,null,null,null,null,null,null,null,null,null,null,"~"]
["SA36",2018,"FS193",890,null,null,null,null,null,null,null,null,null,null,null,null,null,null,null,null,null,null,"~"]
["SA36",2018,"FS193",891,null,null,null,null,null,null,null,null,null,null,null,null,null,null,null,null,null,null,"~"]
["SA36",2018,"FS193",892,null,null,null,null,null,null,null,null,null,null,null,null,null,null,null,null,null,null,"~"]
["SA36",2018,"FS193",893,null,null,null,null,null,null,null,null,null,null,null,null,null,null,null,null,null,null,"~"]
["SA36",2018,"FS193",894,null,null,null,null,null,null,null,null,null,null,null,null,null,null,null,null,null,null,"~"]
["SA36",2018,"FS193",895,null,null,null,null,null,null,null,null,null,null,null,null,null,null,null,null,null,null,"~"]
["SA36",2018,"FS193",896,null,null,null,null,null,null,null,null,null,null,null,null,null,null,null,null,null,null,"~"]
["SA36",2018,"FS193",897,null,null,null,null,null,null,null,null,null,null,null,null,null,null,null,null,null,null,"~"]
["SA36",2018,"FS193",898,null,null,null,null,null,null,null,null,null,null,null,null,null,null,null,null,null,null,"~"]
["SA36",2018,"FS193",899,null,null,null,null,null,null,null,null,null,null,null,null,null,null,null,null,null,null,"~"]
["SA36",2018,"FS193",900,null,null,null,null,null,null,null,null,null,null,null,null,null,null,null,null,null,null,"~"]
["SA36",2018,"FS193",901,null,null,null,null,null,null,null,null,null,null,null,null,null,null,null,null,null,null,"~"]
["SA36",2018,"FS193",902,null,null,null,null,null,null,null,null,null,null,null,null,null,null,null,null,null,null,"~"]
["SA36",2018,"FS193",903,null,null,null,null,null,null,null,null,null,null,null,null,null,null,null,null,null,null,"~"]
["SA36",2018,"FS193",904,null,null,null,null,null,null,null,null,null,null,null,null,null,null,null,null,null,null,"~"]
["SA36",2018,"FS193",905,null,null,null,null,null,null,null,null,null,null,null,null,null,null,null,null,null,null,"~"]
["SA36",2018,"FS193",906,null,null,null,null,null,null,null,null,null,null,null,null,null,null,null,null,null,null,"~"]
["SA36",2018,"FS193",907,null,null,null,null,null,null,null,null,null,null,null,null,null,null,null,null,null,null,"~"]
["SA36",2018,"FS193",908,null,null,null,null,null,null,null,null,null,null,null,null,null,null,null,null,null,null,"~"]
["SA36",2018,"FS193",909,null,null,null,null,null,null,null,null,null,null,null,null,null,null,null,null,null,null,"~"]
["SA36",2018,"FS193",910,null,null,null,null,null,null,null,null,null,null,null,null,null,null,null,null,null,null,"~"]
["SA36",2018,"FS193",911,null,null,null,null,null,null,null,null,null,null,null,null,null,null,null,null,null,null,"~"]
["SA36",2018,"FS193",912,null,null,null,null,null,null,null,null,null,null,null,null,null,null,null,null,null,null,"~"]
["SA36",2018,"FS193",913,null,null,null,null,null,null,null,null,null,null,null,null,null,null,null,null,null,null,"~"]
["SA36",2018,"FS193",914,null,null,null,null,null,null,null,null,null,null,null,null,null,null,null,null,null,null,"~"]
["SA36",2018,"FS193",915,null,null,null,null,null,null,null,null,null,null,null,null,null,null,null,null,null,null,"~"]
["SA36",2018,"FS193",916,null,null,null,null,null,null,null,null,null,null,null,null,null,null,null,null,null,null,"~"]
["SA36",2018,"FS193",917,null,null,null,null,null,null,null,null,null,null,null,null,null,null,null,null,null,null,"~"]
["SA36",2018,"FS193",918,null,null,null,null,null,null,null,null,null,null,null,null,null,null,null,null,null,null,"~"]
["SA36",2018,"FS193",919,null,null,null,null,null,null,null,null,null,null,null,null,null,null,null,null,null,null,"~"]
["SA36",{"$f":"+MTREF","v":2018},{"$f":"LEFT(muni,(FIND(\" \",muni,1)-1))","v":"FS193"},920,null,null,null,null,null,null,null,null,null,null,null,null,null,null,null,null,null,null,"~"]
["SA36",2018,"FS193",921,null,null,null,null,null,null,null,null,null,null,null,null,null,null,null,null,null,null,"~"]
["SA36",2018,"FS193",922,null,null,null,null,null,null,null,null,null,null,null,null,null,null,null,null,null,null,"~"]
["SA36",2018,"FS193",923,null,null,null,null,null,null,null,null,null,null,null,null,null,null,null,null,null,null,"~"]
["SA36",2018,"FS193",924,null,null,null,null,null,null,null,null,null,null,null,null,null,null,null,null,null,null,"~"]
["SA36",2018,"FS193",925,null,null,null,null,null,null,null,null,null,null,null,null,null,null,null,null,null,null,"~"]
["SA36",2018,"FS193",926,null,null,null,null,null,null,null,null,null,null,null,null,null,null,null,null,null,null,"~"]
["SA36",2018,"FS193",927,null,null,null,null,null,null,null,null,null,null,null,null,null,null,null,null,null,null,"~"]
["SA36",2018,"FS193",928,null,null,null,null,null,null,null,null,null,null,null,null,null,null,null,null,null,null,"~"]
["SA36",2018,"FS193",929,null,null,null,null,null,null,null,null,null,null,null,null,null,null,null,null,null,null,"~"]
["SA36",2018,"FS193",930,null,null,null,null,null,null,null,null,null,null,null,null,null,null,null,null,null,null,"~"]
["SA36",2018,"FS193",931,null,null,null,null,null,null,null,null,null,null,null,null,null,null,null,null,null,null,"~"]
["SA36",2018,"FS193",932,null,null,null,null,null,null,null,null,null,null,null,null,null,null,null,null,null,null,"~"]
["SA36",2018,"FS193",933,null,null,null,null,null,null,null,null,null,null,null,null,null,null,null,null,null,null,"~"]
["SA36",2018,"FS193",934,null,null,null,null,null,null,null,null,null,null,null,null,null,null,null,null,null,null,"~"]
["SA36",2018,"FS193",935,null,null,null,null,null,null,null,null,null,null,null,null,null,null,null,null,null,null,"~"]
["SA36",2018,"FS193",936,null,null,null,null,null,null,null,null,null,null,null,null,null,null,null,null,null,null,"~"]
["SA36",2018,"FS193",937,null,null,null,null,null,null,null,null,null,null,null,null,null,null,null,null,null,null,"~"]
["SA36",2018,"FS193",938,null,null,null,null,null,null,null,null,null,null,null,null,null,null,null,null,null,null,"~"]
["SA36",2018,"FS193",939,null,null,null,null,null,null,null,null,null,null,null,null,null,null,null,null,null,null,"~"]
["SA36",2018,"FS193",940,null,null,null,null,null,null,null,null,null,null,null,null,null,null,null,null,null,null,"~"]
["SA36",2018,"FS193",941,null,null,null,null,null,null,null,null,null,null,null,null,null,null,null,null,null,null,"~"]
["SA36",2018,"FS193",942,null,null,null,null,null,null,null,null,null,null,null,null,null,null,null,null,null,null,"~"]
["SA36",2018,"FS193",943,null,null,null,null,null,null,null,null,null,null,null,null,null,null,null,null,null,null,"~"]
["SA36",2018,"FS193",944,null,null,null,null,null,null,null,null,null,null,null,null,null,null,null,null,null,null,"~"]
["SA36",2018,"FS193",945,null,null,null,null,null,null,null,null,null,null,null,null,null,null,null,null,null,null,"~"]
["SA36",2018,"FS193",946,null,null,null,null,null,null,null,null,null,null,null,null,null,null,null,null,null,null,"~"]
["SA36",2018,"FS193",947,null,null,null,null,null,null,null,null,null,null,null,null,null,null,null,null,null,null,"~"]
["SA36",2018,"FS193",948,null,null,null,null,null,null,null,null,null,null,null,null,null,null,null,null,null,null,"~"]
["SA36",2018,"FS193",949,null,null,null,null,null,null,null,null,null,null,null,null,null,null,null,null,null,null,"~"]
["SA36",2018,"FS193",950,null,null,null,null,null,null,null,null,null,null,null,null,null,null,null,null,null,null,"~"]
["SA36",2018,"FS193",951,null,null,null,null,null,null,null,null,null,null,null,null,null,null,null,null,null,null,"~"]
["SA36",2018,"FS193",952,null,null,null,null,null,null,null,null,null,null,null,null,null,null,null,null,null,null,"~"]
["SA36",2018,"FS193",953,null,null,null,null,null,null,null,null,null,null,null,null,null,null,null,null,null,null,"~"]
["SA36",2018,"FS193",954,null,null,null,null,null,null,null,null,null,null,null,null,null,null,null,null,null,null,"~"]
["SA36",2018,"FS193",955,null,null,null,null,null,null,null,null,null,null,null,null,null,null,null,null,null,null,"~"]
["SA36",2018,"FS193",956,null,null,null,null,null,null,null,null,null,null,null,null,null,null,null,null,null,null,"~"]
["SA36",2018,"FS193",957,null,null,null,null,null,null,null,null,null,null,null,null,null,null,null,null,null,null,"~"]
["SA36",2018,"FS193",958,null,null,null,null,null,null,null,null,null,null,null,null,null,null,null,null,null,null,"~"]
["SA36",2018,"FS193",959,null,null,null,null,null,null,null,null,null,null,null,null,null,null,null,null,null,null,"~"]
["SA36",2018,"FS193",960,null,null,null,null,null,null,null,null,null,null,null,null,null,null,null,null,null,null,"~"]
["SA36",2018,"FS193",961,null,null,null,null,null,null,null,null,null,null,null,null,null,null,null,null,null,null,"~"]
["SA36",2018,"FS193",962,null,null,null,null,null,null,null,null,null,null,null,null,null,null,null,null,null,null,"~"]
["SA36",2018,"FS193",963,null,null,null,null,null,null,null,null,null,null,null,null,null,null,null,null,null,null,"~"]
["SA36",2018,"FS193",964,null,null,null,null,null,null,null,null,null,null,null,null,null,null,null,null,null,null,"~"]
["SA36",2018,"FS193",965,null,null,null,null,null,null,null,null,null,null,null,null,null,null,null,null,null,null,"~"]
["SA36",2018,"FS193",966,null,null,null,null,null,null,null,null,null,null,null,null,null,null,null,null,null,null,"~"]
["SA36",2018,"FS193",967,null,null,null,null,null,null,null,null,null,null,null,null,null,null,null,null,null,null,"~"]
["SA36",2018,"FS193",968,null,null,null,null,null,null,null,null,null,null,null,null,null,null,null,null,null,null,"~"]
["SA36",2018,"FS193",969,null,null,null,null,null,null,null,null,null,null,null,null,null,null,null,null,null,null,"~"]
["SA36",2018,"FS193",970,null,null,null,null,null,null,null,null,null,null,null,null,null,null,null,null,null,null,"~"]
["SA36",2018,"FS193",971,null,null,null,null,null,null,null,null,null,null,null,null,null,null,null,null,null,null,"~"]
["SA36",2018,"FS193",972,null,null,null,null,null,null,null,null,null,null,null,null,null,null,null,null,null,null,"~"]
["SA36",2018,"FS193",973,null,null,null,null,null,null,null,null,null,null,null,null,null,null,null,null,null,null,"~"]
["SA36",2018,"FS193",974,null,null,null,null,null,null,null,null,null,null,null,null,null,null,null,null,null,null,"~"]
["SA36",2018,"FS193",975,null,null,null,null,null,null,null,null,null,null,null,null,null,null,null,null,null,null,"~"]
["SA36",2018,"FS193",976,null,null,null,null,null,null,null,null,null,null,null,null,null,null,null,null,null,null,"~"]
["SA36",2018,"FS193",977,null,null,null,null,null,null,null,null,null,null,null,null,null,null,null,null,null,null,"~"]
["SA36",2018,"FS193",978,null,null,null,null,null,null,null,null,null,null,null,null,null,null,null,null,null,null,"~"]
["SA36",2018,"FS193",979,null,null,null,null,null,null,null,null,null,null,null,null,null,null,null,null,null,null,"~"]
["SA36",2018,"FS193",980,null,null,null,null,null,null,null,null,null,null,null,null,null,null,null,null,null,null,"~"]
["SA36",2018,"FS193",981,null,null,null,null,null,null,null,null,null,null,null,null,null,null,null,null,null,null,"~"]
["SA36",2018,"FS193",982,null,null,null,null,null,null,null,null,null,null,null,null,null,null,null,null,null,null,"~"]
["SA36",2018,"FS193",983,null,null,null,null,null,null,null,null,null,null,null,null,null,null,null,null,null,null,"~"]
["SA36",{"$f":"+MTREF","v":2018},{"$f":"LEFT(muni,(FIND(\" \",muni,1)-1))","v":"FS193"},984,null,null,null,null,null,null,null,null,null,null,null,null,null,null,null,null,null,null,"~"]
["SA36",2018,"FS193",985,null,null,null,null,null,null,null,null,null,null,null,null,null,null,null,null,null,null,"~"]
["SA36",2018,"FS193",986,null,null,null,null,null,null,null,null,null,null,null,null,null,null,null,null,null,null,"~"]
["SA36",2018,"FS193",987,null,null,null,null,null,null,null,null,null,null,null,null,null,null,null,null,null,null,"~"]
["SA36",2018,"FS193",988,null,null,null,null,null,null,null,null,null,null,null,null,null,null,null,null,null,null,"~"]
["SA36",2018,"FS193",989,null,null,null,null,null,null,null,null,null,null,null,null,null,null,null,null,null,null,"~"]
["SA36",2018,"FS193",990,null,null,null,null,null,null,null,null,null,null,null,null,null,null,null,null,null,null,"~"]
["SA36",2018,"FS193",991,null,null,null,null,null,null,null,null,null,null,null,null,null,null,null,null,null,null,"~"]
["SA36",2018,"FS193",992,null,null,null,null,null,null,null,null,null,null,null,null,null,null,null,null,null,null,"~"]
["SA36",2018,"FS193",993,null,null,null,null,null,null,null,null,null,null,null,null,null,null,null,null,null,null,"~"]
["SA36",2018,"FS193",994,null,null,null,null,null,null,null,null,null,null,null,null,null,null,null,null,null,null,"~"]
["SA36",2018,"FS193",995,null,null,null,null,null,null,null,null,null,null,null,null,null,null,null,null,null,null,"~"]
["SA36",2018,"FS193",996,null,null,null,null,null,null,null,null,null,null,null,null,null,null,null,null,null,null,"~"]
["SA36",2018,"FS193",997,null,null,null,null,null,null,null,null,null,null,null,null,null,null,null,null,null,null,"~"]
["SA36",2018,"FS193",998,null,null,null,null,null,null,null,null,null,null,null,null,null,null,null,null,null,null,"~"]
["SA36",2018,"FS193",999,null,null,null,null,null,null,null,null,null,null,null,null,null,null,null,null,null,null,"~"]
["SA36",2018,"FS193",1000,null,null,null,null,null,null,null,null,null,null,null,null,null,null,null,null,null,null,"~"]
["SA37",2018,"FS193",1,null,null,null,null,null,null,null,null,null,null,null,null,null,null,null,null,null,null,"~"]
["SA37",2018,"FS193",2,null,null,null,null,null,null,null,null,null,null,null,null,null,null,null,null,null,null,"~"]
["SA37",2018,"FS193",3,null,null,null,null,null,null,null,null,null,null,null,null,null,null,null,null,null,null,"~"]
["SA37",2018,"FS193",4,null,null,null,null,null,null,null,null,null,null,null,null,null,null,null,null,null,null,"~"]
["SA37",2018,"FS193",5,null,null,null,null,null,null,null,null,null,null,null,null,null,null,null,null,null,null,"~"]
["SA37",2018,"FS193",6,null,null,null,null,null,null,null,null,null,null,null,null,null,null,null,null,null,null,"~"]
["SA37",2018,"FS193",7,null,null,null,null,null,null,null,null,null,null,null,null,null,null,null,null,null,null,"~"]
["SA37",2018,"FS193",8,null,null,null,null,null,null,null,null,null,null,null,null,null,null,null,null,null,null,"~"]
["SA37",2018,"FS193",9,null,null,null,null,null,null,null,null,null,null,null,null,null,null,null,null,null,null,"~"]
["SA37",2018,"FS193",10,null,null,null,null,null,null,null,null,null,null,null,null,null,null,null,null,null,null,"~"]
["SA37",2018,"FS193",11,null,null,null,null,null,null,null,null,null,null,null,null,null,null,null,null,null,null,"~"]
["SA37",2018,"FS193",12,null,null,null,null,null,null,null,null,null,null,null,null,null,null,null,null,null,null,"~"]
["SA37",2018,"FS193",13,null,null,null,null,null,null,null,null,null,null,null,null,null,null,null,null,null,null,"~"]
["SA37",2018,"FS193",14,null,null,null,null,null,null,null,null,null,null,null,null,null,null,null,null,null,null,"~"]
["SA37",2018,"FS193",15,null,null,null,null,null,null,null,null,null,null,null,null,null,null,null,null,null,null,"~"]
["SA37",2018,"FS193",16,null,null,null,null,null,null,null,null,null,null,null,null,null,null,null,null,null,null,"~"]
["SA37",2018,"FS193",17,null,null,null,null,null,null,null,null,null,null,null,null,null,null,null,null,null,null,"~"]
["SA37",2018,"FS193",18,null,null,null,null,null,null,null,null,null,null,null,null,null,null,null,null,null,null,"~"]
["SA37",2018,"FS193",19,null,null,null,null,null,null,null,null,null,null,null,null,null,null,null,null,null,null,"~"]
["SA37",2018,"FS193",20,null,null,null,null,null,null,null,null,null,null,null,null,null,null,null,null,null,null,"~"]
["SA37",2018,"FS193",21,null,null,null,null,null,null,null,null,null,null,null,null,null,null,null,null,null,null,"~"]
["SA37",2018,"FS193",22,null,null,null,null,null,null,null,null,null,null,null,null,null,null,null,null,null,null,"~"]
["SA37",2018,"FS193",23,null,null,null,null,null,null,null,null,null,null,null,null,null,null,null,null,null,null,"~"]
["SA37",2018,"FS193",24,null,null,null,null,null,null,null,null,null,null,null,null,null,null,null,null,null,null,"~"]
["SA37",2018,"FS193",25,null,null,null,null,null,null,null,null,null,null,null,null,null,null,null,null,null,null,"~"]
["SA37",2018,"FS193",26,null,null,null,null,null,null,null,null,null,null,null,null,null,null,null,null,null,null,"~"]
["SA37",2018,"FS193",27,null,null,null,null,null,null,null,null,null,null,null,null,null,null,null,null,null,null,"~"]
["SA37",2018,"FS193",28,null,null,null,null,null,null,null,null,null,null,null,null,null,null,null,null,null,null,"~"]
["SA37",2018,"FS193",29,null,null,null,null,null,null,null,null,null,null,null,null,null,null,null,null,null,null,"~"]
["SA37",2018,"FS193",30,null,null,null,null,null,null,null,null,null,null,null,null,null,null,null,null,null,null,"~"]
["SA37",2018,"FS193",31,null,null,null,null,null,null,null,null,null,null,null,null,null,null,null,null,null,null,"~"]
["SA37",2018,"FS193",32,null,null,null,null,null,null,null,null,null,null,null,null,null,null,null,null,null,null,"~"]
["SA37",2018,"FS193",33,null,null,null,null,null,null,null,null,null,null,null,null,null,null,null,null,null,null,"~"]
["SA37",2018,"FS193",34,null,null,null,null,null,null,null,null,null,null,null,null,null,null,null,null,null,null,"~"]
["SA37",2018,"FS193",35,null,null,null,null,null,null,null,null,null,null,null,null,null,null,null,null,null,null,"~"]
["SA37",2018,"FS193",36,null,null,null,null,null,null,null,null,null,null,null,null,null,null,null,null,null,null,"~"]
["SA37",2018,"FS193",37,null,null,null,null,null,null,null,null,null,null,null,null,null,null,null,null,null,null,"~"]
["SA37",2018,"FS193",38,null,null,null,null,null,null,null,null,null,null,null,null,null,null,null,null,null,null,"~"]
["SA37",2018,"FS193",39,null,null,null,null,null,null,null,null,null,null,null,null,null,null,null,null,null,null,"~"]
["SA37",2018,"FS193",40,null,null,null,null,null,null,null,null,null,null,null,null,null,null,null,null,null,null,"~"]
["SA37",2018,"FS193",41,null,null,null,null,null,null,null,null,null,null,null,null,null,null,null,null,null,null,"~"]
["SA37",2018,"FS193",42,null,null,null,null,null,null,null,null,null,null,null,null,null,null,null,null,null,null,"~"]
["SA37",2018,"FS193",43,null,null,null,null,null,null,null,null,null,null,null,null,null,null,null,null,null,null,"~"]
["SA37",2018,"FS193",44,null,null,null,null,null,null,null,null,null,null,null,null,null,null,null,null,null,null,"~"]
["SA37",2018,"FS193",45,null,null,null,null,null,null,null,null,null,null,null,null,null,null,null,null,null,null,"~"]
["SA37",2018,"FS193",46,null,null,null,null,null,null,null,null,null,null,null,null,null,null,null,null,null,null,"~"]
["SA37",2018,"FS193",47,null,null,null,null,null,null,null,null,null,null,null,null,null,null,null,null,null,null,"~"]
["SA37",{"$f":"+MTREF","v":2018},{"$f":"LEFT(muni,(FIND(\" \",muni,1)-1))","v":"FS193"},48,null,null,null,null,null,null,null,null,null,null,null,null,null,null,null,null,null,null,"~"]
["SA37",2018,"FS193",49,null,null,null,null,null,null,null,null,null,null,null,null,null,null,null,null,null,null,"~"]
["SA37",2018,"FS193",50,null,null,null,null,null,null,null,null,null,null,null,null,null,null,null,null,null,null,"~"]
["SA37",2018,"FS193",51,null,null,null,null,null,null,null,null,null,null,null,null,null,null,null,null,null,null,"~"]
["SA37",2018,"FS193",52,null,null,null,null,null,null,null,null,null,null,null,null,null,null,null,null,null,null,"~"]
["SA37",2018,"FS193",53,null,null,null,null,null,null,null,null,null,null,null,null,null,null,null,null,null,null,"~"]
["SA37",2018,"FS193",54,null,null,null,null,null,null,null,null,null,null,null,null,null,null,null,null,null,null,"~"]
["SA37",2018,"FS193",55,null,null,null,null,null,null,null,null,null,null,null,null,null,null,null,null,null,null,"~"]
["SA37",2018,"FS193",56,null,null,null,null,null,null,null,null,null,null,null,null,null,null,null,null,null,null,"~"]
["SA37",2018,"FS193",57,null,null,null,null,null,null,null,null,null,null,null,null,null,null,null,null,null,null,"~"]
["SA37",2018,"FS193",58,null,null,null,null,null,null,null,null,null,null,null,null,null,null,null,null,null,null,"~"]
["SA37",2018,"FS193",59,null,null,null,null,null,null,null,null,null,null,null,null,null,null,null,null,null,null,"~"]
["SA37",2018,"FS193",60,null,null,null,null,null,null,null,null,null,null,null,null,null,null,null,null,null,null,"~"]
["SA37",2018,"FS193",61,null,null,null,null,null,null,null,null,null,null,null,null,null,null,null,null,null,null,"~"]
["SA37",2018,"FS193",62,null,null,null,null,null,null,null,null,null,null,null,null,null,null,null,null,null,null,"~"]
["SA37",2018,"FS193",63,null,null,null,null,null,null,null,null,null,null,null,null,null,null,null,null,null,null,"~"]
["SA37",2018,"FS193",64,null,null,null,null,null,null,null,null,null,null,null,null,null,null,null,null,null,null,"~"]
["SA37",2018,"FS193",65,null,null,null,null,null,null,null,null,null,null,null,null,null,null,null,null,null,null,"~"]
["SA37",2018,"FS193",66,null,null,null,null,null,null,null,null,null,null,null,null,null,null,null,null,null,null,"~"]
["SA37",2018,"FS193",67,null,null,null,null,null,null,null,null,null,null,null,null,null,null,null,null,null,null,"~"]
["SA37",2018,"FS193",68,null,null,null,null,null,null,null,null,null,null,null,null,null,null,null,null,null,null,"~"]
["SA37",2018,"FS193",69,null,null,null,null,null,null,null,null,null,null,null,null,null,null,null,null,null,null,"~"]
["SA37",2018,"FS193",70,null,null,null,null,null,null,null,null,null,null,null,null,null,null,null,null,null,null,"~"]
["SA37",2018,"FS193",71,null,null,null,null,null,null,null,null,null,null,null,null,null,null,null,null,null,null,"~"]
["SA37",2018,"FS193",72,null,null,null,null,null,null,null,null,null,null,null,null,null,null,null,null,null,null,"~"]
["SA37",2018,"FS193",73,null,null,null,null,null,null,null,null,null,null,null,null,null,null,null,null,null,null,"~"]
["SA37",2018,"FS193",74,null,null,null,null,null,null,null,null,null,null,null,null,null,null,null,null,null,null,"~"]
["SA37",2018,"FS193",75,null,null,null,null,null,null,null,null,null,null,null,null,null,null,null,null,null,null,"~"]
["SA37",2018,"FS193",76,null,null,null,null,null,null,null,null,null,null,null,null,null,null,null,null,null,null,"~"]
["SA37",2018,"FS193",77,null,null,null,null,null,null,null,null,null,null,null,null,null,null,null,null,null,null,"~"]
["SA37",2018,"FS193",78,null,null,null,null,null,null,null,null,null,null,null,null,null,null,null,null,null,null,"~"]
["SA37",2018,"FS193",79,null,null,null,null,null,null,null,null,null,null,null,null,null,null,null,null,null,null,"~"]
["SA37",2018,"FS193",80,null,null,null,null,null,null,null,null,null,null,null,null,null,null,null,null,null,null,"~"]
["SA37",2018,"FS193",81,null,null,null,null,null,null,null,null,null,null,null,null,null,null,null,null,null,null,"~"]
["SA37",2018,"FS193",82,null,null,null,null,null,null,null,null,null,null,null,null,null,null,null,null,null,null,"~"]
["SA37",2018,"FS193",83,null,null,null,null,null,null,null,null,null,null,null,null,null,null,null,null,null,null,"~"]
["SA37",2018,"FS193",84,null,null,null,null,null,null,null,null,null,null,null,null,null,null,null,null,null,null,"~"]
["SA37",2018,"FS193",85,null,null,null,null,null,null,null,null,null,null,null,null,null,null,null,null,null,null,"~"]
["SA37",2018,"FS193",86,null,null,null,null,null,null,null,null,null,null,null,null,null,null,null,null,null,null,"~"]
["SA37",2018,"FS193",87,null,null,null,null,null,null,null,null,null,null,null,null,null,null,null,null,null,null,"~"]
["SA37",2018,"FS193",88,null,null,null,null,null,null,null,null,null,null,null,null,null,null,null,null,null,null,"~"]
["SA37",2018,"FS193",89,null,null,null,null,null,null,null,null,null,null,null,null,null,null,null,null,null,null,"~"]
["SA37",2018,"FS193",90,null,null,null,null,null,null,null,null,null,null,null,null,null,null,null,null,null,null,"~"]
["SA37",2018,"FS193",91,null,null,null,null,null,null,null,null,null,null,null,null,null,null,null,null,null,null,"~"]
["SA37",2018,"FS193",92,null,null,null,null,null,null,null,null,null,null,null,null,null,null,null,null,null,null,"~"]
["SA37",2018,"FS193",93,null,null,null,null,null,null,null,null,null,null,null,null,null,null,null,null,null,null,"~"]
["SA37",2018,"FS193",94,null,null,null,null,null,null,null,null,null,null,null,null,null,null,null,null,null,null,"~"]
["SA37",2018,"FS193",95,null,null,null,null,null,null,null,null,null,null,null,null,null,null,null,null,null,null,"~"]
["SA37",2018,"FS193",96,null,null,null,null,null,null,null,null,null,null,null,null,null,null,null,null,null,null,"~"]
["SA37",2018,"FS193",97,null,null,null,null,null,null,null,null,null,null,null,null,null,null,null,null,null,null,"~"]
["SA37",2018,"FS193",98,null,null,null,null,null,null,null,null,null,null,null,null,null,null,null,null,null,null,"~"]
["SA37",2018,"FS193",99,null,null,null,null,null,null,null,null,null,null,null,null,null,null,null,null,null,null,"~"]
["SA37",2018,"FS193",100,null,null,null,null,null,null,null,null,null,null,null,null,null,null,null,null,null,null,"~"]
["SA37",2018,"FS193",101,null,null,null,null,null,null,null,null,null,null,null,null,null,null,null,null,null,null,"~"]
["SA37",2018,"FS193",102,null,null,null,null,null,null,null,null,null,null,null,null,null,null,null,null,null,null,"~"]
["SA37",2018,"FS193",103,null,null,null,null,null,null,null,null,null,null,null,null,null,null,null,null,null,null,"~"]
["SA37",2018,"FS193",104,null,null,null,null,null,null,null,null,null,null,null,null,null,null,null,null,null,null,"~"]
["SA37",2018,"FS193",105,null,null,null,null,null,null,null,null,null,null,null,null,null,null,null,null,null,null,"~"]
["SA37",2018,"FS193",106,null,null,null,null,null,null,null,null,null,null,null,null,null,null,null,null,null,null,"~"]
["SA37",2018,"FS193",107,null,null,null,null,null,null,null,null,null,null,null,null,null,null,null,null,null,null,"~"]
["SA37",2018,"FS193",108,null,null,null,null,null,null,null,null,null,null,null,null,null,null,null,null,null,null,"~"]
["SA37",2018,"FS193",109,null,null,null,null,null,null,null,null,null,null,null,null,null,null,null,null,null,null,"~"]
["SA37",2018,"FS193",110,null,null,null,null,null,null,null,null,null,null,null,null,null,null,null,null,null,null,"~"]
["SA37",2018,"FS193",111,null,null,null,null,null,null,null,null,null,null,null,null,null,null,null,null,null,null,"~"]
["SA37",{"$f":"+MTREF","v":2018},{"$f":"LEFT(muni,(FIND(\" \",muni,1)-1))","v":"FS193"},112,null,null,null,null,null,null,null,null,null,null,null,null,null,null,null,null,null,null,"~"]
["SA37",2018,"FS193",113,null,null,null,null,null,null,null,null,null,null,null,null,null,null,null,null,null,null,"~"]
["SA37",2018,"FS193",114,null,null,null,null,null,null,null,null,null,null,null,null,null,null,null,null,null,null,"~"]
["SA37",2018,"FS193",115,null,null,null,null,null,null,null,null,null,null,null,null,null,null,null,null,null,null,"~"]
["SA37",2018,"FS193",116,null,null,null,null,null,null,null,null,null,null,null,null,null,null,null,null,null,null,"~"]
["SA37",2018,"FS193",117,null,null,null,null,null,null,null,null,null,null,null,null,null,null,null,null,null,null,"~"]
["SA37",2018,"FS193",118,null,null,null,null,null,null,null,null,null,null,null,null,null,null,null,null,null,null,"~"]
["SA37",2018,"FS193",119,null,null,null,null,null,null,null,null,null,null,null,null,null,null,null,null,null,null,"~"]
["SA37",2018,"FS193",120,null,null,null,null,null,null,null,null,null,null,null,null,null,null,null,null,null,null,"~"]
["SA37",2018,"FS193",121,null,null,null,null,null,null,null,null,null,null,null,null,null,null,null,null,null,null,"~"]
["SA37",2018,"FS193",122,null,null,null,null,null,null,null,null,null,null,null,null,null,null,null,null,null,null,"~"]
["SA37",2018,"FS193",123,null,null,null,null,null,null,null,null,null,null,null,null,null,null,null,null,null,null,"~"]
["SA37",2018,"FS193",124,null,null,null,null,null,null,null,null,null,null,null,null,null,null,null,null,null,null,"~"]
["SA37",2018,"FS193",125,null,null,null,null,null,null,null,null,null,null,null,null,null,null,null,null,null,null,"~"]
["SA37",2018,"FS193",126,null,null,null,null,null,null,null,null,null,null,null,null,null,null,null,null,null,null,"~"]
["SA37",2018,"FS193",127,null,null,null,null,null,null,null,null,null,null,null,null,null,null,null,null,null,null,"~"]
["SA37",2018,"FS193",128,null,null,null,null,null,null,null,null,null,null,null,null,null,null,null,null,null,null,"~"]
["SA37",2018,"FS193",129,null,null,null,null,null,null,null,null,null,null,null,null,null,null,null,null,null,null,"~"]
["SA37",2018,"FS193",130,null,null,null,null,null,null,null,null,null,null,null,null,null,null,null,null,null,null,"~"]
["SA37",2018,"FS193",131,null,null,null,null,null,null,null,null,null,null,null,null,null,null,null,null,null,null,"~"]
["SA37",2018,"FS193",132,null,null,null,null,null,null,null,null,null,null,null,null,null,null,null,null,null,null,"~"]
["SA37",2018,"FS193",133,null,null,null,null,null,null,null,null,null,null,null,null,null,null,null,null,null,null,"~"]
["SA37",2018,"FS193",134,null,null,null,null,null,null,null,null,null,null,null,null,null,null,null,null,null,null,"~"]
["SA37",2018,"FS193",135,null,null,null,null,null,null,null,null,null,null,null,null,null,null,null,null,null,null,"~"]
["SA37",2018,"FS193",136,null,null,null,null,null,null,null,null,null,null,null,null,null,null,null,null,null,null,"~"]
["SA37",2018,"FS193",137,null,null,null,null,null,null,null,null,null,null,null,null,null,null,null,null,null,null,"~"]
["SA37",2018,"FS193",138,null,null,null,null,null,null,null,null,null,null,null,null,null,null,null,null,null,null,"~"]
["SA37",2018,"FS193",139,null,null,null,null,null,null,null,null,null,null,null,null,null,null,null,null,null,null,"~"]
["SA37",2018,"FS193",140,null,null,null,null,null,null,null,null,null,null,null,null,null,null,null,null,null,null,"~"]
["SA37",2018,"FS193",141,null,null,null,null,null,null,null,null,null,null,null,null,null,null,null,null,null,null,"~"]
["SA37",2018,"FS193",142,null,null,null,null,null,null,null,null,null,null,null,null,null,null,null,null,null,null,"~"]
["SA37",2018,"FS193",143,null,null,null,null,null,null,null,null,null,null,null,null,null,null,null,null,null,null,"~"]
["SA37",2018,"FS193",144,null,null,null,null,null,null,null,null,null,null,null,null,null,null,null,null,null,null,"~"]
["SA37",2018,"FS193",145,null,null,null,null,null,null,null,null,null,null,null,null,null,null,null,null,null,null,"~"]
["SA37",2018,"FS193",146,null,null,null,null,null,null,null,null,null,null,null,null,null,null,null,null,null,null,"~"]
["SA37",2018,"FS193",147,null,null,null,null,null,null,null,null,null,null,null,null,null,null,null,null,null,null,"~"]
["SA37",2018,"FS193",148,null,null,null,null,null,null,null,null,null,null,null,null,null,null,null,null,null,null,"~"]
["SA37",2018,"FS193",149,null,null,null,null,null,null,null,null,null,null,null,null,null,null,null,null,null,null,"~"]
["SA37",2018,"FS193",150,null,null,null,null,null,null,null,null,null,null,null,null,null,null,null,null,null,null,"~"]
["SA37",2018,"FS193",151,null,null,null,null,null,null,null,null,null,null,null,null,null,null,null,null,null,null,"~"]
["SA37",2018,"FS193",152,null,null,null,null,null,null,null,null,null,null,null,null,null,null,null,null,null,null,"~"]
["SA37",2018,"FS193",153,null,null,null,null,null,null,null,null,null,null,null,null,null,null,null,null,null,null,"~"]
["SA37",2018,"FS193",154,null,null,null,null,null,null,null,null,null,null,null,null,null,null,null,null,null,null,"~"]
["SA37",2018,"FS193",155,null,null,null,null,null,null,null,null,null,null,null,null,null,null,null,null,null,null,"~"]
["SA37",2018,"FS193",156,null,null,null,null,null,null,null,null,null,null,null,null,null,null,null,null,null,null,"~"]
["SA37",2018,"FS193",157,null,null,null,null,null,null,null,null,null,null,null,null,null,null,null,null,null,null,"~"]
["SA37",2018,"FS193",158,null,null,null,null,null,null,null,null,null,null,null,null,null,null,null,null,null,null,"~"]
["SA37",2018,"FS193",159,null,null,null,null,null,null,null,null,null,null,null,null,null,null,null,null,null,null,"~"]
["SA37",2018,"FS193",160,null,null,null,null,null,null,null,null,null,null,null,null,null,null,null,null,null,null,"~"]
["SA37",2018,"FS193",161,null,null,null,null,null,null,null,null,null,null,null,null,null,null,null,null,null,null,"~"]
["SA37",2018,"FS193",162,null,null,null,null,null,null,null,null,null,null,null,null,null,null,null,null,null,null,"~"]
["SA37",2018,"FS193",163,null,null,null,null,null,null,null,null,null,null,null,null,null,null,null,null,null,null,"~"]
["SA37",2018,"FS193",164,null,null,null,null,null,null,null,null,null,null,null,null,null,null,null,null,null,null,"~"]
["SA37",2018,"FS193",165,null,null,null,null,null,null,null,null,null,null,null,null,null,null,null,null,null,null,"~"]
["SA37",2018,"FS193",166,null,null,null,null,null,null,null,null,null,null,null,null,null,null,null,null,null,null,"~"]
["SA37",2018,"FS193",167,null,null,null,null,null,null,null,null,null,null,null,null,null,null,null,null,null,null,"~"]
["SA37",2018,"FS193",168,null,null,null,null,null,null,null,null,null,null,null,null,null,null,null,null,null,null,"~"]
["SA37",2018,"FS193",169,null,null,null,null,null,null,null,null,null,null,null,null,null,null,null,null,null,null,"~"]
["SA37",2018,"FS193",170,null,null,null,null,null,null,null,null,null,null,null,null,null,null,null,null,null,null,"~"]
["SA37",2018,"FS193",171,null,null,null,null,null,null,null,null,null,null,null,null,null,null,null,null,null,null,"~"]
["SA37",2018,"FS193",172,null,null,null,null,null,null,null,null,null,null,null,null,null,null,null,null,null,null,"~"]
["SA37",2018,"FS193",173,null,null,null,null,null,null,null,null,null,null,null,null,null,null,null,null,null,null,"~"]
["SA37",2018,"FS193",174,null,null,null,null,null,null,null,null,null,null,null,null,null,null,null,null,null,null,"~"]
["SA37",2018,"FS193",175,null,null,null,null,null,null,null,null,null,null,null,null,null,null,null,null,null,null,"~"]
["SA37",{"$f":"+MTREF","v":2018},{"$f":"LEFT(muni,(FIND(\" \",muni,1)-1))","v":"FS193"},176,null,null,null,null,null,null,null,null,null,null,null,null,null,null,null,null,null,null,"~"]
["SA37",2018,"FS193",177,null,null,null,null,null,null,null,null,null,null,null,null,null,null,null,null,null,null,"~"]
["SA37",2018,"FS193",178,null,null,null,null,null,null,null,null,null,null,null,null,null,null,null,null,null,null,"~"]
["SA37",2018,"FS193",179,null,null,null,null,null,null,null,null,null,null,null,null,null,null,null,null,null,null,"~"]
["SA37",2018,"FS193",180,null,null,null,null,null,null,null,null,null,null,null,null,null,null,null,null,null,null,"~"]
["SA37",2018,"FS193",181,null,null,null,null,null,null,null,null,null,null,null,null,null,null,null,null,null,null,"~"]
["SA37",2018,"FS193",182,null,null,null,null,null,null,null,null,null,null,null,null,null,null,null,null,null,null,"~"]
["SA37",2018,"FS193",183,null,null,null,null,null,null,null,null,null,null,null,null,null,null,null,null,null,null,"~"]
["SA37",2018,"FS193",184,null,null,null,null,null,null,null,null,null,null,null,null,null,null,null,null,null,null,"~"]
["SA37",2018,"FS193",185,null,null,null,null,null,null,null,null,null,null,null,null,null,null,null,null,null,null,"~"]
["SA37",2018,"FS193",186,null,null,null,null,null,null,null,null,null,null,null,null,null,null,null,null,null,null,"~"]
["SA37",2018,"FS193",187,null,null,null,null,null,null,null,null,null,null,null,null,null,null,null,null,null,null,"~"]
["SA37",2018,"FS193",188,null,null,null,null,null,null,null,null,null,null,null,null,null,null,null,null,null,null,"~"]
["SA37",2018,"FS193",189,null,null,null,null,null,null,null,null,null,null,null,null,null,null,null,null,null,null,"~"]
["SA37",2018,"FS193",190,null,null,null,null,null,null,null,null,null,null,null,null,null,null,null,null,null,null,"~"]
["SA37",2018,"FS193",191,null,null,null,null,null,null,null,null,null,null,null,null,null,null,null,null,null,null,"~"]
["SA37",2018,"FS193",192,null,null,null,null,null,null,null,null,null,null,null,null,null,null,null,null,null,null,"~"]
["SA37",2018,"FS193",193,null,null,null,null,null,null,null,null,null,null,null,null,null,null,null,null,null,null,"~"]
["SA37",2018,"FS193",194,null,null,null,null,null,null,null,null,null,null,null,null,null,null,null,null,null,null,"~"]
["SA37",2018,"FS193",195,null,null,null,null,null,null,null,null,null,null,null,null,null,null,null,null,null,null,"~"]
["SA37",2018,"FS193",196,null,null,null,null,null,null,null,null,null,null,null,null,null,null,null,null,null,null,"~"]
["SA37",2018,"FS193",197,null,null,null,null,null,null,null,null,null,null,null,null,null,null,null,null,null,null,"~"]
["SA37",2018,"FS193",198,null,null,null,null,null,null,null,null,null,null,null,null,null,null,null,null,null,null,"~"]
["SA37",2018,"FS193",199,null,null,null,null,null,null,null,null,null,null,null,null,null,null,null,null,null,null,"~"]
["SA37",2018,"FS193",200,null,null,null,null,null,null,null,null,null,null,null,null,null,null,null,null,null,null,"~"]
["SA37",2018,"FS193",201,null,null,null,null,null,null,null,null,null,null,null,null,null,null,null,null,null,null,"~"]
["SA37",2018,"FS193",202,null,null,null,null,null,null,null,null,null,null,null,null,null,null,null,null,null,null,"~"]
["SA37",2018,"FS193",203,null,null,null,null,null,null,null,null,null,null,null,null,null,null,null,null,null,null,"~"]
["SA37",2018,"FS193",204,null,null,null,null,null,null,null,null,null,null,null,null,null,null,null,null,null,null,"~"]
["SA37",2018,"FS193",205,null,null,null,null,null,null,null,null,null,null,null,null,null,null,null,null,null,null,"~"]
["SA37",2018,"FS193",206,null,null,null,null,null,null,null,null,null,null,null,null,null,null,null,null,null,null,"~"]
["SA37",2018,"FS193",207,null,null,null,null,null,null,null,null,null,null,null,null,null,null,null,null,null,null,"~"]
["SA37",2018,"FS193",208,null,null,null,null,null,null,null,null,null,null,null,null,null,null,null,null,null,null,"~"]
["SA37",2018,"FS193",209,null,null,null,null,null,null,null,null,null,null,null,null,null,null,null,null,null,null,"~"]
["SA37",2018,"FS193",210,null,null,null,null,null,null,null,null,null,null,null,null,null,null,null,null,null,null,"~"]
["SA37",2018,"FS193",211,null,null,null,null,null,null,null,null,null,null,null,null,null,null,null,null,null,null,"~"]
["SA37",2018,"FS193",212,null,null,null,null,null,null,null,null,null,null,null,null,null,null,null,null,null,null,"~"]
["SA37",2018,"FS193",213,null,null,null,null,null,null,null,null,null,null,null,null,null,null,null,null,null,null,"~"]
["SA37",2018,"FS193",214,null,null,null,null,null,null,null,null,null,null,null,null,null,null,null,null,null,null,"~"]
["SA37",2018,"FS193",215,null,null,null,null,null,null,null,null,null,null,null,null,null,null,null,null,null,null,"~"]
["SA37",2018,"FS193",216,null,null,null,null,null,null,null,null,null,null,null,null,null,null,null,null,null,null,"~"]
["SA37",2018,"FS193",217,null,null,null,null,null,null,null,null,null,null,null,null,null,null,null,null,null,null,"~"]
["SA37",2018,"FS193",218,null,null,null,null,null,null,null,null,null,null,null,null,null,null,null,null,null,null,"~"]
["SA37",2018,"FS193",219,null,null,null,null,null,null,null,null,null,null,null,null,null,null,null,null,null,null,"~"]
["SA37",2018,"FS193",220,null,null,null,null,null,null,null,null,null,null,null,null,null,null,null,null,null,null,"~"]
["SA37",2018,"FS193",221,null,null,null,null,null,null,null,null,null,null,null,null,null,null,null,null,null,null,"~"]
["SA37",2018,"FS193",222,null,null,null,null,null,null,null,null,null,null,null,null,null,null,null,null,null,null,"~"]
["SA37",2018,"FS193",223,null,null,null,null,null,null,null,null,null,null,null,null,null,null,null,null,null,null,"~"]
["SA37",2018,"FS193",224,null,null,null,null,null,null,null,null,null,null,null,null,null,null,null,null,null,null,"~"]
["SA37",2018,"FS193",225,null,null,null,null,null,null,null,null,null,null,null,null,null,null,null,null,null,null,"~"]
["SA37",2018,"FS193",226,null,null,null,null,null,null,null,null,null,null,null,null,null,null,null,null,null,null,"~"]
["SA37",2018,"FS193",227,null,null,null,null,null,null,null,null,null,null,null,null,null,null,null,null,null,null,"~"]
["SA37",2018,"FS193",228,null,null,null,null,null,null,null,null,null,null,null,null,null,null,null,null,null,null,"~"]
["SA37",2018,"FS193",229,null,null,null,null,null,null,null,null,null,null,null,null,null,null,null,null,null,null,"~"]
["SA37",2018,"FS193",230,null,null,null,null,null,null,null,null,null,null,null,null,null,null,null,null,null,null,"~"]
["SA37",2018,"FS193",231,null,null,null,null,null,null,null,null,null,null,null,null,null,null,null,null,null,null,"~"]
["SA37",2018,"FS193",232,null,null,null,null,null,null,null,null,null,null,null,null,null,null,null,null,null,null,"~"]
["SA37",2018,"FS193",233,null,null,null,null,null,null,null,null,null,null,null,null,null,null,null,null,null,null,"~"]
["SA37",2018,"FS193",234,null,null,null,null,null,null,null,null,null,null,null,null,null,null,null,null,null,null,"~"]
["SA37",2018,"FS193",235,null,null,null,null,null,null,null,null,null,null,null,null,null,null,null,null,null,null,"~"]
["SA37",2018,"FS193",236,null,null,null,null,null,null,null,null,null,null,null,null,null,null,null,null,null,null,"~"]
["SA37",2018,"FS193",237,null,null,null,null,null,null,null,null,null,null,null,null,null,null,null,null,null,null,"~"]
["SA37",2018,"FS193",238,null,null,null,null,null,null,null,null,null,null,null,null,null,null,null,null,null,null,"~"]
["SA37",2018,"FS193",239,null,null,null,null,null,null,null,null,null,null,null,null,null,null,null,null,null,null,"~"]
["SA37",{"$f":"+MTREF","v":2018},{"$f":"LEFT(muni,(FIND(\" \",muni,1)-1))","v":"FS193"},240,null,null,null,null,null,null,null,null,null,null,null,null,null,null,null,null,null,null,"~"]
["SA37",2018,"FS193",241,null,null,null,null,null,null,null,null,null,null,null,null,null,null,null,null,null,null,"~"]
["SA37",2018,"FS193",242,null,null,null,null,null,null,null,null,null,null,null,null,null,null,null,null,null,null,"~"]
["SA37",2018,"FS193",243,null,null,null,null,null,null,null,null,null,null,null,null,null,null,null,null,null,null,"~"]
["SA37",2018,"FS193",244,null,null,null,null,null,null,null,null,null,null,null,null,null,null,null,null,null,null,"~"]
["SA37",2018,"FS193",245,null,null,null,null,null,null,null,null,null,null,null,null,null,null,null,null,null,null,"~"]
["SA37",2018,"FS193",246,null,null,null,null,null,null,null,null,null,null,null,null,null,null,null,null,null,null,"~"]
["SA37",2018,"FS193",247,null,null,null,null,null,null,null,null,null,null,null,null,null,null,null,null,null,null,"~"]
["SA37",2018,"FS193",248,null,null,null,null,null,null,null,null,null,null,null,null,null,null,null,null,null,null,"~"]
["SA37",2018,"FS193",249,null,null,null,null,null,null,null,null,null,null,null,null,null,null,null,null,null,null,"~"]
["SA37",2018,"FS193",250,null,null,null,null,null,null,null,null,null,null,null,null,null,null,null,null,null,null,"~"]
["SA37",2018,"FS193",251,null,null,null,null,null,null,null,null,null,null,null,null,null,null,null,null,null,null,"~"]
["SA37",2018,"FS193",252,null,null,null,null,null,null,null,null,null,null,null,null,null,null,null,null,null,null,"~"]
["SA37",2018,"FS193",253,null,null,null,null,null,null,null,null,null,null,null,null,null,null,null,null,null,null,"~"]
["SA37",2018,"FS193",254,null,null,null,null,null,null,null,null,null,null,null,null,null,null,null,null,null,null,"~"]
["SA37",2018,"FS193",255,null,null,null,null,null,null,null,null,null,null,null,null,null,null,null,null,null,null,"~"]
["SA37",2018,"FS193",256,null,null,null,null,null,null,null,null,null,null,null,null,null,null,null,null,null,null,"~"]
["SA37",2018,"FS193",257,null,null,null,null,null,null,null,null,null,null,null,null,null,null,null,null,null,null,"~"]
["SA37",2018,"FS193",258,null,null,null,null,null,null,null,null,null,null,null,null,null,null,null,null,null,null,"~"]
["SA37",2018,"FS193",259,null,null,null,null,null,null,null,null,null,null,null,null,null,null,null,null,null,null,"~"]
["SA37",2018,"FS193",260,null,null,null,null,null,null,null,null,null,null,null,null,null,null,null,null,null,null,"~"]
["SA37",2018,"FS193",261,null,null,null,null,null,null,null,null,null,null,null,null,null,null,null,null,null,null,"~"]
["SA37",2018,"FS193",262,null,null,null,null,null,null,null,null,null,null,null,null,null,null,null,null,null,null,"~"]
["SA37",2018,"FS193",263,null,null,null,null,null,null,null,null,null,null,null,null,null,null,null,null,null,null,"~"]
["SA37",2018,"FS193",264,null,null,null,null,null,null,null,null,null,null,null,null,null,null,null,null,null,null,"~"]
["SA37",2018,"FS193",265,null,null,null,null,null,null,null,null,null,null,null,null,null,null,null,null,null,null,"~"]
["SA37",2018,"FS193",266,null,null,null,null,null,null,null,null,null,null,null,null,null,null,null,null,null,null,"~"]
["SA37",2018,"FS193",267,null,null,null,null,null,null,null,null,null,null,null,null,null,null,null,null,null,null,"~"]
["SA37",2018,"FS193",268,null,null,null,null,null,null,null,null,null,null,null,null,null,null,null,null,null,null,"~"]
["SA37",2018,"FS193",269,null,null,null,null,null,null,null,null,null,null,null,null,null,null,null,null,null,null,"~"]
["SA37",2018,"FS193",270,null,null,null,null,null,null,null,null,null,null,null,null,null,null,null,null,null,null,"~"]
["SA37",2018,"FS193",271,null,null,null,null,null,null,null,null,null,null,null,null,null,null,null,null,null,null,"~"]
["SA37",2018,"FS193",272,null,null,null,null,null,null,null,null,null,null,null,null,null,null,null,null,null,null,"~"]
["SA37",2018,"FS193",273,null,null,null,null,null,null,null,null,null,null,null,null,null,null,null,null,null,null,"~"]
["SA37",2018,"FS193",274,null,null,null,null,null,null,null,null,null,null,null,null,null,null,null,null,null,null,"~"]
["SA37",2018,"FS193",275,null,null,null,null,null,null,null,null,null,null,null,null,null,null,null,null,null,null,"~"]
["SA37",2018,"FS193",276,null,null,null,null,null,null,null,null,null,null,null,null,null,null,null,null,null,null,"~"]
["SA37",2018,"FS193",277,null,null,null,null,null,null,null,null,null,null,null,null,null,null,null,null,null,null,"~"]
["SA37",2018,"FS193",278,null,null,null,null,null,null,null,null,null,null,null,null,null,null,null,null,null,null,"~"]
["SA37",2018,"FS193",279,null,null,null,null,null,null,null,null,null,null,null,null,null,null,null,null,null,null,"~"]
["SA37",2018,"FS193",280,null,null,null,null,null,null,null,null,null,null,null,null,null,null,null,null,null,null,"~"]
["SA37",2018,"FS193",281,null,null,null,null,null,null,null,null,null,null,null,null,null,null,null,null,null,null,"~"]
["SA37",2018,"FS193",282,null,null,null,null,null,null,null,null,null,null,null,null,null,null,null,null,null,null,"~"]
["SA37",2018,"FS193",283,null,null,null,null,null,null,null,null,null,null,null,null,null,null,null,null,null,null,"~"]
["SA37",2018,"FS193",284,null,null,null,null,null,null,null,null,null,null,null,null,null,null,null,null,null,null,"~"]
["SA37",2018,"FS193",285,null,null,null,null,null,null,null,null,null,null,null,null,null,null,null,null,null,null,"~"]
["SA37",2018,"FS193",286,null,null,null,null,null,null,null,null,null,null,null,null,null,null,null,null,null,null,"~"]
["SA37",2018,"FS193",287,null,null,null,null,null,null,null,null,null,null,null,null,null,null,null,null,null,null,"~"]
["SA37",2018,"FS193",288,null,null,null,null,null,null,null,null,null,null,null,null,null,null,null,null,null,null,"~"]
["SA37",2018,"FS193",289,null,null,null,null,null,null,null,null,null,null,null,null,null,null,null,null,null,null,"~"]
["SA37",2018,"FS193",290,null,null,null,null,null,null,null,null,null,null,null,null,null,null,null,null,null,null,"~"]
["SA37",2018,"FS193",291,null,null,null,null,null,null,null,null,null,null,null,null,null,null,null,null,null,null,"~"]
["SA37",2018,"FS193",292,null,null,null,null,null,null,null,null,null,null,null,null,null,null,null,null,null,null,"~"]
["SA37",2018,"FS193",293,null,null,null,null,null,null,null,null,null,null,null,null,null,null,null,null,null,null,"~"]
["SA37",2018,"FS193",294,null,null,null,null,null,null,null,null,null,null,null,null,null,null,null,null,null,null,"~"]
["SA37",2018,"FS193",295,null,null,null,null,null,null,null,null,null,null,null,null,null,null,null,null,null,null,"~"]
["SA37",2018,"FS193",296,null,null,null,null,null,null,null,null,null,null,null,null,null,null,null,null,null,null,"~"]
["SA37",2018,"FS193",297,null,null,null,null,null,null,null,null,null,null,null,null,null,null,null,null,null,null,"~"]
["SA37",2018,"FS193",298,null,null,null,null,null,null,null,null,null,null,null,null,null,null,null,null,null,null,"~"]
["SA37",2018,"FS193",299,null,null,null,null,null,null,null,null,null,null,null,null,null,null,null,null,null,null,"~"]
["SA37",2018,"FS193",300,null,null,null,null,null,null,null,null,null,null,null,null,null,null,null,null,null,null,"~"]
["SA37",2018,"FS193",301,null,null,null,null,null,null,null,null,null,null,null,null,null,null,null,null,null,null,"~"]
["SA37",2018,"FS193",302,null,null,null,null,null,null,null,null,null,null,null,null,null,null,null,null,null,null,"~"]
["SA37",2018,"FS193",303,null,null,null,null,null,null,null,null,null,null,null,null,null,null,null,null,null,null,"~"]
["SA37",{"$f":"+MTREF","v":2018},{"$f":"LEFT(muni,(FIND(\" \",muni,1)-1))","v":"FS193"},304,null,null,null,null,null,null,null,null,null,null,null,null,null,null,null,null,null,null,"~"]
["SA37",2018,"FS193",305,null,null,null,null,null,null,null,null,null,null,null,null,null,null,null,null,null,null,"~"]
["SA37",2018,"FS193",306,null,null,null,null,null,null,null,null,null,null,null,null,null,null,null,null,null,null,"~"]
["SA37",2018,"FS193",307,null,null,null,null,null,null,null,null,null,null,null,null,null,null,null,null,null,null,"~"]
["SA37",2018,"FS193",308,null,null,null,null,null,null,null,null,null,null,null,null,null,null,null,null,null,null,"~"]
["SA37",2018,"FS193",309,null,null,null,null,null,null,null,null,null,null,null,null,null,null,null,null,null,null,"~"]
["SA37",2018,"FS193",310,null,null,null,null,null,null,null,null,null,null,null,null,null,null,null,null,null,null,"~"]
["SA37",2018,"FS193",311,null,null,null,null,null,null,null,null,null,null,null,null,null,null,null,null,null,null,"~"]
["SA37",2018,"FS193",312,null,null,null,null,null,null,null,null,null,null,null,null,null,null,null,null,null,null,"~"]
["SA37",2018,"FS193",313,null,null,null,null,null,null,null,null,null,null,null,null,null,null,null,null,null,null,"~"]
["SA37",2018,"FS193",314,null,null,null,null,null,null,null,null,null,null,null,null,null,null,null,null,null,null,"~"]
["SA37",2018,"FS193",315,null,null,null,null,null,null,null,null,null,null,null,null,null,null,null,null,null,null,"~"]
["SA37",2018,"FS193",316,null,null,null,null,null,null,null,null,null,null,null,null,null,null,null,null,null,null,"~"]
["SA37",2018,"FS193",317,null,null,null,null,null,null,null,null,null,null,null,null,null,null,null,null,null,null,"~"]
["SA37",2018,"FS193",318,null,null,null,null,null,null,null,null,null,null,null,null,null,null,null,null,null,null,"~"]
["SA37",2018,"FS193",319,null,null,null,null,null,null,null,null,null,null,null,null,null,null,null,null,null,null,"~"]
["SA37",2018,"FS193",320,null,null,null,null,null,null,null,null,null,null,null,null,null,null,null,null,null,null,"~"]
["SA37",2018,"FS193",321,null,null,null,null,null,null,null,null,null,null,null,null,null,null,null,null,null,null,"~"]
["SA37",2018,"FS193",322,null,null,null,null,null,null,null,null,null,null,null,null,null,null,null,null,null,null,"~"]
["SA37",2018,"FS193",323,null,null,null,null,null,null,null,null,null,null,null,null,null,null,null,null,null,null,"~"]
["SA37",2018,"FS193",324,null,null,null,null,null,null,null,null,null,null,null,null,null,null,null,null,null,null,"~"]
["SA37",2018,"FS193",325,null,null,null,null,null,null,null,null,null,null,null,null,null,null,null,null,null,null,"~"]
["SA37",2018,"FS193",326,null,null,null,null,null,null,null,null,null,null,null,null,null,null,null,null,null,null,"~"]
["SA37",2018,"FS193",327,null,null,null,null,null,null,null,null,null,null,null,null,null,null,null,null,null,null,"~"]
["SA37",2018,"FS193",328,null,null,null,null,null,null,null,null,null,null,null,null,null,null,null,null,null,null,"~"]
["SA37",2018,"FS193",329,null,null,null,null,null,null,null,null,null,null,null,null,null,null,null,null,null,null,"~"]
["SA37",2018,"FS193",330,null,null,null,null,null,null,null,null,null,null,null,null,null,null,null,null,null,null,"~"]
["SA37",2018,"FS193",331,null,null,null,null,null,null,null,null,null,null,null,null,null,null,null,null,null,null,"~"]
["SA37",2018,"FS193",332,null,null,null,null,null,null,null,null,null,null,null,null,null,null,null,null,null,null,"~"]
["SA37",2018,"FS193",333,null,null,null,null,null,null,null,null,null,null,null,null,null,null,null,null,null,null,"~"]
["SA37",2018,"FS193",334,null,null,null,null,null,null,null,null,null,null,null,null,null,null,null,null,null,null,"~"]
["SA37",2018,"FS193",335,null,null,null,null,null,null,null,null,null,null,null,null,null,null,null,null,null,null,"~"]
["SA37",2018,"FS193",336,null,null,null,null,null,null,null,null,null,null,null,null,null,null,null,null,null,null,"~"]
["SA37",2018,"FS193",337,null,null,null,null,null,null,null,null,null,null,null,null,null,null,null,null,null,null,"~"]
["SA37",2018,"FS193",338,null,null,null,null,null,null,null,null,null,null,null,null,null,null,null,null,null,null,"~"]
["SA37",2018,"FS193",339,null,null,null,null,null,null,null,null,null,null,null,null,null,null,null,null,null,null,"~"]
["SA37",2018,"FS193",340,null,null,null,null,null,null,null,null,null,null,null,null,null,null,null,null,null,null,"~"]
["SA37",2018,"FS193",341,null,null,null,null,null,null,null,null,null,null,null,null,null,null,null,null,null,null,"~"]
["SA37",2018,"FS193",342,null,null,null,null,null,null,null,null,null,null,null,null,null,null,null,null,null,null,"~"]
["SA37",2018,"FS193",343,null,null,null,null,null,null,null,null,null,null,null,null,null,null,null,null,null,null,"~"]
["SA37",2018,"FS193",344,null,null,null,null,null,null,null,null,null,null,null,null,null,null,null,null,null,null,"~"]
["SA37",2018,"FS193",345,null,null,null,null,null,null,null,null,null,null,null,null,null,null,null,null,null,null,"~"]
["SA37",2018,"FS193",346,null,null,null,null,null,null,null,null,null,null,null,null,null,null,null,null,null,null,"~"]
["SA37",2018,"FS193",347,null,null,null,null,null,null,null,null,null,null,null,null,null,null,null,null,null,null,"~"]
["SA37",2018,"FS193",348,null,null,null,null,null,null,null,null,null,null,null,null,null,null,null,null,null,null,"~"]
["SA37",2018,"FS193",349,null,null,null,null,null,null,null,null,null,null,null,null,null,null,null,null,null,null,"~"]
["SA37",2018,"FS193",350,null,null,null,null,null,null,null,null,null,null,null,null,null,null,null,null,null,null,"~"]
["SA37",2018,"FS193",351,null,null,null,null,null,null,null,null,null,null,null,null,null,null,null,null,null,null,"~"]
["SA37",2018,"FS193",352,null,null,null,null,null,null,null,null,null,null,null,null,null,null,null,null,null,null,"~"]
["SA37",2018,"FS193",353,null,null,null,null,null,null,null,null,null,null,null,null,null,null,null,null,null,null,"~"]
["SA37",2018,"FS193",354,null,null,null,null,null,null,null,null,null,null,null,null,null,null,null,null,null,null,"~"]
["SA37",2018,"FS193",355,null,null,null,null,null,null,null,null,null,null,null,null,null,null,null,null,null,null,"~"]
["SA37",2018,"FS193",356,null,null,null,null,null,null,null,null,null,null,null,null,null,null,null,null,null,null,"~"]
["SA37",2018,"FS193",357,null,null,null,null,null,null,null,null,null,null,null,null,null,null,null,null,null,null,"~"]
["SA37",2018,"FS193",358,null,null,null,null,null,null,null,null,null,null,null,null,null,null,null,null,null,null,"~"]
["SA37",2018,"FS193",359,null,null,null,null,null,null,null,null,null,null,null,null,null,null,null,null,null,null,"~"]
["SA37",2018,"FS193",360,null,null,null,null,null,null,null,null,null,null,null,null,null,null,null,null,null,null,"~"]
["SA37",2018,"FS193",361,null,null,null,null,null,null,null,null,null,null,null,null,null,null,null,null,null,null,"~"]
["SA37",2018,"FS193",362,null,null,null,null,null,null,null,null,null,null,null,null,null,null,null,null,null,null,"~"]
["SA37",2018,"FS193",363,null,null,null,null,null,null,null,null,null,null,null,null,null,null,null,null,null,null,"~"]
["SA37",2018,"FS193",364,null,null,null,null,null,null,null,null,null,null,null,null,null,null,null,null,null,null,"~"]
["SA37",2018,"FS193",365,null,null,null,null,null,null,null,null,null,null,null,null,null,null,null,null,null,null,"~"]
["SA37",2018,"FS193",366,null,null,null,null,null,null,null,null,null,null,null,null,null,null,null,null,null,null,"~"]
["SA37",2018,"FS193",367,null,null,null,null,null,null,null,null,null,null,null,null,null,null,null,null,null,null,"~"]
["SA37",{"$f":"+MTREF","v":2018},{"$f":"LEFT(muni,(FIND(\" \",muni,1)-1))","v":"FS193"},368,null,null,null,null,null,null,null,null,null,null,null,null,null,null,null,null,null,null,"~"]
["SA37",2018,"FS193",369,null,null,null,null,null,null,null,null,null,null,null,null,null,null,null,null,null,null,"~"]
["SA37",2018,"FS193",370,null,null,null,null,null,null,null,null,null,null,null,null,null,null,null,null,null,null,"~"]
["SA37",2018,"FS193",371,null,null,null,null,null,null,null,null,null,null,null,null,null,null,null,null,null,null,"~"]
["SA37",2018,"FS193",372,null,null,null,null,null,null,null,null,null,null,null,null,null,null,null,null,null,null,"~"]
["SA37",2018,"FS193",373,null,null,null,null,null,null,null,null,null,null,null,null,null,null,null,null,null,null,"~"]
["SA37",2018,"FS193",374,null,null,null,null,null,null,null,null,null,null,null,null,null,null,null,null,null,null,"~"]
["SA37",2018,"FS193",375,null,null,null,null,null,null,null,null,null,null,null,null,null,null,null,null,null,null,"~"]
["SA37",2018,"FS193",376,null,null,null,null,null,null,null,null,null,null,null,null,null,null,null,null,null,null,"~"]
["SA37",2018,"FS193",377,null,null,null,null,null,null,null,null,null,null,null,null,null,null,null,null,null,null,"~"]
["SA37",2018,"FS193",378,null,null,null,null,null,null,null,null,null,null,null,null,null,null,null,null,null,null,"~"]
["SA37",2018,"FS193",379,null,null,null,null,null,null,null,null,null,null,null,null,null,null,null,null,null,null,"~"]
["SA37",2018,"FS193",380,null,null,null,null,null,null,null,null,null,null,null,null,null,null,null,null,null,null,"~"]
["SA37",2018,"FS193",381,null,null,null,null,null,null,null,null,null,null,null,null,null,null,null,null,null,null,"~"]
["SA37",2018,"FS193",382,null,null,null,null,null,null,null,null,null,null,null,null,null,null,null,null,null,null,"~"]
["SA37",2018,"FS193",383,null,null,null,null,null,null,null,null,null,null,null,null,null,null,null,null,null,null,"~"]
["SA37",2018,"FS193",384,null,null,null,null,null,null,null,null,null,null,null,null,null,null,null,null,null,null,"~"]
["SA37",2018,"FS193",385,null,null,null,null,null,null,null,null,null,null,null,null,null,null,null,null,null,null,"~"]
["SA37",2018,"FS193",386,null,null,null,null,null,null,null,null,null,null,null,null,null,null,null,null,null,null,"~"]
["SA37",2018,"FS193",387,null,null,null,null,null,null,null,null,null,null,null,null,null,null,null,null,null,null,"~"]
["SA37",2018,"FS193",388,null,null,null,null,null,null,null,null,null,null,null,null,null,null,null,null,null,null,"~"]
["SA37",2018,"FS193",389,null,null,null,null,null,null,null,null,null,null,null,null,null,null,null,null,null,null,"~"]
["SA37",2018,"FS193",390,null,null,null,null,null,null,null,null,null,null,null,null,null,null,null,null,null,null,"~"]
["SA37",2018,"FS193",391,null,null,null,null,null,null,null,null,null,null,null,null,null,null,null,null,null,null,"~"]
["SA37",2018,"FS193",392,null,null,null,null,null,null,null,null,null,null,null,null,null,null,null,null,null,null,"~"]
["SA37",2018,"FS193",393,null,null,null,null,null,null,null,null,null,null,null,null,null,null,null,null,null,null,"~"]
["SA37",2018,"FS193",394,null,null,null,null,null,null,null,null,null,null,null,null,null,null,null,null,null,null,"~"]
["SA37",2018,"FS193",395,null,null,null,null,null,null,null,null,null,null,null,null,null,null,null,null,null,null,"~"]
["SA37",2018,"FS193",396,null,null,null,null,null,null,null,null,null,null,null,null,null,null,null,null,null,null,"~"]
["SA37",2018,"FS193",397,null,null,null,null,null,null,null,null,null,null,null,null,null,null,null,null,null,null,"~"]
["SA37",2018,"FS193",398,null,null,null,null,null,null,null,null,null,null,null,null,null,null,null,null,null,null,"~"]
["SA37",2018,"FS193",399,null,null,null,null,null,null,null,null,null,null,null,null,null,null,null,null,null,null,"~"]
["SA37",2018,"FS193",400,null,null,null,null,null,null,null,null,null,null,null,null,null,null,null,null,null,null,"~"]
["SA37",2018,"FS193",401,null,null,null,null,null,null,null,null,null,null,null,null,null,null,null,null,null,null,"~"]
["SA37",2018,"FS193",402,null,null,null,null,null,null,null,null,null,null,null,null,null,null,null,null,null,null,"~"]
["SA37",2018,"FS193",403,null,null,null,null,null,null,null,null,null,null,null,null,null,null,null,null,null,null,"~"]
["SA37",2018,"FS193",404,null,null,null,null,null,null,null,null,null,null,null,null,null,null,null,null,null,null,"~"]
["SA37",2018,"FS193",405,null,null,null,null,null,null,null,null,null,null,null,null,null,null,null,null,null,null,"~"]
["SA37",2018,"FS193",406,null,null,null,null,null,null,null,null,null,null,null,null,null,null,null,null,null,null,"~"]
["SA37",2018,"FS193",407,null,null,null,null,null,null,null,null,null,null,null,null,null,null,null,null,null,null,"~"]
["SA37",2018,"FS193",408,null,null,null,null,null,null,null,null,null,null,null,null,null,null,null,null,null,null,"~"]
["SA37",2018,"FS193",409,null,null,null,null,null,null,null,null,null,null,null,null,null,null,null,null,null,null,"~"]
["SA37",2018,"FS193",410,null,null,null,null,null,null,null,null,null,null,null,null,null,null,null,null,null,null,"~"]
["SA37",2018,"FS193",411,null,null,null,null,null,null,null,null,null,null,null,null,null,null,null,null,null,null,"~"]
["SA37",2018,"FS193",412,null,null,null,null,null,null,null,null,null,null,null,null,null,null,null,null,null,null,"~"]
["SA37",2018,"FS193",413,null,null,null,null,null,null,null,null,null,null,null,null,null,null,null,null,null,null,"~"]
["SA37",2018,"FS193",414,null,null,null,null,null,null,null,null,null,null,null,null,null,null,null,null,null,null,"~"]
["SA37",2018,"FS193",415,null,null,null,null,null,null,null,null,null,null,null,null,null,null,null,null,null,null,"~"]
["SA37",2018,"FS193",416,null,null,null,null,null,null,null,null,null,null,null,null,null,null,null,null,null,null,"~"]
["SA37",2018,"FS193",417,null,null,null,null,null,null,null,null,null,null,null,null,null,null,null,null,null,null,"~"]
["SA37",2018,"FS193",418,null,null,null,null,null,null,null,null,null,null,null,null,null,null,null,null,null,null,"~"]
["SA37",2018,"FS193",419,null,null,null,null,null,null,null,null,null,null,null,null,null,null,null,null,null,null,"~"]
["SA37",2018,"FS193",420,null,null,null,null,null,null,null,null,null,null,null,null,null,null,null,null,null,null,"~"]
["SA37",2018,"FS193",421,null,null,null,null,null,null,null,null,null,null,null,null,null,null,null,null,null,null,"~"]
["SA37",2018,"FS193",422,null,null,null,null,null,null,null,null,null,null,null,null,null,null,null,null,null,null,"~"]
["SA37",2018,"FS193",423,null,null,null,null,null,null,null,null,null,null,null,null,null,null,null,null,null,null,"~"]
["SA37",2018,"FS193",424,null,null,null,null,null,null,null,null,null,null,null,null,null,null,null,null,null,null,"~"]
["SA37",2018,"FS193",425,null,null,null,null,null,null,null,null,null,null,null,null,null,null,null,null,null,null,"~"]
["SA37",2018,"FS193",426,null,null,null,null,null,null,null,null,null,null,null,null,null,null,null,null,null,null,"~"]
["SA37",2018,"FS193",427,null,null,null,null,null,null,null,null,null,null,null,null,null,null,null,null,null,null,"~"]
["SA37",2018,"FS193",428,null,null,null,null,null,null,null,null,null,null,null,null,null,null,null,null,null,null,"~"]
["SA37",2018,"FS193",429,null,null,null,null,null,null,null,null,null,null,null,null,null,null,null,null,null,null,"~"]
["SA37",2018,"FS193",430,null,null,null,null,null,null,null,null,null,null,null,null,null,null,null,null,null,null,"~"]
["SA37",2018,"FS193",431,null,null,null,null,null,null,null,null,null,null,null,null,null,null,null,null,null,null,"~"]
["SA37",{"$f":"+MTREF","v":2018},{"$f":"LEFT(muni,(FIND(\" \",muni,1)-1))","v":"FS193"},432,null,null,null,null,null,null,null,null,null,null,null,null,null,null,null,null,null,null,"~"]
["SA37",2018,"FS193",433,null,null,null,null,null,null,null,null,null,null,null,null,null,null,null,null,null,null,"~"]
["SA37",2018,"FS193",434,null,null,null,null,null,null,null,null,null,null,null,null,null,null,null,null,null,null,"~"]
["SA37",2018,"FS193",435,null,null,null,null,null,null,null,null,null,null,null,null,null,null,null,null,null,null,"~"]
["SA37",2018,"FS193",436,null,null,null,null,null,null,null,null,null,null,null,null,null,null,null,null,null,null,"~"]
["SA37",2018,"FS193",437,null,null,null,null,null,null,null,null,null,null,null,null,null,null,null,null,null,null,"~"]
["SA37",2018,"FS193",438,null,null,null,null,null,null,null,null,null,null,null,null,null,null,null,null,null,null,"~"]
["SA37",2018,"FS193",439,null,null,null,null,null,null,null,null,null,null,null,null,null,null,null,null,null,null,"~"]
["SA37",2018,"FS193",440,null,null,null,null,null,null,null,null,null,null,null,null,null,null,null,null,null,null,"~"]
["SA37",2018,"FS193",441,null,null,null,null,null,null,null,null,null,null,null,null,null,null,null,null,null,null,"~"]
["SA37",2018,"FS193",442,null,null,null,null,null,null,null,null,null,null,null,null,null,null,null,null,null,null,"~"]
["SA37",2018,"FS193",443,null,null,null,null,null,null,null,null,null,null,null,null,null,null,null,null,null,null,"~"]
["SA37",2018,"FS193",444,null,null,null,null,null,null,null,null,null,null,null,null,null,null,null,null,null,null,"~"]
["SA37",2018,"FS193",445,null,null,null,null,null,null,null,null,null,null,null,null,null,null,null,null,null,null,"~"]
["SA37",2018,"FS193",446,null,null,null,null,null,null,null,null,null,null,null,null,null,null,null,null,null,null,"~"]
["SA37",2018,"FS193",447,null,null,null,null,null,null,null,null,null,null,null,null,null,null,null,null,null,null,"~"]
["SA37",2018,"FS193",448,null,null,null,null,null,null,null,null,null,null,null,null,null,null,null,null,null,null,"~"]
["SA37",2018,"FS193",449,null,null,null,null,null,null,null,null,null,null,null,null,null,null,null,null,null,null,"~"]
["SA37",2018,"FS193",450,null,null,null,null,null,null,null,null,null,null,null,null,null,null,null,null,null,null,"~"]
["SA37",2018,"FS193",451,null,null,null,null,null,null,null,null,null,null,null,null,null,null,null,null,null,null,"~"]
["SA37",2018,"FS193",452,null,null,null,null,null,null,null,null,null,null,null,null,null,null,null,null,null,null,"~"]
["SA37",2018,"FS193",453,null,null,null,null,null,null,null,null,null,null,null,null,null,null,null,null,null,null,"~"]
["SA37",2018,"FS193",454,null,null,null,null,null,null,null,null,null,null,null,null,null,null,null,null,null,null,"~"]
["SA37",2018,"FS193",455,null,null,null,null,null,null,null,null,null,null,null,null,null,null,null,null,null,null,"~"]
["SA37",2018,"FS193",456,null,null,null,null,null,null,null,null,null,null,null,null,null,null,null,null,null,null,"~"]
["SA37",2018,"FS193",457,null,null,null,null,null,null,null,null,null,null,null,null,null,null,null,null,null,null,"~"]
["SA37",2018,"FS193",458,null,null,null,null,null,null,null,null,null,null,null,null,null,null,null,null,null,null,"~"]
["SA37",2018,"FS193",459,null,null,null,null,null,null,null,null,null,null,null,null,null,null,null,null,null,null,"~"]
["SA37",2018,"FS193",460,null,null,null,null,null,null,null,null,null,null,null,null,null,null,null,null,null,null,"~"]
["SA37",2018,"FS193",461,null,null,null,null,null,null,null,null,null,null,null,null,null,null,null,null,null,null,"~"]
["SA37",2018,"FS193",462,null,null,null,null,null,null,null,null,null,null,null,null,null,null,null,null,null,null,"~"]
["SA37",2018,"FS193",463,null,null,null,null,null,null,null,null,null,null,null,null,null,null,null,null,null,null,"~"]
["SA37",2018,"FS193",464,null,null,null,null,null,null,null,null,null,null,null,null,null,null,null,null,null,null,"~"]
["SA37",2018,"FS193",465,null,null,null,null,null,null,null,null,null,null,null,null,null,null,null,null,null,null,"~"]
["SA37",2018,"FS193",466,null,null,null,null,null,null,null,null,null,null,null,null,null,null,null,null,null,null,"~"]
["SA37",2018,"FS193",467,null,null,null,null,null,null,null,null,null,null,null,null,null,null,null,null,null,null,"~"]
["SA37",2018,"FS193",468,null,null,null,null,null,null,null,null,null,null,null,null,null,null,null,null,null,null,"~"]
["SA37",2018,"FS193",469,null,null,null,null,null,null,null,null,null,null,null,null,null,null,null,null,null,null,"~"]
["SA37",2018,"FS193",470,null,null,null,null,null,null,null,null,null,null,null,null,null,null,null,null,null,null,"~"]
["SA37",2018,"FS193",471,null,null,null,null,null,null,null,null,null,null,null,null,null,null,null,null,null,null,"~"]
["SA37",2018,"FS193",472,null,null,null,null,null,null,null,null,null,null,null,null,null,null,null,null,null,null,"~"]
["SA37",2018,"FS193",473,null,null,null,null,null,null,null,null,null,null,null,null,null,null,null,null,null,null,"~"]
["SA37",2018,"FS193",474,null,null,null,null,null,null,null,null,null,null,null,null,null,null,null,null,null,null,"~"]
["SA37",2018,"FS193",475,null,null,null,null,null,null,null,null,null,null,null,null,null,null,null,null,null,null,"~"]
["SA37",2018,"FS193",476,null,null,null,null,null,null,null,null,null,null,null,null,null,null,null,null,null,null,"~"]
["SA37",2018,"FS193",477,null,null,null,null,null,null,null,null,null,null,null,null,null,null,null,null,null,null,"~"]
["SA37",2018,"FS193",478,null,null,null,null,null,null,null,null,null,null,null,null,null,null,null,null,null,null,"~"]
["SA37",2018,"FS193",479,null,null,null,null,null,null,null,null,null,null,null,null,null,null,null,null,null,null,"~"]
["SA37",2018,"FS193",480,null,null,null,null,null,null,null,null,null,null,null,null,null,null,null,null,null,null,"~"]
["SA37",2018,"FS193",481,null,null,null,null,null,null,null,null,null,null,null,null,null,null,null,null,null,null,"~"]
["SA37",2018,"FS193",482,null,null,null,null,null,null,null,null,null,null,null,null,null,null,null,null,null,null,"~"]
["SA37",2018,"FS193",483,null,null,null,null,null,null,null,null,null,null,null,null,null,null,null,null,null,null,"~"]
["SA37",2018,"FS193",484,null,null,null,null,null,null,null,null,null,null,null,null,null,null,null,null,null,null,"~"]
["SA37",2018,"FS193",485,null,null,null,null,null,null,null,null,null,null,null,null,null,null,null,null,null,null,"~"]
["SA37",2018,"FS193",486,null,null,null,null,null,null,null,null,null,null,null,null,null,null,null,null,null,null,"~"]
["SA37",2018,"FS193",487,null,null,null,null,null,null,null,null,null,null,null,null,null,null,null,null,null,null,"~"]
["SA37",2018,"FS193",488,null,null,null,null,null,null,null,null,null,null,null,null,null,null,null,null,null,null,"~"]
["SA37",2018,"FS193",489,null,null,null,null,null,null,null,null,null,null,null,null,null,null,null,null,null,null,"~"]
["SA37",2018,"FS193",490,null,null,null,null,null,null,null,null,null,null,null,null,null,null,null,null,null,null,"~"]
["SA37",2018,"FS193",491,null,null,null,null,null,null,null,null,null,null,null,null,null,null,null,null,null,null,"~"]
["SA37",2018,"FS193",492,null,null,null,null,null,null,null,null,null,null,null,null,null,null,null,null,null,null,"~"]
["SA37",2018,"FS193",493,null,null,null,null,null,null,null,null,null,null,null,null,null,null,null,null,null,null,"~"]
["SA37",2018,"FS193",494,null,null,null,null,null,null,null,null,null,null,null,null,null,null,null,null,null,null,"~"]
["SA37",2018,"FS193",495,null,null,null,null,null,null,null,null,null,null,null,null,null,null,null,null,null,null,"~"]
["SA37",{"$f":"+MTREF","v":2018},{"$f":"LEFT(muni,(FIND(\" \",muni,1)-1))","v":"FS193"},496,null,null,null,null,null,null,null,null,null,null,null,null,null,null,null,null,null,null,"~"]
["SA37",2018,"FS193",497,null,null,null,null,null,null,null,null,null,null,null,null,null,null,null,null,null,null,"~"]
["SA37",2018,"FS193",498,null,null,null,null,null,null,null,null,null,null,null,null,null,null,null,null,null,null,"~"]
["SA37",2018,"FS193",499,null,null,null,null,null,null,null,null,null,null,null,null,null,null,null,null,null,null,"~"]
["SA37",2018,"FS193",500,null,null,null,null,null,null,null,null,null,null,null,null,null,null,null,null,null,null,"~"]
["SA37",2018,"FS193",501,null,null,null,null,null,null,null,null,null,null,null,null,null,null,null,null,null,null,"~"]
["SA37",2018,"FS193",502,null,null,null,null,null,null,null,null,null,null,null,null,null,null,null,null,null,null,"~"]
["SA37",2018,"FS193",503,null,null,null,null,null,null,null,null,null,null,null,null,null,null,null,null,null,null,"~"]
["SA37",2018,"FS193",504,null,null,null,null,null,null,null,null,null,null,null,null,null,null,null,null,null,null,"~"]
["SA37",2018,"FS193",505,null,null,null,null,null,null,null,null,null,null,null,null,null,null,null,null,null,null,"~"]
["SA37",2018,"FS193",506,null,null,null,null,null,null,null,null,null,null,null,null,null,null,null,null,null,null,"~"]
["SA37",2018,"FS193",507,null,null,null,null,null,null,null,null,null,null,null,null,null,null,null,null,null,null,"~"]
["SA37",2018,"FS193",508,null,null,null,null,null,null,null,null,null,null,null,null,null,null,null,null,null,null,"~"]
["SA37",2018,"FS193",509,null,null,null,null,null,null,null,null,null,null,null,null,null,null,null,null,null,null,"~"]
["SA37",2018,"FS193",510,null,null,null,null,null,null,null,null,null,null,null,null,null,null,null,null,null,null,"~"]
["SA37",2018,"FS193",511,null,null,null,null,null,null,null,null,null,null,null,null,null,null,null,null,null,null,"~"]
["SA37",2018,"FS193",512,null,null,null,null,null,null,null,null,null,null,null,null,null,null,null,null,null,null,"~"]
["SA37",2018,"FS193",513,null,null,null,null,null,null,null,null,null,null,null,null,null,null,null,null,null,null,"~"]
["SA37",2018,"FS193",514,null,null,null,null,null,null,null,null,null,null,null,null,null,null,null,null,null,null,"~"]
["SA37",2018,"FS193",515,null,null,null,null,null,null,null,null,null,null,null,null,null,null,null,null,null,null,"~"]
["SA37",2018,"FS193",516,null,null,null,null,null,null,null,null,null,null,null,null,null,null,null,null,null,null,"~"]
["SA37",2018,"FS193",517,null,null,null,null,null,null,null,null,null,null,null,null,null,null,null,null,null,null,"~"]
["SA37",2018,"FS193",518,null,null,null,null,null,null,null,null,null,null,null,null,null,null,null,null,null,null,"~"]
["SA37",2018,"FS193",519,null,null,null,null,null,null,null,null,null,null,null,null,null,null,null,null,null,null,"~"]
["SA37",2018,"FS193",520,null,null,null,null,null,null,null,null,null,null,null,null,null,null,null,null,null,null,"~"]
["SA37",2018,"FS193",521,null,null,null,null,null,null,null,null,null,null,null,null,null,null,null,null,null,null,"~"]
["SA37",2018,"FS193",522,null,null,null,null,null,null,null,null,null,null,null,null,null,null,null,null,null,null,"~"]
["SA37",2018,"FS193",523,null,null,null,null,null,null,null,null,null,null,null,null,null,null,null,null,null,null,"~"]
["SA37",2018,"FS193",524,null,null,null,null,null,null,null,null,null,null,null,null,null,null,null,null,null,null,"~"]
["SA37",2018,"FS193",525,null,null,null,null,null,null,null,null,null,null,null,null,null,null,null,null,null,null,"~"]
["SA37",2018,"FS193",526,null,null,null,null,null,null,null,null,null,null,null,null,null,null,null,null,null,null,"~"]
["SA37",2018,"FS193",527,null,null,null,null,null,null,null,null,null,null,null,null,null,null,null,null,null,null,"~"]
["SA37",2018,"FS193",528,null,null,null,null,null,null,null,null,null,null,null,null,null,null,null,null,null,null,"~"]
["SA37",2018,"FS193",529,null,null,null,null,null,null,null,null,null,null,null,null,null,null,null,null,null,null,"~"]
["SA37",2018,"FS193",530,null,null,null,null,null,null,null,null,null,null,null,null,null,null,null,null,null,null,"~"]
["SA37",2018,"FS193",531,null,null,null,null,null,null,null,null,null,null,null,null,null,null,null,null,null,null,"~"]
["SA37",2018,"FS193",532,null,null,null,null,null,null,null,null,null,null,null,null,null,null,null,null,null,null,"~"]
["SA37",2018,"FS193",533,null,null,null,null,null,null,null,null,null,null,null,null,null,null,null,null,null,null,"~"]
["SA37",2018,"FS193",534,null,null,null,null,null,null,null,null,null,null,null,null,null,null,null,null,null,null,"~"]
["SA37",2018,"FS193",535,null,null,null,null,null,null,null,null,null,null,null,null,null,null,null,null,null,null,"~"]
["SA37",2018,"FS193",536,null,null,null,null,null,null,null,null,null,null,null,null,null,null,null,null,null,null,"~"]
["SA37",2018,"FS193",537,null,null,null,null,null,null,null,null,null,null,null,null,null,null,null,null,null,null,"~"]
["SA37",2018,"FS193",538,null,null,null,null,null,null,null,null,null,null,null,null,null,null,null,null,null,null,"~"]
["SA37",2018,"FS193",539,null,null,null,null,null,null,null,null,null,null,null,null,null,null,null,null,null,null,"~"]
["SA37",2018,"FS193",540,null,null,null,null,null,null,null,null,null,null,null,null,null,null,null,null,null,null,"~"]
["SA37",2018,"FS193",541,null,null,null,null,null,null,null,null,null,null,null,null,null,null,null,null,null,null,"~"]
["SA37",2018,"FS193",542,null,null,null,null,null,null,null,null,null,null,null,null,null,null,null,null,null,null,"~"]
["SA37",2018,"FS193",543,null,null,null,null,null,null,null,null,null,null,null,null,null,null,null,null,null,null,"~"]
["SA37",2018,"FS193",544,null,null,null,null,null,null,null,null,null,null,null,null,null,null,null,null,null,null,"~"]
["SA37",2018,"FS193",545,null,null,null,null,null,null,null,null,null,null,null,null,null,null,null,null,null,null,"~"]
["SA37",2018,"FS193",546,null,null,null,null,null,null,null,null,null,null,null,null,null,null,null,null,null,null,"~"]
["SA37",2018,"FS193",547,null,null,null,null,null,null,null,null,null,null,null,null,null,null,null,null,null,null,"~"]
["SA37",2018,"FS193",548,null,null,null,null,null,null,null,null,null,null,null,null,null,null,null,null,null,null,"~"]
["SA37",2018,"FS193",549,null,null,null,null,null,null,null,null,null,null,null,null,null,null,null,null,null,null,"~"]
["SA37",2018,"FS193",550,null,null,null,null,null,null,null,null,null,null,null,null,null,null,null,null,null,null,"~"]
["SA37",2018,"FS193",551,null,null,null,null,null,null,null,null,null,null,null,null,null,null,null,null,null,null,"~"]
["SA37",2018,"FS193",552,null,null,null,null,null,null,null,null,null,null,null,null,null,null,null,null,null,null,"~"]
["SA37",2018,"FS193",553,null,null,null,null,null,null,null,null,null,null,null,null,null,null,null,null,null,null,"~"]
["SA37",2018,"FS193",554,null,null,null,null,null,null,null,null,null,null,null,null,null,null,null,null,null,null,"~"]
["SA37",2018,"FS193",555,null,null,null,null,null,null,null,null,null,null,null,null,null,null,null,null,null,null,"~"]
["SA37",2018,"FS193",556,null,null,null,null,null,null,null,null,null,null,null,null,null,null,null,null,null,null,"~"]
["SA37",2018,"FS193",557,null,null,null,null,null,null,null,null,null,null,null,null,null,null,null,null,null,null,"~"]
["SA37",2018,"FS193",558,null,null,null,null,null,null,null,null,null,null,null,null,null,null,null,null,null,null,"~"]
["SA37",2018,"FS193",559,null,null,null,null,null,null,null,null,null,null,null,null,null,null,null,null,null,null,"~"]
["SA37",{"$f":"+MTREF","v":2018},{"$f":"LEFT(muni,(FIND(\" \",muni,1)-1))","v":"FS193"},560,null,null,null,null,null,null,null,null,null,null,null,null,null,null,null,null,null,null,"~"]
["SA37",2018,"FS193",561,null,null,null,null,null,null,null,null,null,null,null,null,null,null,null,null,null,null,"~"]
["SA37",2018,"FS193",562,null,null,null,null,null,null,null,null,null,null,null,null,null,null,null,null,null,null,"~"]
["SA37",2018,"FS193",563,null,null,null,null,null,null,null,null,null,null,null,null,null,null,null,null,null,null,"~"]
["SA37",2018,"FS193",564,null,null,null,null,null,null,null,null,null,null,null,null,null,null,null,null,null,null,"~"]
["SA37",2018,"FS193",565,null,null,null,null,null,null,null,null,null,null,null,null,null,null,null,null,null,null,"~"]
["SA37",2018,"FS193",566,null,null,null,null,null,null,null,null,null,null,null,null,null,null,null,null,null,null,"~"]
["SA37",2018,"FS193",567,null,null,null,null,null,null,null,null,null,null,null,null,null,null,null,null,null,null,"~"]
["SA37",2018,"FS193",568,null,null,null,null,null,null,null,null,null,null,null,null,null,null,null,null,null,null,"~"]
["SA37",2018,"FS193",569,null,null,null,null,null,null,null,null,null,null,null,null,null,null,null,null,null,null,"~"]
["SA37",2018,"FS193",570,null,null,null,null,null,null,null,null,null,null,null,null,null,null,null,null,null,null,"~"]
["SA37",2018,"FS193",571,null,null,null,null,null,null,null,null,null,null,null,null,null,null,null,null,null,null,"~"]
["SA37",2018,"FS193",572,null,null,null,null,null,null,null,null,null,null,null,null,null,null,null,null,null,null,"~"]
["SA37",2018,"FS193",573,null,null,null,null,null,null,null,null,null,null,null,null,null,null,null,null,null,null,"~"]
["SA37",2018,"FS193",574,null,null,null,null,null,null,null,null,null,null,null,null,null,null,null,null,null,null,"~"]
["SA37",2018,"FS193",575,null,null,null,null,null,null,null,null,null,null,null,null,null,null,null,null,null,null,"~"]
["SA37",2018,"FS193",576,null,null,null,null,null,null,null,null,null,null,null,null,null,null,null,null,null,null,"~"]
["SA37",2018,"FS193",577,null,null,null,null,null,null,null,null,null,null,null,null,null,null,null,null,null,null,"~"]
["SA37",2018,"FS193",578,null,null,null,null,null,null,null,null,null,null,null,null,null,null,null,null,null,null,"~"]
["SA37",2018,"FS193",579,null,null,null,null,null,null,null,null,null,null,null,null,null,null,null,null,null,null,"~"]
["SA37",2018,"FS193",580,null,null,null,null,null,null,null,null,null,null,null,null,null,null,null,null,null,null,"~"]
["SA37",2018,"FS193",581,null,null,null,null,null,null,null,null,null,null,null,null,null,null,null,null,null,null,"~"]
["SA37",2018,"FS193",582,null,null,null,null,null,null,null,null,null,null,null,null,null,null,null,null,null,null,"~"]
["SA37",2018,"FS193",583,null,null,null,null,null,null,null,null,null,null,null,null,null,null,null,null,null,null,"~"]
["SA37",2018,"FS193",584,null,null,null,null,null,null,null,null,null,null,null,null,null,null,null,null,null,null,"~"]
["SA37",2018,"FS193",585,null,null,null,null,null,null,null,null,null,null,null,null,null,null,null,null,null,null,"~"]
["SA37",2018,"FS193",586,null,null,null,null,null,null,null,null,null,null,null,null,null,null,null,null,null,null,"~"]
["SA37",2018,"FS193",587,null,null,null,null,null,null,null,null,null,null,null,null,null,null,null,null,null,null,"~"]
["SA37",2018,"FS193",588,null,null,null,null,null,null,null,null,null,null,null,null,null,null,null,null,null,null,"~"]
["SA37",2018,"FS193",589,null,null,null,null,null,null,null,null,null,null,null,null,null,null,null,null,null,null,"~"]
["SA37",2018,"FS193",590,null,null,null,null,null,null,null,null,null,null,null,null,null,null,null,null,null,null,"~"]
["SA37",2018,"FS193",591,null,null,null,null,null,null,null,null,null,null,null,null,null,null,null,null,null,null,"~"]
["SA37",2018,"FS193",592,null,null,null,null,null,null,null,null,null,null,null,null,null,null,null,null,null,null,"~"]
["SA37",2018,"FS193",593,null,null,null,null,null,null,null,null,null,null,null,null,null,null,null,null,null,null,"~"]
["SA37",2018,"FS193",594,null,null,null,null,null,null,null,null,null,null,null,null,null,null,null,null,null,null,"~"]
["SA37",2018,"FS193",595,null,null,null,null,null,null,null,null,null,null,null,null,null,null,null,null,null,null,"~"]
["SA37",2018,"FS193",596,null,null,null,null,null,null,null,null,null,null,null,null,null,null,null,null,null,null,"~"]
["SA37",2018,"FS193",597,null,null,null,null,null,null,null,null,null,null,null,null,null,null,null,null,null,null,"~"]
["SA37",2018,"FS193",598,null,null,null,null,null,null,null,null,null,null,null,null,null,null,null,null,null,null,"~"]
["SA37",2018,"FS193",599,null,null,null,null,null,null,null,null,null,null,null,null,null,null,null,null,null,null,"~"]
["SA37",2018,"FS193",600,null,null,null,null,null,null,null,null,null,null,null,null,null,null,null,null,null,null,"~"]
["SA37",2018,"FS193",601,null,null,null,null,null,null,null,null,null,null,null,null,null,null,null,null,null,null,"~"]
["SA37",2018,"FS193",602,null,null,null,null,null,null,null,null,null,null,null,null,null,null,null,null,null,null,"~"]
["SA37",2018,"FS193",603,null,null,null,null,null,null,null,null,null,null,null,null,null,null,null,null,null,null,"~"]
["SA37",2018,"FS193",604,null,null,null,null,null,null,null,null,null,null,null,null,null,null,null,null,null,null,"~"]
["SA37",2018,"FS193",605,null,null,null,null,null,null,null,null,null,null,null,null,null,null,null,null,null,null,"~"]
["SA37",2018,"FS193",606,null,null,null,null,null,null,null,null,null,null,null,null,null,null,null,null,null,null,"~"]
["SA37",2018,"FS193",607,null,null,null,null,null,null,null,null,null,null,null,null,null,null,null,null,null,null,"~"]
["SA37",2018,"FS193",608,null,null,null,null,null,null,null,null,null,null,null,null,null,null,null,null,null,null,"~"]
["SA37",2018,"FS193",609,null,null,null,null,null,null,null,null,null,null,null,null,null,null,null,null,null,null,"~"]
["SA37",2018,"FS193",610,null,null,null,null,null,null,null,null,null,null,null,null,null,null,null,null,null,null,"~"]
["SA37",2018,"FS193",611,null,null,null,null,null,null,null,null,null,null,null,null,null,null,null,null,null,null,"~"]
["SA37",2018,"FS193",612,null,null,null,null,null,null,null,null,null,null,null,null,null,null,null,null,null,null,"~"]
["SA37",2018,"FS193",613,null,null,null,null,null,null,null,null,null,null,null,null,null,null,null,null,null,null,"~"]
["SA37",2018,"FS193",614,null,null,null,null,null,null,null,null,null,null,null,null,null,null,null,null,null,null,"~"]
["SA37",2018,"FS193",615,null,null,null,null,null,null,null,null,null,null,null,null,null,null,null,null,null,null,"~"]
["SA37",2018,"FS193",616,null,null,null,null,null,null,null,null,null,null,null,null,null,null,null,null,null,null,"~"]
["SA37",2018,"FS193",617,null,null,null,null,null,null,null,null,null,null,null,null,null,null,null,null,null,null,"~"]
["SA37",2018,"FS193",618,null,null,null,null,null,null,null,null,null,null,null,null,null,null,null,null,null,null,"~"]
["SA37",2018,"FS193",619,null,null,null,null,null,null,null,null,null,null,null,null,null,null,null,null,null,null,"~"]
["SA37",2018,"FS193",620,null,null,null,null,null,null,null,null,null,null,null,null,null,null,null,null,null,null,"~"]
["SA37",2018,"FS193",621,null,null,null,null,null,null,null,null,null,null,null,null,null,null,null,null,null,null,"~"]
["SA37",2018,"FS193",622,null,null,null,null,null,null,null,null,null,null,null,null,null,null,null,null,null,null,"~"]
["SA37",2018,"FS193",623,null,null,null,null,null,null,null,null,null,null,null,null,null,null,null,null,null,null,"~"]
["SA37",{"$f":"+MTREF","v":2018},{"$f":"LEFT(muni,(FIND(\" \",muni,1)-1))","v":"FS193"},624,null,null,null,null,null,null,null,null,null,null,null,null,null,null,null,null,null,null,"~"]
["SA37",2018,"FS193",625,null,null,null,null,null,null,null,null,null,null,null,null,null,null,null,null,null,null,"~"]
["SA37",2018,"FS193",626,null,null,null,null,null,null,null,null,null,null,null,null,null,null,null,null,null,null,"~"]
["SA37",2018,"FS193",627,null,null,null,null,null,null,null,null,null,null,null,null,null,null,null,null,null,null,"~"]
["SA37",2018,"FS193",628,null,null,null,null,null,null,null,null,null,null,null,null,null,null,null,null,null,null,"~"]
["SA37",2018,"FS193",629,null,null,null,null,null,null,null,null,null,null,null,null,null,null,null,null,null,null,"~"]
["SA37",2018,"FS193",630,null,null,null,null,null,null,null,null,null,null,null,null,null,null,null,null,null,null,"~"]
["SA37",2018,"FS193",631,null,null,null,null,null,null,null,null,null,null,null,null,null,null,null,null,null,null,"~"]
["SA37",2018,"FS193",632,null,null,null,null,null,null,null,null,null,null,null,null,null,null,null,null,null,null,"~"]
["SA37",2018,"FS193",633,null,null,null,null,null,null,null,null,null,null,null,null,null,null,null,null,null,null,"~"]
["SA37",2018,"FS193",634,null,null,null,null,null,null,null,null,null,null,null,null,null,null,null,null,null,null,"~"]
["SA37",2018,"FS193",635,null,null,null,null,null,null,null,null,null,null,null,null,null,null,null,null,null,null,"~"]
["SA37",2018,"FS193",636,null,null,null,null,null,null,null,null,null,null,null,null,null,null,null,null,null,null,"~"]
["SA37",2018,"FS193",637,null,null,null,null,null,null,null,null,null,null,null,null,null,null,null,null,null,null,"~"]
["SA37",2018,"FS193",638,null,null,null,null,null,null,null,null,null,null,null,null,null,null,null,null,null,null,"~"]
["SA37",2018,"FS193",639,null,null,null,null,null,null,null,null,null,null,null,null,null,null,null,null,null,null,"~"]
["SA37",2018,"FS193",640,null,null,null,null,null,null,null,null,null,null,null,null,null,null,null,null,null,null,"~"]
["SA37",2018,"FS193",641,null,null,null,null,null,null,null,null,null,null,null,null,null,null,null,null,null,null,"~"]
["SA37",2018,"FS193",642,null,null,null,null,null,null,null,null,null,null,null,null,null,null,null,null,null,null,"~"]
["SA37",2018,"FS193",643,null,null,null,null,null,null,null,null,null,null,null,null,null,null,null,null,null,null,"~"]
["SA37",2018,"FS193",644,null,null,null,null,null,null,null,null,null,null,null,null,null,null,null,null,null,null,"~"]
["SA37",2018,"FS193",645,null,null,null,null,null,null,null,null,null,null,null,null,null,null,null,null,null,null,"~"]
["SA37",2018,"FS193",646,null,null,null,null,null,null,null,null,null,null,null,null,null,null,null,null,null,null,"~"]
["SA37",2018,"FS193",647,null,null,null,null,null,null,null,null,null,null,null,null,null,null,null,null,null,null,"~"]
["SA37",2018,"FS193",648,null,null,null,null,null,null,null,null,null,null,null,null,null,null,null,null,null,null,"~"]
["SA37",2018,"FS193",649,null,null,null,null,null,null,null,null,null,null,null,null,null,null,null,null,null,null,"~"]
["SA37",2018,"FS193",650,null,null,null,null,null,null,null,null,null,null,null,null,null,null,null,null,null,null,"~"]
["SA37",2018,"FS193",651,null,null,null,null,null,null,null,null,null,null,null,null,null,null,null,null,null,null,"~"]
["SA37",2018,"FS193",652,null,null,null,null,null,null,null,null,null,null,null,null,null,null,null,null,null,null,"~"]
["SA37",2018,"FS193",653,null,null,null,null,null,null,null,null,null,null,null,null,null,null,null,null,null,null,"~"]
["SA37",2018,"FS193",654,null,null,null,null,null,null,null,null,null,null,null,null,null,null,null,null,null,null,"~"]
["SA37",2018,"FS193",655,null,null,null,null,null,null,null,null,null,null,null,null,null,null,null,null,null,null,"~"]
["SA37",2018,"FS193",656,null,null,null,null,null,null,null,null,null,null,null,null,null,null,null,null,null,null,"~"]
["SA37",2018,"FS193",657,null,null,null,null,null,null,null,null,null,null,null,null,null,null,null,null,null,null,"~"]
["SA37",2018,"FS193",658,null,null,null,null,null,null,null,null,null,null,null,null,null,null,null,null,null,null,"~"]
["SA37",2018,"FS193",659,null,null,null,null,null,null,null,null,null,null,null,null,null,null,null,null,null,null,"~"]
["SA37",2018,"FS193",660,null,null,null,null,null,null,null,null,null,null,null,null,null,null,null,null,null,null,"~"]
["SA37",2018,"FS193",661,null,null,null,null,null,null,null,null,null,null,null,null,null,null,null,null,null,null,"~"]
["SA37",2018,"FS193",662,null,null,null,null,null,null,null,null,null,null,null,null,null,null,null,null,null,null,"~"]
["SA37",2018,"FS193",663,null,null,null,null,null,null,null,null,null,null,null,null,null,null,null,null,null,null,"~"]
["SA37",2018,"FS193",664,null,null,null,null,null,null,null,null,null,null,null,null,null,null,null,null,null,null,"~"]
["SA37",2018,"FS193",665,null,null,null,null,null,null,null,null,null,null,null,null,null,null,null,null,null,null,"~"]
["SA37",2018,"FS193",666,null,null,null,null,null,null,null,null,null,null,null,null,null,null,null,null,null,null,"~"]
["SA37",2018,"FS193",667,null,null,null,null,null,null,null,null,null,null,null,null,null,null,null,null,null,null,"~"]
["SA37",2018,"FS193",668,null,null,null,null,null,null,null,null,null,null,null,null,null,null,null,null,null,null,"~"]
["SA37",2018,"FS193",669,null,null,null,null,null,null,null,null,null,null,null,null,null,null,null,null,null,null,"~"]
["SA37",2018,"FS193",670,null,null,null,null,null,null,null,null,null,null,null,null,null,null,null,null,null,null,"~"]
["SA37",2018,"FS193",671,null,null,null,null,null,null,null,null,null,null,null,null,null,null,null,null,null,null,"~"]
["SA37",2018,"FS193",672,null,null,null,null,null,null,null,null,null,null,null,null,null,null,null,null,null,null,"~"]
["SA37",2018,"FS193",673,null,null,null,null,null,null,null,null,null,null,null,null,null,null,null,null,null,null,"~"]
["SA37",2018,"FS193",674,null,null,null,null,null,null,null,null,null,null,null,null,null,null,null,null,null,null,"~"]
["SA37",2018,"FS193",675,null,null,null,null,null,null,null,null,null,null,null,null,null,null,null,null,null,null,"~"]
["SA37",2018,"FS193",676,null,null,null,null,null,null,null,null,null,null,null,null,null,null,null,null,null,null,"~"]
["SA37",2018,"FS193",677,null,null,null,null,null,null,null,null,null,null,null,null,null,null,null,null,null,null,"~"]
["SA37",2018,"FS193",678,null,null,null,null,null,null,null,null,null,null,null,null,null,null,null,null,null,null,"~"]
["SA37",2018,"FS193",679,null,null,null,null,null,null,null,null,null,null,null,null,null,null,null,null,null,null,"~"]
["SA37",2018,"FS193",680,null,null,null,null,null,null,null,null,null,null,null,null,null,null,null,null,null,null,"~"]
["SA37",2018,"FS193",681,null,null,null,null,null,null,null,null,null,null,null,null,null,null,null,null,null,null,"~"]
["SA37",2018,"FS193",682,null,null,null,null,null,null,null,null,null,null,null,null,null,null,null,null,null,null,"~"]
["SA37",2018,"FS193",683,null,null,null,null,null,null,null,null,null,null,null,null,null,null,null,null,null,null,"~"]
["SA37",2018,"FS193",684,null,null,null,null,null,null,null,null,null,null,null,null,null,null,null,null,null,null,"~"]
["SA37",2018,"FS193",685,null,null,null,null,null,null,null,null,null,null,null,null,null,null,null,null,null,null,"~"]
["SA37",2018,"FS193",686,null,null,null,null,null,null,null,null,null,null,null,null,null,null,null,null,null,null,"~"]
["SA37",2018,"FS193",687,null,null,null,null,null,null,null,null,null,null,null,null,null,null,null,null,null,null,"~"]
["SA37",{"$f":"+MTREF","v":2018},{"$f":"LEFT(muni,(FIND(\" \",muni,1)-1))","v":"FS193"},688,null,null,null,null,null,null,null,null,null,null,null,null,null,null,null,null,null,null,"~"]
["SA37",2018,"FS193",689,null,null,null,null,null,null,null,null,null,null,null,null,null,null,null,null,null,null,"~"]
["SA37",2018,"FS193",690,null,null,null,null,null,null,null,null,null,null,null,null,null,null,null,null,null,null,"~"]
["SA37",2018,"FS193",691,null,null,null,null,null,null,null,null,null,null,null,null,null,null,null,null,null,null,"~"]
["SA37",2018,"FS193",692,null,null,null,null,null,null,null,null,null,null,null,null,null,null,null,null,null,null,"~"]
["SA37",2018,"FS193",693,null,null,null,null,null,null,null,null,null,null,null,null,null,null,null,null,null,null,"~"]
["SA37",2018,"FS193",694,null,null,null,null,null,null,null,null,null,null,null,null,null,null,null,null,null,null,"~"]
["SA37",2018,"FS193",695,null,null,null,null,null,null,null,null,null,null,null,null,null,null,null,null,null,null,"~"]
["SA37",2018,"FS193",696,null,null,null,null,null,null,null,null,null,null,null,null,null,null,null,null,null,null,"~"]
["SA37",2018,"FS193",697,null,null,null,null,null,null,null,null,null,null,null,null,null,null,null,null,null,null,"~"]
["SA37",2018,"FS193",698,null,null,null,null,null,null,null,null,null,null,null,null,null,null,null,null,null,null,"~"]
["SA37",2018,"FS193",699,null,null,null,null,null,null,null,null,null,null,null,null,null,null,null,null,null,null,"~"]
["SA37",2018,"FS193",700,null,null,null,null,null,null,null,null,null,null,null,null,null,null,null,null,null,null,"~"]
["SA37",2018,"FS193",701,null,null,null,null,null,null,null,null,null,null,null,null,null,null,null,null,null,null,"~"]
["SA37",2018,"FS193",702,null,null,null,null,null,null,null,null,null,null,null,null,null,null,null,null,null,null,"~"]
["SA37",2018,"FS193",703,null,null,null,null,null,null,null,null,null,null,null,null,null,null,null,null,null,null,"~"]
["SA37",2018,"FS193",704,null,null,null,null,null,null,null,null,null,null,null,null,null,null,null,null,null,null,"~"]
["SA37",2018,"FS193",705,null,null,null,null,null,null,null,null,null,null,null,null,null,null,null,null,null,null,"~"]
["SA37",2018,"FS193",706,null,null,null,null,null,null,null,null,null,null,null,null,null,null,null,null,null,null,"~"]
["SA37",2018,"FS193",707,null,null,null,null,null,null,null,null,null,null,null,null,null,null,null,null,null,null,"~"]
["SA37",2018,"FS193",708,null,null,null,null,null,null,null,null,null,null,null,null,null,null,null,null,null,null,"~"]
["SA37",2018,"FS193",709,null,null,null,null,null,null,null,null,null,null,null,null,null,null,null,null,null,null,"~"]
["SA37",2018,"FS193",710,null,null,null,null,null,null,null,null,null,null,null,null,null,null,null,null,null,null,"~"]
["SA37",2018,"FS193",711,null,null,null,null,null,null,null,null,null,null,null,null,null,null,null,null,null,null,"~"]
["SA37",2018,"FS193",712,null,null,null,null,null,null,null,null,null,null,null,null,null,null,null,null,null,null,"~"]
["SA37",2018,"FS193",713,null,null,null,null,null,null,null,null,null,null,null,null,null,null,null,null,null,null,"~"]
["SA37",2018,"FS193",714,null,null,null,null,null,null,null,null,null,null,null,null,null,null,null,null,null,null,"~"]
["SA37",2018,"FS193",715,null,null,null,null,null,null,null,null,null,null,null,null,null,null,null,null,null,null,"~"]
["SA37",2018,"FS193",716,null,null,null,null,null,null,null,null,null,null,null,null,null,null,null,null,null,null,"~"]
["SA37",2018,"FS193",717,null,null,null,null,null,null,null,null,null,null,null,null,null,null,null,null,null,null,"~"]
["SA37",2018,"FS193",718,null,null,null,null,null,null,null,null,null,null,null,null,null,null,null,null,null,null,"~"]
["SA37",2018,"FS193",719,null,null,null,null,null,null,null,null,null,null,null,null,null,null,null,null,null,null,"~"]
["SA37",2018,"FS193",720,null,null,null,null,null,null,null,null,null,null,null,null,null,null,null,null,null,null,"~"]
["SA37",2018,"FS193",721,null,null,null,null,null,null,null,null,null,null,null,null,null,null,null,null,null,null,"~"]
["SA37",2018,"FS193",722,null,null,null,null,null,null,null,null,null,null,null,null,null,null,null,null,null,null,"~"]
["SA37",2018,"FS193",723,null,null,null,null,null,null,null,null,null,null,null,null,null,null,null,null,null,null,"~"]
["SA37",2018,"FS193",724,null,null,null,null,null,null,null,null,null,null,null,null,null,null,null,null,null,null,"~"]
["SA37",2018,"FS193",725,null,null,null,null,null,null,null,null,null,null,null,null,null,null,null,null,null,null,"~"]
["SA37",2018,"FS193",726,null,null,null,null,null,null,null,null,null,null,null,null,null,null,null,null,null,null,"~"]
["SA37",2018,"FS193",727,null,null,null,null,null,null,null,null,null,null,null,null,null,null,null,null,null,null,"~"]
["SA37",2018,"FS193",728,null,null,null,null,null,null,null,null,null,null,null,null,null,null,null,null,null,null,"~"]
["SA37",2018,"FS193",729,null,null,null,null,null,null,null,null,null,null,null,null,null,null,null,null,null,null,"~"]
["SA37",2018,"FS193",730,null,null,null,null,null,null,null,null,null,null,null,null,null,null,null,null,null,null,"~"]
["SA37",2018,"FS193",731,null,null,null,null,null,null,null,null,null,null,null,null,null,null,null,null,null,null,"~"]
["SA37",2018,"FS193",732,null,null,null,null,null,null,null,null,null,null,null,null,null,null,null,null,null,null,"~"]
["SA37",2018,"FS193",733,null,null,null,null,null,null,null,null,null,null,null,null,null,null,null,null,null,null,"~"]
["SA37",2018,"FS193",734,null,null,null,null,null,null,null,null,null,null,null,null,null,null,null,null,null,null,"~"]
["SA37",2018,"FS193",735,null,null,null,null,null,null,null,null,null,null,null,null,null,null,null,null,null,null,"~"]
["SA37",2018,"FS193",736,null,null,null,null,null,null,null,null,null,null,null,null,null,null,null,null,null,null,"~"]
["SA37",2018,"FS193",737,null,null,null,null,null,null,null,null,null,null,null,null,null,null,null,null,null,null,"~"]
["SA37",2018,"FS193",738,null,null,null,null,null,null,null,null,null,null,null,null,null,null,null,null,null,null,"~"]
["SA37",2018,"FS193",739,null,null,null,null,null,null,null,null,null,null,null,null,null,null,null,null,null,null,"~"]
["SA37",2018,"FS193",740,null,null,null,null,null,null,null,null,null,null,null,null,null,null,null,null,null,null,"~"]
["SA37",2018,"FS193",741,null,null,null,null,null,null,null,null,null,null,null,null,null,null,null,null,null,null,"~"]
["SA37",2018,"FS193",742,null,null,null,null,null,null,null,null,null,null,null,null,null,null,null,null,null,null,"~"]
["SA37",2018,"FS193",743,null,null,null,null,null,null,null,null,null,null,null,null,null,null,null,null,null,null,"~"]
["SA37",2018,"FS193",744,null,null,null,null,null,null,null,null,null,null,null,null,null,null,null,null,null,null,"~"]
["SA37",2018,"FS193",745,null,null,null,null,null,null,null,null,null,null,null,null,null,null,null,null,null,null,"~"]
["SA37",2018,"FS193",746,null,null,null,null,null,null,null,null,null,null,null,null,null,null,null,null,null,null,"~"]
["SA37",2018,"FS193",747,null,null,null,null,null,null,null,null,null,null,null,null,null,null,null,null,null,null,"~"]
["SA37",2018,"FS193",748,null,null,null,null,null,null,null,null,null,null,null,null,null,null,null,null,null,null,"~"]
["SA37",2018,"FS193",749,null,null,null,null,null,null,null,null,null,null,null,null,null,null,null,null,null,null,"~"]
["SA37",2018,"FS193",750,null,null,null,null,null,null,null,null,null,null,null,null,null,null,null,null,null,null,"~"]
["SA37",2018,"FS193",751,null,null,null,null,null,null,null,null,null,null,null,null,null,null,null,null,null,null,"~"]
["SA37",{"$f":"+MTREF","v":2018},{"$f":"LEFT(muni,(FIND(\" \",muni,1)-1))","v":"FS193"},752,null,null,null,null,null,null,null,null,null,null,null,null,null,null,null,null,null,null,"~"]
["SA37",2018,"FS193",753,null,null,null,null,null,null,null,null,null,null,null,null,null,null,null,null,null,null,"~"]
["SA37",2018,"FS193",754,null,null,null,null,null,null,null,null,null,null,null,null,null,null,null,null,null,null,"~"]
["SA37",2018,"FS193",755,null,null,null,null,null,null,null,null,null,null,null,null,null,null,null,null,null,null,"~"]
["SA37",2018,"FS193",756,null,null,null,null,null,null,null,null,null,null,null,null,null,null,null,null,null,null,"~"]
["SA37",2018,"FS193",757,null,null,null,null,null,null,null,null,null,null,null,null,null,null,null,null,null,null,"~"]
["SA37",2018,"FS193",758,null,null,null,null,null,null,null,null,null,null,null,null,null,null,null,null,null,null,"~"]
["SA37",2018,"FS193",759,null,null,null,null,null,null,null,null,null,null,null,null,null,null,null,null,null,null,"~"]
["SA37",2018,"FS193",760,null,null,null,null,null,null,null,null,null,null,null,null,null,null,null,null,null,null,"~"]
["SA37",2018,"FS193",761,null,null,null,null,null,null,null,null,null,null,null,null,null,null,null,null,null,null,"~"]
["SA37",2018,"FS193",762,null,null,null,null,null,null,null,null,null,null,null,null,null,null,null,null,null,null,"~"]
["SA37",2018,"FS193",763,null,null,null,null,null,null,null,null,null,null,null,null,null,null,null,null,null,null,"~"]
["SA37",2018,"FS193",764,null,null,null,null,null,null,null,null,null,null,null,null,null,null,null,null,null,null,"~"]
["SA37",2018,"FS193",765,null,null,null,null,null,null,null,null,null,null,null,null,null,null,null,null,null,null,"~"]
["SA37",2018,"FS193",766,null,null,null,null,null,null,null,null,null,null,null,null,null,null,null,null,null,null,"~"]
["SA37",2018,"FS193",767,null,null,null,null,null,null,null,null,null,null,null,null,null,null,null,null,null,null,"~"]
["SA37",2018,"FS193",768,null,null,null,null,null,null,null,null,null,null,null,null,null,null,null,null,null,null,"~"]
["SA37",2018,"FS193",769,null,null,null,null,null,null,null,null,null,null,null,null,null,null,null,null,null,null,"~"]
["SA37",2018,"FS193",770,null,null,null,null,null,null,null,null,null,null,null,null,null,null,null,null,null,null,"~"]
["SA37",2018,"FS193",771,null,null,null,null,null,null,null,null,null,null,null,null,null,null,null,null,null,null,"~"]
["SA37",2018,"FS193",772,null,null,null,null,null,null,null,null,null,null,null,null,null,null,null,null,null,null,"~"]
["SA37",2018,"FS193",773,null,null,null,null,null,null,null,null,null,null,null,null,null,null,null,null,null,null,"~"]
["SA37",2018,"FS193",774,null,null,null,null,null,null,null,null,null,null,null,null,null,null,null,null,null,null,"~"]
["SA37",2018,"FS193",775,null,null,null,null,null,null,null,null,null,null,null,null,null,null,null,null,null,null,"~"]
["SA37",2018,"FS193",776,null,null,null,null,null,null,null,null,null,null,null,null,null,null,null,null,null,null,"~"]
["SA37",2018,"FS193",777,null,null,null,null,null,null,null,null,null,null,null,null,null,null,null,null,null,null,"~"]
["SA37",2018,"FS193",778,null,null,null,null,null,null,null,null,null,null,null,null,null,null,null,null,null,null,"~"]
["SA37",2018,"FS193",779,null,null,null,null,null,null,null,null,null,null,null,null,null,null,null,null,null,null,"~"]
["SA37",2018,"FS193",780,null,null,null,null,null,null,null,null,null,null,null,null,null,null,null,null,null,null,"~"]
["SA37",2018,"FS193",781,null,null,null,null,null,null,null,null,null,null,null,null,null,null,null,null,null,null,"~"]
["SA37",2018,"FS193",782,null,null,null,null,null,null,null,null,null,null,null,null,null,null,null,null,null,null,"~"]
["SA37",2018,"FS193",783,null,null,null,null,null,null,null,null,null,null,null,null,null,null,null,null,null,null,"~"]
["SA37",2018,"FS193",784,null,null,null,null,null,null,null,null,null,null,null,null,null,null,null,null,null,null,"~"]
["SA37",2018,"FS193",785,null,null,null,null,null,null,null,null,null,null,null,null,null,null,null,null,null,null,"~"]
["SA37",2018,"FS193",786,null,null,null,null,null,null,null,null,null,null,null,null,null,null,null,null,null,null,"~"]
["SA37",2018,"FS193",787,null,null,null,null,null,null,null,null,null,null,null,null,null,null,null,null,null,null,"~"]
["SA37",2018,"FS193",788,null,null,null,null,null,null,null,null,null,null,null,null,null,null,null,null,null,null,"~"]
["SA37",2018,"FS193",789,null,null,null,null,null,null,null,null,null,null,null,null,null,null,null,null,null,null,"~"]
["SA37",2018,"FS193",790,null,null,null,null,null,null,null,null,null,null,null,null,null,null,null,null,null,null,"~"]
["SA37",2018,"FS193",791,null,null,null,null,null,null,null,null,null,null,null,null,null,null,null,null,null,null,"~"]
["SA37",2018,"FS193",792,null,null,null,null,null,null,null,null,null,null,null,null,null,null,null,null,null,null,"~"]
["SA37",2018,"FS193",793,null,null,null,null,null,null,null,null,null,null,null,null,null,null,null,null,null,null,"~"]
["SA37",2018,"FS193",794,null,null,null,null,null,null,null,null,null,null,null,null,null,null,null,null,null,null,"~"]
["SA37",2018,"FS193",795,null,null,null,null,null,null,null,null,null,null,null,null,null,null,null,null,null,null,"~"]
["SA37",2018,"FS193",796,null,null,null,null,null,null,null,null,null,null,null,null,null,null,null,null,null,null,"~"]
["SA37",2018,"FS193",797,null,null,null,null,null,null,null,null,null,null,null,null,null,null,null,null,null,null,"~"]
["SA37",2018,"FS193",798,null,null,null,null,null,null,null,null,null,null,null,null,null,null,null,null,null,null,"~"]
["SA37",2018,"FS193",799,null,null,null,null,null,null,null,null,null,null,null,null,null,null,null,null,null,null,"~"]
["SA37",2018,"FS193",800,null,null,null,null,null,null,null,null,null,null,null,null,null,null,null,null,null,null,"~"]
["SA37",2018,"FS193",801,null,null,null,null,null,null,null,null,null,null,null,null,null,null,null,null,null,null,"~"]
["SA37",2018,"FS193",802,null,null,null,null,null,null,null,null,null,null,null,null,null,null,null,null,null,null,"~"]
["SA37",2018,"FS193",803,null,null,null,null,null,null,null,null,null,null,null,null,null,null,null,null,null,null,"~"]
["SA37",2018,"FS193",804,null,null,null,null,null,null,null,null,null,null,null,null,null,null,null,null,null,null,"~"]
["SA37",2018,"FS193",805,null,null,null,null,null,null,null,null,null,null,null,null,null,null,null,null,null,null,"~"]
["SA37",2018,"FS193",806,null,null,null,null,null,null,null,null,null,null,null,null,null,null,null,null,null,null,"~"]
["SA37",2018,"FS193",807,null,null,null,null,null,null,null,null,null,null,null,null,null,null,null,null,null,null,"~"]
["SA37",2018,"FS193",808,null,null,null,null,null,null,null,null,null,null,null,null,null,null,null,null,null,null,"~"]
["SA37",2018,"FS193",809,null,null,null,null,null,null,null,null,null,null,null,null,null,null,null,null,null,null,"~"]
["SA37",2018,"FS193",810,null,null,null,null,null,null,null,null,null,null,null,null,null,null,null,null,null,null,"~"]
["SA37",2018,"FS193",811,null,null,null,null,null,null,null,null,null,null,null,null,null,null,null,null,null,null,"~"]
["SA37",2018,"FS193",812,null,null,null,null,null,null,null,null,null,null,null,null,null,null,null,null,null,null,"~"]
["SA37",2018,"FS193",813,null,null,null,null,null,null,null,null,null,null,null,null,null,null,null,null,null,null,"~"]
["SA37",2018,"FS193",814,null,null,null,null,null,null,null,null,null,null,null,null,null,null,null,null,null,null,"~"]
["SA37",2018,"FS193",815,null,null,null,null,null,null,null,null,null,null,null,null,null,null,null,null,null,null,"~"]
["SA37",{"$f":"+MTREF","v":2018},{"$f":"LEFT(muni,(FIND(\" \",muni,1)-1))","v":"FS193"},816,null,null,null,null,null,null,null,null,null,null,null,null,null,null,null,null,null,null,"~"]
["SA37",2018,"FS193",817,null,null,null,null,null,null,null,null,null,null,null,null,null,null,null,null,null,null,"~"]
["SA37",2018,"FS193",818,null,null,null,null,null,null,null,null,null,null,null,null,null,null,null,null,null,null,"~"]
["SA37",2018,"FS193",819,null,null,null,null,null,null,null,null,null,null,null,null,null,null,null,null,null,null,"~"]
["SA37",2018,"FS193",820,null,null,null,null,null,null,null,null,null,null,null,null,null,null,null,null,null,null,"~"]
["SA37",2018,"FS193",821,null,null,null,null,null,null,null,null,null,null,null,null,null,null,null,null,null,null,"~"]
["SA37",2018,"FS193",822,null,null,null,null,null,null,null,null,null,null,null,null,null,null,null,null,null,null,"~"]
["SA37",2018,"FS193",823,null,null,null,null,null,null,null,null,null,null,null,null,null,null,null,null,null,null,"~"]
["SA37",2018,"FS193",824,null,null,null,null,null,null,null,null,null,null,null,null,null,null,null,null,null,null,"~"]
["SA37",2018,"FS193",825,null,null,null,null,null,null,null,null,null,null,null,null,null,null,null,null,null,null,"~"]
["SA37",2018,"FS193",826,null,null,null,null,null,null,null,null,null,null,null,null,null,null,null,null,null,null,"~"]
["SA37",2018,"FS193",827,null,null,null,null,null,null,null,null,null,null,null,null,null,null,null,null,null,null,"~"]
["SA37",2018,"FS193",828,null,null,null,null,null,null,null,null,null,null,null,null,null,null,null,null,null,null,"~"]
["SA37",2018,"FS193",829,null,null,null,null,null,null,null,null,null,null,null,null,null,null,null,null,null,null,"~"]
["SA37",2018,"FS193",830,null,null,null,null,null,null,null,null,null,null,null,null,null,null,null,null,null,null,"~"]
["SA37",2018,"FS193",831,null,null,null,null,null,null,null,null,null,null,null,null,null,null,null,null,null,null,"~"]
["SA37",2018,"FS193",832,null,null,null,null,null,null,null,null,null,null,null,null,null,null,null,null,null,null,"~"]
["SA37",2018,"FS193",833,null,null,null,null,null,null,null,null,null,null,null,null,null,null,null,null,null,null,"~"]
["SA37",2018,"FS193",834,null,null,null,null,null,null,null,null,null,null,null,null,null,null,null,null,null,null,"~"]
["SA37",2018,"FS193",835,null,null,null,null,null,null,null,null,null,null,null,null,null,null,null,null,null,null,"~"]
["SA37",2018,"FS193",836,null,null,null,null,null,null,null,null,null,null,null,null,null,null,null,null,null,null,"~"]
["SA37",2018,"FS193",837,null,null,null,null,null,null,null,null,null,null,null,null,null,null,null,null,null,null,"~"]
["SA37",2018,"FS193",838,null,null,null,null,null,null,null,null,null,null,null,null,null,null,null,null,null,null,"~"]
["SA37",2018,"FS193",839,null,null,null,null,null,null,null,null,null,null,null,null,null,null,null,null,null,null,"~"]
["SA37",2018,"FS193",840,null,null,null,null,null,null,null,null,null,null,null,null,null,null,null,null,null,null,"~"]
["SA37",2018,"FS193",841,null,null,null,null,null,null,null,null,null,null,null,null,null,null,null,null,null,null,"~"]
["SA37",2018,"FS193",842,null,null,null,null,null,null,null,null,null,null,null,null,null,null,null,null,null,null,"~"]
["SA37",2018,"FS193",843,null,null,null,null,null,null,null,null,null,null,null,null,null,null,null,null,null,null,"~"]
["SA37",2018,"FS193",844,null,null,null,null,null,null,null,null,null,null,null,null,null,null,null,null,null,null,"~"]
["SA37",2018,"FS193",845,null,null,null,null,null,null,null,null,null,null,null,null,null,null,null,null,null,null,"~"]
["SA37",2018,"FS193",846,null,null,null,null,null,null,null,null,null,null,null,null,null,null,null,null,null,null,"~"]
["SA37",2018,"FS193",847,null,null,null,null,null,null,null,null,null,null,null,null,null,null,null,null,null,null,"~"]
["SA37",2018,"FS193",848,null,null,null,null,null,null,null,null,null,null,null,null,null,null,null,null,null,null,"~"]
["SA37",2018,"FS193",849,null,null,null,null,null,null,null,null,null,null,null,null,null,null,null,null,null,null,"~"]
["SA37",2018,"FS193",850,null,null,null,null,null,null,null,null,null,null,null,null,null,null,null,null,null,null,"~"]
["SA37",2018,"FS193",851,null,null,null,null,null,null,null,null,null,null,null,null,null,null,null,null,null,null,"~"]
["SA37",2018,"FS193",852,null,null,null,null,null,null,null,null,null,null,null,null,null,null,null,null,null,null,"~"]
["SA37",2018,"FS193",853,null,null,null,null,null,null,null,null,null,null,null,null,null,null,null,null,null,null,"~"]
["SA37",2018,"FS193",854,null,null,null,null,null,null,null,null,null,null,null,null,null,null,null,null,null,null,"~"]
["SA37",2018,"FS193",855,null,null,null,null,null,null,null,null,null,null,null,null,null,null,null,null,null,null,"~"]
["SA37",2018,"FS193",856,null,null,null,null,null,null,null,null,null,null,null,null,null,null,null,null,null,null,"~"]
["SA37",2018,"FS193",857,null,null,null,null,null,null,null,null,null,null,null,null,null,null,null,null,null,null,"~"]
["SA37",2018,"FS193",858,null,null,null,null,null,null,null,null,null,null,null,null,null,null,null,null,null,null,"~"]
["SA37",2018,"FS193",859,null,null,null,null,null,null,null,null,null,null,null,null,null,null,null,null,null,null,"~"]
["SA37",2018,"FS193",860,null,null,null,null,null,null,null,null,null,null,null,null,null,null,null,null,null,null,"~"]
["SA37",2018,"FS193",861,null,null,null,null,null,null,null,null,null,null,null,null,null,null,null,null,null,null,"~"]
["SA37",2018,"FS193",862,null,null,null,null,null,null,null,null,null,null,null,null,null,null,null,null,null,null,"~"]
["SA37",2018,"FS193",863,null,null,null,null,null,null,null,null,null,null,null,null,null,null,null,null,null,null,"~"]
["SA37",2018,"FS193",864,null,null,null,null,null,null,null,null,null,null,null,null,null,null,null,null,null,null,"~"]
["SA37",2018,"FS193",865,null,null,null,null,null,null,null,null,null,null,null,null,null,null,null,null,null,null,"~"]
["SA37",2018,"FS193",866,null,null,null,null,null,null,null,null,null,null,null,null,null,null,null,null,null,null,"~"]
["SA37",2018,"FS193",867,null,null,null,null,null,null,null,null,null,null,null,null,null,null,null,null,null,null,"~"]
["SA37",2018,"FS193",868,null,null,null,null,null,null,null,null,null,null,null,null,null,null,null,null,null,null,"~"]
["SA37",2018,"FS193",869,null,null,null,null,null,null,null,null,null,null,null,null,null,null,null,null,null,null,"~"]
["SA37",2018,"FS193",870,null,null,null,null,null,null,null,null,null,null,null,null,null,null,null,null,null,null,"~"]
["SA37",2018,"FS193",871,null,null,null,null,null,null,null,null,null,null,null,null,null,null,null,null,null,null,"~"]
["SA37",2018,"FS193",872,null,null,null,null,null,null,null,null,null,null,null,null,null,null,null,null,null,null,"~"]
["SA37",2018,"FS193",873,null,null,null,null,null,null,null,null,null,null,null,null,null,null,null,null,null,null,"~"]
["SA37",2018,"FS193",874,null,null,null,null,null,null,null,null,null,null,null,null,null,null,null,null,null,null,"~"]
["SA37",2018,"FS193",875,null,null,null,null,null,null,null,null,null,null,null,null,null,null,null,null,null,null,"~"]
["SA37",2018,"FS193",876,null,null,null,null,null,null,null,null,null,null,null,null,null,null,null,null,null,null,"~"]
["SA37",2018,"FS193",877,null,null,null,null,null,null,null,null,null,null,null,null,null,null,null,null,null,null,"~"]
["SA37",2018,"FS193",878,null,null,null,null,null,null,null,null,null,null,null,null,null,null,null,null,null,null,"~"]
["SA37",2018,"FS193",879,null,null,null,null,null,null,null,null,null,null,null,null,null,null,null,null,null,null,"~"]
["SA37",{"$f":"+MTREF","v":2018},{"$f":"LEFT(muni,(FIND(\" \",muni,1)-1))","v":"FS193"},880,null,null,null,null,null,null,null,null,null,null,null,null,null,null,null,null,null,null,"~"]
["SA37",2018,"FS193",881,null,null,null,null,null,null,null,null,null,null,null,null,null,null,null,null,null,null,"~"]
["SA37",2018,"FS193",882,null,null,null,null,null,null,null,null,null,null,null,null,null,null,null,null,null,null,"~"]
["SA37",2018,"FS193",883,null,null,null,null,null,null,null,null,null,null,null,null,null,null,null,null,null,null,"~"]
["SA37",2018,"FS193",884,null,null,null,null,null,null,null,null,null,null,null,null,null,null,null,null,null,null,"~"]
["SA37",2018,"FS193",885,null,null,null,null,null,null,null,null,null,null,null,null,null,null,null,null,null,null,"~"]
["SA37",2018,"FS193",886,null,null,null,null,null,null,null,null,null,null,null,null,null,null,null,null,null,null,"~"]
["SA37",2018,"FS193",887,null,null,null,null,null,null,null,null,null,null,null,null,null,null,null,null,null,null,"~"]
["SA37",2018,"FS193",888,null,null,null,null,null,null,null,null,null,null,null,null,null,null,null,null,null,null,"~"]
["SA37",2018,"FS193",889,null,null,null,null,null,null,null,null,null,null,null,null,null,null,null,null,null,null,"~"]
["SA37",2018,"FS193",890,null,null,null,null,null,null,null,null,null,null,null,null,null,null,null,null,null,null,"~"]
["SA37",2018,"FS193",891,null,null,null,null,null,null,null,null,null,null,null,null,null,null,null,null,null,null,"~"]
["SA37",2018,"FS193",892,null,null,null,null,null,null,null,null,null,null,null,null,null,null,null,null,null,null,"~"]
["SA37",2018,"FS193",893,null,null,null,null,null,null,null,null,null,null,null,null,null,null,null,null,null,null,"~"]
["SA37",2018,"FS193",894,null,null,null,null,null,null,null,null,null,null,null,null,null,null,null,null,null,null,"~"]
["SA37",2018,"FS193",895,null,null,null,null,null,null,null,null,null,null,null,null,null,null,null,null,null,null,"~"]
["SA37",2018,"FS193",896,null,null,null,null,null,null,null,null,null,null,null,null,null,null,null,null,null,null,"~"]
["SA37",2018,"FS193",897,null,null,null,null,null,null,null,null,null,null,null,null,null,null,null,null,null,null,"~"]
["SA37",2018,"FS193",898,null,null,null,null,null,null,null,null,null,null,null,null,null,null,null,null,null,null,"~"]
["SA37",2018,"FS193",899,null,null,null,null,null,null,null,null,null,null,null,null,null,null,null,null,null,null,"~"]
["SA37",2018,"FS193",900,null,null,null,null,null,null,null,null,null,null,null,null,null,null,null,null,null,null,"~"]
["SA37",2018,"FS193",901,null,null,null,null,null,null,null,null,null,null,null,null,null,null,null,null,null,null,"~"]
["SA37",2018,"FS193",902,null,null,null,null,null,null,null,null,null,null,null,null,null,null,null,null,null,null,"~"]
["SA37",2018,"FS193",903,null,null,null,null,null,null,null,null,null,null,null,null,null,null,null,null,null,null,"~"]
["SA37",2018,"FS193",904,null,null,null,null,null,null,null,null,null,null,null,null,null,null,null,null,null,null,"~"]
["SA37",2018,"FS193",905,null,null,null,null,null,null,null,null,null,null,null,null,null,null,null,null,null,null,"~"]
["SA37",2018,"FS193",906,null,null,null,null,null,null,null,null,null,null,null,null,null,null,null,null,null,null,"~"]
["SA37",2018,"FS193",907,null,null,null,null,null,null,null,null,null,null,null,null,null,null,null,null,null,null,"~"]
["SA37",2018,"FS193",908,null,null,null,null,null,null,null,null,null,null,null,null,null,null,null,null,null,null,"~"]
["SA37",2018,"FS193",909,null,null,null,null,null,null,null,null,null,null,null,null,null,null,null,null,null,null,"~"]
["SA37",2018,"FS193",910,null,null,null,null,null,null,null,null,null,null,null,null,null,null,null,null,null,null,"~"]
["SA37",2018,"FS193",911,null,null,null,null,null,null,null,null,null,null,null,null,null,null,null,null,null,null,"~"]
["SA37",2018,"FS193",912,null,null,null,null,null,null,null,null,null,null,null,null,null,null,null,null,null,null,"~"]
["SA37",2018,"FS193",913,null,null,null,null,null,null,null,null,null,null,null,null,null,null,null,null,null,null,"~"]
["SA37",2018,"FS193",914,null,null,null,null,null,null,null,null,null,null,null,null,null,null,null,null,null,null,"~"]
["SA37",2018,"FS193",915,null,null,null,null,null,null,null,null,null,null,null,null,null,null,null,null,null,null,"~"]
["SA37",2018,"FS193",916,null,null,null,null,null,null,null,null,null,null,null,null,null,null,null,null,null,null,"~"]
["SA37",2018,"FS193",917,null,null,null,null,null,null,null,null,null,null,null,null,null,null,null,null,null,null,"~"]
["SA37",2018,"FS193",918,null,null,null,null,null,null,null,null,null,null,null,null,null,null,null,null,null,null,"~"]
["SA37",2018,"FS193",919,null,null,null,null,null,null,null,null,null,null,null,null,null,null,null,null,null,null,"~"]
["SA37",2018,"FS193",920,null,null,null,null,null,null,null,null,null,null,null,null,null,null,null,null,null,null,"~"]
["SA37",2018,"FS193",921,null,null,null,null,null,null,null,null,null,null,null,null,null,null,null,null,null,null,"~"]
["SA37",2018,"FS193",922,null,null,null,null,null,null,null,null,null,null,null,null,null,null,null,null,null,null,"~"]
["SA37",2018,"FS193",923,null,null,null,null,null,null,null,null,null,null,null,null,null,null,null,null,null,null,"~"]
["SA37",2018,"FS193",924,null,null,null,null,null,null,null,null,null,null,null,null,null,null,null,null,null,null,"~"]
["SA37",2018,"FS193",925,null,null,null,null,null,null,null,null,null,null,null,null,null,null,null,null,null,null,"~"]
["SA37",2018,"FS193",926,null,null,null,null,null,null,null,null,null,null,null,null,null,null,null,null,null,null,"~"]
["SA37",2018,"FS193",927,null,null,null,null,null,null,null,null,null,null,null,null,null,null,null,null,null,null,"~"]
["SA37",2018,"FS193",928,null,null,null,null,null,null,null,null,null,null,null,null,null,null,null,null,null,null,"~"]
["SA37",2018,"FS193",929,null,null,null,null,null,null,null,null,null,null,null,null,null,null,null,null,null,null,"~"]
["SA37",2018,"FS193",930,null,null,null,null,null,null,null,null,null,null,null,null,null,null,null,null,null,null,"~"]
["SA37",2018,"FS193",931,null,null,null,null,null,null,null,null,null,null,null,null,null,null,null,null,null,null,"~"]
["SA37",2018,"FS193",932,null,null,null,null,null,null,null,null,null,null,null,null,null,null,null,null,null,null,"~"]
["SA37",2018,"FS193",933,null,null,null,null,null,null,null,null,null,null,null,null,null,null,null,null,null,null,"~"]
["SA37",2018,"FS193",934,null,null,null,null,null,null,null,null,null,null,null,null,null,null,null,null,null,null,"~"]
["SA37",2018,"FS193",935,null,null,null,null,null,null,null,null,null,null,null,null,null,null,null,null,null,null,"~"]
["SA37",2018,"FS193",936,null,null,null,null,null,null,null,null,null,null,null,null,null,null,null,null,null,null,"~"]
["SA37",2018,"FS193",937,null,null,null,null,null,null,null,null,null,null,null,null,null,null,null,null,null,null,"~"]
["SA37",2018,"FS193",938,null,null,null,null,null,null,null,null,null,null,null,null,null,null,null,null,null,null,"~"]
["SA37",2018,"FS193",939,null,null,null,null,null,null,null,null,null,null,null,null,null,null,null,null,null,null,"~"]
["SA37",2018,"FS193",940,null,null,null,null,null,null,null,null,null,null,null,null,null,null,null,null,null,null,"~"]
["SA37",2018,"FS193",941,null,null,null,null,null,null,null,null,null,null,null,null,null,null,null,null,null,null,"~"]
["SA37",2018,"FS193",942,null,null,null,null,null,null,null,null,null,null,null,null,null,null,null,null,null,null,"~"]
["SA37",2018,"FS193",943,null,null,null,null,null,null,null,null,null,null,null,null,null,null,null,null,null,null,"~"]
["SA37",{"$f":"+MTREF","v":2018},{"$f":"LEFT(muni,(FIND(\" \",muni,1)-1))","v":"FS193"},944,null,null,null,null,null,null,null,null,null,null,null,null,null,null,null,null,null,null,"~"]
["SA37",2018,"FS193",945,null,null,null,null,null,null,null,null,null,null,null,null,null,null,null,null,null,null,"~"]
["SA37",2018,"FS193",946,null,null,null,null,null,null,null,null,null,null,null,null,null,null,null,null,null,null,"~"]
["SA37",2018,"FS193",947,null,null,null,null,null,null,null,null,null,null,null,null,null,null,null,null,null,null,"~"]
["SA37",2018,"FS193",948,null,null,null,null,null,null,null,null,null,null,null,null,null,null,null,null,null,null,"~"]
["SA37",2018,"FS193",949,null,null,null,null,null,null,null,null,null,null,null,null,null,null,null,null,null,null,"~"]
["SA37",2018,"FS193",950,null,null,null,null,null,null,null,null,null,null,null,null,null,null,null,null,null,null,"~"]
["SA37",2018,"FS193",951,null,null,null,null,null,null,null,null,null,null,null,null,null,null,null,null,null,null,"~"]
["SA37",2018,"FS193",952,null,null,null,null,null,null,null,null,null,null,null,null,null,null,null,null,null,null,"~"]
["SA37",2018,"FS193",953,null,null,null,null,null,null,null,null,null,null,null,null,null,null,null,null,null,null,"~"]
["SA37",2018,"FS193",954,null,null,null,null,null,null,null,null,null,null,null,null,null,null,null,null,null,null,"~"]
["SA37",2018,"FS193",955,null,null,null,null,null,null,null,null,null,null,null,null,null,null,null,null,null,null,"~"]
["SA37",2018,"FS193",956,null,null,null,null,null,null,null,null,null,null,null,null,null,null,null,null,null,null,"~"]
["SA37",2018,"FS193",957,null,null,null,null,null,null,null,null,null,null,null,null,null,null,null,null,null,null,"~"]
["SA37",2018,"FS193",958,null,null,null,null,null,null,null,null,null,null,null,null,null,null,null,null,null,null,"~"]
["SA37",2018,"FS193",959,null,null,null,null,null,null,null,null,null,null,null,null,null,null,null,null,null,null,"~"]
["SA37",2018,"FS193",960,null,null,null,null,null,null,null,null,null,null,null,null,null,null,null,null,null,null,"~"]
["SA37",2018,"FS193",961,null,null,null,null,null,null,null,null,null,null,null,null,null,null,null,null,null,null,"~"]
["SA37",2018,"FS193",962,null,null,null,null,null,null,null,null,null,null,null,null,null,null,null,null,null,null,"~"]
["SA37",2018,"FS193",963,null,null,null,null,null,null,null,null,null,null,null,null,null,null,null,null,null,null,"~"]
["SA37",2018,"FS193",964,null,null,null,null,null,null,null,null,null,null,null,null,null,null,null,null,null,null,"~"]
["SA37",2018,"FS193",965,null,null,null,null,null,null,null,null,null,null,null,null,null,null,null,null,null,null,"~"]
["SA37",2018,"FS193",966,null,null,null,null,null,null,null,null,null,null,null,null,null,null,null,null,null,null,"~"]
["SA37",2018,"FS193",967,null,null,null,null,null,null,null,null,null,null,null,null,null,null,null,null,null,null,"~"]
["SA37",2018,"FS193",968,null,null,null,null,null,null,null,null,null,null,null,null,null,null,null,null,null,null,"~"]
["SA37",2018,"FS193",969,null,null,null,null,null,null,null,null,null,null,null,null,null,null,null,null,null,null,"~"]
["SA37",2018,"FS193",970,null,null,null,null,null,null,null,null,null,null,null,null,null,null,null,null,null,null,"~"]
["SA37",2018,"FS193",971,null,null,null,null,null,null,null,null,null,null,null,null,null,null,null,null,null,null,"~"]
["SA37",2018,"FS193",972,null,null,null,null,null,null,null,null,null,null,null,null,null,null,null,null,null,null,"~"]
["SA37",2018,"FS193",973,null,null,null,null,null,null,null,null,null,null,null,null,null,null,null,null,null,null,"~"]
["SA37",2018,"FS193",974,null,null,null,null,null,null,null,null,null,null,null,null,null,null,null,null,null,null,"~"]
["SA37",2018,"FS193",975,null,null,null,null,null,null,null,null,null,null,null,null,null,null,null,null,null,null,"~"]
["SA37",2018,"FS193",976,null,null,null,null,null,null,null,null,null,null,null,null,null,null,null,null,null,null,"~"]
["SA37",2018,"FS193",977,null,null,null,null,null,null,null,null,null,null,null,null,null,null,null,null,null,null,"~"]
["SA37",2018,"FS193",978,null,null,null,null,null,null,null,null,null,null,null,null,null,null,null,null,null,null,"~"]
["SA37",2018,"FS193",979,null,null,null,null,null,null,null,null,null,null,null,null,null,null,null,null,null,null,"~"]
["SA37",2018,"FS193",980,null,null,null,null,null,null,null,null,null,null,null,null,null,null,null,null,null,null,"~"]
["SA37",2018,"FS193",981,null,null,null,null,null,null,null,null,null,null,null,null,null,null,null,null,null,null,"~"]
["SA37",2018,"FS193",982,null,null,null,null,null,null,null,null,null,null,null,null,null,null,null,null,null,null,"~"]
["SA37",2018,"FS193",983,null,null,null,null,null,null,null,null,null,null,null,null,null,null,null,null,null,null,"~"]
["SA37",2018,"FS193",984,null,null,null,null,null,null,null,null,null,null,null,null,null,null,null,null,null,null,"~"]
["SA37",2018,"FS193",985,null,null,null,null,null,null,null,null,null,null,null,null,null,null,null,null,null,null,"~"]
["SA37",2018,"FS193",986,null,null,null,null,null,null,null,null,null,null,null,null,null,null,null,null,null,null,"~"]
["SA37",2018,"FS193",987,null,null,null,null,null,null,null,null,null,null,null,null,null,null,null,null,null,null,"~"]
["SA37",2018,"FS193",988,null,null,null,null,null,null,null,null,null,null,null,null,null,null,null,null,null,null,"~"]
["SA37",2018,"FS193",989,null,null,null,null,null,null,null,null,null,null,null,null,null,null,null,null,null,null,"~"]
["SA37",2018,"FS193",990,null,null,null,null,null,null,null,null,null,null,null,null,null,null,null,null,null,null,"~"]
["SA37",2018,"FS193",991,null,null,null,null,null,null,null,null,null,null,null,null,null,null,null,null,null,null,"~"]
["SA37",2018,"FS193",992,null,null,null,null,null,null,null,null,null,null,null,null,null,null,null,null,null,null,"~"]
["SA37",2018,"FS193",993,null,null,null,null,null,null,null,null,null,null,null,null,null,null,null,null,null,null,"~"]
["SA37",2018,"FS193",994,null,null,null,null,null,null,null,null,null,null,null,null,null,null,null,null,null,null,"~"]
["SA37",2018,"FS193",995,null,null,null,null,null,null,null,null,null,null,null,null,null,null,null,null,null,null,"~"]
["SA37",2018,"FS193",996,null,null,null,null,null,null,null,null,null,null,null,null,null,null,null,null,null,null,"~"]
["SA37",2018,"FS193",997,null,null,null,null,null,null,null,null,null,null,null,null,null,null,null,null,null,null,"~"]
["SA37",2018,"FS193",998,null,null,null,null,null,null,null,null,null,null,null,null,null,null,null,null,null,null,"~"]
["SA37",2018,"FS193",999,null,null,null,null,null,null,null,null,null,null,null,null,null,null,null,null,null,null,"~"]
["SA37",2018,"FS193",1000,null,null,null,null,null,null,null,null,null,null,null,null,null,null,null,null,null,null,"~"]
["CONTACT",2018,"FS193",1,null,null,null,null,null,null,null,null,null,null,null,null,null,null,null,null,null,null,"~"]
["CONTACT",2018,"FS193",2,null,null,null,null,null,null,null,null,null,null,null,null,null,null,null,null,null,null,"~"]
["CONTACT",2018,"FS193",3,null,null,null,null,null,null,null,null,null,null,null,null,null,null,null,null,null,null,"~"]
["CONTACT",2018,"FS193",4,null,null,null,null,null,null,null,null,null,null,null,null,null,null,null,null,null,null,"~"]
["CONTACT",2018,"FS193",5,null,null,null,null,null,null,null,null,null,null,null,null,null,null,null,null,null,null,"~"]
["CONTACT",2018,"FS193",6,null,null,null,null,null,null,null,null,null,null,null,null,null,null,null,null,null,null,"~"]
["CONTACT",2018,"FS193",7,null,null,null,null,null,null,null,null,null,null,null,null,null,null,null,null,null,null,"~"]
["CONTACT",{"$f":"+MTREF","v":2018},{"$f":"LEFT(muni,(FIND(\" \",muni,1)-1))","v":"FS193"},8,null,null,null,null,null,null,null,null,null,null,null,null,null,null,null,null,null,null,"~"]
["CONTACT",2018,"FS193",9,null,null,null,null,null,null,null,null,null,null,null,null,null,null,null,null,null,null,"~"]
["CONTACT",2018,"FS193",10,null,null,null,null,null,null,null,null,null,null,null,null,null,null,null,null,null,null,"~"]
["CONTACT",2018,"FS193",11,null,null,null,null,null,null,null,null,null,null,null,null,null,null,null,null,null,null,"~"]
["CONTACT",2018,"FS193",12,null,null,null,null,null,null,null,null,null,null,null,null,null,null,null,null,null,null,"~"]
["CONTACT",2018,"FS193",13,null,null,null,null,null,null,null,null,null,null,null,null,null,null,null,null,null,null,"~"]
["CONTACT",2018,"FS193",14,null,null,null,null,null,null,null,null,null,null,null,null,null,null,null,null,null,null,"~"]
["CONTACT",2018,"FS193",15,null,null,null,null,null,null,null,null,null,null,null,null,null,null,null,null,null,null,"~"]
["CONTACT",2018,"FS193",16,null,null,null,null,null,null,null,null,null,null,null,null,null,null,null,null,null,null,"~"]
["CONTACT",2018,"FS193",17,null,null,null,null,null,null,null,null,null,null,null,null,null,null,null,null,null,null,"~"]
["CONTACT",2018,"FS193",18,null,null,null,null,null,null,null,null,null,null,null,null,null,null,null,null,null,null,"~"]
["CONTACT",2018,"FS193",19,null,null,null,null,null,null,null,null,null,null,null,null,null,null,null,null,null,null,"~"]
["CONTACT",2018,"FS193",20,null,null,null,null,null,null,null,null,null,null,null,null,null,null,null,null,null,null,"~"]
["CONTACT",2018,"FS193",21,null,null,null,null,null,null,null,null,null,null,null,null,null,null,null,null,null,null,"~"]
["CONTACT",2018,"FS193",22,null,null,null,null,null,null,null,null,null,null,null,null,null,null,null,null,null,null,"~"]
["CONTACT",2018,"FS193",23,null,null,null,null,null,null,null,null,null,null,null,null,null,null,null,null,null,null,"~"]
["CONTACT",2018,"FS193",24,null,null,null,null,null,null,null,null,null,null,null,null,null,null,null,null,null,null,"~"]
["CONTACT",2018,"FS193",25,null,null,null,null,null,null,null,null,null,null,null,null,null,null,null,null,null,null,"~"]
["CONTACT",2018,"FS193",26,null,null,null,null,null,null,null,null,null,null,null,null,null,null,null,null,null,null,"~"]
["CONTACT",2018,"FS193",27,null,null,null,null,null,null,null,null,null,null,null,null,null,null,null,null,null,null,"~"]
["CONTACT",2018,"FS193",28,null,null,null,null,null,null,null,null,null,null,null,null,null,null,null,null,null,null,"~"]
["CONTACT",2018,"FS193",29,null,null,null,null,null,null,null,null,null,null,null,null,null,null,null,null,null,null,"~"]
["CONTACT",2018,"FS193",30,null,null,null,null,null,null,null,null,null,null,null,null,null,null,null,null,null,null,"~"]
["CONTACT",2018,"FS193",31,null,null,null,null,null,null,null,null,null,null,null,null,null,null,null,null,null,null,"~"]
["CONTACT",2018,"FS193",32,null,null,null,null,null,null,null,null,null,null,null,null,null,null,null,null,null,null,"~"]
["CONTACT",2018,"FS193",33,null,null,null,null,null,null,null,null,null,null,null,null,null,null,null,null,null,null,"~"]
["CONTACT",2018,"FS193",34,null,null,null,null,null,null,null,null,null,null,null,null,null,null,null,null,null,null,"~"]
["CONTACT",2018,"FS193",35,null,null,null,null,null,null,null,null,null,null,null,null,null,null,null,null,null,null,"~"]
["CONTACT",2018,"FS193",36,null,null,null,null,null,null,null,null,null,null,null,null,null,null,null,null,null,null,"~"]
["CONTACT",2018,"FS193",37,null,null,null,null,null,null,null,null,null,null,null,null,null,null,null,null,null,null,"~"]
["CONTACT",2018,"FS193",38,null,null,null,null,null,null,null,null,null,null,null,null,null,null,null,null,null,null,"~"]
["CONTACT",2018,"FS193",39,null,null,null,null,null,null,null,null,null,null,null,null,null,null,null,null,null,null,"~"]
["CONTACT",2018,"FS193",40,null,null,null,null,null,null,null,null,null,null,null,null,null,null,null,null,null,null,"~"]
["CONTACT",2018,"FS193",41,null,null,null,null,null,null,null,null,null,null,null,null,null,null,null,null,null,null,"~"]
["CONTACT",2018,"FS193",42,null,null,null,null,null,null,null,null,null,null,null,null,null,null,null,null,null,null,"~"]
["CONTACT",2018,"FS193",43,null,null,null,null,null,null,null,null,null,null,null,null,null,null,null,null,null,null,"~"]
["CONTACT",2018,"FS193",44,null,null,null,null,null,null,null,null,null,null,null,null,null,null,null,null,null,null,"~"]
["CONTACT",2018,"FS193",45,null,null,null,null,null,null,null,null,null,null,null,null,null,null,null,null,null,null,"~"]
["CONTACT",2018,"FS193",46,null,null,null,null,null,null,null,null,null,null,null,null,null,null,null,null,null,null,"~"]
["CONTACT",2018,"FS193",47,null,null,null,null,null,null,null,null,null,null,null,null,null,null,null,null,null,null,"~"]
["CONTACT",2018,"FS193",48,null,null,null,null,null,null,null,null,null,null,null,null,null,null,null,null,null,null,"~"]
["CONTACT",2018,"FS193",49,null,null,null,null,null,null,null,null,null,null,null,null,null,null,null,null,null,null,"~"]
["CONTACT",2018,"FS193",50,null,null,null,null,null,null,null,null,null,null,null,null,null,null,null,null,null,null,"~"]
["CONTACT",2018,"FS193",51,null,null,null,null,null,null,null,null,null,null,null,null,null,null,null,null,null,null,"~"]
["CONTACT",2018,"FS193",52,null,null,null,null,null,null,null,null,null,null,null,null,null,null,null,null,null,null,"~"]
["CONTACT",2018,"FS193",53,null,null,null,null,null,null,null,null,null,null,null,null,null,null,null,null,null,null,"~"]
["CONTACT",2018,"FS193",54,null,null,null,null,null,null,null,null,null,null,null,null,null,null,null,null,null,null,"~"]
["CONTACT",2018,"FS193",55,null,null,null,null,null,null,null,null,null,null,null,null,null,null,null,null,null,null,"~"]
["CONTACT",2018,"FS193",56,null,null,null,null,null,null,null,null,null,null,null,null,null,null,null,null,null,null,"~"]
["CONTACT",2018,"FS193",57,null,null,null,null,null,null,null,null,null,null,null,null,null,null,null,null,null,null,"~"]
["CONTACT",2018,"FS193",58,null,null,null,null,null,null,null,null,null,null,null,null,null,null,null,null,null,null,"~"]
["CONTACT",2018,"FS193",59,null,null,null,null,null,null,null,null,null,null,null,null,null,null,null,null,null,null,"~"]
["CONTACT",2018,"FS193",60,null,null,null,null,null,null,null,null,null,null,null,null,null,null,null,null,null,null,"~"]
["CONTACT",2018,"FS193",61,null,null,null,null,null,null,null,null,null,null,null,null,null,null,null,null,null,null,"~"]
["CONTACT",2018,"FS193",62,null,null,null,null,null,null,null,null,null,null,null,null,null,null,null,null,null,null,"~"]
["CONTACT",2018,"FS193",63,null,null,null,null,null,null,null,null,null,null,null,null,null,null,null,null,null,null,"~"]
["CONTACT",2018,"FS193",64,null,null,null,null,null,null,null,null,null,null,null,null,null,null,null,null,null,null,"~"]
["CONTACT",2018,"FS193",65,null,null,null,null,null,null,null,null,null,null,null,null,null,null,null,null,null,null,"~"]
["CONTACT",2018,"FS193",66,null,null,null,null,null,null,null,null,null,null,null,null,null,null,null,null,null,null,"~"]
["CONTACT",2018,"FS193",67,null,null,null,null,null,null,null,null,null,null,null,null,null,null,null,null,null,null,"~"]
["CONTACT",2018,"FS193",68,null,null,null,null,null,null,null,null,null,null,null,null,null,null,null,null,null,null,"~"]
["CONTACT",2018,"FS193",69,null,null,null,null,null,null,null,null,null,null,null,null,null,null,null,null,null,null,"~"]
["CONTACT",2018,"FS193",70,null,null,null,null,null,null,null,null,null,null,null,null,null,null,null,null,null,null,"~"]
["CONTACT",2018,"FS193",71,null,null,null,null,null,null,null,null,null,null,null,null,null,null,null,null,null,null,"~"]
["CONTACT",{"$f":"+MTREF","v":2018},{"$f":"LEFT(muni,(FIND(\" \",muni,1)-1))","v":"FS193"},72,null,null,null,null,null,null,null,null,null,null,null,null,null,null,null,null,null,null,"~"]
["CONTACT",2018,"FS193",73,null,null,null,null,null,null,null,null,null,null,null,null,null,null,null,null,null,null,"~"]
["CONTACT",2018,"FS193",74,null,null,null,null,null,null,null,null,null,null,null,null,null,null,null,null,null,null,"~"]
["CONTACT",2018,"FS193",75,null,null,null,null,null,null,null,null,null,null,null,null,null,null,null,null,null,null,"~"]
["CONTACT",2018,"FS193",76,null,null,null,null,null,null,null,null,null,null,null,null,null,null,null,null,null,null,"~"]
["CONTACT",2018,"FS193",77,null,null,null,null,null,null,null,null,null,null,null,null,null,null,null,null,null,null,"~"]
["CONTACT",2018,"FS193",78,null,null,null,null,null,null,null,null,null,null,null,null,null,null,null,null,null,null,"~"]
["CONTACT",2018,"FS193",79,null,null,null,null,null,null,null,null,null,null,null,null,null,null,null,null,null,null,"~"]
["CONTACT",2018,"FS193",80,null,null,null,null,null,null,null,null,null,null,null,null,null,null,null,null,null,null,"~"]
["CONTACT",2018,"FS193",81,null,null,null,null,null,null,null,null,null,null,null,null,null,null,null,null,null,null,"~"]
["CONTACT",2018,"FS193",82,null,null,null,null,null,null,null,null,null,null,null,null,null,null,null,null,null,null,"~"]
["CONTACT",2018,"FS193",83,null,null,null,null,null,null,null,null,null,null,null,null,null,null,null,null,null,null,"~"]
["CONTACT",2018,"FS193",84,null,null,null,null,null,null,null,null,null,null,null,null,null,null,null,null,null,null,"~"]
["CONTACT",2018,"FS193",85,null,null,null,null,null,null,null,null,null,null,null,null,null,null,null,null,null,null,"~"]
["CONTACT",2018,"FS193",86,null,null,null,null,null,null,null,null,null,null,null,null,null,null,null,null,null,null,"~"]
["CONTACT",2018,"FS193",87,null,null,null,null,null,null,null,null,null,null,null,null,null,null,null,null,null,null,"~"]
["CONTACT",2018,"FS193",88,null,null,null,null,null,null,null,null,null,null,null,null,null,null,null,null,null,null,"~"]
["CONTACT",2018,"FS193",89,null,null,null,null,null,null,null,null,null,null,null,null,null,null,null,null,null,null,"~"]
["CONTACT",2018,"FS193",90,null,null,null,null,null,null,null,null,null,null,null,null,null,null,null,null,null,null,"~"]
["CONTACT",2018,"FS193",91,null,null,null,null,null,null,null,null,null,null,null,null,null,null,null,null,null,null,"~"]
["CONTACT",2018,"FS193",92,null,null,null,null,null,null,null,null,null,null,null,null,null,null,null,null,null,null,"~"]
["CONTACT",2018,"FS193",93,null,null,null,null,null,null,null,null,null,null,null,null,null,null,null,null,null,null,"~"]
["CONTACT",2018,"FS193",94,null,null,null,null,null,null,null,null,null,null,null,null,null,null,null,null,null,null,"~"]
["CONTACT",2018,"FS193",95,null,null,null,null,null,null,null,null,null,null,null,null,null,null,null,null,null,null,"~"]
["CONTACT",2018,"FS193",96,null,null,null,null,null,null,null,null,null,null,null,null,null,null,null,null,null,null,"~"]
["CONTACT",2018,"FS193",97,null,null,null,null,null,null,null,null,null,null,null,null,null,null,null,null,null,null,"~"]
["CONTACT",2018,"FS193",98,null,null,null,null,null,null,null,null,null,null,null,null,null,null,null,null,null,null,"~"]
["CONTACT",2018,"FS193",99,null,null,null,null,null,null,null,null,null,null,null,null,null,null,null,null,null,null,"~"]
["CONTACT",2018,"FS193",100,null,null,null,null,null,null,null,null,null,null,null,null,null,null,null,null,null,null,"~"]
["CONTACT",2018,"FS193",101,null,null,null,null,null,null,null,null,null,null,null,null,null,null,null,null,null,null,"~"]
["CONTACT",2018,"FS193",102,null,null,null,null,null,null,null,null,null,null,null,null,null,null,null,null,null,null,"~"]
["CONTACT",2018,"FS193",103,null,null,null,null,null,null,null,null,null,null,null,null,null,null,null,null,null,null,"~"]
["CONTACT",2018,"FS193",104,null,null,null,null,null,null,null,null,null,null,null,null,null,null,null,null,null,null,"~"]
["CONTACT",2018,"FS193",105,null,null,null,null,null,null,null,null,null,null,null,null,null,null,null,null,null,null,"~"]
["CONTACT",2018,"FS193",106,null,null,null,null,null,null,null,null,null,null,null,null,null,null,null,null,null,null,"~"]
["CONTACT",2018,"FS193",107,null,null,null,null,null,null,null,null,null,null,null,null,null,null,null,null,null,null,"~"]
["CONTACT",2018,"FS193",108,null,null,null,null,null,null,null,null,null,null,null,null,null,null,null,null,null,null,"~"]
["CONTACT",2018,"FS193",109,null,null,null,null,null,null,null,null,null,null,null,null,null,null,null,null,null,null,"~"]
["CONTACT",2018,"FS193",110,null,null,null,null,null,null,null,null,null,null,null,null,null,null,null,null,null,null,"~"]
["CONTACT",2018,"FS193",111,null,null,null,null,null,null,null,null,null,null,null,null,null,null,null,null,null,null,"~"]
["CONTACT",2018,"FS193",112,null,null,null,null,null,null,null,null,null,null,null,null,null,null,null,null,null,null,"~"]
["CONTACT",2018,"FS193",113,null,null,null,null,null,null,null,null,null,null,null,null,null,null,null,null,null,null,"~"]
["CONTACT",2018,"FS193",114,null,null,null,null,null,null,null,null,null,null,null,null,null,null,null,null,null,null,"~"]
["CONTACT",2018,"FS193",115,null,null,null,null,null,null,null,null,null,null,null,null,null,null,null,null,null,null,"~"]
["CONTACT",2018,"FS193",116,null,null,null,null,null,null,null,null,null,null,null,null,null,null,null,null,null,null,"~"]
["CONTACT",2018,"FS193",117,null,null,null,null,null,null,null,null,null,null,null,null,null,null,null,null,null,null,"~"]
["CONTACT",2018,"FS193",118,null,null,null,null,null,null,null,null,null,null,null,null,null,null,null,null,null,null,"~"]
["CONTACT",2018,"FS193",119,null,null,null,null,null,null,null,null,null,null,null,null,null,null,null,null,null,null,"~"]
["CONTACT",2018,"FS193",120,null,null,null,null,null,null,null,null,null,null,null,null,null,null,null,null,null,null,"~"]
["CONTACT",2018,"FS193",121,null,null,null,null,null,null,null,null,null,null,null,null,null,null,null,null,null,null,"~"]
["CONTACT",2018,"FS193",122,null,null,null,null,null,null,null,null,null,null,null,null,null,null,null,null,null,null,"~"]
["CONTACT",2018,"FS193",123,null,null,null,null,null,null,null,null,null,null,null,null,null,null,null,null,null,null,"~"]
["CONTACT",2018,"FS193",124,null,null,null,null,null,null,null,null,null,null,null,null,null,null,null,null,null,null,"~"]
["CONTACT",2018,"FS193",125,null,null,null,null,null,null,null,null,null,null,null,null,null,null,null,null,null,null,"~"]
["CONTACT",2018,"FS193",126,null,null,null,null,null,null,null,null,null,null,null,null,null,null,null,null,null,null,"~"]
["CONTACT",2018,"FS193",127,null,null,null,null,null,null,null,null,null,null,null,null,null,null,null,null,null,null,"~"]
["CONTACT",2018,"FS193",128,null,null,null,null,null,null,null,null,null,null,null,null,null,null,null,null,null,null,"~"]
["CONTACT",2018,"FS193",129,null,null,null,null,null,null,null,null,null,null,null,null,null,null,null,null,null,null,"~"]
["CONTACT",2018,"FS193",130,null,null,null,null,null,null,null,null,null,null,null,null,null,null,null,null,null,null,"~"]
["CONTACT",2018,"FS193",131,null,null,null,null,null,null,null,null,null,null,null,null,null,null,null,null,null,null,"~"]
["CONTACT",2018,"FS193",132,null,null,null,null,null,null,null,null,null,null,null,null,null,null,null,null,null,null,"~"]
["CONTACT",2018,"FS193",133,null,null,null,null,null,null,null,null,null,null,null,null,null,null,null,null,null,null,"~"]
["CONTACT",2018,"FS193",134,null,null,null,null,null,null,null,null,null,null,null,null,null,null,null,null,null,null,"~"]
["CONTACT",2018,"FS193",135,null,null,null,null,null,null,null,null,null,null,null,null,null,null,null,null,null,null,"~"]
["CONTACT",2018,"FS193",136,null,null,null,null,null,null,null,null,null,null,null,null,null,null,null,null,null,null,"~"]
["CONTACT",2018,"FS193",137,null,null,null,null,null,null,null,null,null,null,null,null,null,null,null,null,null,null,"~"]
["CONTACT",2018,"FS193",138,null,null,null,null,null,null,null,null,null,null,null,null,null,null,null,null,null,null,"~"]
["SA25",2018,"FS193",0,1,"Revenue By Source",null,null,null,null,null,null,null,null,null,null,null,null,null,null,null,null,"~"]
["SA25",2018,"FS193",0,2,"Property rates",null,null,null,null,null,null,null,null,null,null,null,null,null,null,null,null,"~"]
["SA25",2018,"FS193",0,3,"Property rates - penalties & collection charges",null,null,null,null,null,null,null,null,null,null,null,null,null,null,null,null,"~"]
["SA25",2018,"FS193",0,4,"Service charges - electricity revenue",null,null,null,null,null,null,null,null,null,null,null,null,null,null,null,null,"~"]
["SA25",2018,"FS193",0,5,"Service charges - water revenue",null,null,null,null,null,null,null,null,null,null,null,null,null,null,null,null,"~"]
["SA25",2018,"FS193",0,6,"Service charges - sanitation revenue",null,null,null,null,null,null,null,null,null,null,null,null,null,null,null,null,"~"]
["SA25",2018,"FS193",0,7,"Service charges - refuse revenue",null,null,null,null,null,null,null,null,null,null,null,null,null,null,null,null,"~"]
["SA25",2018,"FS193",0,8,"Service charges - other",null,null,null,null,null,null,null,null,null,null,null,null,null,null,null,null,"~"]
["SA25",2018,"FS193",0,9,"Rental of facilities and equipment",null,null,null,null,null,null,null,null,null,null,null,null,null,null,null,null,"~"]
["SA25",2018,"FS193",0,10,"Interest earned - external investments",null,null,null,null,null,null,null,null,null,null,null,null,null,null,null,null,"~"]
["SA25",2018,"FS193",0,11,"Interest earned - outstanding debtors",null,null,null,null,null,null,null,null,null,null,null,null,null,null,null,null,"~"]
["SA25",2018,"FS193",0,12,"Dividends received",null,null,null,null,null,null,null,null,null,null,null,null,null,null,null,null,"~"]
["SA25",2018,"FS193",0,13,"Fines",null,null,null,null,null,null,null,null,null,null,null,null,null,null,null,null,"~"]
["SA25",2018,"FS193",0,14,"Licences and permits",null,null,null,null,null,null,null,null,null,null,null,null,null,null,null,null,"~"]
["SA25",2018,"FS193",0,15,"Agency services",null,null,null,null,null,null,null,null,null,null,null,null,null,null,null,null,"~"]
["SA25",2018,"FS193",0,16,"Transfers recognised - operational",null,null,null,null,null,null,null,null,null,null,null,null,null,null,null,null,"~"]
["SA25",2018,"FS193",0,17,"Other revenue",null,null,null,null,null,null,null,null,null,null,null,null,null,null,null,null,"~"]
["SA25",2018,"FS193",0,18,"Gains on disposal of PPE",null,null,null,null,null,null,null,null,null,null,null,null,null,null,null,null,"~"]
["SA25",2018,"FS193",0,19,"Total Revenue (excluding capital transfers and contributions)",null,null,null,null,null,null,null,null,null,null,null,null,null,null,null,null,"~"]
["SA25",2018,"FS193",0,20,null,null,null,null,null,null,null,null,null,null,null,null,null,null,null,null,null,"~"]
["SA25",2018,"FS193",0,21,"Expenditure By Type",null,null,null,null,null,null,null,null,null,null,null,null,null,null,null,null,"~"]
["SA25",2018,"FS193",0,22,"Employee related costs",null,null,null,null,null,null,null,null,null,null,null,null,null,null,null,null,"~"]
["SA25",2018,"FS193",0,23,"Remuneration of councillors",null,null,null,null,null,null,null,null,null,null,null,null,null,null,null,null,"~"]
["SA25",2018,"FS193",0,24,"Debt impairment",null,null,null,null,null,null,null,null,null,null,null,null,null,null,null,null,"~"]
["SA25",2018,"FS193",0,25,"Depreciation & asset impairment",null,null,null,null,null,null,null,null,null,null,null,null,null,null,null,null,"~"]
["SA25",2018,"FS193",0,26,"Finance charges",null,null,null,null,null,null,null,null,null,null,null,null,null,null,null,null,"~"]
["SA25",2018,"FS193",0,27,"Bulk purchases",null,null,null,null,null,null,null,null,null,null,null,null,null,null,null,null,"~"]
["SA25",2018,"FS193",0,28,"Other materials",null,null,null,null,null,null,null,null,null,null,null,null,null,null,null,null,"~"]
["SA25",2018,"FS193",0,29,"Contracted services",null,null,null,null,null,null,null,null,null,null,null,null,null,null,null,null,"~"]
["SA25",2018,"FS193",0,30,"Transfers and grants",null,null,null,null,null,null,null,null,null,null,null,null,null,null,null,null,"~"]
["SA25",2018,"FS193",0,31,"Other expenditure",null,null,null,null,null,null,null,null,null,null,null,null,null,null,null,null,"~"]
["SA25",2018,"FS193",0,32,"Loss on disposal of PPE",null,null,null,null,null,null,null,null,null,null,null,null,null,null,null,null,"~"]
["SA25",2018,"FS193",0,33,"Total Expenditure",null,null,null,null,null,null,null,null,null,null,null,null,null,null,null,null,"~"]
["SA25",2018,"FS193",0,34,null,null,null,null,null,null,null,null,null,null,null,null,null,null,null,null,null,"~"]
["SA25",2018,"FS193",0,35,"Surplus/(Deficit)",null,null,null,null,null,null,null,null,null,null,null,null,null,null,null,null,"~"]
["SA25",{"$f":"+MTREF","v":2018},{"$f":"LEFT(muni,(FIND(\" \",muni,1)-1))","v":"FS193"},0,36,"Transfers recognised - capital",null,null,null,null,null,null,null,null,null,null,null,null,null,null,null,null,"~"]
["SA25",2018,"FS193",0,37,"Contributions recognised - capital",null,null,null,null,null,null,null,null,null,null,null,null,null,null,null,null,"~"]
["SA25",2018,"FS193",0,38,"Contributed assets",null,null,null,null,null,null,null,null,null,null,null,null,null,null,null,null,"~"]
["SA25",2018,"FS193",0,39,"Surplus/(Deficit) after capital transfers & contributions",null,null,null,null,null,null,null,null,null,null,null,null,null,null,null,null,"~"]
["SA25",2018,"FS193",0,40,"Taxation",null,null,null,null,null,null,null,null,null,null,null,null,null,null,null,null,"~"]
["SA25",2018,"FS193",0,41,"Attributable to minorities",null,null,null,null,null,null,null,null,null,null,null,null,null,null,null,null,"~"]
["SA25",2018,"FS193",0,44,"Share of surplus/ (deficit) of associate",null,null,null,null,null,null,null,null,null,null,null,null,null,null,null,null,"~"]
["SA27",2018,"FS193",null,null,"Revenue - Standard",null,null,null,null,null,null,null,null,null,null,null,null,null,null,null,null,"~"]
["SA27",2018,"FS193",null,null,"Governance and administration",null,null,null,null,null,null,null,null,null,null,null,null,null,null,null,null,"~"]
["SA27",2018,"FS193",1,11,"Executive and council",null,null,null,null,null,null,null,null,null,null,null,null,null,null,null,null,"~"]
["SA27",2018,"FS193",1,12,"Budget and treasury office",null,null,null,null,null,null,null,null,null,null,null,null,null,null,null,null,"~"]
["SA27",2018,"FS193",1,13,"Corporate services",null,null,null,null,null,null,null,null,null,null,null,null,null,null,null,null,"~"]
["SA27",2018,"FS193",null,null,"Community and public safety",null,null,null,null,null,null,null,null,null,null,null,null,null,null,null,null,"~"]
["SA27",2018,"FS193",1,21,"Community and social services",null,null,null,null,null,null,null,null,null,null,null,null,null,null,null,null,"~"]
["SA27",2018,"FS193",1,22,"Sport and recreation",null,null,null,null,null,null,null,null,null,null,null,null,null,null,null,null,"~"]
["SA27",2018,"FS193",1,23,"Public safety",null,null,null,null,null,null,null,null,null,null,null,null,null,null,null,null,"~"]
["SA27",2018,"FS193",1,24,"Housing",null,null,null,null,null,null,null,null,null,null,null,null,null,null,null,null,"~"]
["SA27",2018,"FS193",1,25,"Health",null,null,null,null,null,null,null,null,null,null,null,null,null,null,null,null,"~"]
["SA27",2018,"FS193",null,null,"Economic and environmental services",null,null,null,null,null,null,null,null,null,null,null,null,null,null,null,null,"~"]
["SA27",2018,"FS193",1,31,"Planning and development",null,null,null,null,null,null,null,null,null,null,null,null,null,null,null,null,"~"]
["SA27",2018,"FS193",1,32,"Road transport",null,null,null,null,null,null,null,null,null,null,null,null,null,null,null,null,"~"]
["SA27",2018,"FS193",1,33,"Environmental protection",null,null,null,null,null,null,null,null,null,null,null,null,null,null,null,null,"~"]
["SA27",2018,"FS193",null,null,"Trading services",null,null,null,null,null,null,null,null,null,null,null,null,null,null,null,null,"~"]
["SA27",2018,"FS193",1,41,"Electricity",null,null,null,null,null,null,null,null,null,null,null,null,null,null,null,null,"~"]
["SA27",2018,"FS193",1,42,"Water",null,null,null,null,null,null,null,null,null,null,null,null,null,null,null,null,"~"]
["SA27",2018,"FS193",1,43,"Waste water management",null,null,null,null,null,null,null,null,null,null,null,null,null,null,null,null,"~"]
["SA27",2018,"FS193",1,44,"Waste management",null,null,null,null,null,null,null,null,null,null,null,null,null,null,null,null,"~"]
["SA27",2018,"FS193",1,45,"Other",null,null,null,null,null,null,null,null,null,null,null,null,null,null,null,null,"~"]
["SA27",2018,"FS193",null,null,"Total Revenue - Standard",null,null,null,null,null,null,null,null,null,null,null,null,null,null,null,null,"~"]
["SA27",2018,"FS193",null,null,null,null,null,null,null,null,null,null,null,null,null,null,null,null,null,null,null,"~"]
["SA27",2018,"FS193",null,null,"Expenditure - Standard",null,null,null,null,null,null,null,null,null,null,null,null,null,null,null,null,"~"]
["SA27",2018,"FS193",null,null,"Governance and administration",null,null,null,null,null,null,null,null,null,null,null,null,null,null,null,null,"~"]
["SA27",2018,"FS193",2,11,"Executive and council",null,null,null,null,null,null,null,null,null,null,null,null,null,null,null,null,"~"]
["SA27",2018,"FS193",2,12,"Budget and treasury office",null,null,null,null,null,null,null,null,null,null,null,null,null,null,null,null,"~"]
["SA27",2018,"FS193",2,13,"Corporate services",null,null,null,null,null,null,null,null,null,null,null,null,null,null,null,null,"~"]
["SA27",2018,"FS193",null,null,"Community and public safety",null,null,null,null,null,null,null,null,null,null,null,null,null,null,null,null,"~"]
["SA27",2018,"FS193",2,21,"Community and social services",null,null,null,null,null,null,null,null,null,null,null,null,null,null,null,null,"~"]
["SA27",2018,"FS193",2,22,"Sport and recreation",null,null,null,null,null,null,null,null,null,null,null,null,null,null,null,null,"~"]
["SA27",2018,"FS193",2,23,"Public safety",null,null,null,null,null,null,null,null,null,null,null,null,null,null,null,null,"~"]
["SA27",2018,"FS193",2,24,"Housing",null,null,null,null,null,null,null,null,null,null,null,null,null,null,null,null,"~"]
["SA27",2018,"FS193",2,25,"Health",null,null,null,null,null,null,null,null,null,null,null,null,null,null,null,null,"~"]
["SA27",2018,"FS193",null,null,"Economic and environmental services",null,null,null,null,null,null,null,null,null,null,null,null,null,null,null,null,"~"]
["SA27",2018,"FS193",2,31,"Planning and development",null,null,null,null,null,null,null,null,null,null,null,null,null,null,null,null,"~"]
["SA27",2018,"FS193",2,32,"Road transport",null,null,null,null,null,null,null,null,null,null,null,null,null,null,null,null,"~"]
["SA27",2018,"FS193",2,33,"Environmental protection",null,null,null,null,null,null,null,null,null,null,null,null,null,null,null,null,"~"]
["SA27",2018,"FS193",null,null,"Trading services",null,null,null,null,null,null,null,null,null,null,null,null,null,null,null,null,"~"]
["SA27",2018,"FS193",2,41,"Electricity",null,null,null,null,null,null,null,null,null,null,null,null,null,null,null,null,"~"]
["SA27",2018,"FS193",2,42,"Water",null,null,null,null,null,null,null,null,null,null,null,null,null,null,null,null,"~"]
["SA27",2018,"FS193",2,43,"Waste water management",null,null,null,null,null,null,null,null,null,null,null,null,null,null,null,null,"~"]
["SA27",2018,"FS193",2,44,"Waste management",null,null,null,null,null,null,null,null,null,null,null,null,null,null,null,null,"~"]
["SA27",2018,"FS193",2,45,"Other",null,null,null,null,null,null,null,null,null,null,null,null,null,null,null,null,"~"]
["SA27",2018,"FS193",null,null,"Total Expenditure - Standard",null,null,null,null,null,null,null,null,null,null,null,null,null,null,null,null,"~"]
["SA29",2018,"FS193",null,null,"Capital Expenditure - Standard",null,null,null,null,null,null,null,null,null,null,null,null,null,null,null,null,"~"]
["SA29",2018,"FS193",null,null,"Governance and administration",null,null,null,null,null,null,null,null,null,null,null,null,null,null,null,null,"~"]
["SA29",2018,"FS193",1,11,"Executive and council",null,null,null,null,null,null,null,null,null,null,null,null,null,null,null,null,"~"]
["SA29",2018,"FS193",1,12,"Budget and treasury office",null,null,null,null,null,null,null,null,null,null,null,null,null,null,null,null,"~"]
["SA29",2018,"FS193",1,13,"Corporate services",null,null,null,null,null,null,null,null,null,null,null,null,null,null,null,null,"~"]
["SA29",2018,"FS193",null,null,"Community and public safety",null,null,null,null,null,null,null,null,null,null,null,null,null,null,null,null,"~"]
["SA29",2018,"FS193",1,21,"Community and social services",null,null,null,null,null,null,null,null,null,null,null,null,null,null,null,null,"~"]
["SA29",2018,"FS193",1,22,"Sport and recreation",null,null,null,null,null,null,null,null,null,null,null,null,null,null,null,null,"~"]
["SA29",2018,"FS193",1,23,"Public safety",null,null,null,null,null,null,null,null,null,null,null,null,null,null,null,null,"~"]
["SA29",2018,"FS193",1,24,"Housing",null,null,null,null,null,null,null,null,null,null,null,null,null,null,null,null,"~"]
["SA29",2018,"FS193",1,25,"Health",null,null,null,null,null,null,null,null,null,null,null,null,null,null,null,null,"~"]
["SA29",2018,"FS193",null,null,"Economic and environmental services",null,null,null,null,null,null,null,null,null,null,null,null,null,null,null,null,"~"]
["SA29",{"$f":"+MTREF","v":2018},{"$f":"LEFT(muni,(FIND(\" \",muni,1)-1))","v":"FS193"},1,31,"Planning and development",null,null,null,null,null,null,null,null,null,null,null,null,null,null,null,null,"~"]
["SA29",2018,"FS193",1,32,"Road transport",null,null,null,null,null,null,null,null,null,null,null,null,null,null,null,null,"~"]
["SA29",2018,"FS193",1,33,"Environmental protection",null,null,null,null,null,null,null,null,null,null,null,null,null,null,null,null,"~"]
["SA29",2018,"FS193",null,null,"Trading services",null,null,null,null,null,null,null,null,null,null,null,null,null,null,null,null,"~"]
["SA29",2018,"FS193",1,41,"Electricity",null,null,null,null,null,null,null,null,null,null,null,null,null,null,null,null,"~"]
["SA29",2018,"FS193",1,42,"Water",null,null,null,null,null,null,null,null,null,null,null,null,null,null,null,null,"~"]
["SA29",2018,"FS193",1,43,"Waste water management",null,null,null,null,null,null,null,null,null,null,null,null,null,null,null,null,"~"]
["SA29",2018,"FS193",1,44,"Waste management",null,null,null,null,null,null,null,null,null,null,null,null,null,null,null,null,"~"]
["SA29",2018,"FS193",1,45,"Other",null,null,null,null,null,null,null,null,null,null,null,null,null,null,null,null,"~"]
["SA29",2018,"FS193",null,null,"Total Capital Expenditure - Standard",null,null,null,null,null,null,null,null,null,null,null,null,null,null,null,null,"~"]
["SA29",2018,"FS193",null,null,null,null,null,null,null,null,null,null,null,null,null,null,null,null,null,null,null,"~"]
["SA29",2018,"FS193",2,50,"Funded by:",null,null,null,null,null,null,null,null,null,null,null,null,null,null,null,null,"~"]
["SA29",2018,"FS193",2,51,"National Government",null,null,null,null,null,null,null,null,null,null,null,null,null,null,null,null,"~"]
["SA29",2018,"FS193",2,52,"Provincial Government",null,null,null,null,null,null,null,null,null,null,null,null,null,null,null,null,"~"]
["SA29",2018,"FS193",2,53,"District Municipality",null,null,null,null,null,null,null,null,null,null,null,null,null,null,null,null,"~"]
["SA29",2018,"FS193",2,54,"Other transfers and grants",null,null,null,null,null,null,null,null,null,null,null,null,null,null,null,null,"~"]
["SA29",2018,"FS193",2,55,"Transfers recognised - capital",null,null,null,null,null,null,null,null,null,null,null,null,null,null,null,null,"~"]
["SA29",2018,"FS193",2,56,"Public contributions & donations",null,null,null,null,null,null,null,null,null,null,null,null,null,null,null,null,"~"]
["SA29",2018,"FS193",2,57,"Borrowing",null,null,null,null,null,null,null,null,null,null,null,null,null,null,null,null,"~"]
["SA29",2018,"FS193",2,58,"Internally generated funds",null,null,null,null,null,null,null,null,null,null,null,null,null,null,null,null,"~"]
["SA29",2018,"FS193",2,59,"Total Capital Funding",null,null,null,null,null,null,null,null,null,null,null,null,null,null,null,null,"~"]